{"text_format":"3","workbook":"xlsx","n_sheets":14,"sheets":["Tooth measurements raw data","Tooth measurements","Tooth size Developmental st","Enamel thickness","Oblique and perpendicular trans","VEIW var along CA","VEIW near and far CA ","VEIW by tooth position","TFT +- SD","Body length vs. VEIW, TRR","TFTs in Archosaurs","TRR in Sauropods","TH, CAH, TFT relations","Collected fig and table illus"],"not_rendered":{"charts":61,"images":25,"macros":1,"external_links":1,"defined_names":7},"read":"whole","date_system":"1900"}

{"sheet":"Tooth measurements raw data","index":0,"n_rows":231,"n_cols":25,"rows_kept":231}
[{"$nulls":6},"Reconstructed crowns, reduced by enamel height",{"$nulls":5},"Crowns as they are"]
["Specimen","tooth","root depth","root depth to reference","apex depth","apex depth to reference","tooth length","volume","[all in mm]",null,"crown length",null,"tooth length","volume","[all in mm]",null,"crown length",null,"volume of reconstruced parts","root volume","crown volume","total volume","tooth length without enamel","crown length with enamel"]
["Medium Alligator",1,{"$nulls":4},{"$f":"W3-0.0825","v":5.7075000000000005},{"$f":"V3","v":2.2817257},"functinal tooth",null,{"$f":"X3-0.0825","v":2.4475},null,5.79,2.28173,"functinal tooth",null,2.53,null,null,1.2193834,1.0623423,{"$f":"U3+T3","v":2.2817257},5.79,2.53,"measured in two measurements"]
["refenrence depth",{"$nulls":5},{"$f":"W4-0.0825","v":1.2775},{"$f":"V4","v":0.21732042299999998},null,null,0.6275,null,1.36,0.21732,null,null,0.71,null,null,0.12454025,0.092780173,{"$f":"U4+T4","v":0.21732042299999998},1.36,0.71]
["n.a.",2,{"$nulls":4},5.1275,3.0835981,"functional tooth","3.50+1.71",2.1575,null,5.21,3.0836,"functional tooth","3.50+1.71",2.24,null,null,1.676247,1.4073511,3.0835981,5.21,2.24,"not reliable numbers"]
["Pmx",{"$nulls":5},2.1875,0.6874252,null,null,0.9175,null,2.27,0.687425,null,null,1,null,null,0.44380778,0.24361742,0.6874252,2.27,1]
[null,3,{"$nulls":4},9.0275,12.209111700000001,"functinal tooth",null,2.9475,null,9.11,12.2091,"functinal tooth",null,3.03,null,null,8.6366119,3.5724998,12.209111700000001,9.11,3.03]
[{"$nulls":6},3.0175,1.60300441,null,null,1.0375,null,3.1,1.603,null,null,1.12,null,null,1.0623423,0.54066211,1.60300441,3.1,1.12]
[null,4,{"$nulls":4},11.4175,21.372681099999998,"functional tooth",null,2.5375,null,11.5,21.3727,"functional tooth",null,2.62,null,null,18.611406,2.7612751,21.372681099999998,11.5,2.62]
[{"$nulls":6},2.2675,0.86492977,null,null,0.9175,null,2.35,0.86493,null,null,1,null,null,0.53603238,0.32889739,0.86492977,2.35,1]
[null,5,{"$nulls":4},7.817500000000001,7.3223188,"functional tooth","6.39+1.51",2.6075,null,7.9,7.32204,"functional tooth","6.39+1.51",2.69,null,null,4.6008596,2.7214592,7.3223188,7.9,2.69]
[{"$nulls":6},2.8275,1.19799393,null,null,1.3775,null,2.91,1.19799,null,null,1.46,null,null,0.697981,0.50001293,1.19799393,2.91,1.46]
[{"$nulls":6},0.3775,0.0146300072,null,"0.39+0.07",0.11750000000000001,null,0.46,0.015093,null,"0.39+0.07",0.2,null,null,0.010278043,0.0043519642,0.0146300072,0.46,0.2]
["Medium Alligator",1,{"$nulls":4},8.0075,7.7496446,"functional tooth",null,2.6075,null,8.09,7.74965,"functional tooth",null,2.69,null,null,5.7694082,1.9802364,7.7496446,8.09,2.69]
["refenrence depth",{"$nulls":5},2.0075,0.54964384,null,null,0.6775,null,2.09,0.549644,null,null,0.76,null,null,0.27778497,0.27185887,0.54964384,2.09,0.76]
["n.a.",2,{"$nulls":4},7.2875000000000005,7.616308200000001,"functional tooth","6.04+1.33",3.5275,null,7.37,7.61631,"functional tooth","6.04+1.33",3.61,null,null,2.4817309,5.1345773,7.616308200000001,7.37,3.61]
["Mx",{"$nulls":5},5.7975,5.3387492000000005,null,null,2.0075,null,5.88,5.33875,null,null,2.09,null,null,3.5908337,1.7479155,5.3387492000000005,5.88,2.09]
[{"$nulls":6},1.0075,0.159448568,null,"0.97+0.12",0.32749999999999996,null,1.09,0.159449,null,"0.97+0.12",0.41,null,null,0.098335877,0.061112691,0.159448568,1.09,0.41]
[null,3,{"$nulls":4},12.297500000000001,30.1717058,"functional tooth",null,2.9475,null,12.38,30.1717,"functional tooth",null,3.03,null,null,26.11549,4.0562158,30.1717058,12.38,3.03]
[{"$nulls":6},3.3075,2.04579362,null,null,1.0375,null,3.39,2.04579,null,null,1.12,null,null,1.293089,0.75270462,2.04579362,3.39,1.12]
[null,4,{"$nulls":4},9.9875,18.7089086,"functional tooth",null,2.6375,null,10.07,18.7089,"functional tooth",null,2.72,null,null,15.317247,3.3916616,18.7089086,10.07,2.72]
[{"$nulls":6},1.6375,0.46843803,null,"1.55+0.17",0.48749999999999993,null,1.72,0.468438,null,"1.55+0.17",0.57,null,null,0.21574631,0.25269172,0.46843803,1.72,0.57]
[null,5,{"$nulls":4},11.1875,22.7831812,"functional tooth",null,2.8175,null,11.27,22.7832,"functional tooth",null,2.9,null,null,19.445595,3.3375862,22.7831812,11.27,2.9]
[{"$nulls":6},2.4175,0.9608581700000001,null,"2.40+0.10",0.9275,null,2.5,0.96734,null,"2.40+0.10",1.01,null,null,0.53742129,0.42343688,0.9608581700000001,2.5,1.01]
[null,6,{"$nulls":4},9.637500000000001,16.497464,"functional tooth","8.94+0.78",3.3175,null,9.72,16.4975,"functional tooth","8.94+0.78",3.4,null,null,11.285107,5.212357,16.497464,9.72,3.4]
[{"$nulls":6},3.1275,2.14116652,null,null,1.3575,null,3.21,2.14117,null,null,1.44,null,null,1.2239206,0.91724592,2.14116652,3.21,1.44]
[{"$nulls":6},0.3075,0.0167596923,null,null,0.05750000000000001,null,0.39,0.0167597,null,null,0.14,null,null,0.011018803,0.0057408893,0.0167596923,0.39,0.14]
[null,7,{"$nulls":4},8.2475,9.2203309,"functional tooth",null,2.3175,null,8.33,9.22033,"functional tooth",null,2.4,null,null,6.7013769,2.518954,9.2203309,8.33,2.4]
[{"$nulls":6},1.2375,0.31037839,null,null,0.5875,null,1.32,0.310378,null,null,0.67,null,null,0.15741147,0.15296692,0.31037839,1.32,0.67]
[null,8,{"$nulls":4},9.0675,14.835290999999998,"functional tooth","8.55+0.60",2.7375,null,9.15,14.8317,"functional tooth","8.55+0.60",2.82,null,null,10.745,4.090291,14.835290999999998,9.15,2.82]
[{"$nulls":6},2.7675,1.77560144,null,null,1.2875,null,2.85,1.77884,null,null,1.37,null,null,0.97706228,0.79853916,1.77560144,2.85,1.37]
[null,9,{"$nulls":4},8.8675,12.0575342,"functional tooth",null,2.2975,null,8.95,12.0575,"functional tooth",null,2.38,null,null,8.8224506,3.2350836,12.0575342,8.95,2.38]
[{"$nulls":6},1.2775,0.31824898,null,"1.29+0.07",0.5575,null,1.36,0.318249,null,"1.29+0.07",0.64,null,null,0.1738008,0.14444818,0.31824898,1.36,0.64]
[null,10,{"$nulls":4},10.307500000000001,26.0169681,"functional tooth","9.57+0.82",3.2575,null,10.39,26.017,"functional tooth","9.57+0.82",3.34,null,null,19.242441,6.7745271,26.0169681,10.39,3.34]
[{"$nulls":6},2.8875,2.04579369,null,null,1.2375,null,2.97,2.04579,null,null,1.32,null,null,1.1186401,0.92715359,2.04579369,2.97,1.32]
[null,11,{"$nulls":4},6.907500000000001,11.651227,"functional tooth",null,2.2975,null,6.99,11.6512,"functional tooth",null,2.38,null,null,7.6087151,4.0425119,11.651227,6.99,2.38]
[{"$nulls":6},0.7775,0.084076248,null,"0.78+0.08",0.2475,null,0.86,0.0840762,null,"0.78+0.08",0.33,null,null,0.055742182,0.028334066,0.084076248,0.86,0.33]
[null,12,{"$nulls":4},8.6975,20.720998,"functional tooth",null,3.0175,null,8.78,20.721,"functional tooth",null,3.1,null,null,13.817579,6.903419,20.720998,8.78,3.1]
[{"$nulls":6},1.6675,0.8920601,null,null,0.8175,null,1.75,0.89206,null,null,0.9,null,null,0.41139951,0.48066059,0.8920601,1.75,0.9]
[null,13,{"$nulls":4},7.4375,13.6889653,"functional tooth","5.82+1.70",2.8175,null,7.52,13.689,"functional tooth","5.82+1.70",2.9,null,null,7.5576029,6.1313624,13.6889653,7.52,2.9]
[{"$nulls":6},2.0675,1.5249468099999999,null,null,1.1075,null,2.15,1.52495,null,null,1.19,null,null,0.63381267,0.89113414,1.5249468099999999,2.15,1.19]
[null,14,{"$nulls":4},6.1675,7.9602056,"functional tooth",null,2.1975,null,6.25,7.96021,"functional tooth",null,2.28,null,null,4.9813323,2.9788733,7.9602056,6.25,2.28]
[{"$nulls":6},0.7775,0.14741122,null,null,0.4175,null,0.86,0.147411,null,null,0.5,null,null,0.066020228,0.081390992,0.14741122,0.86,0.5]
[null,15,{"$nulls":4},5.777500000000001,5.1615221,"functional tooth",null,3.0675,null,5.86,5.16152,"functional tooth",null,3.15,null,null,2.0565345,3.1049876,5.1615221,5.86,3.15]
[{"$nulls":6},1.6075,0.6279792,null,null,0.4175,null,1.69,0.627979,null,null,0.5,null,null,0.18778263,0.44019657,0.6279792,1.69,0.5]
["Medium Alligator",1,{"$nulls":4},9.387500000000001,14.4567625,"functional tooth",null,2.1175,null,9.47,14.4568,"functional tooth",null,2.2,null,null,11.66632,2.7904425,14.4567625,9.47,2.2]
["refenrence depth",{"$nulls":5},3.1675,1.49540906,null,null,"?",null,3.25,1.49541,null,null,"?",null,null,1.0443789,0.45103016,1.49540906,3.25,"?"]
["n.a.",2,{"$nulls":4},8.127500000000001,9.521449800000001,"functional tooth",null,{"$f":"X48-0.0825","v":2.3875},null,8.21,9.52145,"functional tooth",null,2.47,null,null,7.3667645,2.1546853,9.521449800000001,8.21,2.47]
["Dent",{"$nulls":5},1.7175,0.36436126999999996,null,null,0.4275,null,1.8,0.364361,null,null,0.51,null,null,0.23704317,0.1273181,0.36436126999999996,1.8,0.51]
[null,3,{"$nulls":4},8.5175,7.502601100000001,"functional tooth","7.65+0.95",3.1575,null,8.6,7.5026,"functional tooth","7.65+0.95",3.24,null,null,4.5387282,2.9638729,7.502601100000001,8.6,3.24]
[{"$nulls":6},4.5175,2.38024672,null,null,1.4775,null,4.6,2.38015,null,null,1.56,null,null,1.5664294,0.81381732,2.38024672,4.6,1.56]
[{"$nulls":6},0.5175,0.038334323000000003,null,null,0.1075,null,0.6,0.0383343,null,null,0.19,null,null,0.017222667,0.021111656,0.038334323000000003,0.6,0.19]
[null,4,{"$nulls":4},11.127500000000001,20.134687200000002,"functional tooth",null,2.6575,null,11.21,20.1347,"functional tooth",null,2.74,null,null,17.564806,2.5698812,20.134687200000002,11.21,2.74]
[{"$nulls":6},2.2675,0.85094794,null,null,0.7675,null,2.35,0.850948,null,null,0.85,null,null,0.55501437,0.29593357,0.85094794,2.35,0.85]
[null,5,{"$nulls":4},7.567500000000001,7.556491599999999,"functional tooth",null,2.1675,null,7.65,7.55344,"functional tooth",null,2.25,null,null,5.4192142,2.1372774,7.556491599999999,7.65,2.25]
[{"$nulls":6},2.0675,0.6076082899999999,null,null,0.9475,null,2.15,0.607608,null,null,1.03,null,null,0.35565734,0.25195095,0.6076082899999999,2.15,1.03]
[null,6,{"$nulls":4},6.7075000000000005,4.5014127,"functional tooth",null,1.9175,null,6.79,4.50447,"functional tooth",null,2,null,null,3.4239774,1.0774353,4.5014127,6.79,2]
[{"$nulls":6},0.8775,0.123336524,null,null,0.38749999999999996,null,0.96,0.123337,null,null,0.47,null,null,0.069353648,0.053982876,0.123336524,0.96,0.47]
[null,7,{"$nulls":4},5.2275,3.9992699,"functional tooth","3.02+2.29",1.7675,null,5.31,3.99927,"functional tooth","3.02+2.29",1.85,null,null,2.7334039,1.265866,3.9992699,5.31,1.85]
[{"$nulls":6},2.2075,0.7829831899999999,null,null,1.0474999999999999,null,2.29,0.782983,null,null,1.13,null,null,0.42769623,0.35528696,0.7829831899999999,2.29,1.13]
[null,8,{"$nulls":4},6.0175,4.4103917,"functional tooth","5.92+0.18",2.2775,null,6.1,4.41039,"functional tooth","5.92+0.18",2.36,null,null,2.8497958,1.5605959,4.4103917,6.1,2.36]
[{"$nulls":6},1.1475,0.238246899,null,null,0.5975,null,1.23,0.238247,null,null,0.68,null,null,0.14305925,0.095187649,0.238246899,1.23,0.68]
[null,9,{"$nulls":4},4.4975000000000005,2.8141468,"functional tooth",null,0.9575,null,4.58,2.81415,"functional tooth",null,1.04,null,null,1.8737521,0.9403947,2.8141468,4.58,1.04]
[{"$nulls":6},0.2875,0.017778237000000002,null,null,0.16749999999999998,null,0.37,0.0177782,null,null,0.25,null,null,0.010278043,7.500194E-3,0.017778237000000002,0.37,0.25]
[null,10,{"$nulls":4},5.817500000000001,4.5590068,"functional tooth","3.86+2.04",2.3075,null,5.9,4.55901,"functional tooth","3.86+2.04",2.39,null,null,2.7122924,1.8467144,4.5590068,5.9,2.39]
[{"$nulls":6},1.3975,0.34843493999999997,null,null,0.6675,null,1.48,0.348435,null,null,0.75,null,null,0.19630137,0.15213357,0.34843493999999997,1.48,0.75]
[null,11,{"$nulls":4},5.567500000000001,4.1650151,"functional tooth",null,1.6675,null,5.65,4.16502,"functional tooth",null,1.75,null,null,2.8265545,1.3384606,4.1650151,5.65,1.75]
[{"$nulls":6},{"$f":"W68-0.0825","v":0.7575},{"$f":"V68","v":0.060279335999999996},null,"0.63+0.21",{"$f":"X68-0.0825","v":0.32749999999999996},null,0.84,0.0602793,null,"0.63+0.21",0.41,null,null,0.026204381,0.034074955,{"$f":"U68+T68","v":0.060279335999999996},0.84,0.41]
[null,12,{"$nulls":4},8.557500000000001,13.806837999999999,"functional tooth","5.52+3.12",2.7975,null,8.64,13.8068,"functional tooth","5.52+3.12",2.88,null,null,9.7581224,4.0487156,13.806837999999999,8.64,2.88]
[{"$nulls":6},2.5875,1.4531856799999998,null,null,1.1875,null,2.67,1.45319,null,null,1.27,null,null,0.86604089,0.58714479,1.4531856799999998,2.67,1.27]
[null,13,{"$nulls":4},7.5575,9.288481,"functional tooth",null,2.1175,null,7.64,9.28959,"functional tooth",null,2.2,null,null,6.8936968,2.3947842,9.288481,7.64,2.2]
[{"$nulls":6},0.5675,0.07074257,null,null,0.1975,null,0.65,0.0696314,null,null,0.28,null,null,0.047408633,0.023333937,0.07074257,0.65,0.28]
[null,14,{"$nulls":4},8.6475,17.8503698,"functional tooth","5.83+2.89",2.6575,null,8.73,17.8504,"functional tooth","5.83+2.89",2.74,null,null,13.747208,4.1031618,17.8503698,8.73,2.74]
[{"$nulls":6},1.6175,0.74964902,null,null,0.8175,null,1.7,0.749649,null,null,0.9,null,null,0.42584434,0.32380468,0.74964902,1.7,0.9]
[null,15,{"$nulls":4},7.2475000000000005,11.3532562,"functional tooth","4.60+2.73",3.0575,null,7.33,11.3533,"functional tooth","4.60+2.73",3.14,null,null,6.2303462,5.12291,11.3532562,7.33,3.14]
[{"$nulls":6},2.6275,2.5144168000000002,null,null,1.3675,null,2.71,2.51442,null,null,1.45,null,null,1.2989224,1.2154944,2.5144168000000002,2.71,1.45]
[null,16,{"$nulls":4},5.9175,9.6607127,"functional tooth",null,2.1575,null,6,9.66071,"functional tooth",null,2.24,null,null,6.4147954,3.2459173,9.6607127,6,2.24]
[{"$nulls":6},0.6174999999999999,0.120188292,null,null,0.39749999999999996,null,0.7,0.120188,null,null,0.48,null,null,0.059260793,0.060927499,0.120188292,0.7,0.48]
[null,17,{"$nulls":4},6.4675,11.218901200000001,"functional tooth",null,2.7575,null,6.55,11.2189,"functional tooth",null,2.84,null,null,6.4579449,4.7609563,11.218901200000001,6.55,2.84]
[{"$nulls":6},1.1875,0.53964358,null,null,0.7275,null,1.27,0.539644,null,null,0.81,null,null,0.20935726,0.33028632,0.53964358,1.27,0.81]
[null,18,{"$nulls":4},6.117500000000001,7.7495523,"functional tooth","3.24+2.96",2.4875,null,6.2,7.74955,"functional tooth","3.24+2.96",2.57,null,null,3.7280593,4.021493,7.7495523,6.2,2.57]
[{"$nulls":6},2.7075,2.2969113,null,null,1.3275,null,2.79,2.29691,null,null,1.41,null,null,0.9699325,1.3269788,2.2969113,2.79,1.41]
[null,19,{"$nulls":4},6.0475,8.3101223,"functional tooth",null,2.5875,null,6.13,8.31012,"functional tooth",null,2.67,null,null,4.4048362,3.9052861,8.3101223,6.13,2.67]
[{"$nulls":6},0.9075,0.33676795000000004,null,null,0.5175,null,0.99,0.336768,null,null,0.6,null,null,0.12935519,0.20741276,0.33676795000000004,0.99,0.6]
[null,20,{"$nulls":4},5.4375,4.8111429,"functional tooth",null,2.5175,null,5.52,4.81114,"functional tooth",null,2.6,null,null,2.0634792,2.7476637,4.8111429,5.52,2.6]
[{"$nulls":6},1.6275,1.07391667,null,null,1.0275,null,1.71,1.07392,null,null,1.11,null,null,0.30593383,0.76798284,1.07391667,1.71,1.11]
["Small Alligator",1,{"$nulls":4},{"$f":"W87-0.0272","v":3.2028},0.6290244700000001,"functinal tooth",null,{"$f":"X87-0.0272","v":1.4328},null,3.23,0.62902445,"functinal tooth",null,1.46,null,null,0.3315773,0.29744717,0.6290244700000001,3.23,1.46]
["refenrence depth",{"$nulls":5},{"$f":"W88-0.0272","v":0.2528},0.0034545965,null,null,{"$f":"X88-0.0272","v":0.1628},null,0.28,0.0034545965,null,null,0.19,null,null,0.0015993502,1.8552463E-3,0.0034545965,0.28,0.19]
["n.a.",2,{"$nulls":4},2.5328,0.371784978,"functional tooth","2.25+0.31",1.7728000000000002,null,2.56,0.37178496,"functional tooth","2.25+0.31",1.8,null,null,0.047660638,0.32412434,0.371784978,2.56,1.8]
["Pmx",{"$nulls":5},1.1528,0.13914347500000002,null,null,0.7728,null,1.18,0.13914347,null,null,0.8,null,null,0.059048012,0.080095463,0.13914347500000002,1.18,0.8]
[null,3,{"$nulls":4},4.9228000000000005,1.49836725,"functinal tooth","4.83+0.12",1.7928000000000002,null,4.95,1.4983673,"functinal tooth","4.83+0.12",1.82,null,null,0.88057023,0.61779702,1.49836725,4.95,1.82]
[{"$nulls":6},1.0528000000000002,0.10059913300000001,null,null,0.5328,null,1.08,0.10059913,null,null,0.56,null,null,0.054537844,0.046061289,0.10059913300000001,1.08,0.56]
[null,4,{"$nulls":4},4.1328000000000005,1.32007173,"functional tooth","3.93+0.23",1.4328,null,4.16,1.3201357,"functional tooth","3.93+0.23",1.46,null,null,0.90155375,0.41851798,1.32007173,4.16,1.46]
[{"$nulls":6},0.5328,0.0231266039,null,null,0.3128,null,0.56,0.023062631,null,null,0.34,null,null,0.014266204,0.0088603999,0.0231266039,0.56,0.34]
[null,5,{"$nulls":4},4.5928,1.21102804,"functional tooth","4.46+0.16",1.7628000000000001,null,4.62,1.211028,"functional tooth","4.46+0.16",1.79,null,null,0.69891608,0.51211196,1.21102804,4.62,1.79]
[{"$nulls":6},0.9928,0.088092212,null,null,0.5628,null,1.02,0.088092215,null,null,0.59,null,null,0.051275168,0.036817044,0.088092212,1.02,0.59]
["Small Alligator",1,{"$nulls":4},4.5528,1.12674225,"functional tooth",null,1.6928,null,4.58,1.1267422,"functional tooth",null,1.72,null,null,0.61955631,0.50718594,1.12674225,4.58,1.72]
["refenrence depth",{"$nulls":5},0.6928,0.047948521,null,null,0.4728,null,0.72,0.047948521,null,null,0.5,null,null,0.021911098,0.026037423,0.047948521,0.72,0.5]
["n.a.",2,{"$nulls":4},4.2228,1.53774333,"functional tooth","4.14+0.11",2.4328,null,4.25,1.5377433,"functional tooth","4.14+0.11",2.46,null,null,0.57922071,0.95852262,1.53774333,4.25,2.46]
["Mx",{"$nulls":5},1.8028000000000002,0.29076189,null,null,0.9528,null,1.83,0.29076189,null,null,0.98,null,null,0.14208628,0.14867561,0.29076189,1.83,0.98]
[null,3,{"$nulls":4},6.3228,2.79448071,"functional tooth",null,1.7928000000000002,null,6.35,2.7944808,"functional tooth",null,1.82,null,null,2.1205785,0.67390221,2.79448071,6.35,1.82]
[{"$nulls":6},1.1028,0.13808790199999998,null,null,0.6028,null,1.13,0.1380879,null,null,0.63,null,null,0.08182276,0.056265142,0.13808790199999998,1.13,0.63]
[null,4,{"$nulls":4},4.9028,2.9786619,"functional tooth","4.86+0.07",2.5128,"1.40 if the thin area is just a crack",4.93,2.9692256,"functional tooth","4.86+0.07",2.54,"1.40 if the thin area is just a crack",null,1.4121623,1.5664996,2.9786619,4.93,2.54]
[{"$nulls":6},2.8028,0.88651982,null,null,1.2228,null,2.83,0.88651985,null,null,1.25,null,null,0.55151993,0.33499989,0.88651982,2.83,1.25]
[null,5,{"$nulls":4},5.872800000000001,3.03908528,"functional tooth","5.73+0.17",1.8328000000000002,null,5.9,3.0390854,"functional tooth","5.73+0.17",1.86,null,null,2.2370751,0.80201018,3.03908528,5.9,1.86]
[{"$nulls":6},0.8928,0.070979166,null,null,0.5028,null,0.92,0.070979163,null,null,0.53,null,null,0.038896199,0.032082967,0.070979166,0.92,0.53]
[null,6,{"$nulls":4},4.042800000000001,1.41510514,"functional tooth","3.61+0.46",2.1928,null,4.07,1.4151051,"functional tooth","3.61+0.46",2.22,null,null,0.47970912,0.93539602,1.41510514,4.07,2.22]
[{"$nulls":6},1.8428000000000002,0.36407609,null,null,0.9328,null,1.87,0.36407608,null,null,0.96,null,null,0.20717983,0.15689626,0.36407609,1.87,0.96]
[null,7,{"$nulls":4},4.0528,1.31613732,"functional tooth","3.93+0.15",2.0627999999999997,null,4.08,1.3161373,"functional tooth","3.93+0.15",2.09,null,null,0.55465466,0.76148266,1.31613732,4.08,2.09]
[{"$nulls":6},0.7128,0.068484179,null,null,0.4228,null,0.74,0.06848418,null,null,0.45,null,null,0.035825446,0.032658733,0.068484179,0.74,0.45]
[null,8,{"$nulls":4},3.1028,1.23284316,"functional tooth","2.90+0.23",2.1028,null,3.13,1.2328432,"functional tooth","2.90+0.23",2.13,null,null,0.28669953,0.94614363,1.23284316,3.13,2.13]
[{"$nulls":6},2.1128,0.54963271,null,null,1.0628000000000002,null,2.14,0.54963273,null,null,1.09,null,null,0.31168139,0.23795132,0.54963271,2.14,1.09]
[{"$nulls":6},0.1628,2.7188955E-3,null,null,0.1628,null,0.19,2.7188954E-3,null,null,0.19,null,null,0.0013114673,0.0014074282,2.7188955E-3,0.19,0.19]
[null,9,{"$nulls":4},4.7628,2.02193062,"functional tooth",null,2.2828,null,4.79,2.0219307,"functional tooth",null,2.31,null,null,0.85699582,1.1649348,2.02193062,4.79,2.31]
[{"$nulls":6},1.0028000000000001,0.11800005999999999,null,null,0.6128,null,1.03,0.11800006,null,null,0.64,null,null,0.053002469,0.064997591,0.11800005999999999,1.03,0.64]
[null,10,{"$nulls":4},3.9328,{"$f":"V116","v":1.866601716},"functional tooth",null,1.3528,null,3.96,1.7941191,"functional tooth",null,1.38,null,null,1.338016456,0.52858526,{"$f":"U116+T116","v":1.866601716},3.96,1.38]
[{"$nulls":6},0.4628,0.024054228599999998,null,null,0.2828,null,0.49,0.024054227,null,null,0.31,null,null,0.0089563616,0.015097867,0.024054228599999998,0.49,0.31]
[null,11,{"$nulls":4},4.7328,2.7743928,"functional tooth","4.11+0.65",2.3028,null,4.76,2.7743928,"functional tooth","4.11+0.65",2.33,null,null,1.1570339,1.6173589,2.7743928,4.76,2.33]
[{"$nulls":6},1.3928,0.322461,null,null,0.7528,null,1.42,0.32246101,null,null,0.78,null,null,0.14989111,0.17256989,0.322461,1.42,0.78]
[null,12,{"$nulls":4},4.5628,2.35849792,"functional tooth",null,1.5628000000000002,null,4.59,2.3584979,"functional tooth",null,1.59,null,null,1.4142735,0.94422442,2.35849792,4.59,1.59]
[{"$nulls":6},0.3628,0.0152578014,null,null,0.2028,null,0.39,0.015257802,null,null,0.23,null,null,0.0076448941,7.6129073E-3,0.0152578014,0.39,0.23]
[null,13,{"$nulls":4},3.8828,1.67794234,"functional tooth","3.50+0.41",2.0528,null,3.91,1.6779423,"functional tooth","3.50+0.41",2.08,null,null,0.45204034,1.225902,1.67794234,3.91,2.08]
[{"$nulls":6},0.7228,0.11176259399999999,null,null,0.4528,null,0.75,0.1117626,null,null,0.48,null,null,0.040783431,0.070979163,0.11176259399999999,0.75,0.48]
[null,14,{"$nulls":4},3.2228,1.08112881,"functional tooth","3.11+0.14",1.3528,null,3.25,1.0811288,"functional tooth","3.11+0.14",1.38,null,null,0.47436729,0.60676152,1.08112881,3.25,1.38]
[null,15,{"$nulls":4},2.8728,0.7628581,"functional tooth",null,1.7528000000000001,null,2.9,0.76285809,"functional tooth",null,1.78,null,null,0.18971492,0.57314318,0.7628581,2.9,1.78]
[{"$nulls":6},0.3328,0.0119631397,null,null,0.3328,null,0.36,0.01196314,null,null,0.36,null,null,0.0056297127,6.333427E-3,0.0119631397,0.36,0.36]
[null,16,{"$nulls":4},1.1528,0.134377403,"functional tooth",null,0.6828,null,1.18,0.13437741,"functional tooth",null,0.71,null,null,0.023254553,0.11112285,0.134377403,1.18,0.71]
["Small Alligator",1,{"$nulls":4},5.162800000000001,2.3972341999999998,null,null,2.1428,null,5.19,2.3972342,null,null,2.17,null,null,1.3832141,1.0140201,2.3972341999999998,5.19,2.17]
["refenrence depth",{"$nulls":5},1.4828000000000001,0.228323249,null,null,0.6628,null,1.51,0.22832324,null,null,0.69,null,null,0.14710824,0.081215009,0.228323249,1.51,0.69]
["n.a.",2,{"$nulls":4},2.1728,0.68087539,"functional tooth","1.62+0.58",1.6228,null,2.2,0.68087536,"functional tooth","1.62+0.58",1.65,null,null,0.13504913,0.54582626,0.68087539,2.2,1.65]
["Dent",{"$nulls":5},2.0728,0.46800186,null,null,0.8228,null,2.1,0.46800187,null,null,0.85,null,null,0.25861493,0.20938693,0.46800186,2.1,0.85]
[null,3,{"$nulls":4},4.4428,{"$f":"V132","v":1.2881166899999998},"functional tooth",null,1.8428000000000002,null,4.47,1.2881167,"functional tooth",null,1.87,null,null,0.68266666,0.60545003,{"$f":"U132+T132","v":1.2881166899999998},4.47,1.87]
[{"$nulls":6},1.0928000000000002,0.09173872699999999,null,null,0.5428,null,1.12,0.091738731,null,null,0.57,null,null,0.048556272,0.043182455,0.09173872699999999,1.12,0.57]
[null,4,{"$nulls":4},3.7527999999999997,1.12766987,"functional tooth",null,1.2328000000000001,null,3.78,1.1276699,"functional tooth",null,1.26,null,null,0.78505707,0.3426128,1.12766987,3.78,1.26]
[{"$nulls":6},0.3628,0.0110035297,null,"0.31+0.08",0.1928,null,0.39,0.01100353,null,"0.31+0.08",0.22,null,null,0.0063654138,0.0046381159,0.0110035297,0.39,0.22]
[null,5,{"$nulls":4},4.1828,1.1082217399999998,"functional tooth",null,1.5728000000000002,null,4.21,1.1082218,"functional tooth",null,1.6,null,null,0.63286287,0.47535887,1.1082217399999998,4.21,1.6]
[{"$nulls":6},0.6328,0.045037704,null,null,0.3228,null,0.66,0.045037702,null,null,0.35,null,null,0.024949864,0.02008784,0.045037704,0.66,0.35]
[null,6,{"$nulls":4},3.2428,0.77968325,"functional tooth",null,1.9228,null,3.27,0.77968323,"functional tooth",null,1.95,null,null,0.22538044,0.55430281,0.77968325,3.27,1.95]
[{"$nulls":6},0.9528,0.127436228,null,null,0.5628,null,0.98,0.12743624,null,null,0.59,null,null,0.078528099,0.048908129,0.127436228,0.98,0.59]
[null,7,{"$nulls":4},3.1928,0.5613079599999999,"functional tooth",null,1.0828000000000002,null,3.22,0.56130797,"functional tooth",null,1.11,null,null,0.34718695,0.21412101,0.5613079599999999,3.22,1.11]
[{"$nulls":6},0.1728,2.2071034200000002E-3,null,null,0.1728,null,0.2,0.0022071034,null,null,0.2,null,null,0.0015353763,0.00067172712,2.2071034200000002E-3,0.2,0.2]
[null,8,{"$nulls":4},3.0427999999999997,0.50373136,"functional tooth",null,1.7028,null,3.07,0.50373137,"functional tooth",null,1.73,null,null,0.12743624,0.37629512,0.50373136,3.07,1.73]
[{"$nulls":6},0.9528,0.068132323,null,"0.80+0.18",0.4528,null,0.98,0.068132319,null,"0.80+0.18",0.48,null,null,0.040399589,0.027732734,0.068132323,0.98,0.48]
[null,9,{"$nulls":4},3.1028,0.47731009,"functional tooth",null,1.1128,null,3.13,0.47731009,"functional tooth",null,1.14,null,null,0.25503239,0.2222777,0.47731009,3.13,1.14]
[{"$nulls":6},0.1628,2.2710774E-3,null,null,0.1628,null,0.19,2.2710774E-3,null,null,0.19,null,null,0.0011195452,0.0011515322,2.2710774E-3,0.19,0.19]
[null,10,{"$nulls":4},3.1828,0.57957255,"functional tooth","2.61+0.60",1.8128000000000002,null,3.21,0.57957256,"functional tooth","2.61+0.60",1.84,null,null,0.14263006,0.43694249,0.57957255,3.21,1.84]
[{"$nulls":6},0.7228,0.065413427,null,null,0.4628,null,0.75,0.065413423,null,null,0.49,null,null,0.035313655,0.030099772,0.065413427,0.75,0.49]
[null,11,{"$nulls":4},3.8828,0.94569581,"functional tooth","3.80+0.11",1.4928000000000001,null,3.91,0.94569582,"functional tooth","3.80+0.11",1.52,null,null,0.51000082,0.43569499,0.94569581,3.91,1.52]
[{"$nulls":6},0.4528,0.027061006,null,null,0.2828,null,0.48,0.027061006,null,null,0.31,null,null,0.015417736,0.01164327,0.027061006,0.48,0.31]
[null,12,{"$nulls":4},3.5627999999999997,1.21445063,"functional tooth","3.32+0.27",2.1328,null,3.59,1.2144506,"functional tooth","3.32+0.27",2.16,null,null,0.31436828,0.90008235,1.21445063,3.59,2.16]
[{"$nulls":6},1.6128,0.35022571,null,null,0.9228,null,1.64,0.35022572,null,null,0.95,null,null,0.20049454,0.14973117,0.35022571,1.64,0.95]
[null,13,{"$nulls":4},{"$f":"W152-0.0272","v":5.3928},2.37506719,"functional tooth","5.13+0.29",{"$f":"X152-0.0272","v":1.8128000000000002},null,5.42,2.375067,"functional tooth","5.13+0.29",1.84,null,null,1.5498984,0.82516879,2.37506719,5.42,1.84]
[{"$nulls":6},0.8028,0.06832424200000001,null,null,0.4528,null,0.83,0.068324246,null,null,0.48,null,null,0.034066159,0.034258083,0.06832424200000001,0.83,0.48]
[null,14,{"$nulls":4},4.122800000000001,1.76830563,"functional tooth","3.77+0.38",2.2828,null,4.15,1.7683057,"functional tooth","3.77+0.38",2.31,null,null,0.63548583,1.1328198,1.76830563,4.15,2.31]
[{"$nulls":6},1.6928,0.37901402,null,null,0.8328,null,1.72,0.37901402,null,null,0.86,null,null,0.20858726,0.17042676,0.37901402,1.72,0.86]
[null,15,{"$nulls":4},4.252800000000001,1.64803445,"functional tooth","3.83+0.45",1.5728000000000002,null,4.28,1.6480345,"functional tooth","3.83+0.45",1.6,null,null,0.85434091,0.79369354,1.64803445,4.28,1.6]
[{"$nulls":6},0.3028,0.013562490699999999,null,null,0.2328,null,0.33,0.01356249,null,null,0.26,null,null,0.0094361668,0.0041263239,0.013562490699999999,0.33,0.26]
[null,16,{"$nulls":4},3.7128,1.48784348,"functional tooth","2.30+1.44",2.0427999999999997,null,3.74,1.4878435,"functional tooth","2.30+1.44",2.07,null,null,0.38499558,1.1028479,1.48784348,3.74,2.07]
[{"$nulls":6},0.8428,0.16985099,null,null,0.5328,null,0.87,0.16985099,null,null,0.56,null,null,0.073026329,0.096824661,0.16985099,0.87,0.56]
[null,17,{"$nulls":4},3.3428,1.22740537,"functional tooth",null,1.4128,null,3.37,1.2274053,"functional tooth",null,1.44,null,null,0.53203988,0.69536549,1.22740537,3.37,1.44]
[{"$nulls":6},0.1528,0.0048620247,null,null,0.1528,null,0.18,0.0048620249,null,null,0.18,null,null,0.0037104925,0.0011515322,0.0048620247,0.18,0.18]
[null,18,{"$nulls":4},3.3828,1.19980059,"functional tooth","2.20+1.21",1.8628,null,3.41,1.1998006,"functional tooth","2.20+1.21",1.89,null,null,0.27412865,0.92567194,1.19980059,3.41,1.89]
[{"$nulls":6},0.6828,0.110387154,null,null,0.4328,null,0.71,0.11038715,null,null,0.46,null,null,0.050603442,0.059783712,0.110387154,0.71,0.46]
[null,19,{"$nulls":4},3.4827999999999997,1.01853019,"functional tooth",null,1.6428,null,3.51,1.0185302,"functional tooth",null,1.67,null,null,0.38086927,0.63766092,1.01853019,3.51,1.67]
[{"$nulls":6},0.11280000000000001,2.8148565499999997E-3,null,null,0.11280000000000001,null,0.14,0.0028148564,null,null,0.14,null,null,0.0019831944,0.00083166215,2.8148565499999997E-3,0.14,0.14]
[null,20,{"$nulls":4},2.8327999999999998,0.6596040400000001,"functional tooth","2.02+0.84",2.8327999999999998,"(all crown)",2.86,0.65960401,"functional tooth","2.02+0.84",2.86,"(all crown)",null,0.19185805,0.46774599,0.6596040400000001,2.86,2.86]
[{"$nulls":6},0.4228,0.043278417,null,null,0.3028,null,0.45,0.043278418,null,null,0.33,null,null,0.022230968,0.021047449,0.043278417,0.45,0.33]
["Large Alligator",1,{"$nulls":4},{"$f":"W168-0.175","v":27.255},{"$f":"V168","v":290.13949727999994},"functional tooth",null,{"$f":"X168-0.175","v":5.655},null,27.25,286.41888,"functional tooth","(27.25-22.62)",4.63,null,3.731631,259.62512527999996,30.514372,{"$f":"U168+T168","v":290.13949727999994},27.43,5.83]
["refenrence depth",2,{"$nulls":4},{"$f":"W169-0.175","v":23.265},{"$f":"V169","v":249.08602859547},"functional tooth","22.21+1.23",{"$f":"X169-0.175","v":8.055},null,23.08,248.70331,"functional tooth","21.85+1.23",8.23,null,0.38502416,175.04070959547,74.045319,{"$f":"U169+T169","v":249.08602859547},23.44,8.23]
["n.a.",{"$nulls":5},7.955000000000001,28.077571,null,-4.81,3.145,null,8.13,28.069756,null,-4.81,3.32,null,null,17.405621,10.67195,{"$f":"U170+T170","v":28.077571},8.13,3.32]
["Pmx",3,{"$nulls":4},39.015,1013.040609887,"functional tooth","37.67+1.52",11.455,null,38.86,1012.2333,"functional tooth","37.34+1.52",11.63,null,0.8144123,784.966089887,228.07452,1013.040609887,39.19,11.63]
[{"$nulls":6},13.364999999999998,94.174841,null,null,4.795,null,13.54,94.174843,null,null,4.97,null,null,62.470917,31.703924,94.174841,13.54,4.97]
[null,4,{"$nulls":6},"empty alveolus",{"$nulls":5},"empty alveolus"]
[null,5,{"$nulls":4},37.615,855.4052963597,"functional tooth",null,8.645,null,37.44,854.13,"functional tooth",null,8.66,null,1.2736828,736.9240563597,118.48124,855.4052963597,37.79,8.82]
[{"$nulls":6},6.505,28.02838,null,null,2.9650000000000003,null,6.68,28.028379,null,null,3.14,null,null,14.163602,13.864778,28.02838,6.68,3.14]
["Large Alligator",1,{"$nulls":4},27.005,{"$f":"V176","v":431.12912421300007},"functional tooth","26.18+1.00; tip missing",7.205,null,26.56,423.93893,"functional tooth","25.56+1.00; tip missing",6.75,null,7.2255816,331.68830521300004,99.440819,431.12912421300007,27.18,7.38]
["refenrence depth",{"$nulls":5},8.985,43.789314,null,null,3.915,null,9.16,43.789314,null,null,4.09,null,null,24.094696,19.694618,43.789314,9.16,4.09]
["n.a.",{"$nulls":5},0.895,0.44938639999999996,null,null,0.575,null,1.07,0.44938639,null,null,0.75,null,null,0.15814723,0.29123917,0.44938639999999996,1.07,0.75]
["Mx",2,{"$nulls":4},20.825,2.05591401,null,"19.0+2.00",1.185,null,21,2.0559142,null,"19.0+2.00",1.36,null,"complete",0.96658301,1.089331,2.05591401,21,1.36]
[null,3,{"$nulls":4},42.415000000000006,1275.9274605,"functional tooth","broken and split tip",5.455,null,41.56,1263.8169,"functional tooth","broken and split tip",4.76,null,12.268364,1150.6571505,125.27031,1275.9274605,42.59,5.63]
[null,4,{"$nulls":4},62.495000000000005,5008.193124,"functional tooth","broken and split tip",12.725,null,60.74,4818.3179,"functional tooth","broken and split tip",12.63,null,190.47685,4358.445204000001,649.74792,5008.193124,62.67,12.9]
[null,5,{"$nulls":4},35.205000000000005,839.5792738999999,null,"33.82+1.56 ; split tip, small part missing",6.025,null,34.71,820.56323,null,"33.15+1.56 ; split tip, small part missing",5.6,null,19.09375,728.0850138999999,111.49426,839.5792738999999,35.38,6.2]
[null,6,{"$nulls":4},31.685,748.65156211,null,null,8.825,null,31.46,747.54407,null,null,8.77,null,0.78131169,572.7182721099999,175.93329,748.65156211,31.86,9]
[{"$nulls":6},7.465,54.487238000000005,null,-5.41,2.055,null,7.64,54.484249,null,-5.41,2.23,null,null,35.717598,18.76964,54.487238000000005,7.64,2.23]
[null,7,{"$nulls":4},28.485,517.51246,null,null,6.2250000000000005,null,28.42,517.47614,null,null,6.13,null,0.02850328,417.23907,100.27339,517.51246,28.66,6.4]
[{"$nulls":6},3.0050000000000003,5.1995499,null,"2.82+0.36",1.785,null,3.18,5.1995502,null,"2.82+0.36",1.96,null,null,2.5324244,2.6671255,5.1995499,3.18,1.96]
[null,8,{"$nulls":4},31.395,665.7074485168,null,null,6.215,null,31.2,665.50885,null,null,6.1,null,0.18917903,552.1958885168,113.51156,665.7074485168,31.57,6.39]
[{"$nulls":6},1.2349999999999999,1.3474696,null,null,0.9549999999999998,null,1.41,1.3474696,null,null,1.13,null,null,0.49788794,0.84958166,1.3474696,1.41,1.13]
[null,9,{"$nulls":6},"empty alveolus",{"$nulls":5},"empty alveolus"]
[null,10,{"$nulls":4},42.205000000000005,1986.8659755739998,null,null,10.434999999999999,null,41.88,1985.2496,null,null,10.24,null,1.5784841,1592.5485955739998,394.31738,1986.8659755739998,42.38,10.61]
[{"$nulls":6},11.604999999999999,131.282891,null,null,4.2250000000000005,null,11.78,131.27783,null,null,4.4,null,null,85.920609,45.362282,131.282891,11.78,4.4]
[null,11,{"$nulls":4},42.235,1459.5132697303302,null,null,6.855,null,41.91,1459.2914,null,null,6.67,null,0.20549946,1279.2980597303301,180.21521,1459.5132697303302,42.41,7.03]
[{"$nulls":6},2.1750000000000003,6.4107097,null,null,1.435,null,2.35,6.4107099,null,null,1.61,null,null,3.3505147,3.060195,6.4107097,2.35,1.61]
[null,12,{"$nulls":4},31.695,1007.147763393,null,null,7.765000000000001,null,31.4,1005.2631,null,null,7.61,null,1.9205235,794.851653393,212.29611,1007.147763393,31.87,7.94]
[{"$nulls":6},5.325,46.051187,null,null,2.9050000000000002,null,5.5,46.051189,null,null,3.08,null,null,20.207216,25.843971,46.051187,5.5,3.08]
[null,13,{"$nulls":4},26.395,614.65509,null,null,6.415,null,26.35,614.58936,null,null,6.35,null,0.071488068,488.84644,125.80865,614.65509,26.57,6.59]
[{"$nulls":6},2.205,6.757346500000001,null,null,1.685,null,2.38,6.7573462,null,null,1.86,null,null,1.7104267,5.0469198,6.757346500000001,2.38,1.86]
[null,14,{"$nulls":4},21.165,428.2417889213,null,"16.02+5.32",6.175,null,20.98,427.96411,null,"15.66+5.32",6.22,null,0.28411335,312.1332189213,116.10857,428.2417889213,21.34,6.35]
[null,15,{"$nulls":4},16.945,209.626691607,null,"16.63+0.49",4.555000000000001,null,17.21,207.23471,null,"16.72+0.49",4.98,null,2.3938158,154.494222607,55.132469,{"$f":"U199+T199","v":209.626691607},17.12,4.73]
["Large Alligator",1,{"$nulls":6},"empty alveolus",{"$nulls":5},"empty alveolus"]
["refenrence depth",2,{"$nulls":4},32.575,417.823778812,"functional tooth","31.98+0.77",4.625,null,32.42,417.1543,"functional tooth","31.65+0.77",4.47,null,0.70489252,369.93454,47.889238812,{"$f":"U201+T201","v":417.823778812},32.75,4.8]
["n.a.",{"$nulls":5},1.9349999999999998,4.6723842,null,null,1.175,null,2.11,4.6723843,null,null,1.35,null,null,1.9951262,2.677258,4.6723842,2.11,1.35]
["Dent",3,{"$nulls":6},"empty alveolus",{"$nulls":5},"empty alveolus",{"$nulls":4},0]
[null,4,{"$nulls":4},43.715,966.1135499060001,"functional tooth","crack of crown base",12.864999999999998,null,43.66,964.16168,"functional tooth","crack of crown base",13,null,1.8783339,608.92664,357.18690990600004,966.1135499060001,43.89,13.04]
[{"$nulls":6},28.654999999999998,469.993874,null,"split apex",4.565,null,28.83,469.99387,null,"split apex",4.74,null,null,405.91211,64.081764,469.993874,28.83,4.74]
[{"$nulls":6},3.115,3.2435172000000003,"might be",null,1.195,null,3.29,3.2435172,"might be",null,1.37,null,null,1.4238093,1.8197079,3.2435172000000003,3.29,1.37]
[{"$nulls":6},3.5450000000000004,2.08639919,"one split",null,1.595,null,3.72,2.0863991,"one split",null,1.77,null,null,1.4274879,0.65891129,2.08639919,3.72,1.77]
[null,5,{"$nulls":4},30.015,461.985317,"functional tooth",null,7.425,null,30.17,461.98532,"functional tooth",null,7.57,null,null,375.6907,86.294617,461.985317,30.19,7.6]
[{"$nulls":6},5.805000000000001,11.4481812,"might be",null,2.5050000000000003,null,5.98,11.448181,"might be",null,2.68,null,null,5.9798613,5.4683199,11.4481812,5.98,2.68]
[{"$nulls":6},5.625,5.4883215000000005,"one split","4.89+0.91",2.095,null,5.8,5.4883218,"one split","4.89+0.91",2.27,null,null,3.5605578,1.9277637,5.4883215000000005,5.8,2.27]
[null,6,{"$nulls":4},24.314999999999998,267.761678,"functional tooth","rounded tip",5.565,null,24.11,266.85425,"functional tooth","rounded tip",5.38,null,1.0007818,216.28935,51.472328,267.761678,24.49,5.74]
[{"$nulls":6},6.2250000000000005,11.6967097,null,null,3.115,null,6.4,11.69671,null,null,3.29,null,null,5.8393884,5.8573213,11.6967097,6.4,3.29]
[null,7,{"$nulls":4},21.195,168.415051,"functional tooth",null,4.385,null,21.35,168.32907,"functional tooth",null,4.46,null,0.10299799,141.96089,26.454161,168.415051,21.37,4.56]
[{"$nulls":6},2.015,1.19390309,null,"apex points distally",1.135,null,2.19,1.1939031,null,"apex points distally",1.31,null,null,0.51843858,0.67546451,1.19390309,2.19,1.31]
[null,8,{"$nulls":4},20.044999999999998,184.648035,"functional tooth","rounded tip",4.215,null,20.09,184.49355,"functional tooth","rounded tip",4.31,null,0.16530257,149.52342,35.124615,184.648035,20.22,4.39]
[{"$nulls":6},3.5450000000000004,5.4770563,null,"apex points distally and ventral",1.8749999999999998,null,3.72,5.477056,null,"apex points distally and ventral",2.05,null,null,2.8402617,2.6367946,5.4770563,3.72,2.05]
[null,9,{"$nulls":4},18.265,164.824382,"functional tooth","15.09+3.35",5.565,null,18.36,164.74873,"functional tooth","15.01+3.35",5.16,null,0.082076527,117.3092,47.515182,164.824382,18.44,5.74]
[{"$nulls":6},7.385,25.102082,null,null,3.365,null,7.56,25.102081,null,null,3.54,null,null,14.537431,10.564651,25.102082,7.56,3.54]
[{"$nulls":6},0.585,0.177257697,null,"upside down",0.425,null,0.76,0.1772577,null,"upside down",0.6,null,null,0.069661587,0.10759611,0.177257697,0.76,0.6]
[null,10,{"$nulls":4},21.314999999999998,183.917174,"functional tooth",null,4.555000000000001,null,21.38,183.79486,"functional tooth",null,4.63,null,0.17219977,149.30548,34.611694,183.917174,21.49,4.73]
[{"$nulls":6},2.5050000000000003,2.9533754,null,null,1.545,null,2.68,2.9053252,null,null,1.72,null,null,1.3734598,1.5799156,2.9533754,2.68,1.72]
[null,11,{"$nulls":4},25.985,296.444310843,"functional tooth",null,5.025,null,26.1,296.245,"functional tooth",null,5.11,null,0.18921283,248.53346,47.910850843,296.444310843,26.16,5.2]
[null,12,{"$nulls":4},36.585,931.448529156,"functional tooth","crack at crown base",9.475,null,36.69,931.08459,"functional tooth","crack at crown base",9.6,null,0.33543319,733.36615,198.082379156,931.448529156,36.76,9.65]
[{"$nulls":6},5.355,16.3242622,null,"apex points distally",2.345,null,5.53,16.321274,null,"apex points distally",2.52,null,null,7.5871358,8.7371264,16.3242622,5.53,2.52]
[null,13,{"$nulls":4},45.025000000000006,2305.198689812,"functional tooth","crack at crown base",11.975,null,45.15,2304.6479,"functional tooth","crack at crown base",12.06,null,0.47705543,1827.7639,477.434789812,2305.198689812,45.2,12.15]
[{"$nulls":6},13.045,130.832275,null,"split in 2",3.925,null,13.22,130.83228,null,"split in 2",4.1,null,null,82.701637,48.130638,130.832275,13.22,4.1]
[null,14,{"$nulls":4},38.215,1332.206439625,"functional tooth","crown base split",7.705,null,38.34,1331.2856,"functional tooth","crown base split",7.72,null,0.89157635,1175.1122,157.094239625,1332.206439625,38.39,7.88]
[null,15,{"$nulls":4},28.035,691.27449,"functional tooth","22.53+5.68",6.9750000000000005,null,28.36,689.69409,"functional tooth","22.34+5.68",6.91,null,1.5969287,526.86786,164.40663,691.27449,28.21,7.15]
[{"$nulls":6},8.864999999999998,91.083332,null,null,3.475,null,9.04,91.083328,null,null,3.65,null,null,48.432735,42.650597,91.083332,9.04,3.65]
[null,16,{"$nulls":4},26.125,569.974569719,"functional tooth",null,5.265000000000001,null,26.08,569.24713,"functional tooth",null,5.2,null,0.74765509,465.19067,104.78389971899999,569.974569719,26.3,5.44]
[{"$nulls":6},1.4849999999999999,2.6565666,null,null,0.9849999999999999,null,1.66,2.6565666,null,null,1.16,null,null,2.6565666,0,2.6565666,1.66,1.16]

{"sheet":"Tooth measurements","index":1,"n_rows":193,"n_cols":46,"rows_kept":193}
["teeth of Alligators according to their position",{"$nulls":4},"[mm]"]
[null,null,"maxilla sin",{"$nulls":13},"premaxilla sin",{"$nulls":5},"premaxilla dext"]
[null,null,"dentary sin"]
[null,null,20,19,18,17,16,15,14,13,12,11,10,9,8,7,6,5,4,3,2,1,1,2,3,4,5,6,7,8,9,10,11,12,13,14,15,16,17,18,19,20]
["Replacement tooth"]
["f","upper jaw medium sized Alligator",{"$nulls":20},{"$f":"'Tooth measurements raw data'!G3","v":5.7075000000000005},{"$f":"'Tooth measurements raw data'!G5","v":5.1275},{"$f":"'Tooth measurements raw data'!G7","v":9.0275},{"$f":"'Tooth measurements raw data'!G9","v":11.4175},{"$f":"'Tooth measurements raw data'!G11","v":7.817500000000001},{"$f":"'Tooth measurements raw data'!G14","v":8.0075},{"$f":"'Tooth measurements raw data'!G16","v":7.2875000000000005},{"$f":"'Tooth measurements raw data'!G19","v":12.297500000000001},{"$f":"'Tooth measurements raw data'!G21","v":9.9875},{"$f":"'Tooth measurements raw data'!G23","v":11.1875},{"$f":"'Tooth measurements raw data'!G25","v":9.637500000000001},{"$f":"'Tooth measurements raw data'!G28","v":8.2475},{"$f":"'Tooth measurements raw data'!G30","v":9.0675},{"$f":"'Tooth measurements raw data'!G32","v":8.8675},{"$f":"'Tooth measurements raw data'!G34","v":10.307500000000001},{"$f":"'Tooth measurements raw data'!G36","v":6.907500000000001},{"$f":"'Tooth measurements raw data'!G38","v":8.6975},{"$f":"'Tooth measurements raw data'!G40","v":7.4375},{"$f":"'Tooth measurements raw data'!G42","v":6.1675},{"$f":"'Tooth measurements raw data'!G44","v":5.777500000000001},"upper jaw medium sized Alligator",null,null,1]
[null,"dentary medium sized Alligator",{"$nulls":20},{"$f":"'Tooth measurements raw data'!G46","v":9.387500000000001},{"$f":"'Tooth measurements raw data'!G48","v":8.127500000000001},{"$f":"'Tooth measurements raw data'!G50","v":8.5175},{"$f":"'Tooth measurements raw data'!G53","v":11.127500000000001},{"$f":"'Tooth measurements raw data'!G55","v":7.567500000000001},{"$f":"'Tooth measurements raw data'!G57","v":6.7075000000000005},{"$f":"'Tooth measurements raw data'!G59","v":5.2275},{"$f":"'Tooth measurements raw data'!G61","v":6.0175},{"$f":"'Tooth measurements raw data'!G65","v":5.817500000000001},{"$f":"'Tooth measurements raw data'!G65","v":5.817500000000001},{"$f":"'Tooth measurements raw data'!G67","v":5.567500000000001},{"$f":"'Tooth measurements raw data'!G69","v":8.557500000000001},{"$f":"'Tooth measurements raw data'!G71","v":7.5575},{"$f":"'Tooth measurements raw data'!G73","v":8.6475},{"$f":"'Tooth measurements raw data'!G75","v":7.2475000000000005},{"$f":"'Tooth measurements raw data'!G77","v":5.9175},{"$f":"'Tooth measurements raw data'!G79","v":6.4675},{"$f":"'Tooth measurements raw data'!G81","v":6.117500000000001},{"$f":"'Tooth measurements raw data'!G83","v":6.0475},{"$f":"'Tooth measurements raw data'!G85","v":5.4375},"dentary medium sized Alligator"]
[1,"upper jaw medium sized Alligator",{"$nulls":20},{"$f":"'Tooth measurements raw data'!G4","v":1.2775},{"$f":"'Tooth measurements raw data'!G6","v":2.1875},{"$f":"'Tooth measurements raw data'!G8","v":3.0175},{"$f":"'Tooth measurements raw data'!G10","v":2.2675},{"$f":"'Tooth measurements raw data'!G12","v":2.8275},{"$f":"'Tooth measurements raw data'!G15","v":2.0075},{"$f":"'Tooth measurements raw data'!G17","v":5.7975},{"$f":"'Tooth measurements raw data'!G20","v":3.3075},{"$f":"'Tooth measurements raw data'!G22","v":1.6375},{"$f":"'Tooth measurements raw data'!G24","v":2.4175},{"$f":"'Tooth measurements raw data'!G26","v":3.1275},{"$f":"'Tooth measurements raw data'!G29","v":1.2375},{"$f":"'Tooth measurements raw data'!G31","v":2.7675},{"$f":"'Tooth measurements raw data'!G33","v":1.2775},{"$f":"'Tooth measurements raw data'!G35","v":2.8875},{"$f":"'Tooth measurements raw data'!G37","v":0.7775},{"$f":"'Tooth measurements raw data'!G39","v":1.6675},{"$f":"'Tooth measurements raw data'!G41","v":2.0675},{"$f":"'Tooth measurements raw data'!G43","v":0.7775},{"$f":"'Tooth measurements raw data'!G45","v":1.6075},"upper jaw medium sized Alligator",null,null,2]
[null,"dentary medium sized Alligator",{"$nulls":20},{"$f":"'Tooth measurements raw data'!G47","v":3.1675},{"$f":"'Tooth measurements raw data'!G49","v":1.7175},{"$f":"'Tooth measurements raw data'!G51","v":4.5175},{"$f":"'Tooth measurements raw data'!G54","v":2.2675},{"$f":"'Tooth measurements raw data'!G56","v":2.0675},{"$f":"'Tooth measurements raw data'!G58","v":0.8775},{"$f":"'Tooth measurements raw data'!G60","v":2.2075},{"$f":"'Tooth measurements raw data'!G62","v":1.1475},{"$f":"'Tooth measurements raw data'!G64","v":0.2875},{"$f":"'Tooth measurements raw data'!G66","v":1.3975},{"$f":"'Tooth measurements raw data'!G68","v":0.7575},{"$f":"'Tooth measurements raw data'!G70","v":2.5875},{"$f":"'Tooth measurements raw data'!G72","v":0.5675},{"$f":"'Tooth measurements raw data'!G74","v":1.6175},{"$f":"'Tooth measurements raw data'!G76","v":2.6275},{"$f":"'Tooth measurements raw data'!G78","v":0.6174999999999999},{"$f":"'Tooth measurements raw data'!G80","v":1.1875},{"$f":"'Tooth measurements raw data'!G82","v":2.7075},{"$f":"'Tooth measurements raw data'!G84","v":0.9075},{"$f":"'Tooth measurements raw data'!G86","v":1.6275},"dentary medium sized Alligator"]
[2,"upper jaw medium sized Alligator",{"$nulls":24},{"$f":"'Tooth measurements raw data'!G13","v":0.3775},null,{"$f":"'Tooth measurements raw data'!G18","v":1.0075},{"$nulls":3},{"$f":"'Tooth measurements raw data'!G27","v":0.3075},{"$nulls":9},"upper jaw medium sized Alligator",null,null,3]
[null,"dentary medium sized Alligator",{"$nulls":22},{"$f":"'Tooth measurements raw data'!G52","v":0.5175},{"$nulls":17},"dentary medium sized Alligator"]
[]
[{"$nulls":42},"average size difference"]
["lower teeth/upper teeth",{"$nulls":21},{"$f":"W6/W7","v":0.6079893475366178},0.6308828052906797,1.0598767243909597,1.0260615592001796,1.0330360092500825,1.193812896011927,{"$f":"AC6/AC7","v":1.3940698230511719},2.043622766929788,1.7168027503223033,1.923076923076923,1.7310282891782667,0.9637744668419514,1.199801521667218,1.0254408788667244,1.4222145567437048,1.167300380228137,1.3448009277155004,1.2157744176542704,1.0198429102935098,1.062528735632184,{"$f":"(SUM(W14:AP14))/20","v":1.2390869344941051}]
[{"$nulls":22},{"$f":"W8/W9","v":0.40331491712707185},1.2736535662299855,0.6679579413392364,1,1.3675937122128174,2.2877492877492878,2.6262740656851644,2.8823529411764706,5.695652173913044,1.7298747763864044,4.128712871287129,0.4782608695652174,4.8766519823788546,0.7897990726429677,1.09895337773549,1.2591093117408907,1.4042105263157894,0.7636195752539242,0.8567493112947658,0.9877112135176651,{"$f":"(SUM(W15:AP15))/20","v":1.8289100746776086}]
[{"$nulls":24},{"$f":"Y10/Y11","v":0}]
{"$rows_empty":44}
[{"$nulls":16},"premaxilla sin"]
{"$rows_empty":36}
[null,null,"maxilla sin",{"$nulls":19},"premaxilla dext"]
[null,null,"dentary sin"]
[null,null,20,19,18,17,16,15,14,13,12,11,10,9,8,7,6,5,4,3,2,1,1,2,3,4,5,6,7,8,9,10,11,12,13,14,15,16,17,18,19,20,21]
["Replacement tooth"]
["f","upper jaw medium sized Alligator",{"$nulls":20},{"$f":"'Tooth measurements raw data'!G87","v":3.2028},{"$f":"'Tooth measurements raw data'!G89","v":2.5328},{"$f":"'Tooth measurements raw data'!G91","v":4.9228000000000005},{"$f":"'Tooth measurements raw data'!G93","v":4.1328000000000005},{"$f":"'Tooth measurements raw data'!G95","v":4.5928},{"$f":"'Tooth measurements raw data'!G97","v":4.5528},{"$f":"'Tooth measurements raw data'!G99","v":4.2228},{"$f":"'Tooth measurements raw data'!G101","v":6.3228},{"$f":"'Tooth measurements raw data'!G103","v":4.9028},{"$f":"'Tooth measurements raw data'!G105","v":5.872800000000001},{"$f":"'Tooth measurements raw data'!G107","v":4.042800000000001},{"$f":"'Tooth measurements raw data'!G109","v":4.0528},{"$f":"'Tooth measurements raw data'!G111","v":3.1028},{"$f":"'Tooth measurements raw data'!G114","v":4.7628},{"$f":"'Tooth measurements raw data'!G116","v":3.9328},{"$f":"'Tooth measurements raw data'!G118","v":4.7328},{"$f":"'Tooth measurements raw data'!G120","v":4.5628},{"$f":"'Tooth measurements raw data'!G122","v":3.8828},{"$f":"'Tooth measurements raw data'!G124","v":3.2228},{"$f":"'Tooth measurements raw data'!G125","v":2.8728},{"$f":"'Tooth measurements raw data'!G127","v":1.1528},"upper jaw medium sized Alligator",null,"f"]
[null,"dentary medium sized Alligator",{"$nulls":20},{"$f":"'Tooth measurements raw data'!G128","v":5.162800000000001},{"$f":"'Tooth measurements raw data'!G130","v":2.1728},{"$f":"'Tooth measurements raw data'!G132","v":4.4428},{"$f":"'Tooth measurements raw data'!G134","v":3.7527999999999997},{"$f":"'Tooth measurements raw data'!G136","v":4.1828},{"$f":"'Tooth measurements raw data'!G138","v":3.2428},{"$f":"'Tooth measurements raw data'!G140","v":3.1928},{"$f":"'Tooth measurements raw data'!G142","v":3.0427999999999997},{"$f":"'Tooth measurements raw data'!G144","v":3.1028},{"$f":"'Tooth measurements raw data'!G146","v":3.1828},{"$f":"'Tooth measurements raw data'!G148","v":3.8828},{"$f":"'Tooth measurements raw data'!G150","v":3.5627999999999997},{"$f":"'Tooth measurements raw data'!G152","v":5.3928},{"$f":"'Tooth measurements raw data'!G154","v":4.122800000000001},{"$f":"'Tooth measurements raw data'!G156","v":4.252800000000001},{"$f":"'Tooth measurements raw data'!G158","v":3.7128},{"$f":"'Tooth measurements raw data'!G160","v":3.3428},{"$f":"'Tooth measurements raw data'!G162","v":3.3828},{"$f":"'Tooth measurements raw data'!G164","v":3.4827999999999997},{"$f":"'Tooth measurements raw data'!G166","v":2.8327999999999998},null,"dentary medium sized Alligator"]
[1,"upper jaw medium sized Alligator",{"$nulls":20},{"$f":"'Tooth measurements raw data'!G88","v":0.2528},{"$f":"'Tooth measurements raw data'!G90","v":1.1528},{"$f":"'Tooth measurements raw data'!G92","v":1.0528000000000002},{"$f":"'Tooth measurements raw data'!G94","v":0.5328},{"$f":"'Tooth measurements raw data'!G96","v":0.9928},{"$f":"'Tooth measurements raw data'!G98","v":0.6928},{"$f":"'Tooth measurements raw data'!G100","v":1.8028000000000002},{"$f":"'Tooth measurements raw data'!G102","v":1.1028},{"$f":"'Tooth measurements raw data'!G104","v":2.8028},{"$f":"'Tooth measurements raw data'!G106","v":0.8928},{"$f":"'Tooth measurements raw data'!G108","v":1.8428000000000002},{"$f":"'Tooth measurements raw data'!G110","v":0.7128},{"$f":"'Tooth measurements raw data'!G112","v":2.1128},{"$f":"'Tooth measurements raw data'!G115","v":1.0028000000000001},{"$f":"'Tooth measurements raw data'!G117","v":0.4628},{"$f":"'Tooth measurements raw data'!G119","v":1.3928},{"$f":"'Tooth measurements raw data'!G121","v":0.3628},{"$f":"'Tooth measurements raw data'!G123","v":0.7228},null,{"$f":"'Tooth measurements raw data'!G126","v":0.3328},null,"upper jaw medium sized Alligator",null,1]
[null,"dentary medium sized Alligator",{"$nulls":20},{"$f":"'Tooth measurements raw data'!G129","v":1.4828000000000001},{"$f":"'Tooth measurements raw data'!G131","v":2.0728},{"$f":"'Tooth measurements raw data'!G133","v":1.0928000000000002},{"$f":"'Tooth measurements raw data'!G135","v":0.3628},{"$f":"'Tooth measurements raw data'!G137","v":0.6328},{"$f":"'Tooth measurements raw data'!G139","v":0.9528},{"$f":"'Tooth measurements raw data'!G141","v":0.1728},{"$f":"'Tooth measurements raw data'!G143","v":0.9528},{"$f":"'Tooth measurements raw data'!G145","v":0.1628},{"$f":"'Tooth measurements raw data'!G147","v":0.7228},{"$f":"'Tooth measurements raw data'!G149","v":0.4528},{"$f":"'Tooth measurements raw data'!G151","v":1.6128},{"$f":"'Tooth measurements raw data'!G153","v":0.8028},{"$f":"'Tooth measurements raw data'!G155","v":1.6928},{"$f":"'Tooth measurements raw data'!G157","v":0.3028},{"$f":"'Tooth measurements raw data'!G159","v":0.8428},{"$f":"'Tooth measurements raw data'!G161","v":0.1528},{"$f":"'Tooth measurements raw data'!G163","v":0.6828},{"$f":"'Tooth measurements raw data'!G165","v":0.11280000000000001},{"$f":"'Tooth measurements raw data'!G167","v":0.4228},null,"dentary medium sized Alligator"]
[2,"upper jaw medium sized Alligator",{"$nulls":32},{"$f":"'Tooth measurements raw data'!G113","v":0.1628},{"$nulls":8},"upper jaw medium sized Alligator",null,2]
[null,"dentary medium sized Alligator",{"$nulls":41},"dentary medium sized Alligator"]
[]
[{"$nulls":43},"average size difference"]
["lower teeth/upper teeth",{"$nulls":21},{"$f":"W102/W103","v":0.6203610443945144},{"$f":"X102/X103","v":1.165684830633284},1.1080399747906726,1.1012577275634194,1.0980204647604477,1.4039718761564082,1.3226008519168129,2.0779545155777575,1.5801211808688926,1.8451677768003019,1.0412073761203258,1.1375322779836086,0.5753597389111407,1.1552343067817987,0.9247554552294956,1.2747252747252746,1.364963503649635,1.1478065507863309,0.9253474216147928,1.014120304998588,null,{"$f":"(SUM(W110:AP110))/20","v":1.194211622713175}]
[{"$nulls":22},{"$f":"W104/W105","v":0.17048826544375506},{"$f":"X104/X105","v":0.5561559243535315},0.9633967789165446,1.4685777287761854,1.5689001264222502,0.727120067170445,10.43287037037037,1.1574307304785894,17.216216216216218,1.235196458218041,4.069787985865725,0.4419642857142857,2.631788739412058,0.5923913043478262,1.5284015852047554,1.6525866160417657,2.37434554973822,1.0585823081429409,0,0.7871333964049195,null,{"$f":"(SUM(W111:AP111))/20","v":2.5316667218619213}]
{"$rows_empty":67}
[null,null,"maxilla sin",{"$nulls":19},"premaxilla dext"]
[null,null,"dentary sin"]
[null,null,20,19,18,17,16,15,14,13,12,11,10,9,8,7,6,5,4,3,2,1,1,2,3,4,5,6,7,8,9,10,11,12,13,14,15,16,17,18,19,20,21]
["Replacement tooth"]
["f","upper jaw medium sized Alligator",{"$nulls":20},{"$f":"'Tooth measurements raw data'!G168","v":27.255},{"$f":"'Tooth measurements raw data'!G169","v":23.265},{"$f":"'Tooth measurements raw data'!G171","v":39.015},null,{"$f":"'Tooth measurements raw data'!G174","v":37.615},{"$f":"'Tooth measurements raw data'!G176","v":27.005},{"$f":"'Tooth measurements raw data'!G179","v":20.825},{"$f":"'Tooth measurements raw data'!G180","v":42.415000000000006},{"$f":"'Tooth measurements raw data'!G181","v":62.495000000000005},{"$f":"'Tooth measurements raw data'!G182","v":35.205000000000005},{"$f":"'Tooth measurements raw data'!G183","v":31.685},{"$f":"'Tooth measurements raw data'!G185","v":28.485},{"$f":"'Tooth measurements raw data'!G187","v":31.395},null,{"$f":"'Tooth measurements raw data'!G190","v":42.205000000000005},{"$f":"'Tooth measurements raw data'!G192","v":42.235},{"$f":"'Tooth measurements raw data'!G194","v":31.695},{"$f":"'Tooth measurements raw data'!G196","v":26.395},{"$f":"'Tooth measurements raw data'!G198","v":21.165},{"$f":"'Tooth measurements raw data'!G199","v":16.945},null,"upper jaw medium sized Alligator",null,"f"]
[null,"dentary medium sized Alligator",{"$nulls":20},{"$f":"'Tooth measurements raw data'!G201","v":32.575},null,{"$f":"'Tooth measurements raw data'!G204","v":43.715},{"$f":"'Tooth measurements raw data'!G208","v":30.015},{"$f":"'Tooth measurements raw data'!G211","v":24.314999999999998},{"$f":"'Tooth measurements raw data'!G213","v":21.195},{"$f":"'Tooth measurements raw data'!G215","v":20.044999999999998},{"$f":"'Tooth measurements raw data'!G217","v":18.265},{"$f":"'Tooth measurements raw data'!G220","v":21.314999999999998},{"$f":"'Tooth measurements raw data'!G222","v":25.985},{"$f":"'Tooth measurements raw data'!G223","v":36.585},{"$f":"'Tooth measurements raw data'!G225","v":45.025000000000006},{"$f":"'Tooth measurements raw data'!G227","v":38.215},{"$f":"'Tooth measurements raw data'!G228","v":28.035},{"$f":"'Tooth measurements raw data'!G230","v":26.125},{"$nulls":6},"dentary medium sized Alligator"]
[1,"upper jaw medium sized Alligator",{"$nulls":21},{"$f":"'Tooth measurements raw data'!G170","v":7.955000000000001},{"$f":"'Tooth measurements raw data'!G172","v":13.364999999999998},null,{"$f":"'Tooth measurements raw data'!G175","v":6.505},{"$f":"'Tooth measurements raw data'!G177","v":8.985},{"$nulls":4},{"$f":"'Tooth measurements raw data'!G184","v":7.465},{"$f":"'Tooth measurements raw data'!G186","v":3.0050000000000003},{"$f":"'Tooth measurements raw data'!G188","v":1.2349999999999999},null,{"$f":"'Tooth measurements raw data'!G191","v":11.604999999999999},{"$f":"'Tooth measurements raw data'!G193","v":2.1750000000000003},{"$f":"'Tooth measurements raw data'!G195","v":5.325},{"$f":"'Tooth measurements raw data'!G197","v":2.205},{"$nulls":3},"upper jaw medium sized Alligator",null,1]
[null,"dentary medium sized Alligator",{"$nulls":20},{"$f":"'Tooth measurements raw data'!G202","v":1.9349999999999998},null,{"$f":"'Tooth measurements raw data'!G205","v":28.654999999999998},{"$f":"'Tooth measurements raw data'!G209","v":5.805000000000001},{"$f":"'Tooth measurements raw data'!G212","v":6.2250000000000005},{"$f":"'Tooth measurements raw data'!G214","v":2.015},{"$f":"'Tooth measurements raw data'!G216","v":3.5450000000000004},{"$f":"'Tooth measurements raw data'!G218","v":7.385},{"$f":"'Tooth measurements raw data'!G221","v":2.5050000000000003},null,{"$f":"'Tooth measurements raw data'!G224","v":5.355},{"$f":"'Tooth measurements raw data'!G226","v":13.045},null,{"$f":"'Tooth measurements raw data'!G229","v":8.864999999999998},{"$f":"'Tooth measurements raw data'!G231","v":1.4849999999999999},{"$nulls":6},"dentary medium sized Alligator"]
[2,"upper jaw medium sized Alligator",{"$nulls":25},{"$f":"'Tooth measurements raw data'!G178","v":0.895},{"$nulls":7},{"$f":"'Tooth measurements raw data'!G194","v":31.695},{"$nulls":7},"upper jaw medium sized Alligator",null,2]
[null,"dentary medium sized Alligator",{"$nulls":22},{"$f":"'Tooth measurements raw data'!G206","v":3.115},{"$f":"'Tooth measurements raw data'!G210","v":5.625},{"$nulls":3},{"$f":"'Tooth measurements raw data'!G219","v":0.585},{"$nulls":13},"dentary medium sized Alligator"]
[]
[{"$nulls":24},{"$f":"'Tooth measurements raw data'!G207","v":3.5450000000000004},{"$nulls":18},"average size difference"]
["lower teeth/upper teeth",{"$nulls":21},{"$f":"W183/W184","v":0.8366845740598617},null,{"$f":"Y183/Y184","v":0.8924854169049524},{"$f":"Z183/Z184","v":0},{"$f":"AB183/AB184","v":1.2741212550129748},{"$f":"AC183/AC184","v":1.038912446994263},{"$f":"AD183/AD184","v":2.322200930741856},{"$f":"AF183/AE184","v":1.651653764954258},{"$f":"AH183/AF184","v":1.0962093515489706},0.8581385813858138,0,1.1044092633782547,1.506509719992866,1.2132057416267943]
[{"$nulls":22},{"$f":"W185/W186","v":0},null,{"$f":"Y185/Y186","v":0.46641074856046066},{"$f":"Z185/Z186","v":0},{"$f":"AB185/AB186","v":4.459057071960297},0,0,0,null,1.3940242763772175,0.23035645841318517,null,0,7.814814814814815]
[{"$nulls":24},{"$f":"Y187/Y188","v":0},0,null,null,{"$f":"AD187/AD188","v":0}]

{"sheet":"Tooth size Developmental st","index":2,"n_rows":459,"n_cols":381,"rows_kept":459}
[]
[null,"Measurements of teeth"]
[null,"Premaxilla",{"$nulls":3},"dext",{"$nulls":15},"Premaxilla",{"$nulls":3},"dext",{"$nulls":15},"Premaxilla",{"$nulls":3},"dext"]
[null,"Medium Alligator","Functional tooth",{"$nulls":5},"Tooth position 1 (labial)",{"$nulls":5},"Tooth position 2",{"$nulls":6},"Large Alligator","Functional tooth",{"$nulls":5},"Tooth position 1 (labial)",{"$nulls":5},"Tooth position 2",{"$nulls":6},"Small Alligator","Functional tooth",{"$nulls":5},"Tooth position 1 (labial)",{"$nulls":5},"Tooth position 2"]
[null,null,"tooth height","crown height","volume","developmental stage","size compared to tooth befoe","estimated age","tooth height","crown height","volume","developmental stage","size compared to tooth before","estimated age","tooth height","crown height",null,"developmental stage","size compared to tooth befoe","estimated age",null,null,"tooth height","crown height","volume","developmental stage","size compared to tooth befoe",null,"tooth height","crown height","volume","developmental stage","size compared to tooth befoe",null,"tooth height","crown height","volume","developmental stage","size compared to tooth before",{"$nulls":3},"tooth height","crown height","volume","developmental stage","size compared to tooth befoe","average VEL","tooth height","crown height","volume","developmental stage","size compared to tooth befoe","estimated age","tooth height","crown height","volume","developmental stage","size compared to tooth before"]
[null,"1. alveolus",{"$f":"'Tooth measurements raw data'!G3","v":{"v":5.7075000000000005,"d":"5.71"}},{"$f":"'Tooth measurements raw data'!K3","v":{"v":2.4475,"d":"2.45"}},2.28173,4,null,30.558333333333337,{"$f":"'Tooth measurements raw data'!G4","v":{"v":1.2775,"d":"1.28"}},{"$f":"'Tooth measurements raw data'!K4","v":{"v":0.6275,"d":"0.63"}},0.21732,2,{"$f":"I6/C6","v":0.22382829610162067},{"$nulls":5},{"$f":"O6/I6","v":0},null,null,"1. alveolus",{"$f":"'Tooth measurements raw data'!G168","v":27.255},{"$f":"'Tooth measurements raw data'!K168","v":5.655},{"$f":"'Tooth measurements raw data'!$H$168","v":290.13949727999994},2,{"$nulls":15},"1. alveolus",{"$f":"'Tooth measurements raw data'!$G$87","v":{"v":3.2028,"d":"3.20"}},{"$f":"'Tooth measurements raw data'!K87","v":1.4328},{"$f":"'Tooth measurements raw data'!$H$87","v":0.6290244700000001},6,null,null,{"$f":"'Tooth measurements raw data'!$G$88","v":{"v":0.2528,"d":"0.25"}},{"$f":"'Tooth measurements raw data'!K88","v":0.1628},{"$f":"'Tooth measurements raw data'!$H$88","v":0.0034545965},3,{"$f":"AW6/AQ6","v":0.07893093543149746}]
[null,"2. alveolus",{"$f":"'Tooth measurements raw data'!G5","v":{"v":5.1275,"d":"5.13"}},{"$f":"'Tooth measurements raw data'!K5","v":{"v":2.1575,"d":"2.16"}},3.0836,5,null,null,{"$f":"'Tooth measurements raw data'!G6","v":{"v":2.1875,"d":"2.19"}},{"$f":"'Tooth measurements raw data'!K6","v":{"v":0.9175,"d":"0.92"}},0.687425,3,{"$f":"I7/C7","v":0.4266211604095563},{"$nulls":5},{"$f":"O7/I7","v":0},null,null,"2. alveolus",{"$f":"'Tooth measurements raw data'!G169","v":23.265},{"$f":"'Tooth measurements raw data'!K169","v":8.055},{"$f":"'Tooth measurements raw data'!$H$169","v":249.08602859547},3,null,null,{"$f":"'Tooth measurements raw data'!G170","v":7.955000000000001},{"$f":"'Tooth measurements raw data'!K170","v":3.145},{"$f":"'Tooth measurements raw data'!$H$170","v":28.077571},2,{"$f":"AC7/W7","v":0.34192993767461854},{"$nulls":8},"2. alveolus",{"$f":"'Tooth measurements raw data'!$G$89","v":{"v":2.5328,"d":"2.53"}},{"$f":"'Tooth measurements raw data'!K89","v":1.7728000000000002},{"$f":"'Tooth measurements raw data'!$H$89","v":0.371784978},7,null,null,{"$f":"'Tooth measurements raw data'!$G$90","v":{"v":1.1528,"d":"1.15"}},{"$f":"'Tooth measurements raw data'!K90","v":0.7728},{"$f":"'Tooth measurements raw data'!$H$90","v":0.13914347500000002},4,{"$f":"AW7/AQ7","v":0.45514845230574863}]
[null,"3. alveolus",{"$f":"'Tooth measurements raw data'!G7","v":{"v":9.0275,"d":"9.03"}},{"$f":"'Tooth measurements raw data'!K7","v":{"v":2.9475,"d":"2.95"}},12.2091,7,null,33.82198953,{"$f":"'Tooth measurements raw data'!G8","v":{"v":3.0175,"d":"3.02"}},{"$f":"'Tooth measurements raw data'!K8","v":{"v":1.0375,"d":"1.04"}},1.603,2,{"$f":"I8/C8","v":0.3342564386596511},43.10738589,{"$nulls":4},{"$f":"O8/I8","v":0},null,null,"3. alveolus",{"$f":"'Tooth measurements raw data'!G171","v":39.015},{"$f":"'Tooth measurements raw data'!K171","v":11.455},{"$f":"'Tooth measurements raw data'!$H$171","v":1013.040609887},6,null,null,{"$f":"'Tooth measurements raw data'!G172","v":13.364999999999998},{"$f":"'Tooth measurements raw data'!K172","v":4.795},{"$f":"'Tooth measurements raw data'!$H$172","v":94.174841},3,{"$f":"AC8/W8","v":0.34256055363321797},{"$nulls":8},"3. alveolus",{"$f":"'Tooth measurements raw data'!$G$91","v":{"v":4.9228000000000005,"d":"4.92"}},{"$f":"'Tooth measurements raw data'!K91","v":1.7928000000000002},{"$f":"'Tooth measurements raw data'!$H$91","v":1.49836725},7,null,{"v":0.016666666666666666,"d":"0.0167"},{"$f":"'Tooth measurements raw data'!$G$92","v":{"v":1.0528000000000002,"d":"1.05"}},{"$f":"'Tooth measurements raw data'!K92","v":0.5328},{"$f":"'Tooth measurements raw data'!$H$92","v":0.10059913300000001},4,{"$f":"AW8/AQ8","v":0.21386202973917284}]
[null,"4. alveolus",{"$f":"'Tooth measurements raw data'!G9","v":{"v":11.4175,"d":"11.42"}},{"$f":"'Tooth measurements raw data'!K9","v":{"v":2.5375,"d":"2.54"}},21.3727,6,null,null,{"$f":"'Tooth measurements raw data'!G10","v":{"v":2.2675,"d":"2.27"}},{"$f":"'Tooth measurements raw data'!K10","v":{"v":0.9175,"d":"0.92"}},0.86493,3,{"$f":"I9/C9","v":0.19859864243485878},{"$nulls":5},{"$f":"O9/I9","v":0},null,null,"4. alveolus",{"$nulls":19},"4. alveolus",{"$f":"'Tooth measurements raw data'!$G$93","v":{"v":4.1328000000000005,"d":"4.13"}},{"$f":"'Tooth measurements raw data'!K93","v":1.4328},{"$f":"'Tooth measurements raw data'!$H$93","v":1.32007173},6,null,null,{"$f":"'Tooth measurements raw data'!$G$94","v":{"v":0.5328,"d":"0.53"}},{"$f":"'Tooth measurements raw data'!K94","v":0.3128},{"$f":"'Tooth measurements raw data'!$H$94","v":0.0231266039},3,{"$f":"AW9/AQ9","v":0.1289198606271777}]
[null,"5.alveolus",{"$f":"'Tooth measurements raw data'!G11","v":{"v":7.817500000000001,"d":"7.82"}},{"$f":"'Tooth measurements raw data'!K11","v":{"v":2.6075,"d":"2.61"}},7.32204,6,null,null,{"$f":"'Tooth measurements raw data'!G12","v":{"v":2.8275,"d":"2.83"}},{"$f":"'Tooth measurements raw data'!K12","v":{"v":1.3775,"d":"1.38"}},1.19799,4,{"$f":"I10/C10","v":0.36168851934761753},null,{"$f":"'Tooth measurements raw data'!G13","v":{"v":0.3775,"d":"0.38"}},{"$f":"'Tooth measurements raw data'!K13","v":{"v":0.11750000000000001,"d":"0.12"}},0.015093,1,{"$f":"O10/I10","v":0.13351016799292661},null,null,"5.alveolus",{"$f":"'Tooth measurements raw data'!G174","v":37.615},{"$f":"'Tooth measurements raw data'!K174","v":8.645},{"$f":"'Tooth measurements raw data'!$H$174","v":855.4052963597},5,null,null,{"$f":"'Tooth measurements raw data'!G175","v":6.505},{"$f":"'Tooth measurements raw data'!K175","v":2.9650000000000003},{"$f":"'Tooth measurements raw data'!$H$175","v":28.02838},1,{"$f":"AC10/W10","v":0.1729363285923169},{"$nulls":8},"5.alveolus",{"$f":"'Tooth measurements raw data'!$G$95","v":{"v":4.5928,"d":"4.59"}},{"$f":"'Tooth measurements raw data'!K95","v":1.7628000000000001},{"$f":"'Tooth measurements raw data'!$H$95","v":1.21102804},7,null,null,{"$f":"'Tooth measurements raw data'!$G$96","v":{"v":0.9928,"d":"0.99"}},{"$f":"'Tooth measurements raw data'!K96","v":0.5628},{"$f":"'Tooth measurements raw data'!$H$96","v":0.088092212},4,{"$f":"AW10/AQ10","v":0.21616443128374846}]
[{"$nulls":11},"average",{"$f":"(M6+M7+M8+M9+M10)/5","v":0.30899861139066087},{"$nulls":4},"average",{"$f":"S10","v":0.13351016799292661},{"$nulls":12},"average",{"$f":"(AG7+AG8+AG10)/3","v":0.2858089399667178},{"$nulls":4},"average",{"$nulls":13},"average",{"$f":"(BA6+BA7+BA8+BA9+BA10)/5","v":0.21860514187746904},{"$nulls":4},"average"]
[]
[{"$nulls":41},"Maxilla",{"$nulls":3},"dext"]
[null,"Maxilla",{"$nulls":3},"dext",{"$nulls":15},"Maxilla",{"$nulls":3},"dext",{"$nulls":15},"Small Alligator","Functional tooth",{"$nulls":5},"Tooth position 1 (labial)",{"$nulls":5},"Tooth position 2"]
[null,"Medium Alligator","Functional tooth",{"$nulls":5},"Tooth position 1 (labial)",{"$nulls":5},"Tooth position 2",{"$nulls":6},"Large Alligator","Functional tooth",{"$nulls":5},"Tooth position 1 (labial)",{"$nulls":5},"Tooth position 2",{"$nulls":7},"tooth height","crown height","volume","developmental stage","size compared to tooth before","estimated age","tooth height","crown height","volume","developmental stage","size compared to tooth before","estimated age","tooth height","crown height","volume","developmental stage","size compared to tooth before"]
[null,null,"tooth height","crown height","volume","developmental stage","size compared to tooth before","estimated age","tooth height","crown height","volume","developmental stage","size compared to tooth before","estimated age","tooth height","crown height","volume","developmental stage","size compared to tooth before","estimated age",null,null,"tooth height","crown height","volume","developmental stage","size compared to tooth before",null,"tooth height","crown height","volume","developmental stage","size compared to tooth before",null,"tooth height","crown height","volume","developmental stage","size compared to tooth before",null,null,"1. alveolus",{"$f":"'Tooth measurements raw data'!$G$97","v":{"v":4.5528,"d":"4.55"}},{"$f":"'Tooth measurements raw data'!K97","v":1.6928},{"$f":"'Tooth measurements raw data'!$H$97","v":1.12674225},6,null,null,{"$f":"'Tooth measurements raw data'!$G$98","v":{"v":0.6928,"d":"0.69"}},{"$f":"'Tooth measurements raw data'!K98","v":0.4728},{"$f":"'Tooth measurements raw data'!$H$98","v":0.047948521},3,{"$f":"AW16/AQ16","v":0.1521700931295027}]
[null,"1. alveolus",{"$f":"'Tooth measurements raw data'!G14","v":{"v":8.0075,"d":"8.01"}},{"$f":"'Tooth measurements raw data'!K14","v":{"v":2.6075,"d":"2.61"}},7.74965,6,null,null,{"$f":"'Tooth measurements raw data'!G15","v":{"v":2.0075,"d":"2.01"}},{"$f":"'Tooth measurements raw data'!K15","v":{"v":0.6775,"d":"0.68"}},0.549644,2,{"$f":"I17/C17","v":0.2507024664377146},{"$nulls":8},"1. alveolus",{"$f":"'Tooth measurements raw data'!G176","v":27.005},{"$f":"'Tooth measurements raw data'!K176","v":7.205},{"$f":"'Tooth measurements raw data'!H176","v":431.12912421300007},4,null,null,{"$f":"'Tooth measurements raw data'!$G$177","v":8.985},{"$f":"'Tooth measurements raw data'!K177","v":3.915},{"$f":"'Tooth measurements raw data'!$H$177","v":43.789314},2,{"$f":"AC17/W17","v":0.3327161636733938},null,{"$f":"'Tooth measurements raw data'!$G$178","v":0.895},{"$f":"'Tooth measurements raw data'!K178","v":0.575},{"$f":"'Tooth measurements raw data'!$H$178","v":0.44938639999999996},0,{"$f":"AI17/AC17","v":0.09961046188091265},null,null,"2. alveolus",{"$f":"'Tooth measurements raw data'!$G$99","v":{"v":4.2228,"d":"4.22"}},{"$f":"'Tooth measurements raw data'!K99","v":2.4328},{"$f":"'Tooth measurements raw data'!$H$99","v":1.53774333},8,null,null,{"$f":"'Tooth measurements raw data'!$G$100","v":{"v":1.8028000000000002,"d":"1.80"}},{"$f":"'Tooth measurements raw data'!K100","v":0.9528},{"$f":"'Tooth measurements raw data'!$H$100","v":0.29076189},4,0.4269205266647722]
[null,"2. alveolus",{"$f":"'Tooth measurements raw data'!G16","v":{"v":7.2875000000000005,"d":"7.29"}},{"$f":"'Tooth measurements raw data'!K16","v":{"v":3.5275,"d":"3.53"}},7.61631,7,null,null,{"$f":"'Tooth measurements raw data'!G17","v":{"v":5.7975,"d":"5.80"}},{"$f":"'Tooth measurements raw data'!K17","v":{"v":2.0075,"d":"2.01"}},5.33875,4,0.7955403087478559,null,{"$f":"'Tooth measurements raw data'!G18","v":{"v":1.0075,"d":"1.01"}},{"$f":"'Tooth measurements raw data'!K18","v":{"v":0.32749999999999996,"d":"0.33"}},0.159449,1,{"$f":"O18/I18","v":0.17378180250107805},null,null,"2. alveolus",{"$f":"'Tooth measurements raw data'!G179","v":20.825},{"$f":"'Tooth measurements raw data'!K179","v":1.185},{"$f":"'Tooth measurements raw data'!H179","v":2.05591401},1,{"$nulls":15},"3. alveolus",{"$f":"'Tooth measurements raw data'!$G$101","v":{"v":6.3228,"d":"6.32"}},{"$f":"'Tooth measurements raw data'!K101","v":1.7928000000000002},{"$f":"'Tooth measurements raw data'!$H$101","v":2.79448071},7,null,null,{"$f":"'Tooth measurements raw data'!$G$102","v":{"v":1.1028,"d":"1.10"}},{"$f":"'Tooth measurements raw data'!K102","v":0.6028},{"$f":"'Tooth measurements raw data'!$H$102","v":0.13808790199999998},3,0.17441639779844373]
[null,"3. alveolus",{"$f":"'Tooth measurements raw data'!G19","v":{"v":12.297500000000001,"d":"12.30"}},{"$f":"'Tooth measurements raw data'!K19","v":{"v":2.9475,"d":"2.95"}},30.1717,6,null,null,{"$f":"'Tooth measurements raw data'!G20","v":{"v":3.3075,"d":"3.31"}},{"$f":"'Tooth measurements raw data'!K20","v":{"v":1.0375,"d":"1.04"}},2.04579,3,0.26895710510266313,{"$nulls":8},"3. alveolus",{"$f":"'Tooth measurements raw data'!G180","v":42.415000000000006},{"$f":"'Tooth measurements raw data'!K180","v":5.455},{"$f":"'Tooth measurements raw data'!H180","v":1275.9274605},3,{"$nulls":15},"4. alveolus",{"$f":"'Tooth measurements raw data'!$G$103","v":{"v":4.9028,"d":"4.90"}},{"$f":"'Tooth measurements raw data'!K103","v":2.5128},{"$f":"'Tooth measurements raw data'!$H$103","v":2.9786619},9,null,null,{"$f":"'Tooth measurements raw data'!$G$104","v":{"v":2.8028,"d":"2.80"}},{"$f":"'Tooth measurements raw data'!K104","v":1.2228},{"$f":"'Tooth measurements raw data'!$H$104","v":0.88651982},5,0.5716733295259852]
[null,"4. alveolus",{"$f":"'Tooth measurements raw data'!G21","v":{"v":9.9875,"d":"9.99"}},{"$f":"'Tooth measurements raw data'!K21","v":{"v":2.6375,"d":"2.64"}},18.7089,7,null,null,{"$f":"'Tooth measurements raw data'!G22","v":{"v":1.6375,"d":"1.64"}},{"$f":"'Tooth measurements raw data'!K22","v":{"v":0.48749999999999993,"d":"0.49"}},0.468438,2,0.16395494367959948,{"$nulls":8},"4. alveolus",{"$f":"'Tooth measurements raw data'!G181","v":62.495000000000005},{"$f":"'Tooth measurements raw data'!K181","v":12.725},{"$f":"'Tooth measurements raw data'!H181","v":5008.193124},7,{"$nulls":15},"5. alveolus",{"$f":"'Tooth measurements raw data'!$G$105","v":{"v":5.872800000000001,"d":"5.87"}},{"$f":"'Tooth measurements raw data'!K105","v":1.8328000000000002},{"$f":"'Tooth measurements raw data'!$H$105","v":3.03908528},7,null,null,{"$f":"'Tooth measurements raw data'!$G$106","v":{"v":0.8928,"d":"0.89"}},{"$f":"'Tooth measurements raw data'!K106","v":0.5028},{"$f":"'Tooth measurements raw data'!$H$106","v":0.070979166},3,0.15202288516550877]
[null,"5. alveolus",{"$f":"'Tooth measurements raw data'!G23","v":{"v":11.1875,"d":"11.19"}},{"$f":"'Tooth measurements raw data'!K23","v":{"v":2.8175,"d":"2.82"}},22.7832,8,null,null,{"$f":"'Tooth measurements raw data'!G24","v":{"v":2.4175,"d":"2.42"}},{"$f":"'Tooth measurements raw data'!K24","v":{"v":0.9275,"d":"0.93"}},0.96734,3,0.21608938547486034,{"$nulls":8},"5. alveolus",{"$f":"'Tooth measurements raw data'!G182","v":35.205000000000005},{"$f":"'Tooth measurements raw data'!K182","v":6.025},{"$f":"'Tooth measurements raw data'!H182","v":839.5792738999999},4,{"$nulls":15},"6. alveolus",{"$f":"'Tooth measurements raw data'!$G$107","v":{"v":4.042800000000001,"d":"4.04"}},{"$f":"'Tooth measurements raw data'!K107","v":2.1928},{"$f":"'Tooth measurements raw data'!$H$107","v":1.41510514},9,null,{"v":0.012666666666666666,"d":"0.01267"},{"$f":"'Tooth measurements raw data'!$G$108","v":{"v":1.8428000000000002,"d":"1.84"}},{"$f":"'Tooth measurements raw data'!K108","v":0.9328},{"$f":"'Tooth measurements raw data'!$H$108","v":0.36407609},5,0.4558226971405956]
[null,"6. alveolus",{"$f":"'Tooth measurements raw data'!G25","v":{"v":9.637500000000001,"d":"9.64"}},{"$f":"'Tooth measurements raw data'!K25","v":{"v":3.3175,"d":"3.32"}},16.4975,9,null,24.08695652,{"$f":"'Tooth measurements raw data'!G26","v":{"v":3.1275,"d":"3.13"}},{"$f":"'Tooth measurements raw data'!K26","v":{"v":1.3575,"d":"1.36"}},2.14117,1,0.32451361867704276,29.33333333,{"$f":"'Tooth measurements raw data'!G27","v":{"v":0.3075,"d":"0.31"}},{"$f":"'Tooth measurements raw data'!K27","v":{"v":0.05750000000000001,"d":"0.06"}},0.0167597,0,{"$f":"O22/I22","v":0.09832134292565947},null,null,"6. alveolus",{"$f":"'Tooth measurements raw data'!G183","v":31.685},{"$f":"'Tooth measurements raw data'!K183","v":8.825},{"$f":"'Tooth measurements raw data'!H183","v":748.65156211},5,null,null,{"$f":"'Tooth measurements raw data'!$G$184","v":7.465},{"$f":"'Tooth measurements raw data'!K184","v":2.055},{"$f":"'Tooth measurements raw data'!$H$184","v":54.487238000000005},2,{"$f":"AC22/W22","v":0.23560044184945558},{"$nulls":8},"7. alveolus",{"$f":"'Tooth measurements raw data'!$G$109","v":{"v":4.0528,"d":"4.05"}},{"$f":"'Tooth measurements raw data'!K109","v":2.0627999999999997},{"$f":"'Tooth measurements raw data'!$H$109","v":1.31613732},7,null,{"v":0.015333333333333332,"d":"0.01533"},{"$f":"'Tooth measurements raw data'!$G$110","v":{"v":0.7128,"d":"0.71"}},{"$f":"'Tooth measurements raw data'!K110","v":0.4228},{"$f":"'Tooth measurements raw data'!$H$110","v":0.068484179},3,0.17587840505329647]
[null,"7. alveolus",{"$f":"'Tooth measurements raw data'!G28","v":{"v":8.2475,"d":"8.25"}},{"$f":"'Tooth measurements raw data'!K28","v":{"v":2.3175,"d":"2.32"}},9.22033,7,null,39.2,{"$f":"'Tooth measurements raw data'!G29","v":{"v":1.2375,"d":"1.24"}},{"$f":"'Tooth measurements raw data'!K29","v":{"v":0.5875,"d":"0.59"}},0.310378,1,0.15004546832373447,{"$nulls":8},"7. alveolus",{"$f":"'Tooth measurements raw data'!G185","v":28.485},{"$f":"'Tooth measurements raw data'!K185","v":6.2250000000000005},{"$f":"'Tooth measurements raw data'!H185","v":517.51246},3,null,null,{"$f":"'Tooth measurements raw data'!$G$186","v":3.0050000000000003},{"$f":"'Tooth measurements raw data'!K186","v":1.785},{"$f":"'Tooth measurements raw data'!$H$186","v":5.1995499},1,{"$f":"AC23/W23","v":0.1054941197121292},{"$nulls":8},"8. alveolus",{"$f":"'Tooth measurements raw data'!$G$111","v":{"v":3.1028,"d":"3.10"}},{"$f":"'Tooth measurements raw data'!K111","v":2.1028},{"$f":"'Tooth measurements raw data'!$H$111","v":1.23284316},9,null,null,{"$f":"'Tooth measurements raw data'!$G$112","v":{"v":2.1128,"d":"2.11"}},{"$f":"'Tooth measurements raw data'!K112","v":1.0628000000000002},{"$f":"'Tooth measurements raw data'!$H$112","v":0.54963271},5,0.6809333505221091,null,{"$f":"'Tooth measurements raw data'!$G$113","v":0.1628},{"$f":"'Tooth measurements raw data'!K113","v":0.1628},{"$f":"'Tooth measurements raw data'!H113","v":2.7188955E-3},null,{"$f":"BC23/AW23","v":0.0770541461567588}]
[null,"8. alveolus",{"$f":"'Tooth measurements raw data'!G30","v":{"v":9.0675,"d":"9.07"}},{"$f":"'Tooth measurements raw data'!K30","v":{"v":2.7375,"d":"2.74"}},14.8317,6,null,null,{"$f":"'Tooth measurements raw data'!G31","v":{"v":2.7675,"d":"2.77"}},{"$f":"'Tooth measurements raw data'!K31","v":{"v":1.2875,"d":"1.29"}},1.77884,4,0.3052109181141439,{"$nulls":8},"8. alveolus",{"$f":"'Tooth measurements raw data'!G187","v":31.395},{"$f":"'Tooth measurements raw data'!K187","v":6.215},{"$f":"'Tooth measurements raw data'!H187","v":665.7074485168},3,null,null,{"$f":"'Tooth measurements raw data'!$G$188","v":1.2349999999999999},{"$f":"'Tooth measurements raw data'!K188","v":0.9549999999999998},{"$f":"'Tooth measurements raw data'!$H$188","v":1.3474696},1,{"$f":"AC24/W24","v":0.03933747412008281},{"$nulls":8},"9. alveolus",{"$f":"'Tooth measurements raw data'!$G$114","v":{"v":4.7628,"d":"4.76"}},{"$f":"'Tooth measurements raw data'!K114","v":2.2828},{"$f":"'Tooth measurements raw data'!$H$114","v":2.02193062},10,null,null,{"$f":"'Tooth measurements raw data'!$G$115","v":{"v":1.0028000000000001,"d":"1.00"}},{"$f":"'Tooth measurements raw data'!K115","v":0.6128},{"$f":"'Tooth measurements raw data'!$H$115","v":0.11800005999999999},3,0.21054841689762327]
[null,"9. alveolus",{"$f":"'Tooth measurements raw data'!G32","v":{"v":8.8675,"d":"8.87"}},{"$f":"'Tooth measurements raw data'!K32","v":{"v":2.2975,"d":"2.30"}},12.0575,5,null,null,{"$f":"'Tooth measurements raw data'!G33","v":{"v":1.2775,"d":"1.28"}},{"$f":"'Tooth measurements raw data'!K33","v":{"v":0.5575,"d":"0.56"}},0.318249,1,0.14406540738652385,{"$nulls":8},"9. alveolus",{"$nulls":19},"10. alveolus",{"$f":"'Tooth measurements raw data'!$G$116","v":{"v":3.9328,"d":"3.93"}},{"$f":"'Tooth measurements raw data'!K116","v":1.3528},{"$f":"'Tooth measurements raw data'!$H$116","v":1.866601716},6,null,null,{"$f":"'Tooth measurements raw data'!$G$117","v":{"v":0.4628,"d":"0.46"}},{"$f":"'Tooth measurements raw data'!K117","v":0.2828},{"$f":"'Tooth measurements raw data'!$H$117","v":0.024054228599999998},2,0.11767697314890155]
[null,"10. alveolus",{"$f":"'Tooth measurements raw data'!G34","v":{"v":10.307500000000001,"d":"10.31"}},{"$f":"'Tooth measurements raw data'!K34","v":{"v":3.2575,"d":"3.26"}},26.017,7,null,null,{"$f":"'Tooth measurements raw data'!G35","v":{"v":2.8875,"d":"2.89"}},{"$f":"'Tooth measurements raw data'!K35","v":{"v":1.2375,"d":"1.24"}},2.04579,3,0.2801358234295416,{"$nulls":8},"10. alveolus",{"$f":"'Tooth measurements raw data'!G190","v":42.205000000000005},{"$f":"'Tooth measurements raw data'!K190","v":10.434999999999999},{"$f":"'Tooth measurements raw data'!H190","v":1986.8659755739998},5,null,null,{"$f":"'Tooth measurements raw data'!$G$191","v":11.604999999999999},{"$f":"'Tooth measurements raw data'!K191","v":4.2250000000000005},{"$f":"'Tooth measurements raw data'!$H$191","v":131.282891},3,{"$f":"AC26/W26","v":0.2749674209216917},{"$nulls":8},"11. alveolus",{"$f":"'Tooth measurements raw data'!$G$118","v":{"v":4.7328,"d":"4.73"}},{"$f":"'Tooth measurements raw data'!K118","v":2.3028},{"$f":"'Tooth measurements raw data'!$H$118","v":2.7743928},10,null,null,{"$f":"'Tooth measurements raw data'!$G$119","v":{"v":1.3928,"d":"1.39"}},{"$f":"'Tooth measurements raw data'!K119","v":0.7528},{"$f":"'Tooth measurements raw data'!$H$119","v":0.322461},4,0.2942866801893171]
[null,"11. alveolus",{"$f":"'Tooth measurements raw data'!G36","v":{"v":6.907500000000001,"d":"6.91"}},{"$f":"'Tooth measurements raw data'!K36","v":{"v":2.2975,"d":"2.30"}},11.6512,5,null,null,{"$f":"'Tooth measurements raw data'!G37","v":{"v":0.7775,"d":"0.78"}},{"$f":"'Tooth measurements raw data'!K37","v":{"v":0.2475,"d":"0.25"}},0.0840762,0,0.11255881288454576,{"$nulls":8},"11. alveolus",{"$f":"'Tooth measurements raw data'!G192","v":42.235},{"$f":"'Tooth measurements raw data'!K192","v":6.855},{"$f":"'Tooth measurements raw data'!H192","v":1459.5132697303302},4,null,null,{"$f":"'Tooth measurements raw data'!$G$193","v":2.1750000000000003},{"$f":"'Tooth measurements raw data'!K193","v":1.435},{"$f":"'Tooth measurements raw data'!$H$193","v":6.4107097},2,{"$f":"AC27/W27","v":0.05149757310287677},{"$nulls":8},"12. alveolus",{"$f":"'Tooth measurements raw data'!$G$120","v":{"v":4.5628,"d":"4.56"}},{"$f":"'Tooth measurements raw data'!K120","v":1.5628000000000002},{"$f":"'Tooth measurements raw data'!$H$120","v":2.35849792},7,null,{"v":0.012,"d":"0.01200"},{"$f":"'Tooth measurements raw data'!$G$121","v":{"v":0.3628,"d":"0.36"}},{"$f":"'Tooth measurements raw data'!K121","v":0.2028},{"$f":"'Tooth measurements raw data'!$H$121","v":0.0152578014},2,0.07951257999474007,0.0115]
[null,"12. alveolus",{"$f":"'Tooth measurements raw data'!G38","v":{"v":8.6975,"d":"8.70"}},{"$f":"'Tooth measurements raw data'!K38","v":{"v":3.0175,"d":"3.02"}},20.721,8,null,30.851851853333333,{"$f":"'Tooth measurements raw data'!G39","v":{"v":1.6675,"d":"1.67"}},{"$f":"'Tooth measurements raw data'!K39","v":{"v":0.8175,"d":"0.82"}},0.89206,1,0.1917217591261857,{"$nulls":8},"12. alveolus",{"$f":"'Tooth measurements raw data'!G194","v":31.695},{"$f":"'Tooth measurements raw data'!K194","v":7.765000000000001},{"$f":"'Tooth measurements raw data'!H194","v":1007.147763393},3,null,null,{"$f":"'Tooth measurements raw data'!$G$195","v":5.325},{"$f":"'Tooth measurements raw data'!K195","v":2.9050000000000002},{"$f":"'Tooth measurements raw data'!$H$195","v":46.051187},2,{"$f":"AC28/W28","v":0.16800757217226692},{"$nulls":8},"13. alveolus",{"$f":"'Tooth measurements raw data'!$G$122","v":{"v":3.8828,"d":"3.88"}},{"$f":"'Tooth measurements raw data'!K122","v":2.0528},{"$f":"'Tooth measurements raw data'!$H$122","v":1.67794234},9,null,{"v":0.011666666666666665,"d":"0.01167"},{"$f":"'Tooth measurements raw data'!$G$123","v":{"v":0.7228,"d":"0.72"}},{"$f":"'Tooth measurements raw data'!K123","v":0.4528},{"$f":"'Tooth measurements raw data'!$H$123","v":0.11176259399999999},2,0.18615432162357062]
[null,"13. alveolus",{"$f":"'Tooth measurements raw data'!G40","v":{"v":7.4375,"d":"7.44"}},{"$f":"'Tooth measurements raw data'!K40","v":{"v":2.8175,"d":"2.82"}},13.689,6,null,22.156593405000002,{"$f":"'Tooth measurements raw data'!G41","v":{"v":2.0675,"d":"2.07"}},{"$f":"'Tooth measurements raw data'!K41","v":{"v":1.1075,"d":"1.11"}},1.52495,1,0.2779831932773109,21.444871794358974,{"$nulls":7},"13. alveolus",{"$f":"'Tooth measurements raw data'!G196","v":26.395},{"$f":"'Tooth measurements raw data'!K196","v":6.415},{"$f":"'Tooth measurements raw data'!H196","v":614.65509},4,null,null,{"$f":"'Tooth measurements raw data'!$G$197","v":2.205},{"$f":"'Tooth measurements raw data'!K197","v":1.685},{"$f":"'Tooth measurements raw data'!$H$197","v":6.757346500000001},2,{"$f":"AC29/W29","v":0.08353854896760751},{"$nulls":8},"14. alveolus",{"$f":"'Tooth measurements raw data'!$G$124","v":{"v":3.2228,"d":"3.22"}},{"$f":"'Tooth measurements raw data'!K124","v":1.3528},{"$f":"'Tooth measurements raw data'!$H$124","v":1.08112881},6]
[null,"14. alveolus",{"$f":"'Tooth measurements raw data'!G42","v":{"v":6.1675,"d":"6.17"}},{"$f":"'Tooth measurements raw data'!K42","v":{"v":2.1975,"d":"2.20"}},7.96021,4,null,null,{"$f":"'Tooth measurements raw data'!G43","v":{"v":0.7775,"d":"0.78"}},{"$f":"'Tooth measurements raw data'!K43","v":{"v":0.4175,"d":"0.42"}},0.147411,0,0.12606404539927035,{"$nulls":8},"14. alveolus",{"$f":"'Tooth measurements raw data'!G198","v":21.165},{"$f":"'Tooth measurements raw data'!K198","v":6.175},{"$f":"'Tooth measurements raw data'!H198","v":428.2417889213},4,{"$nulls":15},"15. alveolus",{"$f":"'Tooth measurements raw data'!$G$125","v":{"v":2.8728,"d":"2.87"}},{"$f":"'Tooth measurements raw data'!K125","v":1.7528000000000001},{"$f":"'Tooth measurements raw data'!$H$125","v":0.7628581},7,null,null,{"$f":"'Tooth measurements raw data'!$G$126","v":0.3328},{"$f":"'Tooth measurements raw data'!K126","v":0.3328},{"$f":"'Tooth measurements raw data'!H126","v":0.0119631397},2,{"$f":"AW30/AQ30","v":0.11584516847674743}]
[null,"15. alveolus",{"$f":"'Tooth measurements raw data'!G44","v":{"v":5.777500000000001,"d":"5.78"}},{"$f":"'Tooth measurements raw data'!K44","v":{"v":3.0675,"d":"3.07"}},5.16152,6,null,null,{"$f":"'Tooth measurements raw data'!G45","v":{"v":1.6075,"d":"1.61"}},{"$f":"'Tooth measurements raw data'!K45","v":{"v":0.4175,"d":"0.42"}},0.627979,0,0.2782345305062743,{"$nulls":8},"15. alveolus",{"$f":"'Tooth measurements raw data'!G199","v":16.945},{"$f":"'Tooth measurements raw data'!K199","v":4.555000000000001},{"$f":"'Tooth measurements raw data'!H199","v":209.626691607},3,{"$nulls":15},"16. alveolus",{"$f":"'Tooth measurements raw data'!$G$127","v":{"v":1.1528,"d":"1.15"}},{"$f":"'Tooth measurements raw data'!K127","v":0.6828},{"$f":"'Tooth measurements raw data'!$H$127","v":0.134377403},3,{"$nulls":5},"avarage",{"$f":"(BA16+BA17+BA18+BA19+BA20+BA21+BA22+BA23+BA24+BA25+BA26+BA27+BA28+BA29)/14","v":0.26271547548959756},{"$nulls":5},{"$f":"BG23","v":0.0770541461567588}]
[{"$nulls":3},{"$f":"AVERAGE(D6:D31)","v":{"v":2.7279999999999998,"d":"2.73"}},{"$nulls":5},{"$f":"AVERAGE(J6:J31)","v":{"v":0.9025000000000002,"d":"0.90"}},null,"average",{"$f":"(M17+M18+M19+M20+M21+M22+M23+M24+M25+M26+M27+M28+M29+M30+M31)/15","v":0.25905185243781786},{"$nulls":5},{"$f":"(S18+S22)/2","v":0.13605157271336876},{"$nulls":4},{"$f":"AVERAGE(X6:X31)","v":7.215},{"$nulls":5},{"$f":"AVERAGE(AD6:AD31)","v":2.715},null,"average",{"$f":"(AG17+AG1+AG22+AG23+AG24+AG26+AG27+AG28+AG29)/9","v":0.14346214605772267},{"$nulls":5},{"$f":"AM17","v":0.09961046188091265}]
[{"$nulls":9},{"$f":"D32/J32","v":3.0227146814404424},{"$nulls":19},{"$f":"X32/AD32","v":2.657458563535912},{"$nulls":11},"Dentary",{"$nulls":3},"dext"]
[null,"Dentary",{"$nulls":3},"dext",{"$nulls":15},"Dentary",{"$nulls":3},"dext",{"$nulls":15},"Small Alligator","Functional tooth",{"$nulls":5},"Tooth position 1 (labial)",{"$nulls":5},"Tooth position 2"]
[null,"Medium Alligator","Functional tooth",{"$nulls":5},"Tooth position 1 (labial)",{"$nulls":5},"Tooth position 2",{"$nulls":6},"Large Alligator","Functional tooth",{"$nulls":5},"Tooth position 1 (labial)",{"$nulls":5},"Tooth position 2",{"$nulls":7},"tooth height","crown height","volume","developmental stage","size compared to tooth befoe","estimated age","tooth height","crown height","volume","developmental stage","size compared to tooth before","estimated age","tooth height","crown height","volume","developmental stage","size compared to tooth before"]
[null,null,"tooth height","crown height","volume","developmental stage","size compared to tooth befoe","estimated age","tooth height","crown height","volume","developmental stage","size compared to tooth before","estimated age","tooth height","crown height","volume","developmental stage","size compared to tooth before","estimated age",null,null,"tooth height","crown height","volume","developmental stage","size compared to tooth befoe",null,"tooth height","crown height","volume","developmental stage","size compared to tooth before",null,"tooth height","crown height","volume","developmental stage","size compared to tooth before",null,null,"1. alveolus",{"$f":"'Tooth measurements raw data'!$G$128","v":{"v":5.162800000000001,"d":"5.16"}},{"$f":"'Tooth measurements raw data'!K128","v":2.1428},{"$f":"'Tooth measurements raw data'!$H$128","v":2.3972341999999998},8,null,null,{"$f":"'Tooth measurements raw data'!$G$129","v":{"v":1.4828000000000001,"d":"1.48"}},{"$f":"'Tooth measurements raw data'!K129","v":0.6628},{"$f":"'Tooth measurements raw data'!$H$129","v":0.228323249},4,{"$f":"AW36/AQ36","v":0.2872084915162315}]
[null,"1. alveolus",{"$f":"'Tooth measurements raw data'!G46","v":{"v":9.387500000000001,"d":"9.39"}},{"$f":"'Tooth measurements raw data'!K46","v":{"v":2.1175,"d":"2.12"}},14.4568,5,null,null,{"$f":"'Tooth measurements raw data'!G47","v":{"v":3.1675,"d":"3.17"}},null,1.49541,1,{"$f":"I37/C37","v":0.33741677762982686},{"$nulls":8},"1. alveolus",{"$nulls":19},"2. alveolus",{"$f":"'Tooth measurements raw data'!$G$130","v":{"v":2.1728,"d":"2.17"}},{"$f":"'Tooth measurements raw data'!K130","v":1.6228},{"$f":"'Tooth measurements raw data'!$H$130","v":0.68087539},6,null,{"v":0.013333333333333334,"d":"0.01333"},{"$f":"'Tooth measurements raw data'!$G$131","v":{"v":2.0728,"d":"2.07"}},{"$f":"'Tooth measurements raw data'!K131","v":0.8228},{"$f":"'Tooth measurements raw data'!$H$131","v":0.46800186},4,0.9539764359351988]
[null,"2. alveolus",{"$f":"'Tooth measurements raw data'!G48","v":{"v":8.127500000000001,"d":"8.13"}},{"$f":"'Tooth measurements raw data'!K48","v":{"v":2.3875,"d":"2.39"}},9.52145,9,null,11.25,{"$f":"'Tooth measurements raw data'!G49","v":{"v":1.7175,"d":"1.72"}},{"$f":"'Tooth measurements raw data'!K49","v":{"v":0.4275,"d":"0.43"}},0.364361,4,0.2113195939710858,10.2,{"$nulls":7},"2. alveolus",{"$f":"'Tooth measurements raw data'!G201","v":32.575},{"$f":"'Tooth measurements raw data'!K201","v":4.625},{"$f":"'Tooth measurements raw data'!H201","v":417.823778812},3,null,null,{"$f":"'Tooth measurements raw data'!$G$202","v":1.9349999999999998},{"$f":"'Tooth measurements raw data'!K202","v":1.175},{"$f":"'Tooth measurements raw data'!$H$202","v":4.6723842},2,{"$f":"AC38/W38","v":0.059401381427475045},{"$nulls":8},"3. alveolus",{"$f":"'Tooth measurements raw data'!$G$132","v":{"v":4.4428,"d":"4.44"}},{"$f":"'Tooth measurements raw data'!K132","v":1.8428000000000002},{"$f":"'Tooth measurements raw data'!$H$132","v":1.2881166899999998},6,null,null,{"$f":"'Tooth measurements raw data'!$G$133","v":{"v":1.0928000000000002,"d":"1.09"}},{"$f":"'Tooth measurements raw data'!K133","v":0.5428},{"$f":"'Tooth measurements raw data'!$H$133","v":0.09173872699999999},4,0.2459710092734312]
[null,"3. alveolus",{"$f":"'Tooth measurements raw data'!G50","v":{"v":8.5175,"d":"8.52"}},{"$f":"'Tooth measurements raw data'!K50","v":{"v":3.1575,"d":"3.16"}},7.5026,7,null,null,{"$f":"'Tooth measurements raw data'!G51","v":{"v":4.5175,"d":"4.52"}},{"$f":"'Tooth measurements raw data'!K51","v":{"v":1.4775,"d":"1.48"}},2.38015,4,0.5303786322277664,null,{"$f":"'Tooth measurements raw data'!G52","v":{"v":0.5175,"d":"0.52"}},{"$f":"'Tooth measurements raw data'!K52","v":0.1075},0.0383343,1,{"$f":"O39/I39","v":0.11455451023796347},null,null,"3. alveolus",{"$nulls":19},"4. alveolus",{"$f":"'Tooth measurements raw data'!$G$134","v":{"v":3.7527999999999997,"d":"3.75"}},{"$f":"'Tooth measurements raw data'!K134","v":1.2328000000000001},{"$f":"'Tooth measurements raw data'!$H$134","v":1.12766987},4,null,{"v":0.0175,"d":"0.01750"},{"$f":"'Tooth measurements raw data'!$G$135","v":{"v":0.3628,"d":"0.36"}},{"$f":"'Tooth measurements raw data'!K135","v":0.1928},{"$f":"'Tooth measurements raw data'!$H$135","v":0.0110035297},2,0.09667448305265403,{"v":0.012,"d":"0.0120"}]
[null,"4. alveolus",{"$f":"'Tooth measurements raw data'!G53","v":{"v":11.127500000000001,"d":"11.13"}},{"$f":"'Tooth measurements raw data'!K53","v":{"v":2.6575,"d":"2.66"}},20.1347,7,null,20.42857143,{"$f":"'Tooth measurements raw data'!G54","v":{"v":2.2675,"d":"2.27"}},{"$f":"'Tooth measurements raw data'!K54","v":{"v":0.7675,"d":"0.77"}},0.850948,3,0.20377443271175016,{"$nulls":8},"4. alveolus",{"$f":"'Tooth measurements raw data'!G204","v":43.715},{"$f":"'Tooth measurements raw data'!K204","v":12.864999999999998},{"$f":"'Tooth measurements raw data'!H204","v":966.1135499060001},11,null,null,{"$f":"'Tooth measurements raw data'!$G$205","v":28.654999999999998},{"$f":"'Tooth measurements raw data'!K205","v":4.565},{"$f":"'Tooth measurements raw data'!$H$205","v":469.993874},4,{"$f":"AC40/W40","v":0.6554958252316138},null,{"$f":"'Tooth measurements raw data'!$G$207","v":3.5450000000000004},{"$f":"'Tooth measurements raw data'!K207","v":1.595},{"$f":"'Tooth measurements raw data'!$H$207","v":2.08639919},2,{"$f":"AI40/AC40","v":0.12371313906822547},null,null,"5. alveolus",{"$f":"'Tooth measurements raw data'!$G$136","v":{"v":4.1828,"d":"4.18"}},{"$f":"'Tooth measurements raw data'!K136","v":1.5728000000000002},{"$f":"'Tooth measurements raw data'!$H$136","v":1.1082217399999998},5,null,null,{"$f":"'Tooth measurements raw data'!$G$137","v":{"v":0.6328,"d":"0.63"}},{"$f":"'Tooth measurements raw data'!K137","v":0.3228},{"$f":"'Tooth measurements raw data'!$H$137","v":0.045037704},3,0.1512862197571005]
[null,"5. alveolus",{"$f":"'Tooth measurements raw data'!G55","v":{"v":7.567500000000001,"d":"7.57"}},{"$f":"'Tooth measurements raw data'!K55","v":{"v":2.1675,"d":"2.17"}},7.55344,6,null,null,{"$f":"'Tooth measurements raw data'!G56","v":{"v":2.0675,"d":"2.07"}},{"$f":"'Tooth measurements raw data'!K56","v":{"v":0.9475,"d":"0.95"}},0.607608,3,0.273207796498183,{"$nulls":8},"5. alveolus",{"$f":"'Tooth measurements raw data'!G208","v":30.015},{"$f":"'Tooth measurements raw data'!K208","v":7.425},{"$f":"'Tooth measurements raw data'!H208","v":461.985317},7,null,null,{"$f":"'Tooth measurements raw data'!$G$209","v":5.805000000000001},{"$f":"'Tooth measurements raw data'!K209","v":2.5050000000000003},{"$f":"'Tooth measurements raw data'!$H$209","v":11.4481812},2,0.1934032983508246,{"$nulls":8},"6. alveolus",{"$f":"'Tooth measurements raw data'!$G$138","v":{"v":3.2428,"d":"3.24"}},{"$f":"'Tooth measurements raw data'!K138","v":1.9228},{"$f":"'Tooth measurements raw data'!$H$138","v":0.77968325},6,null,null,{"$f":"'Tooth measurements raw data'!$G$139","v":{"v":0.9528,"d":"0.95"}},{"$f":"'Tooth measurements raw data'!K139","v":0.5628},{"$f":"'Tooth measurements raw data'!$H$139","v":0.127436228},3,0.2938201554212409]
[null,"6. alveolus",{"$f":"'Tooth measurements raw data'!G57","v":{"v":6.7075000000000005,"d":"6.71"}},{"$f":"'Tooth measurements raw data'!K57","v":{"v":1.9175,"d":"1.92"}},4.50447,5,null,null,{"$f":"'Tooth measurements raw data'!G58","v":{"v":0.8775,"d":"0.88"}},{"$f":"'Tooth measurements raw data'!K58","v":{"v":0.38749999999999996,"d":"0.39"}},0.123337,2,0.13082370480805067,{"$nulls":8},"6. alveolus",{"$f":"'Tooth measurements raw data'!G211","v":24.314999999999998},{"$f":"'Tooth measurements raw data'!K211","v":5.565},{"$f":"'Tooth measurements raw data'!H211","v":267.761678},5,null,null,{"$f":"'Tooth measurements raw data'!$G$212","v":6.2250000000000005},{"$f":"'Tooth measurements raw data'!K212","v":3.115},{"$f":"'Tooth measurements raw data'!$H$212","v":11.6967097},3,0.256014805675509,{"$nulls":8},"7. alveolus",{"$f":"'Tooth measurements raw data'!$G$140","v":{"v":3.1928,"d":"3.19"}},{"$f":"'Tooth measurements raw data'!K140","v":1.0828000000000002},{"$f":"'Tooth measurements raw data'!$H$140","v":0.5613079599999999},4,null,null,{"$f":"'Tooth measurements raw data'!$G$141","v":{"v":0.1728,"d":"0.17"}},{"$f":"'Tooth measurements raw data'!K141","v":0.1728},{"$f":"'Tooth measurements raw data'!$H$141","v":2.2071034200000002E-3},2,0.05412177399148083]
[null,"7. alveolus",{"$f":"'Tooth measurements raw data'!G59","v":{"v":5.2275,"d":"5.23"}},{"$f":"'Tooth measurements raw data'!K59","v":{"v":1.7675,"d":"1.77"}},3.99927,5,null,null,{"$f":"'Tooth measurements raw data'!G60","v":{"v":2.2075,"d":"2.21"}},{"$f":"'Tooth measurements raw data'!K60","v":{"v":1.0474999999999999,"d":"1.05"}},0.782983,3,0.422285987565758,{"$nulls":8},"7. alveolus",{"$f":"'Tooth measurements raw data'!G213","v":21.195},{"$f":"'Tooth measurements raw data'!K213","v":4.385},{"$f":"'Tooth measurements raw data'!H213","v":168.415051},4,null,null,{"$f":"'Tooth measurements raw data'!$G$214","v":2.015},{"$f":"'Tooth measurements raw data'!K214","v":1.135},{"$f":"'Tooth measurements raw data'!$H$214","v":1.19390309},1,0.09506959188487851,{"$nulls":8},"8. alveolus",{"$f":"'Tooth measurements raw data'!$G$142","v":{"v":3.0427999999999997,"d":"3.04"}},{"$f":"'Tooth measurements raw data'!K142","v":1.7028},{"$f":"'Tooth measurements raw data'!$H$142","v":0.50373136},6,null,null,{"$f":"'Tooth measurements raw data'!$G$143","v":{"v":0.9528,"d":"0.95"}},{"$f":"'Tooth measurements raw data'!K143","v":0.4528},{"$f":"'Tooth measurements raw data'!$H$143","v":0.068132323},3,0.3131326409885632]
[null,"8. alveolus",{"$f":"'Tooth measurements raw data'!G61","v":{"v":6.0175,"d":"6.02"}},{"$f":"'Tooth measurements raw data'!K61","v":{"v":2.2775,"d":"2.28"}},4.41039,7,null,null,{"$f":"'Tooth measurements raw data'!G62","v":{"v":1.1475,"d":"1.15"}},{"$f":"'Tooth measurements raw data'!K62","v":{"v":0.5975,"d":"0.60"}},0.238247,3,0.19069380972164518,{"$nulls":8},"8. alveolus",{"$f":"'Tooth measurements raw data'!G215","v":20.044999999999998},{"$f":"'Tooth measurements raw data'!K215","v":4.215},{"$f":"'Tooth measurements raw data'!H215","v":184.648035},4,null,null,{"$f":"'Tooth measurements raw data'!$G$216","v":3.5450000000000004},{"$f":"'Tooth measurements raw data'!K216","v":1.8749999999999998},{"$f":"'Tooth measurements raw data'!$H$216","v":5.4770563},2,0.1768520828136693,{"$nulls":8},"9. alveolus",{"$f":"'Tooth measurements raw data'!$G$144","v":{"v":3.1028,"d":"3.10"}},{"$f":"'Tooth measurements raw data'!K144","v":1.1128},{"$f":"'Tooth measurements raw data'!$H$144","v":0.47731009},4,null,null,{"$f":"'Tooth measurements raw data'!$G$145","v":{"v":0.1628,"d":"0.16"}},{"$f":"'Tooth measurements raw data'!K145","v":0.1628},{"$f":"'Tooth measurements raw data'!$H$145","v":2.2710774E-3},2,0.05246873791414207]
[null,"9. alveolus",{"$f":"'Tooth measurements raw data'!G63","v":{"v":4.4975000000000005,"d":"4.50"}},{"$f":"'Tooth measurements raw data'!K63","v":{"v":0.9575,"d":"0.96"}},2.81415,4,null,null,{"$f":"'Tooth measurements raw data'!G64","v":{"v":0.2875,"d":"0.29"}},{"$f":"'Tooth measurements raw data'!K64","v":{"v":0.16749999999999998,"d":"0.17"}},0.0177782,2,0.0639244024458032,{"$nulls":8},"9. alveolus",{"$f":"'Tooth measurements raw data'!G217","v":18.265},{"$f":"'Tooth measurements raw data'!K217","v":5.565},{"$f":"'Tooth measurements raw data'!H217","v":164.824382},5,null,null,{"$f":"'Tooth measurements raw data'!$G$218","v":7.385},{"$f":"'Tooth measurements raw data'!K218","v":3.365},{"$f":"'Tooth measurements raw data'!$H$218","v":25.102082},3,0.4043252121543936,null,{"$f":"'Tooth measurements raw data'!$G$219","v":0.585},{"$f":"'Tooth measurements raw data'!K219","v":0.425},{"$f":"'Tooth measurements raw data'!$H$219","v":0.177257697},1,{"$f":"AI45/AC45","v":0.07921462423832092},null,null,"10. alveolus",{"$f":"'Tooth measurements raw data'!$G$146","v":{"v":3.1828,"d":"3.18"}},{"$f":"'Tooth measurements raw data'!K146","v":1.8128000000000002},{"$f":"'Tooth measurements raw data'!$H$146","v":0.57957255},6,null,null,{"$f":"'Tooth measurements raw data'!$G$147","v":{"v":0.7228,"d":"0.72"}},{"$f":"'Tooth measurements raw data'!K147","v":0.4628},{"$f":"'Tooth measurements raw data'!$H$147","v":0.065413427},3,0.22709563905994723]
[null,"10. alveolus",{"$f":"'Tooth measurements raw data'!G65","v":{"v":5.817500000000001,"d":"5.82"}},{"$f":"'Tooth measurements raw data'!K65","v":{"v":2.3075,"d":"2.31"}},4.55901,7,null,null,{"$f":"'Tooth measurements raw data'!G66","v":{"v":1.3975,"d":"1.40"}},{"$f":"'Tooth measurements raw data'!K66","v":{"v":0.6675,"d":"0.67"}},0.348435,3,0.2402234636871508,{"$nulls":8},"10. alveolus",{"$f":"'Tooth measurements raw data'!G220","v":21.314999999999998},{"$f":"'Tooth measurements raw data'!K220","v":4.555000000000001},{"$f":"'Tooth measurements raw data'!H220","v":183.917174},4,null,null,{"$f":"'Tooth measurements raw data'!$G$221","v":2.5050000000000003},{"$f":"'Tooth measurements raw data'!K221","v":1.545},{"$f":"'Tooth measurements raw data'!$H$221","v":2.9533754},2,0.11752287121745253,{"$nulls":8},"11. alveolus",{"$f":"'Tooth measurements raw data'!$G$148","v":{"v":3.8828,"d":"3.88"}},{"$f":"'Tooth measurements raw data'!K148","v":1.4928000000000001},{"$f":"'Tooth measurements raw data'!$H$148","v":0.94569581},7,null,null,{"$f":"'Tooth measurements raw data'!$G$149","v":{"v":0.4528,"d":"0.45"}},{"$f":"'Tooth measurements raw data'!K149","v":0.2828},{"$f":"'Tooth measurements raw data'!$H$149","v":0.027061006},2,0.11661687442052127]
[null,"11. alveolus",{"$f":"'Tooth measurements raw data'!G67","v":{"v":5.567500000000001,"d":"5.57"}},{"$f":"'Tooth measurements raw data'!K67","v":{"v":1.6675,"d":"1.67"}},4.16502,5,null,48.2875,{"$f":"'Tooth measurements raw data'!G68","v":{"v":0.7575,"d":"0.76"}},{"$f":"'Tooth measurements raw data'!K68","v":{"v":0.32749999999999996,"d":"0.33"}},0.0602793,2,0.13605747642568475,15.69565217,{"$nulls":7},"11. alveolus",{"$f":"'Tooth measurements raw data'!G222","v":25.985},{"$f":"'Tooth measurements raw data'!K222","v":5.025},{"$f":"'Tooth measurements raw data'!H222","v":296.444310843},5,{"$nulls":15},"12. alveolus",{"$f":"'Tooth measurements raw data'!$G$150","v":{"v":3.5627999999999997,"d":"3.56"}},{"$f":"'Tooth measurements raw data'!K150","v":2.1328},{"$f":"'Tooth measurements raw data'!$H$150","v":1.21445063},6,null,{"v":0.0144,"d":"0.01440"},{"$f":"'Tooth measurements raw data'!$G$151","v":{"v":1.6128,"d":"1.61"}},{"$f":"'Tooth measurements raw data'!K151","v":0.9228},{"$f":"'Tooth measurements raw data'!$H$151","v":0.35022571},4,0.4526776692489054,{"v":0.013,"d":"0.0130"}]
[null,"12. alveolus",{"$f":"'Tooth measurements raw data'!G69","v":{"v":8.557500000000001,"d":"8.56"}},{"$f":"'Tooth measurements raw data'!K69","v":{"v":2.7975,"d":"2.80"}},13.8068,7,null,33.38141923333333,{"$f":"'Tooth measurements raw data'!G70","v":{"v":2.5875,"d":"2.59"}},{"$f":"'Tooth measurements raw data'!K70","v":{"v":1.1875,"d":"1.19"}},1.45319,2,0.30236634531113055,{"$nulls":8},"12. alveolus",{"$f":"'Tooth measurements raw data'!G223","v":36.585},{"$f":"'Tooth measurements raw data'!K223","v":9.475},{"$f":"'Tooth measurements raw data'!H223","v":931.448529156},8,null,null,{"$f":"'Tooth measurements raw data'!$G$224","v":5.355},{"$f":"'Tooth measurements raw data'!K224","v":2.345},{"$f":"'Tooth measurements raw data'!$H$224","v":16.3242622},2,{"$f":"AC48/W48","v":0.14637146371463716},{"$nulls":8},"13. alveolus",{"$f":"'Tooth measurements raw data'!$G$152","v":{"v":5.3928,"d":"5.39"}},{"$f":"'Tooth measurements raw data'!K152","v":1.8128000000000002},{"$f":"'Tooth measurements raw data'!$H$152","v":2.37506719},5,null,null,{"$f":"'Tooth measurements raw data'!$G$153","v":{"v":0.8028,"d":"0.80"}},{"$f":"'Tooth measurements raw data'!K153","v":0.4528},{"$f":"'Tooth measurements raw data'!$H$153","v":0.06832424200000001},2,0.14886515353805072]
[null,"13. alveolus",{"$f":"'Tooth measurements raw data'!G71","v":{"v":7.5575,"d":"7.56"}},{"$f":"'Tooth measurements raw data'!K71","v":{"v":2.1175,"d":"2.12"}},9.28959,5,null,null,{"$f":"'Tooth measurements raw data'!G72","v":{"v":0.5675,"d":"0.57"}},{"$f":"'Tooth measurements raw data'!K72","v":{"v":0.1975,"d":"0.20"}},0.0696314,3,0.07509096923585842,{"$nulls":8},"13. alveolus",{"$f":"'Tooth measurements raw data'!G225","v":45.025000000000006},{"$f":"'Tooth measurements raw data'!K225","v":11.975},{"$f":"'Tooth measurements raw data'!H225","v":2305.198689812},10,null,null,{"$f":"'Tooth measurements raw data'!$G$226","v":13.045},{"$f":"'Tooth measurements raw data'!K226","v":3.925},{"$f":"'Tooth measurements raw data'!$H$226","v":130.832275},4,{"$f":"AC49/W49","v":0.28972792892837307},{"$nulls":8},"14. alveolus",{"$f":"'Tooth measurements raw data'!$G$154","v":{"v":4.122800000000001,"d":"4.12"}},{"$f":"'Tooth measurements raw data'!K154","v":2.2828},{"$f":"'Tooth measurements raw data'!$H$154","v":1.76830563},6,null,null,{"$f":"'Tooth measurements raw data'!$G$155","v":{"v":1.6928,"d":"1.69"}},{"$f":"'Tooth measurements raw data'!K155","v":0.8328},{"$f":"'Tooth measurements raw data'!$H$155","v":0.37901402},3,0.41059474143785774]
[null,"14. alveolus",{"$f":"'Tooth measurements raw data'!G73","v":{"v":8.6475,"d":"8.65"}},{"$f":"'Tooth measurements raw data'!K73","v":{"v":2.6575,"d":"2.66"}},17.8504,6,null,null,{"$f":"'Tooth measurements raw data'!G74","v":{"v":1.6175,"d":"1.62"}},{"$f":"'Tooth measurements raw data'!K74","v":{"v":0.8175,"d":"0.82"}},0.749649,3,0.18704827984966751,{"$nulls":8},"14. alveolus",{"$f":"'Tooth measurements raw data'!G227","v":38.215},{"$f":"'Tooth measurements raw data'!K227","v":7.705},{"$f":"'Tooth measurements raw data'!H227","v":1332.206439625},7,{"$nulls":15},"15. alveolus",{"$f":"'Tooth measurements raw data'!$G$156","v":{"v":4.252800000000001,"d":"4.25"}},{"$f":"'Tooth measurements raw data'!K156","v":1.5728000000000002},{"$f":"'Tooth measurements raw data'!$H$156","v":1.64803445},5,null,null,{"$f":"'Tooth measurements raw data'!$G$157","v":{"v":0.3028,"d":"0.30"}},{"$f":"'Tooth measurements raw data'!K157","v":0.2328},{"$f":"'Tooth measurements raw data'!$H$157","v":0.013562490699999999},1,0.07120015048908954]
[null,"15. alveolus",{"$f":"'Tooth measurements raw data'!G75","v":{"v":7.2475000000000005,"d":"7.25"}},{"$f":"'Tooth measurements raw data'!K75","v":{"v":3.0575,"d":"3.06"}},11.3533,7,null,null,{"$f":"'Tooth measurements raw data'!G76","v":{"v":2.6275,"d":"2.63"}},{"$f":"'Tooth measurements raw data'!K76","v":{"v":1.3675,"d":"1.37"}},2.51442,4,0.3625388064849948,{"$nulls":8},"15. alveolus",{"$f":"'Tooth measurements raw data'!G228","v":28.035},{"$f":"'Tooth measurements raw data'!K228","v":6.9750000000000005},{"$f":"'Tooth measurements raw data'!H228","v":691.27449},6,null,null,{"$f":"'Tooth measurements raw data'!$G$229","v":8.864999999999998},{"$f":"'Tooth measurements raw data'!K229","v":3.475},{"$f":"'Tooth measurements raw data'!$H$229","v":91.083332},2,{"$f":"AC51/W51","v":0.31621187800963074},{"$nulls":8},"16. alveolus",{"$f":"'Tooth measurements raw data'!$G$158","v":{"v":3.7128,"d":"3.71"}},{"$f":"'Tooth measurements raw data'!K158","v":2.0427999999999997},{"$f":"'Tooth measurements raw data'!$H$158","v":1.48784348},4,null,null,{"$f":"'Tooth measurements raw data'!$G$159","v":{"v":0.8428,"d":"0.84"}},{"$f":"'Tooth measurements raw data'!K159","v":0.5328},{"$f":"'Tooth measurements raw data'!$H$159","v":0.16985099},2,0.22699849170437406]
[null,"16. alveolus",{"$f":"'Tooth measurements raw data'!G77","v":{"v":5.9175,"d":"5.92"}},{"$f":"'Tooth measurements raw data'!K77","v":{"v":2.1575,"d":"2.16"}},9.66071,5,null,null,{"$f":"'Tooth measurements raw data'!G78","v":{"v":0.6174999999999999,"d":"0.62"}},{"$f":"'Tooth measurements raw data'!K78","v":{"v":0.39749999999999996,"d":"0.40"}},0.120188,1,0.10435149978876213,{"$nulls":8},"16. alveolus",{"$f":"'Tooth measurements raw data'!G230","v":26.125},{"$f":"'Tooth measurements raw data'!K230","v":5.265000000000001},{"$f":"'Tooth measurements raw data'!H230","v":569.974569719},4,null,null,{"$f":"'Tooth measurements raw data'!$G$231","v":1.4849999999999999},{"$f":"'Tooth measurements raw data'!K231","v":0.9849999999999999},{"$f":"'Tooth measurements raw data'!$H$231","v":2.6565666},1,{"$f":"AC52/W52","v":0.05684210526315789},{"$nulls":8},"17. alveolus",{"$f":"'Tooth measurements raw data'!$G$160","v":{"v":3.3428,"d":"3.34"}},{"$f":"'Tooth measurements raw data'!K160","v":1.4128},{"$f":"'Tooth measurements raw data'!$H$160","v":1.22740537},5,null,null,{"$f":"'Tooth measurements raw data'!$G$161","v":{"v":0.1528,"d":"0.15"}},{"$f":"'Tooth measurements raw data'!K161","v":0.1528},{"$f":"'Tooth measurements raw data'!$H$161","v":0.0048620247},1,0.045710183080052647]
[null,"17. alveolus",{"$f":"'Tooth measurements raw data'!G79","v":{"v":6.4675,"d":"6.47"}},{"$f":"'Tooth measurements raw data'!K79","v":{"v":2.7575,"d":"2.76"}},11.2189,5,null,null,{"$f":"'Tooth measurements raw data'!G80","v":{"v":1.1875,"d":"1.19"}},{"$f":"'Tooth measurements raw data'!K80","v":{"v":0.7275,"d":"0.73"}},0.539644,2,0.18361035948975646,{"$nulls":8},"17. alveolus",{"$nulls":19},"18. alveolus",{"$f":"'Tooth measurements raw data'!$G$162","v":{"v":3.3828,"d":"3.38"}},{"$f":"'Tooth measurements raw data'!K162","v":1.8628},{"$f":"'Tooth measurements raw data'!$H$162","v":1.19980059},5,null,0.014499999999999999,{"$f":"'Tooth measurements raw data'!$G$163","v":{"v":0.6828,"d":"0.68"}},{"$f":"'Tooth measurements raw data'!K163","v":0.4328},{"$f":"'Tooth measurements raw data'!$H$163","v":0.110387154},2,0.2018446257538134]
[null,"18. alveolus",{"$f":"'Tooth measurements raw data'!G81","v":{"v":6.117500000000001,"d":"6.12"}},{"$f":"'Tooth measurements raw data'!K81","v":{"v":2.4875,"d":"2.49"}},7.74955,6,null,32.115259740000006,{"$f":"'Tooth measurements raw data'!G82","v":{"v":2.7075,"d":"2.71"}},{"$f":"'Tooth measurements raw data'!K82","v":{"v":1.3275,"d":"1.33"}},2.29691,3,0.44258275439313444,{"$nulls":8},"18. alveolus",{"$nulls":19},"19. alveolus",{"$f":"'Tooth measurements raw data'!$G$164","v":{"v":3.4827999999999997,"d":"3.48"}},{"$f":"'Tooth measurements raw data'!K164","v":1.6428},{"$f":"'Tooth measurements raw data'!$H$164","v":1.01853019},5,null,0.012499999999999999,{"$f":"'Tooth measurements raw data'!$G$165","v":{"v":0.11280000000000001,"d":"0.11"}},{"$f":"'Tooth measurements raw data'!K165","v":0.11280000000000001},{"$f":"'Tooth measurements raw data'!$H$165","v":2.8148565499999997E-3},1,0.032387734007120715]
[null,"19. alveolus",{"$f":"'Tooth measurements raw data'!G83","v":{"v":6.0475,"d":"6.05"}},{"$f":"'Tooth measurements raw data'!K83","v":{"v":2.5875,"d":"2.59"}},8.31012,9,null,48.216053391168835,{"$f":"'Tooth measurements raw data'!G84","v":{"v":0.9075,"d":"0.91"}},{"$f":"'Tooth measurements raw data'!K84","v":{"v":0.5175,"d":"0.52"}},0.336768,1,0.15006200909466721,33.708333335,{"$nulls":7},"19. alveolus",{"$nulls":19},"20. alveolus",{"$f":"'Tooth measurements raw data'!$G$166","v":{"v":2.8327999999999998,"d":"2.83"}},{"$f":"'Tooth measurements raw data'!K166","v":2.8327999999999998},{"$f":"'Tooth measurements raw data'!$H$166","v":0.6596040400000001},8,null,null,{"$f":"'Tooth measurements raw data'!$G$167","v":{"v":0.4228,"d":"0.42"}},{"$f":"'Tooth measurements raw data'!K167","v":0.3028},{"$f":"'Tooth measurements raw data'!$H$167","v":0.043278417},1,0.14925162383507484]
[null,"20. alveolus",{"$f":"'Tooth measurements raw data'!G85","v":{"v":5.4375,"d":"5.44"}},{"$f":"'Tooth measurements raw data'!K85","v":{"v":2.5175,"d":"2.52"}},4.81114,8,null,null,{"$f":"'Tooth measurements raw data'!G86","v":{"v":1.6275,"d":"1.63"}},{"$f":"'Tooth measurements raw data'!K86","v":{"v":1.0275,"d":"1.03"}},1.07392,2,0.29931034482758617,{"$nulls":8},"20. alveolus",{"$nulls":29},"average",{"$f":"(BA36+BA37+BA38+BA39+BA40+BA41+BA42+BA43+BA44+BA45+BA46+BA47+BA48+BA49+BA50+BA51+BA52+BA53+BA54+BA55)/20","v":0.22659514172124257}]
[null,"average",{"$f":"AVERAGE(C6:C56)","v":{"v":7.738499999999999,"d":"7.74"}},{"$f":"AVERAGE(D6:D56)","v":{"v":2.5319024390243907,"d":"2.53"}},{"$f":"AVERAGE(E6:E56)","v":11.219442500000003},{"$nulls":3},{"$f":"AVERAGE(I6:I56)","v":{"v":1.9950000000000003,"d":"2.00"}},{"$f":"AVERAGE(J6:J56)","v":{"v":0.8867735288156207,"d":"0.89"}},{"$f":"AVERAGE(K6:K56)","v":{"v":1.0058846774999999,"d":"1.01"}},"average",{"$f":"(M37+M38+M39+M40+M41+M42+M43+M44+M45+M46+M47+M48+M49+M50+M51+M52+M53+M54+M55+M56)/20","v":0.2423533723084131},{"$nulls":10},{"$f":"AVERAGE(X37:X52)","v":6.829999999999999},{"$nulls":5},{"$f":"AVERAGE(AD37:AD52)","v":2.5008333333333335},null,"average",{"$f":"(AG38+AG40+AG41+AG42+AG43+AG44+AG45+AG46+AG48+AG49+AG51+AG52)/12","v":0.23060320372263457},{"$nulls":5},{"$f":"(AM40+AM45)/2","v":0.10146388165327319},null,null,"average",{"$f":"AVERAGE(AQ6:AQ55)","v":{"v":3.878653658536585,"d":"3.87865366"}},{"$f":"AVERAGE(AR6:AR55)","v":1.7876780487804884},{"$f":"AVERAGE(AS6:AS55)","v":1.3706650182195124}]
[null,"averages with enamel",7.841000000000001,2.6004999999999994,11.219442500000003,null,{"v":2.3259999999999996,"d":"2.33"},null,null,0.7569736842105265,{"$nulls":11},"average",{"$f":"AVERAGE(W6:W52)","v":31.2096875},{"$f":"AVERAGE(X6:X52)","v":7.051666666666668},{"$f":"AVERAGE(Y6:Y52)","v":829.516074170956},{"$nulls":4},{"$f":"X57/AD57","v":2.731089636787737},{"$nulls":11},"averages with enamel",3.905853658536585,1.8148780487804876,1.3686685565853665]
[{"$nulls":9},3.0727620371979825,{"$nulls":11},"averages with enamel",31.0709375,6.965624999999999,821.68830544375]
{"$rows_empty":9}
[{"$nulls":8},"Not used in this file",{"$nulls":30},"Not used in this file"]
[]
[]
[{"$nulls":69},"Not used in this file"]
[]
[{"$nulls":16},"Not relaible VEIW"]
[{"$nulls":4},"Thinn section sampled",{"$nulls":5},"All teeth in sampled positions",{"$nulls":21},"Large Alligator"]
[{"$nulls":4},"tooth height","TFT (based on transect length)","CAH","TFT (based on CAH)","Tooth growth rate","Tooth growth rate (based on crown height ,mean VEIW of quadrant)","tooth height","TFT (based on transect length)","CAH","age by crown height (with enamel)","average incremental line width (mm)","min increment width","max incement width","SD VEIW","SD TFT",{"$nulls":16},"tooth height","TFT (based on transect length)","CAH","TFT (based on CAH)","Tooth growth rate","Tooth growth rate (based on crown height , mean VEIW of quadrant)","tooth height","TFT (based on transect length)","CAH","age by crown height","average incremental line width (mm)","min increment width","max incement width","SD VEIW","SD TFT"]
[null,"Pmx","1. alveolus",null,{"$f":"C6","v":{"v":5.7075000000000005,"d":"5.71"}},{"v":30.558333333333337,"d":"30.558"},{"$f":"D6","v":{"v":2.4475,"d":"2.45"}},{"$f":"M77/O77","v":{"v":97.89999999999999,"d":"97.900"}},{"$f":"E6/H77","v":{"v":0.02330674157303371,"d":"0.023"}},{"$f":"E6/C116","v":{"v":0.013517910112359552,"d":"0.014"}},{"$f":"E77","v":{"v":5.7075000000000005,"d":"5.71"}},30.558333333333337,{"$f":"G77","v":{"v":2.4475,"d":"2.45"}},105.41666666666666,{"v":0.025,"d":"0.0250"},0.014,0.039,0.0055,11.654761904761898,"Pmx","1. alveolus",{"$nulls":11},"Pmx","1. alveolus",null,{"$f":"W6","v":27.255},{"v":76.56498223954212,"d":"76.565"},{"$f":"X6","v":5.655},{"$f":"AL77/AT77","v":{"v":408.79518072289153,"d":"408.795"}},{"$f":"Y6/AM77","v":{"v":0.7097429494323607,"d":"0.710"}},{"$f":"Y6/AQ77","v":{"v":0.9271217544187628,"d":"0.927"}},{"$f":"AJ77","v":27.255},{"$f":"X6/0.018070182","v":312.9464883087509},{"$f":"AL77","v":5.655},{"v":421.4457831325301,"d":"421.446"},{"v":0.013833333333333335,"d":"0.0138"},0.006,0.028,{"$f":"(0.004+0.004+0.004+0.0025+0.004+0.004)/6","v":{"v":3.7500000000000003E-3,"d":"0.0038"}},141.93773809523807,"Pmx","1. alveolus"]
[null,null,"3. alveolus",null,{"$f":"C8","v":{"v":9.0275,"d":"9.03"}},{"v":33.82198953,"d":"33.822"},{"$f":"D8","v":{"v":2.9475,"d":"2.95"}},{"v":189.5498392282958,"d":"189.550"},{"$f":"E8/H78","v":{"v":0.06441102798982189,"d":"0.064"}},{"$f":"E8/E116","v":{"v":0.06006173027989822,"d":"0.060"}},{"$f":"E78","v":{"v":9.0275,"d":"9.03"}},33.82198953,{"$f":"G78","v":{"v":2.9475,"d":"2.95"}},158.63874345549738,{"v":0.01555,"d":"0.0156"},0.008,0.039,0.0052,34.01324927876911,null,"3. alveolus",{"$nulls":12},"3. alveolus",null,{"$f":"W8","v":39.015},{"v":59.55151515,"d":"59.552"},{"$f":"X8","v":11.455},{"v":1041.3636363636363,"d":"1041.364"},{"$f":"Y8/AM78","v":{"v":0.9728019824318639,"d":"0.973"}},{"$f":"Y8/AQ78","v":{"v":1.598064442954962,"d":"1.598"}},39.015,{"$f":"X8/0.018070182","v":633.9172455484953},11.455,{"v":1057.2727272727273,"d":"1057.273"},{"v":0.011000000000000001,"d":"0.0110"},0.006,0.023,{"$f":"(0.004+0.002+0.003)/3","v":{"v":3.0000000000000005E-3,"d":"0.0030"}},399.87812650312645,null,"3. alveolus",{"$nulls":10},"Small Alligator"]
[null,null,"3 alveolus replacement",{"$nulls":4},{"v":42.26069246435845,"d":"42.261"},{"$f":"K8/H79","v":{"v":0.037931228915662654,"d":"0.038"}},{"$f":"K8/E117","v":{"v":0.022403373493975903,"d":"0.022"}},{"$f":"I8","v":{"v":3.0175,"d":"3.02"}},43.10738589,{"$f":"J8","v":{"v":1.0375,"d":"1.04"}},45.636514522821585,{"v":0.024550000000000002,"d":"0.0246"},0.014,0.035,0.0051,7.217818639989389,null,"3 alveolus replacement",{"$nulls":11},"Mx","6. alveolus",null,{"$f":"W22","v":31.685},{"v":34.36165577333333,"d":"34.362"},{"$f":"X22","v":8.825},{"v":756.4285714285713,"d":"756.429"},{"$f":"Y22/AM79","v":{"v":0.9897187789933901,"d":"0.990"}},{"$f":"Y22/AQ79","v":{"v":1.5329484398767146,"d":"1.533"}},31.685,{"$f":"X22/0.018070182","v":488.37360907599043},8.825,{"v":771.4285714285714,"d":"771.429"},{"v":0.011666666666666667,"d":"0.0117"},0.005,0.026,{"$f":"(0.003+0.002+0.003)/3","v":{"v":2.6666666666666666E-3,"d":"0.0027"}},293.8920012449425,"Mx","6. alveolus",{"$nulls":13},"tooth height","TFT (based on transect length)","CAH","TFT (based on CAH)","Tooth growth rate","Tooth growth rate (based on crown height , mean VEIW of quadrant)","tooth height","TFT (based on transect length)","CAH","age by crown height","average incremental line width (mm)","min increment width","max incement width","SD VEIW","SD TFT"]
[null,"Mx","6. alveolus",null,{"$f":"C22","v":{"v":9.637500000000001,"d":"9.64"}},{"v":24.08695652,"d":"24.087"},{"$f":"D22","v":{"v":3.3175,"d":"3.32"}},{"v":288.4782608695652,"d":"288.478"},{"$f":"E22/H80","v":{"v":0.057188018085908066,"d":"0.057"}},{"$f":"E22/M116","v":{"v":0.07210663149962321,"d":"0.072"}},{"$f":"E80","v":{"v":9.637500000000001,"d":"9.64"}},24.08695652,{"$f":"D22","v":{"v":3.3175,"d":"3.32"}},295.6521739130435,0.0115,0.006,0.026,{"v":0.004573474,"d":"0.0046"},82.08230688973484,"Mx","6. alveolus",{"$nulls":12},"6. alveolus replacement",null,{"$f":"AC22","v":7.465},{"v":22.1,"d":"22.100"},{"$f":"AD22","v":2.055},{"v":205.5,"d":"205.500"},{"$f":"AE22/AM80","v":{"v":0.2651447104622871,"d":"0.265"}},{"$f":"AE22/AQ80","v":{"v":0.47912131743908326,"d":"0.479"}},7.465,{"$f":"AD22/0.018070182","v":113.72325967718533},2.055,{"v":223,"d":"223.000"},{"v":0.01,"d":"0.0100"},0.006,0.014,{"$f":"(0.002)","v":{"v":2E-3,"d":"0.0020"}},51.375,null,"6. alveolus replacement",{"$nulls":10},"Pmx","3. alveolus",null,{"$f":"AQ8","v":{"v":4.9228000000000005,"d":"4.92"}},{"v":27.20761689,"d":"27.208"},{"$f":"AR8","v":{"v":1.7928000000000002,"d":"1.79"}},{"$f":"AR8/AV8","v":{"v":107.56800000000001,"d":"107.568"}},{"$f":"AS8/BQ80","v":{"v":0.013929488788487281,"d":"0.014"}},{"$f":"AS8/BU80","v":{"v":0.011383606837606818,"d":"0.011"}},{"$f":"BN80","v":{"v":4.9228000000000005,"d":"4.92"}},{"$f":"AR8/BO111","v":{"v":131.62500000000023,"d":"131.625"}},1.82,{"$f":"BV80/BX80","v":{"v":109.2,"d":"109.200"}},{"v":0.016666666666666666,"d":"0.0167"},0.007,0.031,{"$f":"(0.004+0.004+0.003)/3","v":{"v":3.6666666666666666E-3,"d":"0.0037"}},19.72724358666667]
[null,null,"6. alveolus replacement",{"$nulls":4},{"v":36.689189189189186,"d":"36.689"},{"$f":"K22/H81","v":{"v":0.05835969797421731,"d":"0.058"}},{"$f":"K22/M117","v":{"v":0.022870692449355433,"d":"0.023"}},{"$f":"I22","v":{"v":3.1275,"d":"3.13"}},13.595,{"$f":"J22","v":{"v":1.3575,"d":"1.36"}},36.689,{"v":0.037,"d":"0.0370"},0.021,0.058,{"v":0.011,"d":"0.0110"},15.522349272349274,null,"6. alveolus replacement",{"$nulls":12},"7. alveolus",null,{"$f":"W23","v":28.485},{"v":56.90481848444444,"d":"56.905"},{"$f":"X23","v":6.2250000000000005},{"v":346.90402476780184,"d":"346.904"},{"$f":"Y23/AM81","v":{"v":1.4918029859883981,"d":"1.492"}},{"$f":"Y23/AQ81","v":{"v":1.5022561187899952,"d":"1.502"}},28.485,{"$f":"X23/0.018070182","v":344.4901661754154},6.2250000000000005,{"v":356.656346749226,"d":"356.656"},{"v":0.017944444444444447,"d":"0.0179"},0.007,0.05,{"$f":"(0.005+0.002667+0.004+0.0035+0.005+0.005+0.006+0.01+0.004)/9","v":{"v":0.005018555555555556,"d":"0.0050"}},169.56365472377595,null,"7. alveolus",{"$nulls":10},"Mx","6. alveolus",null,{"$f":"AQ21","v":{"v":4.042800000000001,"d":"4.04"}},{"v":29.40170940333333,"d":"29.402"},{"$f":"AR21","v":{"v":2.1928,"d":"2.19"}},{"$f":"AR21/AV21","v":{"v":173.11578947368423,"d":"173.116"}},{"$f":"AS21/BQ81","v":{"v":0.00817432739267907,"d":"0.008"}},{"$f":"AS21/BU81","v":{"v":0.008789884030346388,"d":"0.009"}},{"v":4.042800000000001,"d":"4.04"},{"$f":"AR21/BO111","v":{"v":160.99246987951832,"d":"160.992"}},2.22,{"v":175.26315789473685,"d":"175.263"},{"v":0.012666666666666666,"d":"0.0127"},0.006,0.023,{"$f":"(0.002+0.002+0.004)/3","v":{"v":2.6666666666666666E-3,"d":"0.0027"}},20.33925149]
[null,null,"7. alveolus",null,{"$f":"C23","v":{"v":8.2475,"d":"8.25"}},{"v":39.2,"d":"39.200"},{"$f":"D23","v":{"v":2.3175,"d":"2.32"}},{"v":231.74999999999997,"d":"231.750"},{"$f":"E23/H82","v":{"v":0.039785674217907234,"d":"0.040"}},{"$f":"E23/N116","v":{"v":0.05768922761596549,"d":"0.058"}},{"$f":"E82","v":{"v":8.2475,"d":"8.25"}},39.2,{"$f":"G82","v":{"v":2.3175,"d":"2.32"}},240,{"v":0.01,"d":"0.0100"},0.006,0.019,{"v":0.004,"d":"0.0040"},66.2142857142857,null,"7. alveolus",{"$nulls":12},"7. alveolus replacement",null,{"$f":"AC23","v":3.0050000000000003},{"v":29.165514472063492,"d":"29.166"},{"$f":"AD23","v":1.785},{"v":89.25,"d":"89.250"},{"$f":"AE23/AM82","v":{"v":0.05825826218487395,"d":"0.058"}},{"$f":"AE23/AQ82","v":{"v":0.0526368700342195,"d":"0.053"}},3.0050000000000003,{"$f":"AD23/0.018070182","v":98.7815175298179},1.785,{"v":98,"d":"98.000"},{"v":0.02,"d":"0.0200"},0.006,0.044,{"$f":"(0.008+0.002+0.006+0.006+0.005)/5","v":0.0054},36.05871212121212,null,"7. alveolus replacement",{"$nulls":11},"7. alveolus",null,{"$f":"AQ22","v":{"v":4.0528,"d":"4.05"}},{"v":71.37236467185186,"d":"71.372"},{"$f":"AR22","v":{"v":2.0627999999999997,"d":"2.06"}},{"$f":"AR22/AV22","v":{"v":134.5304347826087,"d":"134.530"}},{"$f":"AS22/BQ82","v":{"v":9.7831938336242E-3,"d":"0.010"}},{"$f":"AS22/BU82","v":{"v":0.008690355458898274,"d":"0.009"}},{"v":4.0528,"d":"4.05"},{"$f":"AR22/BO111","v":{"v":151.4480421686749,"d":"151.448"}},2.09,{"v":136.30434782608697,"d":"136.304"},{"v":0.015333333333333332,"d":"0.0153"},0.005,0.031,{"$f":"(0.003+0.003+0.003)/3","v":{"v":3.0000000000000005E-3,"d":"0.0030"}},28.224358973333327]
[null,null,"12. alveolus",null,{"$f":"C28","v":{"v":8.6975,"d":"8.70"}},{"v":30.851851853333333,"d":"30.852"},{"$f":"D28","v":{"v":3.0175,"d":"3.02"}},{"v":274.3181818181818,"d":"274.318"},{"$f":"E28/H83","v":{"v":0.07553637116818558,"d":"0.076"}},{"$f":"E28/S116","v":{"v":0.09957067108533554,"d":"0.100"}},{"$f":"E83","v":{"v":8.6975,"d":"8.70"}},30.851851853333333,{"$f":"G83","v":{"v":3.0175,"d":"3.02"}},287.037037037037,{"v":0.011000000000000001,"d":"0.0110"},0.005,0.02,{"$f":"(0.002+0.002+0.005)/3","v":{"v":3.0000000000000005E-3,"d":"0.0030"}},56.94684944684948,null,"12. alveolus",{"$nulls":12},"12. alveolus",null,{"$f":"W28","v":31.695},{"v":16.638931885,"d":"16.639"},{"$f":"X28","v":7.765000000000001},{"v":228.38235294117646,"d":"228.382"},{"$f":"Y28/AM83","v":{"v":4.409919376092981,"d":"4.410"}},{"$f":"Y28/AQ83","v":{"v":2.343766050921371,"d":"2.344"}},31.695,{"$f":"X28/0.018070182","v":429.71343620114067},7.765000000000001,{"v":233.52941176470588,"d":"233.529"},{"v":0.034,"d":"0.0340"},0.015,0.061,{"$f":"(0.036+0.012)/2","v":{"v":0.024,"d":"0.0240"}},108.26306994089501,null,"12. alveolus",{"$nulls":11},"12. alveolus",null,{"$f":"AQ27","v":{"v":4.5628,"d":"4.56"}},{"v":26.25,"d":"26.250"},{"$f":"AR27","v":{"v":1.5628000000000002,"d":"1.56"}},{"$f":"AR27/AV27","v":{"v":130.23333333333335,"d":"130.233"}},{"$f":"AS27/BQ83","v":{"v":0.01810978694650627,"d":"0.018"}},{"$f":"AS27/BU83","v":{"v":0.020555382106803664,"d":"0.021"}},{"v":4.5628,"d":"4.56"},{"$f":"AR27/BO111","v":{"v":114.7387048192773,"d":"114.739"}},1.59,{"v":132.5,"d":"132.500"},{"v":0.012,"d":"0.0120"},0.007,0.02,{"$f":"(0.003)","v":{"v":0.003,"d":"0.0030"}},13.63888889]
[null,null,"13. alveolus",null,{"$f":"C29","v":{"v":7.4375,"d":"7.44"}},{"v":22.156593405000002,"d":"22.157"},{"$f":"D29","v":{"v":2.8175,"d":"2.82"}},{"v":208.7037037037037,"d":"208.704"},{"$f":"E29/H84","v":{"v":0.06559059449866904,"d":"0.066"}},{"$f":"E29/T116","v":{"v":0.07044915705412601,"d":"0.070"}},{"$f":"E84","v":{"v":7.4375,"d":"7.44"}},22.156593405000002,{"$f":"G84","v":{"v":2.8175,"d":"2.82"}},215.1098901098901,0.0135,0.009,0.023,0.0035,42.67962072649574,null,"13. alveolus",{"$nulls":12},"13. alveolus",null,{"$f":"W29","v":26.395},{"v":87.655666205,"d":"87.656"},{"$f":"X29","v":6.415},{"v":342.1333333333333,"d":"342.133"},{"$f":"Y29/AM84","v":{"v":1.7965367010911926,"d":"1.797"}},{"$f":"Y29/AQ84","v":{"v":1.7313997417811973,"d":"1.731"}},26.395,{"$f":"X29/0.018070182","v":355.00472546430353},6.415,{"v":351.4666666666667,"d":"351.467"},{"v":0.01875,"d":"0.0188"},0.004,0.064,{"$f":"(0.008+0.005+0.005+0.003)/4","v":{"v":0.00525,"d":"0.0053"}},137.6430761267718,null,"13. alveolus",{"$nulls":11},"12. alveolus replacement",null,{"$f":"AW27","v":{"v":0.3628,"d":"0.36"}},{"v":27.488636364999998,"d":"27.489"},{"$f":"AX27","v":{"v":0.2028,"d":"0.20"}},{"$f":"AX27/BB27","v":{"v":17.63478260869565,"d":"17.635"}},{"$f":"AY28/BQ84","v":{"v":0.006337622440828402,"d":"0.006"}},{"$f":"AY28/BU84","v":{"v":7.5062319745106834E-3,"d":"0.008"}},{"v":0.3628,"d":"0.36"},{"$f":"AX27/BO111","v":{"v":14.889307228915687,"d":"14.889"}},0.23,{"v":20,"d":"20.000"},0.0115,0.007,0.02,{"$f":"(0.002+0.003)/2","v":0.0025},10.011363637]
[null,null,"13 alveolus replacement",null,{"$f":"I29","v":{"v":2.0675,"d":"2.07"}},{"v":21.444871794358974,"d":"21.445"},{"$f":"'Tooth measurements raw data'!K41","v":{"v":1.1075,"d":"1.11"}},{"v":72.22826086956522,"d":"72.228"},{"$f":"K29/H85","v":{"v":0.021112927012791573,"d":"0.021"}},{"$f":"K29/T117","v":{"v":0.019965485327313775,"d":"0.020"}},{"$f":"E85","v":{"v":2.0675,"d":"2.07"}},21.444871794358974,{"$f":"G85","v":{"v":1.1075,"d":"1.11"}},78.1410256410256,{"v":0.015333333333333332,"d":"0.0153"},0.008,0.028,{"$f":"(0.005+0.004+0.002)/3","v":{"v":3.666666666666667E-3,"d":"0.0037"}},14.750890313390315,null,"13 alveolus replacement",{"$nulls":11},"Dent","2. alveolus",null,{"$f":"W38","v":32.575},{"v":31.00595238,"d":"31.006"},{"$f":"X38","v":4.625},{"v":210.22727272727272,"d":"210.227"},{"$f":"Y38/AM85","v":{"v":1.9874860829976218,"d":"1.987"}},{"$f":"Y38/AQ85","v":{"v":1.6324652382833695,"d":"1.632"}},32.575,{"$f":"X38/0.018070182","v":255.9465090058307},4.625,{"v":218.18181818181816,"d":"218.182"},{"v":0.022000000000000002,"d":"0.0220"},0.012,0.038,{"$f":"(0.004+0.005+0.006)/3","v":{"v":0.005,"d":"0.0050"}},61.6270813881108,"Dent","2. alveolus",{"$nulls":11},"13. alveolus",null,{"$f":"AQ28","v":{"v":3.8828,"d":"3.88"}},{"v":86.03729603666666,"d":"86.037"},{"$f":"AR28","v":{"v":2.0528,"d":"2.05"}},{"$f":"AR28/AV28","v":{"v":175.95428571428573,"d":"175.954"}},{"$f":"AS28/BQ85","v":{"v":0.00953624024097168,"d":"0.010"}},{"$f":"AS28/BU85","v":{"v":0.011133298496712416,"d":"0.011"}},{"v":3.8828,"d":"3.88"},{"$f":"AR28/BO111","v":{"v":150.713855421687,"d":"150.714"}},2.08,{"v":178.2857142857143,"d":"178.286"},{"v":0.011666666666666665,"d":"0.0117"},0.005,0.027,{"$f":"(0.003+0.002+0.004)/3","v":{"v":3.0000000000000005E-3,"d":"0.0030"}},33.17913105666667]
[null,"Dent","2. alveolus",null,{"$f":"C38","v":{"v":8.127500000000001,"d":"8.13"}},{"v":11.25,"d":"11.250"},{"$f":"D38","v":{"v":2.3875,"d":"2.39"}},{"v":298.4375,"d":"298.438"},{"$f":"E38/H86","v":{"v":0.03190433507853403,"d":"0.032"}},{"$f":"E38/D148","v":{"v":0.057826607329842926,"d":"0.058"}},{"$f":"E86","v":{"v":8.127500000000001,"d":"8.13"}},11.25,{"$f":"G86","v":{"v":2.3875,"d":"2.39"}},308.75,{"v":0.008,"d":"0.0080"},0.005,0.01,{"v":2E-3,"d":"0.0020"},59.6875,"Dent","2. alveolus",{"$nulls":12},"2. alveolus replacement",null,{"$f":"AC38","v":1.9349999999999998},{"v":59.08180708,"d":"59.082"},{"$f":"AD38","v":1.175},{"v":90.38461538461539,"d":"90.385"},{"$f":"AE38/AM86","v":{"v":0.0516944634893617,"d":"0.052"}},{"$f":"AE38/AQ86","v":{"v":0.0718560279727016,"d":"0.072"}},1.9349999999999998,{"$f":"AD38/0.018070182","v":65.02424823391375},1.175,{"v":103.84615384615385,"d":"103.846"},{"v":0.013,"d":"0.0130"},0.005,0.023,{"$f":"(0.003+0.004+0.004)/3","v":{"v":3.6666666666666666E-3,"d":"0.0037"}},36.54838217338218,null,"2. alveolus replacement",{"$nulls":10},"Dent","2. alveolus",null,{"$f":"AQ37","v":{"v":2.1728,"d":"2.17"}},{"v":64.28481934666667,"d":"64.285"},{"$f":"AR37","v":{"v":1.6228,"d":"1.62"}},{"$f":"AR37/AV37","v":{"v":121.71,"d":"121.710"}},{"$f":"AS37/BQ86","v":{"v":0.005594243611864267,"d":"0.006"}},{"$f":"AS37/BU86","v":{"v":0.005714735012735181,"d":"0.006"}},{"v":2.1728,"d":"2.17"},{"$f":"AR37/BO111","v":{"v":119.143825301205,"d":"119.144"}},1.65,{"v":123.74999999999999,"d":"123.750"},{"v":0.013333333333333334,"d":"0.0133"},0.007,0.025,{"$f":"(0.002+0.003+0.004)/3","v":{"v":3.0000000000000005E-3,"d":"0.0030"}},23.328137139999995]
[null,null,"2. alveolus replacement",{"$nulls":4},{"v":85.5,"d":"85.500"},{"$f":"K38/H87","v":{"v":0.00426153216374269,"d":"0.004"}},{"$f":"K38/D149","v":{"v":0.012358443274853801,"d":"0.012"}},{"$f":"I38","v":{"v":1.7175,"d":"1.72"}},10.2,{"$f":"J38","v":{"v":0.4275,"d":"0.43"}},102,{"v":0.005,"d":"0.0050"},0.003,0.007,{"v":2E-3,"d":"0.0020"},24.42857142857143,null,"2. alveolus replacement",{"$nulls":12},"4. alveolus",null,{"$f":"W40","v":43.715},{"v":32.54953621279503,"d":"32.550"},{"$f":"X40","v":12.864999999999998},{"v":796.9469026548671,"d":"796.947"},{"$f":"Y40/AM87","v":{"v":1.2122684041905283,"d":"1.212"}},{"$f":"Y40/AQ87","v":{"v":1.3570033174867866,"d":"1.357"}},43.715,{"$f":"X40/0.018070182","v":711.9463434291916},12.864999999999998,{"v":807.787610619469,"d":"807.788"},{"v":0.016142857142857143,"d":"0.0161"},0.006,0.041,{"$f":"(0.003+0.003+0.004+0.002+0.007+0.005+0.006)/7","v":{"v":0.004285714285714286,"d":"0.0043"}},302.8729712316668,null,"4. alveolus",{"$nulls":11},"4. alveolus",null,{"$f":"AQ39","v":{"v":3.7527999999999997,"d":"3.75"}},{"v":65.83321812999999,"d":"65.833"},{"$f":"AR39","v":{"v":1.2328000000000001,"d":"1.23"}},{"$f":"AR39/AV39","v":{"v":70.44571428571429,"d":"70.446"}},{"$f":"AS39/BQ87","v":{"v":0.016007643352530826,"d":"0.016"}},{"$f":"AS39/BU87","v":{"v":0.01245898922910529,"d":"0.012"}},{"v":3.7527999999999997,"d":"3.75"},{"$f":"AR39/BO111","v":{"v":90.51054216867485,"d":"90.511"}},1.26,{"v":72,"d":"72.000"},0.0175,0.005,0.032,{"$f":"(0.005+0.004+0.0055)/3","v":{"v":0.004833333333333334,"d":"0.0048"}},39.14452918666667]
[null,null,"4. alveolus",null,{"$f":"C40","v":{"v":11.127500000000001,"d":"11.13"}},{"v":20.42857143,"d":"20.429"},{"$f":"D40","v":{"v":2.6575,"d":"2.66"}},{"v":189.82142857142858,"d":"189.821"},{"$f":"E40/H88","v":{"v":0.10607179680150516,"d":"0.106"}},{"$f":"E40/F148","v":{"v":0.10986007525870178,"d":"0.110"}},{"$f":"E88","v":{"v":11.127500000000001,"d":"11.13"}},20.42857143,{"$f":"G88","v":{"v":2.6575,"d":"2.66"}},195.71428571428572,{"v":0.014,"d":"0.0140"},0.006,0.031,{"v":0.007,"d":"0.0070"},63.27380952380953,null,"4. alveolus",{"$nulls":12},"4. alveolus replacement",null,{"$f":"AC40","v":28.654999999999998},{"v":38.616408667500004,"d":"38.616"},{"$f":"AD40","v":4.565},{"v":243.46666666666664,"d":"243.467"},{"$f":"AE40/AM88","v":{"v":1.9304239074479739,"d":"1.930"}},{"$f":"AE40/AQ88","v":{"v":1.8604326050525888,"d":"1.860"}},28.654999999999998,{"$f":"AD40/0.018070182","v":252.62612186197128},4.565,{"v":252.79999999999998,"d":"252.800"},{"v":0.018750000000000003,"d":"0.0188"},0.009,0.03,{"$f":"(0.004+0.005+0.004+0.003)/4","v":{"v":0.004,"d":"0.0040"}},68.19557306728359,null,"4. alveolus replacement",{"$nulls":11},"4. alveolus replacement",null,{"$f":"AW39","v":{"v":0.3628,"d":"0.36"}},{"v":31.472027975,"d":"31.472"},{"$f":"AX39","v":{"v":0.1928,"d":"0.19"}},{"$f":"AX39/BB39","v":{"v":16.066666666666666,"d":"16.067"}},{"$f":"BA39/BQ88","v":{"v":0.006017084007426599,"d":"0.006"}},{"$f":"BA39/BU88","v":{"v":0.006829647488771378,"d":"0.007"}},{"v":0.3628,"d":"0.36"},{"$f":"AX39/BO111","v":{"v":14.155120481927732,"d":"14.155"}},0.22,{"v":18.333333333333332,"d":"18.333"},{"v":0.012,"d":"0.0120"},0.006,0.018,{"$f":"(0.003+0.003)/2","v":{"v":0.003,"d":"0.0030"}},29.58986014]
[null,null,"11. alveolus",null,{"$f":"C47","v":{"v":5.567500000000001,"d":"5.57"}},{"v":48.2875,"d":"48.288"},{"$f":"D47","v":{"v":1.6675,"d":"1.67"}},{"v":145,"d":"145.000"},{"$f":"E47/H89","v":{"v":0.028724275862068965,"d":"0.029"}},{"$f":"E47/M148","v":{"v":0.036217565217391307,"d":"0.036"}},{"$f":"E89","v":{"v":5.567500000000001,"d":"5.57"}},48.2875,{"$f":"G89","v":{"v":1.6675,"d":"1.67"}},155.20833333333334,0.0115,0.007,0.02,{"$f":"(0.002+0.003+0.003+0.003)/4","v":{"v":0.00275,"d":"0.0028"}},29.457909125188554,null,"11. alveolus",{"$nulls":12},"11. alveolus",null,{"$f":"W47","v":25.985},{"v":43.34486773754739,"d":"43.345"},{"$f":"X47","v":5.025},{"v":296.650410677618,"d":"296.650"},{"$f":"Y47/AM89","v":{"v":0.9993052433868295,"d":"0.999"}},{"$f":"Y47/AQ89","v":{"v":1.0660303780691707,"d":"1.066"}},25.985,{"$f":"X47/0.018070182","v":278.0824232982269},5.025,{"v":306.9815195071868,"d":"306.982"},{"v":0.016939130434782613,"d":"0.0169"},0.006,0.037,{"$f":"(0.005+0.007+0.003+0.005+0.004+0.003+0.004+0.003+0.00375+0.003+0.004+0.004+0.004+0.003+0.006+0.006+0.003+0.005+0.0035+0.004+0.003+0.003+0.004)/23","v":{"v":0.004054347826086958,"d":"0.0041"}},96.88863473436564,null,"11. alveolus",{"$nulls":11},"12. alveolus",null,{"$f":"AQ47","v":{"v":3.5627999999999997,"d":"3.56"}},{"v":112.95546660857144,"d":"112.955"},{"$f":"AR47","v":{"v":2.1328,"d":"2.13"}},{"$f":"AR47/AV47","v":{"v":148.11111111111111,"d":"148.111"}},{"$f":"AS47/BQ89","v":{"v":0.008199591650412603,"d":"0.008"}},{"$f":"AS47/BU89","v":{"v":0.007755739110931567,"d":"0.008"}},{"v":3.5627999999999997,"d":"3.56"},{"$f":"AR47/BO111","v":{"v":156.5873493975906,"d":"156.587"}},2.16,{"v":150,"d":"150.000"},0.0144,0.006,0.03,{"$f":"(0.003+0.0045+0.0035+0.004+0.0035)/5","v":3.6999999999999997E-3},68.64892704285714]
[null,null,"11. alveolus replacement",{"$nulls":4},{"v":14.242898040227928,"d":"14.243"},{"$f":"K47/H90","v":{"v":0.004232235590660407,"d":"0.004"}},{"$f":"K47/M149","v":{"v":2.6688545038167947E-3,"d":"0.003"}},{"$f":"I47","v":{"v":0.7575,"d":"0.76"}},15.69565217,{"$f":"J47","v":{"v":0.32749999999999996,"d":"0.33"}},17.830803653415117,{"v":0.02299391592041187,"d":"0.0230"},0.033,0.079,{"v":0.015,"d":"0.0150"},3.502351977105228,null,"11. alveolus replacement",{"$nulls":12},"12. alveolus",null,{"$f":"W48","v":36.585},{"v":41.869909504999995,"d":"41.870"},{"$f":"X48","v":9.475},{"v":551.9417529314733,"d":"551.942"},{"$f":"Y48/AM90","v":{"v":1.6875848297558396,"d":"1.688"}},{"$f":"Y48/AQ90","v":{"v":1.7764057462249316,"d":"1.776"}},36.585,{"$f":"X48/0.018070182","v":524.3444698011342},9.475,{"v":562.1359277877275,"d":"562.136"},{"v":0.0171666665,"d":"0.0172"},0.009,0.039,{"$f":"(0.005+0.006)/2","v":0.0055},262.8096666484604,null,"12. alveolus",{"$nulls":11},"12. alveolus replacement",null,{"$f":"AW47","v":{"v":1.6128,"d":"1.61"}},{"v":54.626144690000004,"d":"54.626"},{"$f":"AX47","v":{"v":0.9228,"d":"0.92"}},{"$f":"AX47/BB47","v":{"v":70.98461538461538,"d":"70.985"}},{"$f":"BA47/BQ90","v":{"v":6.3771236456824565E-3,"d":"0.006"}},{"$f":"BA47/BU90","v":{"v":0.006681514951847171,"d":"0.007"}},{"v":1.6128,"d":"1.61"},{"$f":"AX47/BO111","v":{"v":67.75075301204829,"d":"67.751"}},0.95,{"v":73.07692307692308,"d":"73.077"},{"v":0.013,"d":"0.0130"},0.006,0.024,{"$f":"(0.003+0.003+0.003+0.003)/4","v":{"v":0.003,"d":"0.0030"}},18.156911145000002]
[null,null,"12. alveolus",null,{"$f":"C48","v":{"v":8.557500000000001,"d":"8.56"}},{"v":33.38141923333333,"d":"33.381"},{"$f":"D48","v":{"v":2.7975,"d":"2.80"}},{"v":195.17441860465118,"d":"195.174"},{"$f":"E48/H91","v":{"v":0.07074082812034554,"d":"0.071"}},{"$f":"E48/N148","v":{"v":0.07156339588918678,"d":"0.072"}},{"$f":"E91","v":{"v":8.557500000000001,"d":"8.56"}},33.38141923333333,{"$f":"G91","v":{"v":2.7975,"d":"2.80"}},205.04201680672267,{"v":0.014333333333333332,"d":"0.0143"},0.007,0.031,{"$f":"(0.005+0.003+0.004)/3","v":{"v":0.004,"d":"0.0040"}},43.64786255411254,null,"12. alveolus",{"$nulls":12},"15. alveolus",null,{"$f":"W51","v":28.035},{"v":30.216666664999998,"d":"30.217"},{"$f":"X51","v":6.9750000000000005},{"v":422.72727272727275,"d":"422.727"},{"$f":"Y51/AM91","v":{"v":1.6352729870967742,"d":"1.635"}},{"$f":"Y51/AQ91","v":{"v":1.7908897270619613,"d":"1.791"}},28.035,{"$f":"X51/0.018070182","v":385.99500547365824},6.9750000000000005,{"v":433.3333333333333,"d":"433.333"},0.0165,0.007,0.028,{"$f":"(0.005+0.004+0.005)/3","v":{"v":0.004666666666666667,"d":"0.0047"}},159.06468531468533,null,"15. alveolus",{"$nulls":11},"18. alveolus",null,{"$f":"AQ53","v":{"v":3.3828,"d":"3.38"}},{"v":52.8076923075,"d":"52.808"},{"$f":"AR53","v":{"v":1.8628,"d":"1.86"}},{"$f":"AR53/AV53","v":{"v":128.4689655172414,"d":"128.469"}},{"$f":"AS53/BQ91","v":{"v":0.009339225120785912,"d":"0.009"}},{"$f":"AS53/BU91","v":{"v":0.008772761068366879,"d":"0.009"}},{"v":3.3828,"d":"3.38"},{"$f":"AR53/BO111","v":{"v":136.76430722891587,"d":"136.764"}},1.89,{"v":130.3448275862069,"d":"130.345"},{"v":0.014499999999999999,"d":"0.0145"},0.007,0.025,{"$f":"(0.004+0.003+0.003+0.003)/4","v":{"v":3.2500000000000003E-3,"d":"0.0033"}},24.9891696525]
[null,null,"18. alveolus",null,{"$f":"C54","v":{"v":6.117500000000001,"d":"6.12"}},{"v":32.115259740000006,"d":"32.115"},{"$f":"D54","v":{"v":2.4875,"d":"2.49"}},{"v":171.55172413793102,"d":"171.552"},{"$f":"E54/H92","v":{"v":0.04517325628140704,"d":"0.045"}},{"$f":"E54/T148","v":{"v":0.04517325628140704,"d":"0.045"}},{"$f":"E92","v":{"v":6.117500000000001,"d":"6.12"}},32.115259740000006,{"$f":"G92","v":{"v":2.4875,"d":"2.49"}},187.03657106782103,0.0145,0.005,0.034,{"$f":"(0.002+0.004+0.003+0.004+0.002+0.003+0.005+0.006+0.005+0.002+0.004+0.005)/12","v":{"v":3.7500000000000003E-3,"d":"0.0038"}},36.71343215751111,null,"18. alveolus",{"$nulls":12},"15 alveolus replacement",null,{"$f":"AC51","v":8.864999999999998},{"v":17.03846154,"d":"17.038"},{"$f":"AD51","v":3.475},{"v":133.65384615384616,"d":"133.654"},{"$f":"AE51/AM92","v":{"v":0.6814868005755396,"d":"0.681"}},{"$f":"AE51/AQ92","v":{"v":0.473638096807604,"d":"0.474"}},8.864999999999998,{"$f":"AD51/0.018070182","v":192.30575541519173},3.475,{"v":140.3846153846154,"d":"140.385"},{"v":0.026,"d":"0.0260"},0.014,0.047,{"$f":"(0.008)","v":{"v":0.008,"d":"0.0080"}},59.40170940170941,null,"15 alveolus replacement",{"$nulls":11},"19. alveolus",null,{"$f":"AQ54","v":{"v":3.4827999999999997,"d":"3.48"}},{"v":47.0897435875,"d":"47.090"},{"$f":"AR54","v":{"v":1.6428,"d":"1.64"}},{"$f":"AR54/AV54","v":131.424},{"$f":"AS54/BQ92","v":{"v":7.749955791940588E-3,"d":"0.008"}},{"$f":"AS54/BU92","v":{"v":0.008444669777802736,"d":"0.008"}},{"v":3.4827999999999997,"d":"3.48"},{"$f":"AR54/BO111","v":{"v":120.61219879518092,"d":"120.612"}},1.67,{"v":133.6,"d":"133.600"},{"v":0.012499999999999999,"d":"0.0125"},0.006,0.022,{"$f":"(0.003+0.002+0.003+0.003)/4","v":{"v":0.00275,"d":"0.0028"}},21.141239315]
[null,null,"19. alveolus",null,{"$f":"C55","v":{"v":6.0475,"d":"6.05"}},{"v":48.216053391168835,"d":"48.216"},{"$f":"D55","v":{"v":2.5875,"d":"2.59"}},{"v":274.4318181818182,"d":"274.432"},{"$f":"E55/H93","v":{"v":0.03028118260869565,"d":"0.030"}},{"$f":"E55/U148","v":{"v":0.046568788405797104,"d":"0.047"}},{"$f":"E93","v":{"v":6.0475,"d":"6.05"}},48.216053391168835,{"$f":"G93","v":{"v":2.5875,"d":"2.59"}},287.61255411255416,{"v":0.009428571428571429,"d":"0.0094"},0.005,0.019,{"$f":"(0.005+0.003+0.003+0.002+0.001+0.003+0.002)/7","v":{"v":0.002714285714285714,"d":"0.0027"}},58.86417154274299,null,"19. alveolus",{"$nulls":12},"16. alveolus",null,{"$f":"W52","v":26.125},{"v":38.330555555000004,"d":"38.331"},{"$f":"X52","v":{"v":5.265000000000001,"d":"5.27"}},{"v":224.0425531914894,"d":"224.043"},{"$f":"Y52/AM93","v":{"v":2.5440460376821457,"d":"2.544"}},{"$f":"Y52/AQ93","v":{"v":1.9562287198849038,"d":"1.956"}},26.125,{"$f":"X52/0.018070182","v":291.3639718736646},5.265000000000001,{"v":231.48936170212767,"d":"231.489"},0.0235,0.012,0.046,{"$f":"(0.008+0.005)/2","v":0.006500000000000001},84.92763157894741,null,"16. alveolus",{"$nulls":22},"average",0.013620512820512824,null,null,"38 CA measurements"]
[null,null,"19. alveolus  replacement",{"$nulls":4},{"v":21.562499999999996,"d":"21.563"},{"$f":"K55/H94","v":{"v":0.015618226086956524,"d":"0.016"}},{"$f":"K55/U149","v":{"v":0.0094360115942029,"d":"0.009"}},{"$f":"I55","v":{"v":0.9075,"d":"0.91"}},33.708333335,{"$f":"J55","v":{"v":0.5175,"d":"0.52"}},25,{"v":0.024,"d":"0.0240"},0.015,0.034,0.004,3.0567528735632177,null,"19. alveolus  replacement",{"$nulls":23},"average",0.018070182266004958,null,null,"40 CA measurements"]
[{"$nulls":13},"average",{"v":0.016232730778647227,"d":"0.0162"},null,null,"9 CA measurements",{"$nulls":15},"Large sized Alligator, right premaxilla",{"$nulls":4},"Large sized Alligator, right maxilla",{"$nulls":24},"Small sized Alligator, right premaxilla",{"$nulls":4},"Small sized Alligator, right maxilla"]
[{"$nulls":33},1,2,3,4,5,6,7,8,9,10,11,12,13,14,15,16,17,18,19,20,"alveolus",{"$nulls":9},1,2,3,4,5,6,7,8,9,10,11,12,13,14,15,16,17,18,19,20,21,"alveolus"]
[null,null,"Medium sized Alligator, right premaxilla",{"$nulls":4},"Medium sized Alligator, right maxilla",{"$nulls":25},{"$f":"AM77","v":{"v":408.79518072289153,"d":"408.80"}},{"$f":"X7/0.0138","v":{"v":583.695652173913,"d":"583.70"}},{"$f":"AM78","v":{"v":1041.3636363636363,"d":"1041.36"}},null,{"$f":"X10/0.011","v":{"v":785.9090909090909,"d":"785.91"}},{"$f":"X17/0.011","v":{"v":655,"d":"655.00"}},{"$f":"X18/0.011","v":{"v":107.72727272727273,"d":"107.73"}},{"$f":"X19/0.011","v":{"v":495.90909090909093,"d":"495.91"}},{"$f":"X20/0.0117","v":{"v":1087.6068376068376,"d":"1087.61"}},{"$f":"X21/0.0117","v":{"v":514.957264957265,"d":"514.96"}},{"$f":"AM79","v":{"v":756.4285714285713,"d":"756.43"}},{"$f":"AM81","v":{"v":346.90402476780184,"d":"346.90"}},{"$f":"X24/0.0179","v":{"v":347.2067039106145,"d":"347.21"}},null,{"$f":"X26/0.0188","v":{"v":555.0531914893617,"d":"555.05"}},{"$f":"X27/0.0188","v":{"v":364.6276595744681,"d":"364.63"}},{"$f":"AM83","v":{"v":228.38235294117646,"d":"228.38"}},{"$f":"AM84","v":{"v":342.1333333333333,"d":"342.13"}},{"$f":"X30/0.0188","v":{"v":328.4574468085106,"d":"328.46"}},{"$f":"X31/0.0188","v":{"v":242.28723404255322,"d":"242.29"}},"tooth formation time 1",{"$nulls":9},{"$f":"AR6/0.0167","v":{"v":85.79640718562875,"d":"85.80"}},{"$f":"AR7/0.0167","v":{"v":106.1556886227545,"d":"106.16"}},{"$f":"BQ80","v":{"v":107.56800000000001,"d":"107.57"}},{"$f":"AR9/AV8","v":{"v":85.968,"d":"85.97"}},{"$f":"AR10/AV8","v":{"v":105.76800000000001,"d":"105.77"}},{"$f":"AR16/AV8","v":{"v":101.56800000000001,"d":"101.57"}},{"$f":"AR17/AV8","v":{"v":145.968,"d":"145.97"}},{"$f":"AR18/AV8","v":{"v":107.56800000000001,"d":"107.57"}},{"$f":"AR19/0.0153","v":{"v":164.23529411764707,"d":"164.24"}},{"$f":"AR20/0.0153","v":{"v":119.79084967320263,"d":"119.79"}},{"$f":"BQ81","v":{"v":173.11578947368423,"d":"173.12"}},{"$f":"BQ82","v":{"v":134.5304347826087,"d":"134.53"}},{"$f":"AR23/0.012","v":{"v":175.23333333333332,"d":"175.23"}},{"$f":"AR24/0.012","v":{"v":190.23333333333332,"d":"190.23"}},{"$f":"AR25/0.012","v":{"v":112.73333333333333,"d":"112.73"}},{"$f":"AR26/0.012","v":{"v":191.9,"d":"191.90"}},{"$f":"BQ83","v":{"v":130.23333333333335,"d":"130.23"}},{"$f":"BQ85","v":{"v":175.95428571428573,"d":"175.95"}},{"$f":"AR29/0.0117","v":{"v":115.62393162393163,"d":"115.62"}},{"$f":"AR30/0.0117","v":{"v":149.81196581196582,"d":"149.81"}},{"$f":"AR31/0.0117","v":{"v":58.35897435897435,"d":"58.36"}},"tooth formation time 1"]
[null,null,1,2,3,4,5,6,7,8,9,10,11,12,13,14,15,16,17,18,19,20,"alveolus",{"$nulls":11},{"$f":"AD7/0.0138","v":{"v":227.8985507246377,"d":"227.90"}},{"$f":"AD8/0.011","v":{"v":435.90909090909093,"d":"435.91"}},null,{"$f":"AD10/0.011","v":{"v":269.54545454545456,"d":"269.55"}},{"$f":"AD17/0.011","v":{"v":355.90909090909093,"d":"355.91"}},{"$nulls":4},{"$f":"AM80","v":{"v":205.5,"d":"205.50"}},{"$f":"AM82","v":89.25},{"$f":"AD24/0.02","v":{"v":47.74999999999999,"d":"47.75"}},null,{"$f":"AD26/0.0188","v":{"v":224.7340425531915,"d":"224.73"}},{"$f":"AD27/0.0188","v":{"v":76.32978723404256,"d":"76.33"}},{"$f":"AD28/0.034","v":{"v":85.44117647058823,"d":"85.44"}},{"$f":"AD29/0.0188","v":{"v":89.62765957446808,"d":"89.63"}},null,null,"tooth formation time 2",{"$nulls":9},{"$f":"AX6/0.0167","v":{"v":9.748502994011977,"d":"9.75"}},{"$f":"AX7/0.0167","v":{"v":46.27544910179641,"d":"46.28"}},{"$f":"AX8/0.0167","v":{"v":31.90419161676647,"d":"31.90"}},{"$f":"AX9/0.0167","v":{"v":18.73053892215569,"d":"18.73"}},{"$f":"AX10/0.0167","v":{"v":33.700598802395206,"d":"33.70"}},{"$f":"AX16/0.0167","v":{"v":28.311377245508982,"d":"28.31"}},{"$f":"AX17/0.0167","v":{"v":57.053892215568865,"d":"57.05"}},{"$f":"AX18/0.0167","v":{"v":36.09580838323353,"d":"36.10"}},{"$f":"AX19/0.0153","v":{"v":79.921568627451,"d":"79.92"}},{"$f":"AX20/0.0153","v":{"v":32.86274509803922,"d":"32.86"}},{"$f":"AX21/0.01267","v":{"v":73.62273086029991,"d":"73.62"}},{"$f":"AX22/0.01533","v":{"v":27.57990867579909,"d":"27.58"}},{"$f":"AX23/0.012","v":{"v":88.56666666666668,"d":"88.57"}},{"$f":"AX24/0.012","v":{"v":51.06666666666667,"d":"51.07"}},{"$f":"AX25/0.012","v":{"v":23.566666666666666,"d":"23.57"}},{"$f":"AX26/0.012","v":{"v":62.733333333333334,"d":"62.73"}},{"$f":"BQ84","v":{"v":17.63478260869565,"d":"17.63"}},{"$f":"AX28/0.0117","v":{"v":38.7008547008547,"d":"38.70"}},null,{"$f":"AX30/0.0117","v":{"v":28.444444444444443,"d":"28.44"}},null,"tooth formation time 2"]
[null,null,{"$f":"H77","v":{"v":97.89999999999999,"d":"97.90"}},{"$f":"D7/0.01555","v":{"v":138.74598070739552,"d":"138.75"}},{"$f":"H78","v":{"v":189.5498392282958,"d":"189.55"}},{"$f":"D9/0.01555","v":{"v":163.18327974276528,"d":"163.18"}},{"$f":"D10/0.0155","v":{"v":168.2258064516129,"d":"168.23"}},{"$f":"D17/0.01555","v":{"v":167.68488745980707,"d":"167.68"}},{"$f":"D18/0.01555","v":{"v":226.84887459807075,"d":"226.85"}},{"$f":"D19/0.01555","v":{"v":189.5498392282958,"d":"189.55"}},{"$f":"D20/0.0115","v":{"v":229.34782608695653,"d":"229.35"}},{"$f":"D21/0.0115","v":{"v":245,"d":"245.00"}},{"$f":"H80","v":{"v":288.4782608695652,"d":"288.48"}},{"$f":"H82","v":{"v":231.74999999999997,"d":"231.75"}},{"$f":"D24/0.0135","v":{"v":202.77777777777777,"d":"202.78"}},{"$f":"D25/0.0135","v":{"v":170.1851851851852,"d":"170.19"}},{"$f":"D26/0.0135","v":{"v":241.29629629629628,"d":"241.30"}},{"$f":"D27/0.0135","v":{"v":170.1851851851852,"d":"170.19"}},{"$f":"H83","v":{"v":274.3181818181818,"d":"274.32"}},{"$f":"H84","v":{"v":208.7037037037037,"d":"208.70"}},{"$f":"D30/0.0135","v":{"v":162.77777777777777,"d":"162.78"}},{"$f":"D31/0.0135","v":{"v":227.22222222222223,"d":"227.22"}},"tooth formation time 1",{"$nulls":15},{"$f":"AJ17/0.011","v":52.27272727272727},{"$nulls":14},"tooth formation time 3",{"$nulls":21},{"$f":"BD23/0.0115","v":14.156521739130435},{"$nulls":8},"tooth formation time 3"]
[null,null,{"$f":"J7/O77","v":{"v":36.699999999999996,"d":"36.70"}},{"$f":"J7/0.01555","v":{"v":59.0032154340836,"d":"59.00"}},{"$f":"M79/O79","v":{"v":42.26069246435845,"d":"42.26"}},{"$f":"J9/0.01555","v":{"v":59.0032154340836,"d":"59.00"}},{"$f":"J10/0.01555","v":{"v":88.58520900321544,"d":"88.59"}},{"$f":"J17/0.01555","v":{"v":43.56913183279743,"d":"43.57"}},{"$f":"J18/0.01555","v":{"v":129.09967845659165,"d":"129.10"}},{"$f":"J19/0.0155","v":{"v":66.93548387096774,"d":"66.94"}},{"$f":"J20/0.0115","v":{"v":42.39130434782608,"d":"42.39"}},{"$f":"J21/0.0115","v":{"v":80.65217391304348,"d":"80.65"}},{"$f":"H81","v":{"v":36.689189189189186,"d":"36.69"}},{"$f":"J23/0.0135","v":{"v":43.51851851851852,"d":"43.52"}},{"$f":"J24/0.0135","v":{"v":95.37037037037038,"d":"95.37"}},{"$f":"J25/0.0135","v":{"v":41.2962962962963,"d":"41.30"}},{"$f":"J26/0.0135","v":{"v":91.66666666666667,"d":"91.67"}},{"$f":"J27/0.0135","v":{"v":18.333333333333332,"d":"18.33"}},{"$f":"J28/0.011","v":{"v":74.31818181818183,"d":"74.32"}},{"$f":"H85","v":{"v":72.22826086956522,"d":"72.23"}},{"$f":"J30/0.0135","v":{"v":30.925925925925924,"d":"30.93"}},{"$f":"J31/0.0135","v":{"v":30.925925925925924,"d":"30.93"}},"tooth formation time 2",{"$nulls":11},{"$f":"AI97-AI98","v":{"v":355.7971014492753,"d":"355.80"}},{"$f":"AJ97-AJ98","v":{"v":605.4545454545453,"d":"605.45"}},null,{"$f":"AL97-AL98","v":{"v":516.3636363636363,"d":"516.36"}},{"$f":"AM97-AM98","v":{"v":299.09090909090907,"d":"299.09"}},{"$nulls":4},{"$f":"AR97-AR98","v":{"v":550.9285714285713,"d":"550.93"}},{"$f":"AS97-AS98","v":{"v":257.65402476780184,"d":"257.65"}},{"$f":"AT97-AT98","v":{"v":299.4567039106145,"d":"299.46"}},null,{"$f":"AV97-AV98","v":{"v":330.31914893617017,"d":"330.32"}},{"$f":"AW97-AW98","v":{"v":288.29787234042556,"d":"288.30"}},{"$f":"AX97-AX98","v":{"v":142.94117647058823,"d":"142.94"}},{"$f":"AY97-AY98","v":{"v":252.50567375886524,"d":"252.51"}},null,null,"replacement rate f-r1",{"$nulls":9},{"$f":"BL97-BL98","v":{"v":76.04790419161678,"d":"76.05"}},{"v":59.880239520958085,"d":"59.88"},{"v":75.66380838323354,"d":"75.66"},{"v":67.23746107784432,"d":"67.24"},{"v":72.06740119760481,"d":"72.07"},{"v":73.25662275449103,"d":"73.26"},{"v":88.91410778443112,"d":"88.91"},{"v":71.47219161676648,"d":"71.47"},{"v":84.31372549019608,"d":"84.31"},{"v":86.92810457516342,"d":"86.93"},{"v":99.49305861338432,"d":"99.49"},{"v":106.9505261068096,"d":"106.95"},{"v":86.66666666666664,"d":"86.67"},{"v":139.16666666666666,"d":"139.17"},{"v":89.16666666666667,"d":"89.17"},{"v":129.16666666666669,"d":"129.17"},{"v":112.5985507246377,"d":"112.60"},{"v":137.25343101343103,"d":"137.25"},null,{"$f":"CE97-CE98","v":{"v":121.36752136752138,"d":"121.37"}},null,"replacement rate f-r1"]
[{"$nulls":6},{"$f":"P10/0.01555","v":{"v":7.556270096463023,"d":"7.56"}},null,{"$f":"P18/0.01555","v":{"v":21.061093247588424,"d":"21.06"}},{"$nulls":3},{"$f":"P22/0.042","v":{"v":1.3690476190476193,"d":"1.37"}},{"$nulls":9},"tooth formation time 3",{"$nulls":15},{"$f":"AM98-AM99","v":{"v":303.6363636363637,"d":"303.64"}},{"$nulls":14},"replacement rate r1-r2",null,"Average of average relacement rates",{"$nulls":19},{"$f":"BX98-BX99","v":{"v":74.41014492753624,"d":"74.41"}},{"$nulls":8},"replacement rate r1-r2","Average of average relacement rates"]
[null,null,{"$f":"C99-C100","v":{"v":61.199999999999996,"d":"61.20"}},{"v":79.74276527331192,"d":"79.74"},{"v":147.28914676393737,"d":"147.29"},{"v":104.18006430868168,"d":"104.18"},{"v":79.64059744839746,"d":"79.64"},{"v":124.11575562700963,"d":"124.12"},{"v":97.7491961414791,"d":"97.75"},{"v":122.61435535732807,"d":"122.61"},{"v":186.95652173913044,"d":"186.96"},{"v":164.3478260869565,"d":"164.35"},{"v":251.789071680376,"d":"251.79"},{"v":188.23148148148147,"d":"188.23"},{"v":107.40740740740739,"d":"107.41"},{"v":128.88888888888889,"d":"128.89"},{"v":149.62962962962962,"d":"149.63"},{"v":151.85185185185185,"d":"151.85"},{"v":200,"d":"200.00"},{"v":136.47544283413848,"d":"136.48"},{"v":131.85185185185185,"d":"131.85"},{"v":196.2962962962963,"d":"196.30"},"replacement rate f-r1",{"$nulls":11},{"$f":"AI100","v":{"v":355.7971014492753,"d":"355.80"}},{"$f":"AJ100","v":{"v":605.4545454545453,"d":"605.45"}},null,{"$f":"(AL100+AL101)/2","v":{"v":258.18181818181813,"d":"258.18"}},{"$f":"(AM100+AM101)/2","v":{"v":301.3636363636364,"d":"301.36"}},{"$nulls":4},{"$f":"(AR100+AR101)/2","v":{"v":275.46428571428567,"d":"275.46"}},{"$f":"AS100","v":{"v":257.65402476780184,"d":"257.65"}},{"$f":"AT100","v":{"v":299.4567039106145,"d":"299.46"}},null,{"$f":"AV100","v":{"v":330.31914893617017,"d":"330.32"}},{"$f":"AW100","v":{"v":288.29787234042556,"d":"288.30"}},{"$f":"AX100","v":{"v":142.94117647058823,"d":"142.94"}},{"$f":"AY100","v":{"v":252.50567375886524,"d":"252.51"}},null,null,"replacement rate (average)",null,{"$f":"AVERAGE(AH102:BA102)","v":{"v":306.1305443043661,"d":"306.13"}},{"$nulls":7},{"$f":"BL100","v":{"v":76.04790419161678,"d":"76.05"}},{"$f":"BM100","v":{"v":59.880239520958085,"d":"59.88"}},{"$f":"BN100","v":{"v":75.66380838323354,"d":"75.66"}},{"$f":"BO100","v":{"v":67.23746107784432,"d":"67.24"}},{"$f":"(BP100)/1","v":{"v":72.06740119760481,"d":"72.07"}},{"$f":"BQ100","v":{"v":73.25662275449103,"d":"73.26"}},{"$f":"(BR100)/1","v":{"v":88.91410778443112,"d":"88.91"}},{"$f":"BS100","v":{"v":71.47219161676648,"d":"71.47"}},{"$f":"BT100","v":{"v":84.31372549019608,"d":"84.31"}},{"$f":"BU100","v":{"v":86.92810457516342,"d":"86.93"}},{"$f":"(BV100)/1","v":{"v":99.49305861338432,"d":"99.49"}},{"$f":"BW100","v":{"v":106.9505261068096,"d":"106.95"}},{"v":86.66666666666664,"d":"86.67"},{"v":139.16666666666666,"d":"139.17"},{"v":89.16666666666667,"d":"89.17"},{"v":129.16666666666669,"d":"129.17"},{"v":112.5985507246377,"d":"112.60"},{"v":137.25343101343103,"d":"137.25"},null,{"$f":"CE100","v":{"v":121.36752136752138,"d":"121.37"}},null,"replacement rate (average)",{"$f":"AVERAGE(BL102:CF102)","v":{"v":93.55849058340826,"d":"93.56"}}]
[{"$nulls":6},{"$f":"G100-G101","v":{"v":81.02893890675242,"d":"81.03"}},null,{"$f":"I100-I101","v":{"v":108.03858520900323,"d":"108.04"}},{"$nulls":3},{"$f":"M100-M101","v":{"v":35.320141570141566,"d":"35.32"}},{"$nulls":9},"replacement rate r1-r2",null,"Average of average relacement rates",{"$nulls":7},"Based on incremental line width of tooth",null,"Pmx 1 0.0138","Pmx 3 replacement 0.011",null,"Pmx 3 replacement 0.011","Pmx 3 replacement 0.011","Pmx 3 replacement 0.011","Pmx 3 replacement 0.011","Mx 6 0.0117","Mx 6 0.0117",null,null,"Mx 7 0.0179  Mx 7 replacement 0.02",null,"Mx 13 0.0188","Mx 13 0.0188","Mx 12 0.034",null,"Mx 13 0.0188","Mx 13 0.0188",{"$nulls":9},"Based on incremental line width of tooth","Pmx 3 0.0167\n","Pmx 3 0.0167\n","Pmx 3 0.0167\n","Pmx 3 0.0167\n","Pmx 3 0.0167\n","Pmx 3 0.0167\n","Pmx 3 0.0167\n","Pmx 3 0.0167\n","Mx 7 0.0153\n","Mx 7 0.0153\n","Mx 6 0.01267\n","Mx 7 0.01533\n","Mx 12 0.0120 replacement 0.0115\n\n","Mx 12 0.0120 replacement 0.0115\n\n","Mx 12 0.0120 replacement 0.0115\n\n","Mx 12 0.0120 replacement 0.0115\n\n","Mx 12 0.0120 replacement 0.0115\n\n","Mx 13  0.0117\n","Mx 13  0.0117\n","Mx 13  0.0117\n","Mx 13  0.0117\n"]
[null,null,{"$f":"C102","v":{"v":61.199999999999996,"d":"61.20"}},{"$f":"D102","v":{"v":79.74276527331192,"d":"79.74"}},{"$f":"E102","v":{"v":147.28914676393737,"d":"147.29"}},{"$f":"F102","v":{"v":104.18006430868168,"d":"104.18"}},{"$f":"(G102+G103)/2","v":{"v":80.33476817757494,"d":"80.33"}},{"$f":"H102","v":{"v":124.11575562700963,"d":"124.12"}},{"$f":"(I102+I103)/2","v":{"v":102.89389067524117,"d":"102.89"}},{"$f":"J102","v":{"v":122.61435535732807,"d":"122.61"}},{"$f":"K102","v":{"v":186.95652173913044,"d":"186.96"}},{"$f":"L102","v":{"v":164.3478260869565,"d":"164.35"}},{"$f":"(M102+M103)/2","v":{"v":143.55460662525877,"d":"143.55"}},{"$f":"N102","v":{"v":188.23148148148147,"d":"188.23"}},{"v":107.40740740740739,"d":"107.41"},{"v":128.88888888888889,"d":"128.89"},{"v":149.62962962962962,"d":"149.63"},{"v":151.85185185185185,"d":"151.85"},{"v":200,"d":"200.00"},{"v":136.47544283413848,"d":"136.48"},{"v":131.85185185185185,"d":"131.85"},{"v":196.2962962962963,"d":"196.30"},"replacement rate (average)",null,{"$f":"AVERAGE(C104:V104)","v":{"v":135.3931275437988,"d":"135.39"}},{"$nulls":9},"Tooth formation time based on mean incremental line width of a different tooth",{"$nulls":29},"Tooth formation time based on mean incremental line width of a different tooth"]
[]
[]
[]
[]
[]
[]
[{"$nulls":32},"Version using the same incremental line width for all values",{"$nulls":3},0.018070182266004958,{"$nulls":25},"Version using the same incremental line width for all values",{"$nulls":3},0.0136205128205128]
[{"$nulls":33},"Large sized Alligator, right premaxilla",{"$nulls":4},"Large sized Alligator, right maxilla",{"$nulls":24},"Small sized Alligator, right premaxilla",{"$nulls":4},"Small sized Alligator, right maxilla"]
[null,"Version using the same incremental line width for all values",{"$nulls":3},0.0145,{"$nulls":27},1,2,3,4,5,6,7,8,9,10,11,12,13,14,15,16,17,18,19,20,"alveolus",{"$nulls":9},1,2,3,4,5,6,7,8,9,10,11,12,13,14,15,16,17,18,19,20,21,"alveolus"]
[null,null,"Medium sized Alligator, right premaxilla",{"$nulls":4},"Medium sized Alligator, right maxilla",{"$nulls":25},{"$f":"AM77","v":{"v":408.79518072289153,"d":"408.80"}},{"$f":"X7/AK111","v":{"v":445.76196750121863,"d":"445.76"}},{"$f":"AM78","v":{"v":1041.3636363636363,"d":"1041.36"}},null,{"$f":"X10/AK111","v":{"v":478.41244060186654,"d":"478.41"}},{"$f":"X17/AK111","v":{"v":398.7231503223191,"d":"398.72"}},{"$f":"X18/AK111","v":{"v":65.57764512587761,"d":"65.58"}},{"$f":"X19/AK111","v":{"v":301.8785267187024,"d":"301.88"}},{"$f":"X20/AK111","v":{"v":704.1987630605844,"d":"704.20"}},{"$f":"X21/AK111","v":{"v":333.4222041210233,"d":"333.42"}},{"$f":"AM79","v":{"v":756.4285714285713,"d":"756.43"}},{"$f":"AM81","v":{"v":346.90402476780184,"d":"346.90"}},{"$f":"X24/AK111","v":{"v":343.93676325513024,"d":"343.94"}},null,{"$f":"X26/AK111","v":{"v":577.4706556021373,"d":"577.47"}},{"$f":"X27/AK111","v":{"v":379.3542256015958,"d":"379.35"}},{"$f":"AM83","v":{"v":228.38235294117646,"d":"228.38"}},{"$f":"AM84","v":{"v":342.1333333333333,"d":"342.133"}},{"$f":"X30/AK111","v":{"v":341.7231718584761,"d":"341.72"}},{"$f":"X31/AK111","v":{"v":252.07272029398527,"d":"252.07"}},"tooth formation time 1",{"$nulls":9},{"$f":"AR6/BO111","v":{"v":105.19427710843391,"d":"105.19"}},{"$f":"AR7/BO111","v":{"v":130.1566265060243,"d":"130.16"}},{"$f":"BQ80","v":{"v":107.56800000000001,"d":"107.57"}},{"$f":"AR8/BO111","v":{"v":131.62500000000023,"d":"131.63"}},{"$f":"AR9/BO111","v":{"v":105.19427710843391,"d":"105.19"}},{"$f":"AR16/BO111","v":{"v":124.28313253012068,"d":"124.28"}},{"$f":"AR18/BO111","v":{"v":131.62500000000023,"d":"131.63"}},{"$f":"AR18/BO111","v":{"v":131.62500000000023,"d":"131.63"}},{"$f":"AR19/BO111","v":{"v":184.4864457831328,"d":"184.49"}},{"$f":"AR20/BO111","v":{"v":134.56174698795203,"d":"134.56"}},{"$f":"BQ81","v":{"v":173.11578947368423,"d":"173.12"}},{"$f":"BQ82","v":{"v":134.5304347826087,"d":"134.53"}},{"$f":"AR23/BO111","v":{"v":154.38478915662674,"d":"154.38"}},{"$f":"AR24/BO111","v":{"v":167.60015060240988,"d":"167.60"}},{"$f":"AR25/BO111","v":{"v":99.32078313253027,"d":"99.32"}},{"$f":"AR26/BO111","v":{"v":169.0685240963858,"d":"169.07"}},{"$f":"BQ83","v":{"v":130.23333333333335,"d":"130.23"}},{"$f":"BQ85","v":{"v":175.95428571428573,"d":"175.95"}},{"$f":"AR29/BO111","v":{"v":99.32078313253027,"d":"99.32"}},{"$f":"AR30/BO111","v":{"v":128.6882530120484,"d":"128.69"}},{"$f":"AR31/BO111","v":{"v":50.13027108433742,"d":"50.13"}},"tooth formation time 1"]
[null,null,1,2,3,4,5,6,7,8,9,10,11,12,13,14,15,16,17,18,19,20,"alveolus",{"$nulls":11},{"$f":"AD7/AK111","v":{"v":174.04362356192834,"d":"174.04"}},{"$f":"AD8/AK111","v":{"v":265.3542686739098,"d":"265.35"}},null,{"$f":"AD10/AK111","v":{"v":164.0824622769849,"d":"164.08"}},{"$f":"AD17/AK111","v":{"v":216.6552579475197,"d":"216.66"}},{"$nulls":4},{"$f":"AM80","v":{"v":205.5,"d":"205.50"}},{"$f":"AM82","v":89.25},{"$f":"AD24/AK111","v":{"v":52.849494595116546,"d":"52.85"}},null,{"$f":"AD26/AK111","v":{"v":233.81059127158895,"d":"233.81"}},{"$f":"AD27/AK111","v":{"v":79.41259135496571,"d":"79.41"}},{"$f":"AD28/AK111","v":{"v":160.76207518200377,"d":"160.76"}},{"$f":"AD29/AK111","v":{"v":93.24753758405382,"d":"93.25"}},null,null,"tooth formation time 2",{"$nulls":9},{"$f":"AX6/BO111","v":{"v":11.952560240963873,"d":"11.95"}},{"$f":"AX7/BO111","v":{"v":56.737951807229,"d":"56.74"}},{"$f":"AX8/BO111","v":{"v":39.11746987951813,"d":"39.12"}},{"$f":"AX9/BO111","v":{"v":22.96536144578317,"d":"22.97"}},{"$f":"AX10/BO111","v":{"v":41.32003012048199,"d":"41.32"}},{"$f":"AX16/BO111","v":{"v":34.712349397590415,"d":"34.71"}},{"$f":"AX17/BO111","v":{"v":69.95331325301215,"d":"69.95"}},{"$f":"AX18/BO111","v":{"v":44.2567771084338,"d":"44.26"}},{"$f":"AX19/BO111","v":{"v":89.77635542168689,"d":"89.78"}},{"$f":"AX20/BO111","v":{"v":36.91490963855428,"d":"36.91"}},{"$f":"AX21/BO111","v":{"v":68.48493975903625,"d":"68.48"}},{"$f":"AX22/BO111","v":{"v":31.04141566265065,"d":"31.04"}},{"$f":"AX23/BO111","v":{"v":78.02936746987965,"d":"78.03"}},{"$f":"AX24/BO111","v":{"v":44.990963855421754,"d":"44.99"}},{"$f":"AX25/BO111","v":{"v":20.762801204819308,"d":"20.76"}},{"$f":"AX26/BO111","v":{"v":55.2695783132531,"d":"55.27"}},{"$f":"BQ84","v":{"v":17.63478260869565,"d":"17.63"}},{"$f":"AX28/BO111","v":{"v":33.243975903614505,"d":"33.24"}},null,{"$f":"AX30/BO111","v":{"v":24.433734939759074,"d":"24.43"}},null,"tooth formation time 2"]
[null,null,{"$f":"D6/F113","v":{"v":168.79310344827584,"d":"168.79"}},{"$f":"D7/F113","v":{"v":148.79310344827587,"d":"148.79"}},{"$f":"D8/F113","v":{"v":203.2758620689655,"d":"203.28"}},{"$f":"D9/F113","v":{"v":175,"d":"175.00"}},{"$f":"D10/F113","v":{"v":179.82758620689654,"d":"179.83"}},{"$f":"D17/F113","v":{"v":179.82758620689654,"d":"179.83"}},{"$f":"D19/F113","v":{"v":203.2758620689655,"d":"203.28"}},{"$f":"D19/F113","v":{"v":203.2758620689655,"d":"203.28"}},{"$f":"D20/F113","v":{"v":181.89655172413794,"d":"181.90"}},{"$f":"D21/F113","v":{"v":194.3103448275862,"d":"194.31"}},{"$f":"D22/F113","v":{"v":228.79310344827584,"d":"228.79"}},{"$f":"D23/F113","v":{"v":159.82758620689654,"d":"159.83"}},{"$f":"D24/F113","v":{"v":188.79310344827584,"d":"188.79"}},{"$f":"D25/F113","v":{"v":158.44827586206895,"d":"158.45"}},{"$f":"D26/F113","v":{"v":224.65517241379308,"d":"224.66"}},{"$f":"D27/F113","v":{"v":158.44827586206895,"d":"158.45"}},{"$f":"D28/F113","v":{"v":208.10344827586206,"d":"208.10"}},{"$f":"D29/F113","v":{"v":194.3103448275862,"d":"194.31"}},{"$f":"D30/F113","v":{"v":151.55172413793102,"d":"151.55"}},{"$f":"D31/F113","v":{"v":211.55172413793102,"d":"211.55"}},"tooth formation time 1",{"$nulls":15},{"$f":"AJ17/AK111","v":31.820376326902633},{"$nulls":14},"tooth formation time 3",{"$nulls":21},{"$f":"BD23/BO111","v":11.952560240963873},{"$nulls":8},"tooth formation time 3"]
[null,null,{"$f":"J6/F113","v":{"v":43.27586206896551,"d":"43.28"}},{"$f":"J7/F113","v":{"v":63.275862068965516,"d":"63.28"}},{"$f":"J8/F113","v":{"v":71.55172413793103,"d":"71.55"}},{"$f":"J9/F113","v":{"v":63.275862068965516,"d":"63.28"}},{"$f":"J10/F113","v":{"v":94.99999999999999,"d":"95.00"}},{"$f":"J17/F113","v":{"v":46.72413793103448,"d":"46.72"}},{"$f":"J18/F113","v":{"v":138.44827586206895,"d":"138.45"}},{"$f":"J19/F113","v":{"v":71.55172413793103,"d":"71.55"}},{"$f":"J40/F113","v":{"v":52.93103448275861,"d":"52.93"}},{"$f":"J21/F113","v":{"v":63.96551724137931,"d":"63.97"}},{"$f":"J22/F113","v":{"v":93.6206896551724,"d":"93.62"}},{"$f":"J23/F113","v":{"v":40.51724137931034,"d":"40.52"}},{"$f":"J24/F113","v":{"v":88.79310344827586,"d":"88.79"}},{"$f":"J25/F113","v":{"v":38.44827586206896,"d":"38.45"}},{"$f":"J26/F113","v":{"v":85.34482758620689,"d":"85.34"}},{"$f":"J27/F113","v":{"v":17.068965517241377,"d":"17.07"}},{"$f":"J28/F113","v":{"v":56.37931034482759,"d":"56.38"}},{"$f":"J29/F113","v":{"v":76.37931034482757,"d":"76.38"}},{"$f":"J30/F113","v":{"v":28.793103448275858,"d":"28.79"}},{"$f":"J31/F113","v":{"v":28.793103448275858,"d":"28.79"}},"tooth formation time 2",{"$nulls":11},{"$f":"AI114-AI115","v":{"v":271.7183439392903,"d":"271.72"}},{"$f":"AJ114-AJ115","v":{"v":776.0093676897264,"d":"776.01"}},null,{"$f":"AL114-AL115","v":{"v":314.3299783248816,"d":"314.33"}},{"$f":"AM114-AM115","v":{"v":182.0678923747994,"d":"182.07"}},{"$nulls":4},{"$f":"AR114-AR115","v":{"v":550.9285714285713,"d":"550.93"}},{"$f":"AS114-AS115","v":{"v":257.65402476780184,"d":"257.65"}},{"$f":"AT114-AT115","v":{"v":291.0872686600137,"d":"291.09"}},null,{"$f":"AV114-AV115","v":{"v":343.6600643305484,"d":"343.66"}},{"$f":"AW114-AW115","v":{"v":299.9416342466301,"d":"299.94"}},{"$f":"AX114-AX115","v":{"v":67.6202777591727,"d":"67.62"}},{"$f":"AY114-AY115","v":{"v":248.8857957492795,"d":"248.89"}},null,null,"replacement rate f-r1",{"$nulls":9},{"$f":"BL114-BL115","v":{"v":93.24171686747003,"d":"93.24"}},{"v":73.41867469879531,"d":"73.42"},{"v":68.45053012048189,"d":"68.45"},{"v":108.65963855421705,"d":"108.66"},{"v":63.87424698795192,"d":"63.87"},{"v":89.57078313253027,"d":"89.57"},{"v":61.67168674698807,"d":"61.67"},{"v":87.36822289156643,"d":"87.37"},{"v":94.71009036144592,"d":"94.71"},{"v":97.64683734939776,"d":"97.65"},{"v":104.63084971464798,"d":"104.63"},{"v":103.48901911995804,"d":"103.49"},{"v":76.35542168674709,"d":"76.36"},{"v":122.60918674698813,"d":"122.61"},{"v":78.55798192771096,"d":"78.56"},{"v":113.7989457831327,"d":"113.80"},{"v":112.5985507246377,"d":"112.60"},{"v":142.71030981067122,"d":"142.71"},null,{"$f":"CE114-CE115","v":{"v":104.25451807228932,"d":"104.25"}},{"$f":"CF114-CF115","v":{"v":50.13027108433742,"d":"50.13"}},"replacement rate f-r1"]
[{"$nulls":6},{"$f":"P10/F113","v":{"v":8.10344827586207,"d":"8.10"}},null,{"$f":"P18/F113","v":{"v":22.58620689655172,"d":"22.59"}},{"$nulls":3},{"$f":"P22/F113","v":{"v":3.965517241379311,"d":"3.97"}},{"$nulls":9},"tooth formation time 3",{"$nulls":14},{"$f":"AL115-AL116","v":{"v":164.0824622769849,"d":"164.08"}},{"$f":"AM115-AM116","v":{"v":184.83488162061707,"d":"184.83"}},{"$nulls":14},"replacement rate r1-r2",null,"Average of average relacement rates",{"$nulls":19},{"$f":"BX115-BX116","v":{"v":66.07680722891577,"d":"66.08"}},{"$nulls":8},"replacement rate r1-r2",null,"Average of average relacement rates"]
[null,null,{"$f":"C116-C117","v":{"v":125.51724137931033,"d":"125.52"}},{"v":85.51724137931035,"d":"85.52"},{"v":131.72413793103448,"d":"131.72"},{"v":111.72413793103448,"d":"111.72"},{"v":84.82758620689656,"d":"84.83"},{"v":133.10344827586206,"d":"133.10"},{"v":64.82758620689654,"d":"64.83"},{"v":131.72413793103448,"d":"131.72"},{"v":128.96551724137933,"d":"128.97"},{"v":130.3448275862069,"d":"130.34"},{"v":135.17241379310343,"d":"135.17"},{"v":119.31034482758619,"d":"119.31"},{"v":99.99999999999999,"d":"100.00"},{"v":120,"d":"120.00"},{"v":139.3103448275862,"d":"139.31"},{"v":141.3793103448276,"d":"141.38"},{"v":151.72413793103448,"d":"151.72"},{"v":117.93103448275862,"d":"117.93"},{"v":122.75862068965516,"d":"122.76"},{"v":182.75862068965517,"d":"182.76"},"replacement rate f-r1",{"$nulls":11},{"$f":"AI117","v":{"v":271.7183439392903,"d":"271.72"}},{"$f":"AJ117","v":{"v":776.0093676897264,"d":"776.01"}},null,{"$f":"(AL117+AL118)/2","v":{"v":239.20622030093324,"d":"239.21"}},{"$f":"(AM117+AM118)/2","v":{"v":183.45138699770825,"d":"183.45"}},{"$nulls":4},{"$f":"AR117","v":{"v":550.9285714285713,"d":"550.93"}},{"$f":"AS117","v":{"v":257.65402476780184,"d":"257.65"}},{"$f":"AT117","v":{"v":291.0872686600137,"d":"291.09"}},null,{"$f":"AV117","v":{"v":343.6600643305484,"d":"343.66"}},{"$f":"AW117","v":{"v":299.9416342466301,"d":"299.94"}},{"$f":"AX117","v":{"v":67.6202777591727,"d":"67.62"}},{"$f":"AY117","v":{"v":248.8857957492795,"d":"248.89"}},null,null,"replacement rate (average)",null,{"$f":"AVERAGE(AH119:BA119)","v":{"v":320.92390507906146,"d":"320.92"}},{"$nulls":7},{"$f":"BL117","v":{"v":93.24171686747003,"d":"93.24"}},{"$f":"BM117","v":{"v":73.41867469879531,"d":"73.42"}},{"$f":"BN117","v":{"v":68.45053012048189,"d":"68.45"}},{"$f":"BO117","v":{"v":108.65963855421705,"d":"108.66"}},{"$f":"(BP117)/1","v":{"v":63.87424698795192,"d":"63.87"}},{"$f":"BQ117","v":{"v":89.57078313253027,"d":"89.57"}},{"$f":"(BR117)/1","v":{"v":61.67168674698807,"d":"61.67"}},{"$f":"BS117","v":{"v":87.36822289156643,"d":"87.37"}},{"$f":"BT117","v":{"v":94.71009036144592,"d":"94.71"}},{"$f":"BU117","v":{"v":97.64683734939776,"d":"97.65"}},{"$f":"(BV117)/1","v":{"v":104.63084971464798,"d":"104.63"}},{"$f":"BW117","v":{"v":103.48901911995804,"d":"103.49"}},{"$f":"(BX117+BX118)/2","v":{"v":71.21611445783142,"d":"71.22"}},{"$f":"BY117","v":{"v":122.60918674698813,"d":"122.61"}},{"$f":"BZ117","v":{"v":78.55798192771096,"d":"78.56"}},{"$f":"CA117","v":{"v":113.7989457831327,"d":"113.80"}},{"$f":"CB117","v":{"v":112.5985507246377,"d":"112.60"}},{"$f":"CC117","v":{"v":142.71030981067122,"d":"142.71"}},null,{"$f":"CE117","v":{"v":104.25451807228932,"d":"104.25"}},null,"replacement rate (average)",null,{"$f":"AVERAGE(BL119:CF119)","v":{"v":94.34094231940591,"d":"94.34"}}]
[{"$nulls":6},{"$f":"G117-G118","v":{"v":86.89655172413792,"d":"86.90"}},null,{"$f":"I117-I118","v":{"v":115.86206896551724,"d":"115.86"}},{"$nulls":3},{"$f":"M117-M118","v":{"v":89.65517241379308,"d":"89.66"}},{"$nulls":9},"replacement rate r1-r2",null,"Average of average relacement rates"]
[null,null,{"$f":"C119","v":{"v":125.51724137931033,"d":"125.52"}},{"$f":"D119","v":{"v":85.51724137931035,"d":"85.52"}},{"$f":"E119","v":{"v":131.72413793103448,"d":"131.72"}},{"$f":"F119","v":{"v":111.72413793103448,"d":"111.72"}},{"$f":"(G119+G120)/2","v":{"v":85.86206896551724,"d":"85.86"}},{"$f":"H119","v":{"v":133.10344827586206,"d":"133.10"}},{"$f":"(I119+I120)/2","v":{"v":90.34482758620689,"d":"90.34"}},{"$f":"J119","v":{"v":131.72413793103448,"d":"131.72"}},{"$f":"K119","v":{"v":128.96551724137933,"d":"128.97"}},{"$f":"L119","v":{"v":130.3448275862069,"d":"130.34"}},{"$f":"(M119+M120)/2","v":{"v":112.41379310344826,"d":"112.41"}},{"$f":"N119","v":{"v":119.31034482758619,"d":"119.31"}},{"v":99.99999999999999,"d":"100.00"},{"v":120,"d":"120.00"},{"v":139.3103448275862,"d":"139.31"},{"v":141.3793103448276,"d":"141.38"},{"v":151.72413793103448,"d":"151.72"},{"v":117.93103448275862,"d":"117.93"},{"v":122.75862068965516,"d":"122.76"},{"v":182.75862068965517,"d":"182.76"},"replacement rate (average)",null,{"$f":"AVERAGE(C121:V121)","v":{"v":123.12068965517244,"d":"123.12"}}]
[]
[]
[]
[]
[]
[]
[{"$nulls":33},"Large sized Alligator, right dentary",{"$nulls":29},"Small sized Alligator, right dentary"]
[{"$nulls":33},1,2,3,4,5,6,7,8,9,10,11,12,13,14,15,16,17,18,19,20,"alveolus",{"$nulls":9},1,2,3,4,5,6,7,8,9,10,11,12,13,14,15,16,17,18,19,20,"alveolus"]
[null,null,"Medium sized Alligator, right dentary",{"$nulls":31},{"$f":"AM85","v":{"v":210.22727272727272,"d":"210.23"}},null,{"$f":"AM87","v":{"v":796.9469026548671,"d":"796.95"}},{"$f":"X41/0.0161","v":{"v":461.1801242236025,"d":"461.18"}},{"$f":"X42/0.0161","v":{"v":345.6521739130435,"d":"345.65"}},{"$f":"X43/0.0161","v":{"v":272.360248447205,"d":"272.36"}},{"$f":"X44/0.0161","v":{"v":261.80124223602485,"d":"261.80"}},{"$f":"X45/0.0169","v":{"v":329.28994082840245,"d":"329.29"}},{"$f":"X46/0.0169","v":{"v":269.52662721893495,"d":"269.53"}},{"$f":"AM89","v":{"v":296.650410677618,"d":"296.65"}},{"$f":"AM90","v":{"v":551.9417529314733,"d":"551.94"}},{"$f":"X49/0.0172","v":{"v":696.2209302325581,"d":"696.22"}},{"$f":"X50/0.0172","v":{"v":447.9651162790698,"d":"447.97"}},{"$f":"AM91","v":{"v":422.72727272727275,"d":"422.73"}},{"$f":"AM93","v":{"v":224.0425531914894,"d":"224.04"}},{"$nulls":4},"tooth formation time 1",{"$nulls":9},{"$f":"AR36/0.0133","v":{"v":161.11278195488723,"d":"161.11"}},{"$f":"BQ86","v":121.71},{"$f":"AR38/0.0175","v":{"v":105.30285714285715,"d":"105.30"}},{"$f":"BQ87","v":{"v":70.44571428571429,"d":"70.45"}},{"$f":"AR40/0.0175","v":{"v":89.87428571428572,"d":"89.87"}},{"$f":"AR41/0.0175","v":{"v":109.8742857142857,"d":"109.87"}},{"$f":"AR42/0.0175","v":{"v":61.87428571428572,"d":"61.87"}},{"$f":"AR43/0.0144","v":{"v":118.25000000000001,"d":"118.25"}},{"$f":"AR44/0.0144","v":{"v":77.27777777777779,"d":"77.28"}},{"$f":"AR45/0.0144","v":{"v":125.8888888888889,"d":"125.89"}},{"$f":"AR46/0.0144","v":{"v":103.66666666666667,"d":"103.67"}},{"$f":"BQ89","v":{"v":148.11111111111111,"d":"148.11"}},{"$f":"AR48/0.0144","v":{"v":125.8888888888889,"d":"125.89"}},{"$f":"AR49/0.0144","v":{"v":158.52777777777777,"d":"158.53"}},{"$f":"AR50/0.0144","v":{"v":109.22222222222224,"d":"109.22"}},{"$f":"AR51/0.0145","v":{"v":140.88275862068963,"d":"140.88"}},{"$f":"AR52/0.0145","v":{"v":97.43448275862069,"d":"97.43"}},{"$f":"BQ91","v":{"v":128.4689655172414,"d":"128.47"}},{"$f":"BQ92","v":{"v":131.424,"d":"131.42"}},{"$f":"AR55/0.0125","v":{"v":226.62399999999997,"d":"226.62"}},"tooth formation time 1"]
[null,null,1,2,3,4,5,6,7,8,9,10,11,12,13,14,15,16,17,18,19,20,"alveolus",{"$nulls":11},{"$f":"AM86","v":{"v":90.38461538461539,"d":"90.38"}},null,{"$f":"AM88","v":{"v":243.46666666666664,"d":"243.47"}},{"$f":"AD41/0.0188","v":{"v":133.24468085106383,"d":"133.24"}},{"$f":"AD42/0.0188","v":{"v":165.69148936170214,"d":"165.69"}},{"v":69.68085106382979,"d":"69.68"},{"v":109.04255319148935,"d":"109.04"},{"$f":"AD45/0.0169","v":{"v":199.11242603550298,"d":"199.11"}},{"$f":"AD46/0.0169","v":{"v":91.42011834319527,"d":"91.42"}},null,{"$f":"AD48/0.0172","v":{"v":136.3372093023256,"d":"136.34"}},{"$f":"AD49/0.0172","v":{"v":228.19767441860463,"d":"228.20"}},null,{"$f":"AM92","v":{"v":133.65384615384616,"d":"133.65"}},{"$f":"AD52/0.0225","v":{"v":43.77777777777777,"d":"43.78"}},{"$nulls":4},"tooth formation time 2",{"$nulls":9},{"$f":"AX36/0.0133","v":{"v":49.83458646616541,"d":"49.83"}},{"$f":"AX37/0.0133","v":{"v":61.86466165413534,"d":"61.86"}},{"$f":"AX38/0.012","v":{"v":45.23333333333333,"d":"45.23"}},{"$f":"BQ88","v":{"v":16.066666666666666,"d":"16.07"}},{"$f":"AX40/0.012","v":{"v":26.9,"d":"26.90"}},{"$f":"AX41/0.012","v":{"v":46.9,"d":"46.90"}},{"$f":"AX42/0.012","v":{"v":14.4,"d":"14.40"}},{"$f":"AX43/0.013","v":{"v":34.83076923076923,"d":"34.83"}},{"$f":"AX44/0.013","v":{"v":12.523076923076923,"d":"12.52"}},{"$f":"AX45/0.013","v":{"v":35.6,"d":"35.60"}},{"$f":"AX46/0.013","v":{"v":21.753846153846155,"d":"21.75"}},{"$f":"BQ90","v":{"v":70.98461538461538,"d":"70.98"}},{"$f":"AX48/0.013","v":{"v":34.83076923076923,"d":"34.83"}},{"$f":"AX49/0.013","v":{"v":64.06153846153846,"d":"64.06"}},{"$f":"AX50/0.013","v":{"v":17.907692307692308,"d":"17.91"}},{"$f":"AX51/0.0145","v":{"v":36.744827586206895,"d":"36.74"}},{"$f":"AX52/0.0145","v":{"v":10.537931034482758,"d":"10.54"}},{"$f":"AX53/0.0145","v":{"v":29.848275862068967,"d":"29.85"}},{"$f":"AX54/0.0125","v":{"v":9.024000000000001,"d":"9.02"}},{"$f":"AX55/0.0125","v":{"v":24.224,"d":"24.22"}},"tooth formation time 2"]
[null,null,{"$f":"D37/0.014","v":151.25},{"$f":"H86","v":{"v":298.4375,"d":"298.44"}},{"$f":"D39/0.014","v":{"v":225.5357142857143,"d":"225.54"}},{"v":195.71428571428572,"d":"195.71"},{"v":160.71428571428572,"d":"160.71"},{"v":142.85714285714286,"d":"142.86"},{"v":132.14285714285714,"d":"132.14"},{"v":205.2173913043478,"d":"205.22"},{"v":90.43478260869566,"d":"90.43"},{"v":207.82608695652175,"d":"207.83"},{"v":155.20833333333334,"d":"155.21"},{"v":205.04201680672267,"d":"205.04"},{"v":153.4883720930233,"d":"153.49"},{"v":191.16279069767447,"d":"191.16"},{"v":219.0697674418605,"d":"219.07"},{"v":154.48275862068965,"d":"154.48"},{"v":154.48275862068965,"d":"154.48"},{"v":187.03657106782103,"d":"187.04"},{"v":287.61255411255416,"d":"287.61"},{"v":275.75757575757575,"d":"275.76"},"tooth formation time 1",{"$nulls":13},{"$f":"AJ40/0.0188","v":{"v":84.84042553191489,"d":"84.84"}},{"$nulls":4},{"$f":"AJ45/0.0169","v":{"v":25.147928994082843,"d":"25.15"}},{"$nulls":11},"tooth formation time 3",{"$nulls":29},"tooth formation time 3"]
[{"$nulls":3},{"$f":"H87","v":{"v":85.5,"d":"85.50"}},{"$f":"J39/0.014","v":{"v":105.53571428571429,"d":"105.54"}},{"$f":"J40/0.014","v":{"v":54.82142857142857,"d":"54.82"}},{"$f":"J41/0.014","v":{"v":67.67857142857143,"d":"67.68"}},{"v":33.57142857142857,"d":"33.57"},{"v":80.71428571428571,"d":"80.71"},{"v":59.1304347826087,"d":"59.13"},{"v":21.73913043478261,"d":"21.74"},{"v":65.21739130434783,"d":"65.22"},{"v":17.830803653415117,"d":"17.83"},{"v":55.23200156057854,"d":"55.23"},{"v":88.60465116279072,"d":"88.60"},{"v":62.79069767441862,"d":"62.79"},{"v":101.16279069767442,"d":"101.16"},2.24,{"v":55.862068965517246,"d":"55.86"},{"v":97.24137931034481,"d":"97.24"},{"v":25,"d":"25.00"},46.25,"tooth formation time 2",{"$nulls":11},{"$f":"AI130-AI131","v":{"v":119.84265734265733,"d":"119.84"}},null,{"$f":"AK130-AK131","v":{"v":553.4802359882005,"d":"553.48"}},{"v":327.93544337253866,"d":"327.94"},{"v":179.96068455134136,"d":"179.96"},{"v":202.6793973833752,"d":"202.68"},{"v":152.75868904453552,"d":"152.76"},{"v":130.17751479289947,"d":"130.18"},{"v":178.10650887573968,"d":"178.11"},null,{"$f":"AS130-AS131","v":{"v":415.60454362914766,"d":"415.60"}},{"$f":"AT130-AT131","v":{"v":468.0232558139535,"d":"468.02"}},null,{"$f":"AV130-AV131","v":{"v":289.07342657342656,"d":"289.07"}},{"$f":"AW130-AW131","v":{"v":180.26477541371162,"d":"180.26"}},{"$nulls":4},"replacement rate f-r1",{"$nulls":9},{"$f":"BL130-BL131","v":{"v":111.27819548872182,"d":"111.28"}},{"v":59.845338345864654,"d":"59.85"},{"v":60.06952380952382,"d":"60.07"},{"v":54.379047619047626,"d":"54.38"},{"v":62.97428571428572,"d":"62.97"},{"v":62.974285714285706,"d":"62.97"},{"v":47.47428571428572,"d":"47.47"},{"v":83.41923076923078,"d":"83.42"},{"v":64.75470085470086,"d":"64.75"},{"v":90.28888888888889,"d":"90.29"},{"v":81.91282051282052,"d":"81.91"},{"v":77.12649572649573,"d":"77.13"},{"v":91.05811965811967,"d":"91.06"},{"v":94.46623931623931,"d":"94.47"},{"v":91.31452991452994,"d":"91.31"},{"v":104.13793103448273,"d":"104.14"},{"v":86.89655172413794,"d":"86.90"},{"v":98.62068965517244,"d":"98.62"},{"v":122.4,"d":"122.40"},{"v":202.39999999999998,"d":"202.40"},"replacement rate f-r1"]
[{"$nulls":4},{"$f":"P39/0.014","v":7.678571428571428},{"$nulls":17},"tooth formation time 3",{"$nulls":13},{"$f":"AK131-AK132","v":{"v":158.62624113475175,"d":"158.63"}},{"$nulls":4},{"$f":"AP131-AP132","v":{"v":173.96449704142015,"d":"173.96"}},{"$nulls":11},"replacement rate r1-r2",null,"Average of average relacement rates",{"$nulls":27},"replacement rate r1-r2",null,"Average of average relacement rates"]
[{"$nulls":3},{"$f":"D132-D133","v":{"v":212.9375,"d":"212.94"}},{"v":120.00000000000001,"d":"120.00"},{"v":140.89285714285717,"d":"140.89"},{"v":93.03571428571429,"d":"93.04"},{"v":109.28571428571429,"d":"109.29"},{"v":51.42857142857143,"d":"51.43"},{"v":146.08695652173913,"d":"146.09"},{"v":68.69565217391305,"d":"68.70"},{"v":142.60869565217394,"d":"142.61"},{"v":137.3775296799182,"d":"137.38"},{"v":149.81001524614413,"d":"149.81"},{"v":64.88372093023257,"d":"64.88"},{"v":128.37209302325584,"d":"128.37"},{"v":117.90697674418608,"d":"117.91"},{"v":152.24275862068964,"d":"152.24"},{"v":98.62068965517241,"d":"98.62"},{"v":89.79519175747622,"d":"89.80"},{"v":262.61255411255416,"d":"262.61"},{"v":229.50757575757575,"d":"229.51"},"replacement rate f-r1",{"$nulls":11},{"$f":"AI133","v":{"v":119.84265734265733,"d":"119.84"}},null,{"$f":"(AK133+AK134)/2","v":{"v":356.0532385614762,"d":"356.05"}},{"$f":"AL133","v":{"v":327.93544337253866,"d":"327.94"}},{"$f":"AM133","v":{"v":179.96068455134136,"d":"179.96"}},{"$f":"AN133","v":{"v":202.6793973833752,"d":"202.68"}},{"$f":"AO133","v":{"v":152.75868904453552,"d":"152.76"}},{"$f":"(AP133+AP134)/2","v":{"v":152.07100591715982,"d":"152.07"}},{"$f":"AQ133","v":{"v":178.10650887573968,"d":"178.11"}},null,{"$f":"AS133","v":{"v":415.60454362914766,"d":"415.60"}},{"$f":"AT133","v":{"v":468.0232558139535,"d":"468.02"}},null,{"$f":"AV133","v":{"v":289.07342657342656,"d":"289.07"}},{"$f":"AW133","v":{"v":180.26477541371162,"d":"180.26"}},{"$nulls":4},"replacement rate (average)",null,{"$f":"AVERAGE(AH135:BA135)","v":{"v":251.8644688732552,"d":"251.86"}},{"$nulls":7},{"$f":"BL133","v":{"v":111.27819548872182,"d":"111.28"}},{"$f":"BM133","v":{"v":59.845338345864654,"d":"59.85"}},{"$f":"(BN133)/1","v":{"v":60.06952380952382,"d":"60.07"}},{"$f":"BO133","v":{"v":54.379047619047626,"d":"54.38"}},{"v":62.97428571428572,"d":"62.97"},{"v":62.974285714285706,"d":"62.97"},{"v":47.47428571428572,"d":"47.47"},{"v":83.41923076923078,"d":"83.42"},{"v":64.75470085470086,"d":"64.75"},{"v":90.28888888888889,"d":"90.29"},{"v":81.91282051282052,"d":"81.91"},{"v":77.12649572649573,"d":"77.13"},{"v":91.05811965811967,"d":"91.06"},{"v":94.46623931623931,"d":"94.47"},{"v":91.31452991452994,"d":"91.31"},{"v":104.13793103448273,"d":"104.14"},{"v":86.89655172413794,"d":"86.90"},{"v":98.62068965517244,"d":"98.62"},{"v":122.4,"d":"122.40"},{"v":202.39999999999998,"d":"202.40"},"replacement rate (average)",null,{"$f":"AVERAGE(BL135:CE135)","v":{"v":87.3895580230417,"d":"87.39"}}]
[{"$nulls":4},{"$f":"E133-E134","v":{"v":97.85714285714286,"d":"97.86"}},{"$nulls":17},"replacement rate r1-r2",null,"Average of average relacement rates"]
[{"$nulls":3},{"$f":"D135","v":{"v":212.9375,"d":"212.94"}},{"$f":"(E135+E136)/2","v":{"v":108.92857142857144,"d":"108.93"}},{"$f":"F135","v":{"v":140.89285714285717,"d":"140.89"}},{"v":93.03571428571429,"d":"93.04"},{"v":109.28571428571429,"d":"109.29"},{"v":51.42857142857143,"d":"51.43"},{"v":146.08695652173913,"d":"146.09"},{"v":68.69565217391305,"d":"68.70"},{"v":142.60869565217394,"d":"142.61"},{"v":137.3775296799182,"d":"137.38"},{"v":149.81001524614413,"d":"149.81"},{"v":64.88372093023257,"d":"64.88"},{"v":128.37209302325584,"d":"128.37"},{"v":117.90697674418608,"d":"117.91"},{"v":152.24275862068964,"d":"152.24"},{"v":98.62068965517241,"d":"98.62"},{"v":89.79519175747622,"d":"89.80"},{"v":262.61255411255416,"d":"262.61"},{"v":229.50757575757575,"d":"229.51"},"replacement rate (average)",null,{"$f":"AVERAGE(C137:V137)","v":{"v":131.84364939191892,"d":"131.84"}}]
[]
[]
[]
[]
[]
[{"$nulls":32},"Version using the same incremental line width for all values",{"$nulls":3},0.018070182266004958,{"$nulls":25},"Version using the same incremental line width for all values",{"$nulls":3},0.0136205128205128]
[{"$nulls":33},"Large sized Alligator, right dentary",{"$nulls":29},"Small sized Alligator, right dentary"]
[null,"Version using the same incremental line width for all values",{"$nulls":3},0.0145,{"$nulls":27},1,2,3,4,5,6,7,8,9,10,11,12,13,14,15,16,17,18,19,20,"alveolus",{"$nulls":9},1,2,3,4,5,6,7,8,9,10,11,12,13,14,15,16,17,18,19,20,"alveolus"]
[null,null,"Medium sized Alligator, right dentary",{"$nulls":31},{"$f":"AI130","v":{"v":210.22727272727272,"d":"210.23"}},null,{"$f":"AK130","v":{"v":796.9469026548671,"d":"796.95"}},{"$f":"X41/AK143","v":{"v":410.8979030039166,"d":"410.90"}},{"$f":"X42/AK143","v":{"v":307.96590305950116,"d":"307.97"}},{"$f":"X43/AK143","v":{"v":242.6649568582053,"d":"242.66"}},{"$f":"X44/AK143","v":{"v":233.2571934224254,"d":"233.26"}},{"$f":"X45/AK143","v":{"v":307.96590305950116,"d":"307.97"}},{"$f":"X46/AK143","v":{"v":252.07272029398527,"d":"252.07"}},{"$f":"AR130","v":{"v":296.650410677618,"d":"296.65"}},{"$f":"AS130","v":{"v":551.9417529314733,"d":"551.94"}},{"$f":"X49/AK143","v":{"v":662.6939243733201,"d":"662.69"}},{"$f":"X50/AK143","v":{"v":426.3930427804953,"d":"426.39"}},{"$f":"AV130","v":{"v":422.72727272727275,"d":"422.73"}},{"$f":"AW130","v":{"v":224.0425531914894,"d":"224.04"}},{"$nulls":4},"tooth formation time 1",{"$nulls":9},{"$f":"AR36/BO143","v":{"v":157.32153614457854,"d":"157.32"}},{"$f":"BQ86","v":121.71},{"$f":"AR38/BO143","v":{"v":135.29593373493998,"d":"135.30"}},{"$f":"BQ87","v":{"v":70.44571428571429,"d":"70.45"}},{"$f":"AR40/BO143","v":{"v":115.47289156626525,"d":"115.47"}},{"$f":"AR41/BO143","v":{"v":141.1694277108436,"d":"141.17"}},{"$f":"AR42/BO143","v":{"v":79.49774096385556,"d":"79.50"}},{"$f":"AR43/BO143","v":{"v":125.01731927710863,"d":"125.02"}},{"$f":"AR44/BO143","v":{"v":81.7003012048194,"d":"81.70"}},{"$f":"AR45/BO143","v":{"v":133.09337349397612,"d":"133.09"}},{"$f":"AR46/BO143","v":{"v":109.59939759036162,"d":"109.60"}},{"$f":"BQ89","v":{"v":148.11111111111111,"d":"148.11"}},{"$f":"AR48/BO143","v":{"v":133.09337349397612,"d":"133.09"}},{"$f":"AR49/BO143","v":{"v":167.60015060240988,"d":"167.60"}},{"$f":"AR50/BO143","v":{"v":115.47289156626525,"d":"115.47"}},{"$f":"AR51/BO143","v":{"v":149.979668674699,"d":"149.98"}},{"$f":"AR52/BO143","v":{"v":103.72590361445799,"d":"103.73"}},{"$f":"BQ91","v":{"v":128.4689655172414,"d":"128.47"}},{"$f":"BQ92","v":{"v":131.424,"d":"131.42"}},{"$f":"AR55/BO143","v":{"v":207.9804216867473,"d":"207.98"}},"tooth formation time 1"]
[null,null,1,2,3,4,5,6,7,8,9,10,11,12,13,14,15,16,17,18,19,20,"alveolus",{"$nulls":11},{"$f":"AI131","v":{"v":90.38461538461539,"d":"90.38"}},null,{"$f":"AK131","v":{"v":243.46666666666664,"d":"243.47"}},{"$f":"AD41/AK143","v":{"v":138.62616121546282,"d":"138.63"}},{"$f":"AD42/AK143","v":{"v":172.38343001443778,"d":"172.38"}},{"$f":"AD43/AK143","v":{"v":62.81065588005998,"d":"62.81"}},{"$f":"AD44/AK143","v":{"v":103.76209671816076,"d":"103.76"}},{"$f":"AD45/AK143","v":{"v":186.21837624352588,"d":"186.22"}},{"$f":"AD46/AK143","v":{"v":85.49996769576447,"d":"85.50"}},null,{"$f":"AD48/AK143","v":{"v":129.7717956288464,"d":"129.77"}},{"$f":"AD49/AK143","v":{"v":217.2086557966832,"d":"217.21"}},null,{"$f":"AV131","v":{"v":133.65384615384616,"d":"133.65"}},{"$f":"AD52/AK143","v":{"v":54.50968814260712,"d":"54.51"}},{"$nulls":4},"tooth formation time 2",{"$nulls":9},{"$f":"AX36/0.0136205128205128","v":{"v":48.66189759036152,"d":"48.66"}},{"$f":"AX37/0.0136205128205128","v":{"v":60.40888554216877,"d":"60.41"}},{"$f":"AX38/0.0136205128205128","v":{"v":39.851656626506085,"d":"39.85"}},{"$f":"BQ88","v":{"v":16.066666666666666,"d":"16.07"}},{"$f":"AX40/0.0136205128205128","v":{"v":23.69954819277112,"d":"23.70"}},{"$f":"AX41/0.0136205128205128","v":{"v":41.32003012048199,"d":"41.32"}},{"$f":"AX42/0.0136205128205128","v":{"v":12.686746987951828,"d":"12.69"}},{"$f":"AX43/0.0136205128205128","v":{"v":33.243975903614505,"d":"33.24"}},{"$f":"AX44/0.0136205128205128","v":{"v":11.952560240963873,"d":"11.95"}},{"$f":"AX45/0.0136205128205128","v":{"v":33.978162650602464,"d":"33.98"}},{"$f":"AX46/0.0136205128205128","v":{"v":20.762801204819308,"d":"20.76"}},{"$f":"BQ90","v":{"v":70.98461538461538,"d":"70.98"}},{"$f":"AX48/0.0136205128205128","v":{"v":33.243975903614505,"d":"33.24"}},{"$f":"AX49/0.0136205128205128","v":{"v":61.14307228915672,"d":"61.14"}},{"$f":"AX50/0.0136205128205128","v":{"v":17.091867469879546,"d":"17.09"}},{"$f":"AX51/BO143","v":{"v":39.11746987951813,"d":"39.12"}},{"$f":"AX52/BO143","v":{"v":11.21837349397592,"d":"11.22"}},{"$f":"AX53/BO143","v":{"v":31.775602409638605,"d":"31.78"}},{"$f":"AX54/BO143","v":{"v":8.28162650602411,"d":"8.28"}},{"$f":"AX55/BO143","v":{"v":22.231174698795215,"d":"22.23"}},"tooth formation time 2"]
[null,null,{"$f":"D37/F145","v":{"v":146.0344827586207,"d":"146.03"}},{"$f":"D38/F145","v":{"v":164.6551724137931,"d":"164.66"}},{"$f":"D39/F145","v":{"v":217.75862068965517,"d":"217.76"}},{"$f":"D40/F145","v":{"v":183.27586206896552,"d":"183.28"}},{"$f":"D41/F145","v":{"v":149.48275862068965,"d":"149.48"}},{"$f":"D42/F145","v":{"v":132.24137931034483,"d":"132.24"}},{"$f":"D43/F145","v":{"v":121.89655172413794,"d":"121.90"}},{"$f":"D44/F145","v":{"v":157.06896551724137,"d":"157.07"}},{"$f":"D45/F145","v":{"v":66.03448275862068,"d":"66.03"}},{"$f":"D46/F145","v":{"v":159.13793103448276,"d":"159.14"}},{"$f":"D47/F145","v":{"v":115,"d":"115.00"}},{"$f":"D48/F145","v":{"v":192.9310344827586,"d":"192.93"}},{"$f":"D49/F145","v":{"v":146.0344827586207,"d":"146.03"}},{"$f":"D50/F145","v":{"v":183.27586206896552,"d":"183.28"}},{"$f":"D51/F145","v":{"v":210.86206896551724,"d":"210.86"}},{"$f":"D52/F145","v":{"v":148.79310344827587,"d":"148.79"}},{"$f":"D53/F145","v":{"v":190.17241379310343,"d":"190.17"}},{"$f":"D54/F145","v":{"v":171.55172413793102,"d":"171.55"}},{"$f":"D55/F145","v":{"v":178.44827586206895,"d":"178.45"}},{"$f":"D56/F145","v":{"v":173.6206896551724,"d":"173.62"}},"tooth formation time 1",{"$nulls":13},{"$f":"AJ40/AK143","v":{"v":88.2669569415821,"d":"88.27"}},{"$nulls":4},{"$f":"AJ45/AK143","v":{"v":23.519408589449775,"d":"23.52"}},{"$nulls":11},"tooth formation time 3",{"$nulls":29},"tooth formation time 3"]
[{"$nulls":3},{"$f":"J38/F145","v":{"v":29.482758620689655,"d":"29.48"}},{"$f":"J39/F145","v":{"v":101.89655172413792,"d":"101.90"}},{"$f":"J40/F145","v":{"v":52.93103448275861,"d":"52.93"}},{"$f":"J41/F145","v":{"v":65.34482758620689,"d":"65.34"}},{"$f":"J42/F145","v":{"v":26.724137931034477,"d":"26.72"}},{"$f":"J43/F145","v":{"v":72.24137931034481,"d":"72.24"}},{"$f":"J44/F145","v":{"v":41.206896551724135,"d":"41.21"}},{"$f":"J45/F145","v":{"v":11.551724137931032,"d":"11.55"}},{"$f":"J46/F145","v":{"v":46.03448275862068,"d":"46.03"}},{"$f":"J47/F145","v":{"v":22.58620689655172,"d":"22.59"}},{"$f":"J48/F145","v":{"v":81.89655172413792,"d":"81.90"}},{"$f":"J49/F145","v":{"v":13.620689655172415,"d":"13.62"}},{"$f":"J50/F145","v":{"v":56.37931034482759,"d":"56.38"}},{"$f":"J51/F145","v":{"v":94.31034482758619,"d":"94.31"}},{"$f":"J52/F145","v":{"v":27.41379310344827,"d":"27.41"}},{"$f":"J53/F145","v":{"v":50.172413793103445,"d":"50.17"}},{"$f":"J54/F145","v":{"v":91.55172413793102,"d":"91.55"}},{"$f":"J55/F145","v":{"v":35.68965517241379,"d":"35.69"}},{"$f":"J56/F145","v":{"v":70.86206896551724,"d":"70.86"}},"tooth formation time 2",{"$nulls":11},{"$f":"AI146-AI147","v":{"v":119.84265734265733,"d":"119.84"}},null,{"$f":"AK146-AK147","v":{"v":553.4802359882005,"d":"553.48"}},{"v":272.2717417884538,"d":"272.27"},{"v":135.58247304506338,"d":"135.58"},{"v":179.85430097814532,"d":"179.85"},{"v":129.49509670426463,"d":"129.50"},{"v":121.74752681597528,"d":"121.75"},{"v":166.5727525982208,"d":"166.57"},null,{"$f":"AS146-AS147","v":{"v":422.16995730262687,"d":"422.17"}},{"$f":"AT146-AT147","v":{"v":445.48526857663694,"d":"445.49"}},null,{"$f":"AV146-AV147","v":{"v":289.07342657342656,"d":"289.07"}},{"$f":"AW146-AW147","v":{"v":169.5328650488823,"d":"169.53"}},{"$nulls":4},"replacement rate f-r1",{"$nulls":9},{"$f":"BL146-BL147","v":{"v":108.65963855421703,"d":"108.66"}},{"v":61.301114457831225,"d":"61.30"},{"v":95.4442771084339,"d":"95.44"},{"v":54.379047619047626,"d":"54.38"},{"v":91.77334337349413,"d":"91.77"},{"v":99.8493975903616,"d":"99.85"},{"v":66.81099397590373,"d":"66.81"},{"v":91.77334337349413,"d":"91.77"},{"v":69.74774096385552,"d":"69.75"},{"v":99.11521084337366,"d":"99.12"},{"v":88.83659638554231,"d":"88.84"},{"v":77.12649572649573,"d":"77.13"},{"v":99.8493975903616,"d":"99.85"},{"v":106.45707831325316,"d":"106.46"},{"v":98.3810240963857,"d":"98.38"},{"v":110.86219879518089,"d":"110.86"},{"v":92.50753012048207,"d":"92.51"},{"v":96.69336310760279,"d":"96.69"},{"v":123.1423734939759,"d":"123.14"},{"v":185.74924698795206,"d":"185.75"},"replacement rate f-r1"]
[{"$nulls":4},{"$f":"P39/F145","v":7.413793103448276},{"$nulls":17},"tooth formation time 3",{"$nulls":13},{"$f":"AK147-AK148","v":{"v":155.19970972508455,"d":"155.20"}},{"$nulls":16},"replacement rate r1-r2",null,"Average of average relacement rates",{"$nulls":27},"replacement rate r1-r2",null,"Average of average relacement rates"]
[{"$nulls":3},{"$f":"D148-D149","v":{"v":135.17241379310346,"d":"135.17"}},{"v":115.86206896551725,"d":"115.86"},{"v":130.34482758620692,"d":"130.34"},{"v":84.13793103448276,"d":"84.14"},{"v":105.51724137931035,"d":"105.52"},{"v":49.655172413793125,"d":"49.66"},{"v":115.86206896551724,"d":"115.86"},{"v":54.48275862068965,"d":"54.48"},{"v":113.10344827586208,"d":"113.10"},{"v":92.41379310344828,"d":"92.41"},{"v":111.03448275862068,"d":"111.03"},{"v":132.41379310344828,"d":"132.41"},{"v":126.89655172413794,"d":"126.90"},{"v":116.55172413793105,"d":"116.55"},{"v":121.3793103448276,"d":"121.38"},{"v":140,"d":"140.00"},{"v":80,"d":"80.00"},{"v":142.75862068965517,"d":"142.76"},{"v":102.75862068965517,"d":"102.76"},"replacement rate f-r1",{"$nulls":11},{"$f":"AI149","v":{"v":119.84265734265733,"d":"119.84"}},null,{"$f":"(AK149+AK150)/2","v":{"v":354.33997285664253,"d":"354.34"}},{"$f":"AL149","v":{"v":272.2717417884538,"d":"272.27"}},{"v":135.58247304506338,"d":"135.58"},{"v":179.85430097814532,"d":"179.85"},{"v":129.49509670426463,"d":"129.50"},{"v":121.74752681597528,"d":"121.75"},{"v":166.5727525982208,"d":"166.57"},null,{"$f":"AS149","v":{"v":422.16995730262687,"d":"422.17"}},{"$f":"AT149","v":{"v":445.48526857663694,"d":"445.49"}},null,{"$f":"AV149","v":{"v":289.07342657342656,"d":"289.07"}},{"$f":"AW149","v":{"v":169.5328650488823,"d":"169.53"}},{"$nulls":4},"replacement rate (average)",null,{"$f":"AVERAGE(AH151:BA151)","v":{"v":233.8306699692496,"d":"233.83"}},{"$nulls":7},{"$f":"BL149","v":{"v":108.65963855421703,"d":"108.66"}},{"$f":"BM149","v":{"v":61.301114457831225,"d":"61.30"}},{"$f":"(BN149+BN150)/1","v":{"v":95.4442771084339,"d":"95.44"}},{"$f":"BO149","v":{"v":54.379047619047626,"d":"54.38"}},{"v":91.77334337349413,"d":"91.77"},{"v":99.8493975903616,"d":"99.85"},{"v":66.81099397590373,"d":"66.81"},{"v":91.77334337349413,"d":"91.77"},{"v":69.74774096385552,"d":"69.75"},{"v":99.11521084337366,"d":"99.12"},{"v":88.83659638554231,"d":"88.84"},{"v":77.12649572649573,"d":"77.13"},{"v":99.8493975903616,"d":"99.85"},{"v":106.45707831325316,"d":"106.46"},{"v":98.3810240963857,"d":"98.38"},{"v":110.86219879518089,"d":"110.86"},{"v":92.50753012048207,"d":"92.51"},{"v":96.69336310760279,"d":"96.69"},{"v":123.1423734939759,"d":"123.14"},{"v":185.74924698795206,"d":"185.75"},"replacement rate (average)",null,{"$f":"AVERAGE(BL151:CE151)","v":{"v":95.92297062386223,"d":"95.92"}}]
[{"$nulls":4},{"$f":"E149-E150","v":{"v":94.48275862068965,"d":"94.48"}},{"$nulls":17},"replacement rate r1-r2",null,"Average of average relacement rates"]
[{"$nulls":3},{"$f":"D151","v":{"v":135.17241379310346,"d":"135.17"}},{"$f":"(E151+E152)/2","v":{"v":105.17241379310346,"d":"105.17"}},{"$f":"F151","v":{"v":130.34482758620692,"d":"130.34"}},{"v":84.13793103448276,"d":"84.14"},{"v":105.51724137931035,"d":"105.52"},{"v":49.655172413793125,"d":"49.66"},{"v":115.86206896551724,"d":"115.86"},{"v":54.48275862068965,"d":"54.48"},{"v":113.10344827586208,"d":"113.10"},{"v":92.41379310344828,"d":"92.41"},{"v":111.03448275862068,"d":"111.03"},{"v":132.41379310344828,"d":"132.41"},{"v":126.89655172413794,"d":"126.90"},{"v":116.55172413793105,"d":"116.55"},{"v":121.3793103448276,"d":"121.38"},{"v":140,"d":"140.00"},{"v":80,"d":"80.00"},{"v":142.75862068965517,"d":"142.76"},{"v":102.75862068965517,"d":"102.76"},"replacement rate (average)",null,{"$f":"AVERAGE(C153:V153)","v":{"v":108.40290381125229,"d":"108.40"}}]
{"$rows_empty":7}
[null,"Measurements of teeth in log"]
[null,"Premaxilla",{"$nulls":3},"dext",{"$nulls":15},"Premaxilla",{"$nulls":3},"dext",{"$nulls":15},"Premaxilla",{"$nulls":3},"dext",{"$nulls":15},"Medium Alligator",{"$nulls":5},"Large Alligator",{"$nulls":5},"Small Alligator"]
[null,"Medium Alligator","Functional tooth",{"$nulls":5},"Tooth position 1 (labial)",{"$nulls":5},"Tooth position 2",{"$nulls":6},"Large Alligator","Functional tooth",{"$nulls":5},"Tooth position 1 (labial)",{"$nulls":5},"Tooth position 2",{"$nulls":6},"Small Alligator","Functional tooth",{"$nulls":5},"Tooth position 1 (labial)",{"$nulls":5},"Tooth position 2",{"$nulls":6},{"$f":"C163","v":"Functional tooth"},null,null,"Replacement tooth 1",null,null,{"$f":"W163","v":"Functional tooth"},null,null,"Replacement tooth 1",null,null,{"$f":"AQ163","v":"Functional tooth"},null,null,"Replacement tooth 1"]
[null,null,"tooth height","crown height","volume","developmental stage","size compared to tooth befoe","estimated age","tooth height","crown height","volume","developmental stage","size compared to tooth before","estimated age","tooth height","crown height",null,"developmental stage","size compared to tooth befoe","estimated age",null,null,"tooth height","crown height","volume","developmental stage","size compared to tooth befoe",null,"tooth height","crown height","volume","developmental stage","size compared to tooth befoe",null,"tooth height","crown height","volume","developmental stage","size compared to tooth before",{"$nulls":3},"tooth height","crown height","volume","developmental stage","size compared to tooth befoe","estimated age","tooth height","crown height","volume","developmental stage","size compared to tooth befoe","estimated age","tooth height","crown height","volume","developmental stage","size compared to tooth before",null,null,"tooth height",{"$f":"D164","v":"crown height"},"volume",{"$f":"I164","v":"tooth height"},"crown height","volume",{"$f":"W164","v":"tooth height"},{"$f":"X164","v":"crown height"},"volume",{"$f":"AC164","v":"tooth height"},{"$f":"AD164","v":"crown height"},{"$f":"AE164","v":"volume"},"tooth height",{"$f":"AR164","v":"crown height"},"volume",{"$f":"AW164","v":"tooth height"},"crown height","volume"]
[null,"1. alveolus",{"$f":"LOG(C6)","v":0.7564459201622729},0.3887227004751754,0.35826425250657207,null,null,{"$f":"LOG(H6)","v":1.4851296639129778},{"$f":"LOG(I6)","v":0.10636090880675036},{"$f":"LOG(J6)","v":-0.2023862698469243},{"$f":"LOG(K6)","v":-0.6629003036383168},null,{"$f":"I165/C165","v":0.14060609750388212},{"$nulls":8},"1. alveolus",{"$f":"LOG(W6)","v":1.4354461863637156},0.7524326092614742,2.4626068542185005,{"$nulls":16},"1. alveolus",{"$f":"LOG(AQ6)","v":0.5055298198351325},0.15618557284097515,-0.20133245951615755,{"$nulls":3},{"$f":"LOG(AW6)","v":-0.5972229303896526},-0.7883455994468176,-2.461602671316416,null,{"$f":"LOG(BA6)","v":-1.102752750224785},{"$nulls":7},"1. alveolus",0.7564459201622729,0.3887227004751754,0.35826425250657207,0.10636090880675036,-0.2023862698469243,-0.6629003036383168,{"$f":"W165","v":1.4354461863637156},0.7524326092614742,2.4626068542185005,{"$nulls":3},0.5055298198351325,0.15618557284097515,-0.20133245951615755,-0.5972229303896526,-0.7883455994468176,-2.461602671316416]
[null,"2. alveolus",0.709905669040404,0.3339508043872472,0.4890580369990618,{"$nulls":3},{"$f":"LOG(I7)","v":0.3399480616943509},-0.03739392707587306,-0.16277467766196335,null,{"$f":"I166/C166","v":0.47886370896835717},{"$nulls":8},"2. alveolus",1.3667030568692862,0.9060655447552368,2.3963493683471873,{"$nulls":3},{"$f":"LOG(AC7)","v":0.9006401839826004},0.4976206497812877,1.4483595341228261,null,{"$f":"LOG(AG7)","v":-0.46606287288668585},{"$nulls":8},"2. alveolus",0.40360089751828065,0.24865974304833577,-0.42970816191082856,{"$nulls":3},0.061753967805932904,-0.11193288659256305,-0.8565371546762327,null,-0.34184692971234776,{"$nulls":7},"2. alveolus",0.709905669040404,0.3339508043872472,0.4890580369990618,{"$f":"I166","v":0.3399480616943509},null,{"$f":"K166","v":-0.16277467766196335},{"$f":"W166","v":1.3667030568692862},0.9060655447552368,2.3963493683471873,{"$f":"AC166","v":0.9006401839826004},0.4976206497812877,1.4483595341228261,0.40360089751828065,0.24865974304833577,-0.42970816191082856,0.061753967805932904,-0.11193288659256305,-0.8565371546762327]
[null,"3. alveolus",0.9555674970988642,0.4694538137671267,1.0866836508867526,null,null,{"$f":"LOG(H8)","v":1.529199150762819},0.47964727876938684,0.015988105384130355,0.20493352235414483,null,{"$f":"I167/C167","v":0.5019501816727886},{"$f":"LOG(N8)","v":1.6345516872479842},{"$nulls":7},"3. alveolus",1.5912316112515539,1.0589950935254164,3.005626855327041,{"$nulls":3},1.125968963092556,0.6807886115066824,1.9739348956352636,null,{"$f":"LOG(AG8)","v":-0.465262648158998},{"$nulls":8},"3. alveolus",0.6922121919253502,0.25353184352700486,0.1756182720422212,null,null,{"$f":"LOG(AV8)","v":{"v":-1.7781512503836436,"d":"-1.7782"}},0.022345876269880344,-0.2734357838377553,-0.9974057621721227,null,-0.6698663156554698,{"$nulls":7},"3. alveolus",0.9555674970988642,0.4694538137671267,1.0866836508867526,{"$f":"I167","v":0.47964727876938684},{"$f":"J167","v":0.015988105384130355},{"$f":"K167","v":0.20493352235414483},{"$f":"W167","v":1.5912316112515539},1.0589950935254164,3.005626855327041,1.125968963092556,0.6807886115066824,1.9739348956352636,0.6922121919253502,0.25353184352700486,0.1756182720422212,0.022345876269880344,-0.2734357838377553,-0.9974057621721227]
[null,"4. alveolus",1.0575710202790383,0.40440605092126936,1.3298593897836957,{"$nulls":3},0.3555472957321329,-0.03739392707587306,-0.06301903917551208,null,{"$f":"I168/C168","v":0.3361923586354724},{"$nulls":8},"4. alveolus",{"$nulls":19},"4. alveolus",0.616244388829242,0.15618557284097515,0.12059753052161133,{"$nulls":3},-0.2734357838377553,-0.5047332556121896,-1.6358881379072208,null,-0.8896801726669974,{"$nulls":7},"4. alveolus",1.0575710202790383,0.40440605092126936,1.3298593897836957,{"$f":"I168","v":0.3555472957321329},null,{"$f":"K168","v":-0.06301903917551208},{"$nulls":6},0.616244388829242,0.15618557284097515,0.12059753052161133,-0.2734357838377553,-0.5047332556121896,-1.6358881379072208]
[null,"5.alveolus",0.8930678899149709,0.41622431709856844,0.8646320970846854,{"$nulls":3},0.4514026135974929,0.13909160752382263,0.07845319287554224,null,{"$f":"I169/C169","v":0.5054516220938937},null,{"$f":"LOG(O10)","v":-0.42308304403479297},{"$f":"LOG(P10)","v":-0.9299621333922449},{"$f":"LOG(Q10)","v":-1.8212244279545893},null,{"$f":"O169/I169","v":-0.9372631688217208},null,null,"5.alveolus",{"$f":"LOG(W10)","v":1.5753610661552064},{"$f":"LOG(X10)","v":0.9367649976099414},{"$f":"LOG(Y10)","v":2.9321719349232134},{"$nulls":3},{"$f":"LOG(AC10)","v":0.813247300897605},{"$f":"LOG(AD10)","v":0.47202469770028144},{"$f":"LOG(AE10)","v":1.4475979968900548},null,{"$f":"LOG(AG10)","v":-0.7621137652576013},{"$nulls":8},"5.alveolus",0.6620775338595629,0.24620304183788136,0.0831541988625336,{"$nulls":3},-0.003138231509326578,-0.24964591123729193,-1.0550624847199626,null,-0.6652157653688895,{"$nulls":7},"5.alveolus",0.8930678899149709,0.41622431709856844,0.8646320970846854,{"$f":"I169","v":0.4514026135974929},{"$f":"J169","v":0.13909160752382263},{"$f":"K169","v":0.07845319287554224},{"$f":"W169","v":1.5753610661552064},{"$f":"X169","v":0.9367649976099414},{"$f":"Y169","v":2.9321719349232134},{"$f":"AC169","v":0.813247300897605},{"$f":"AD169","v":0.47202469770028144},{"$f":"AE169","v":1.4475979968900548},0.6620775338595629,0.24620304183788136,0.0831541988625336,-0.003138231509326578,-0.24964591123729193,-1.0550624847199626]
[{"$nulls":11},"average",{"$f":"(M165+M166+M167+M168+M169)/5","v":0.3926127937748788},{"$nulls":4},"average",{"$nulls":13},{"$f":"AF11","v":"average"},{"$f":"(AG166+AG167+AG169)/3","v":-0.5644797621010951},{"$nulls":4},{"$f":"AL11","v":"average"},{"$nulls":13},{"$f":"AZ11","v":"average"},-0.6603396270946936,{"$nulls":4},{"$f":"BF11","v":"average"},null,null,"1. alveolus",{"$f":"C176","v":0.9034969473358594},{"$f":"D176","v":0.41622431709856844},{"$f":"E176","v":0.8892820887642333},{"$f":"I176","v":0.3026555539507185},{"$f":"J176","v":-0.16909070045355667},{"$f":"K176","v":-0.2599185084952127},{"$f":"W176","v":1.4314441816172123},0.8576339851500081,2.6346073618883636,{"$f":"AC176","v":0.9535180814449926},{"$f":"AD176","v":0.5927317663939622},{"$f":"AE176","v":1.6413681416217163},{"$f":"AQ175","v":0.6582785726002687},{"$f":"AR175","v":0.22860565035509176},{"$f":"AS175","v":0.05182457957300397},{"$f":"AW175","v":-0.1593921209907098},{"$f":"AX175","v":-0.32532253212680107},{"$f":"AY175","v":-1.319224784352442}]
[{"$nulls":60},"2. alveolus",0.8625785677670705,0.5474670224263855,0.8817446124443622,0.7632407573100249,0.3026555539507185,0.7274395844348804,1.3185850100788252,0.07371835034612269,0.313004946041391,{"$nulls":3},0.6256005128828166,0.38610640713607575,0.186883851936737,0.25594754939893993,-0.02099825152527892,-0.5364625168202924]
[{"$nulls":41},"Maxilla",{"$nulls":3},"dext",{"$nulls":14},"3. alveolus",1.089816831231369,0.4694538137671267,1.4795997808352261,0.5194998528595386,0.015988105384130355,0.3108610514084159,1.6275194713376828,0.7367947549243606,3.105825984416431,{"$nulls":3},0.8009094446204131,0.25353184352700486,0.4463011160741388,0.04249675743373609,-0.2198267563574058,-0.8598443686682422]
[null,"Maxilla",{"$nulls":3},"dext",{"$nulls":15},"Maxilla",{"$nulls":3},"dext",{"$nulls":15},"Small Alligator","Functional tooth",{"$nulls":5},"Tooth position 1 (labial)",{"$nulls":5},"Tooth position 2",{"$nulls":5},"4. alveolus",0.9994567923220479,0.42119246830574913,1.2720482536692328,0.21418130866382065,-0.31202537996544444,-0.3293478819153889,1.7958452723957066,1.1046577910087962,3.699681067620578,{"$nulls":3},0.6904441774256653,0.40015792339044837,0.4740212103995218,0.4475921088215379,0.08735543005405126,-0.05231155039537151]
[null,"Medium Alligator","Functional tooth",{"$nulls":5},"Tooth position 1 (labial)",{"$nulls":5},"Tooth position 2",{"$nulls":6},"Large Alligator","Functional tooth",{"$nulls":5},"Tooth position 1 (labial)",{"$nulls":5},"Tooth position 2",{"$nulls":7},"tooth height","crown height","volume","developmental stage","size compared to tooth befoe","estimated age","tooth height","crown height","volume","developmental stage","size compared to tooth befoe","estimated age","tooth height","crown height","volume","developmental stage","size compared to tooth before",null,"5. alveolus",1.0487330483239683,0.4498639247181441,1.3576147225850406,0.38336648275503926,-0.032686081712916516,-0.014420853558087521,1.546604348654274,0.7799570512469061,2.9240617089218395,{"$nulls":3},0.7688452110633953,0.26311507618134117,0.48274288702096557,-0.04924581840649645,-0.2986047309860798,-1.1488691078867892]
[null,null,"tooth height","crown height","volume","developmental stage","size compared to tooth before","estimated age","tooth height","crown height","volume","developmental stage","size compared to tooth before","estimated age","tooth height","crown height","volume","developmental stage","size compared to tooth before","estimated age",null,null,"tooth height","crown height","volume","developmental stage","size compared to tooth befoe",null,"tooth height","crown height","volume","developmental stage","size compared to tooth befoe",null,"tooth height","crown height","volume","developmental stage","size compared to tooth before",null,null,"1. alveolus",{"$f":"LOG(AQ16)","v":0.6582785726002687},0.22860565035509176,0.05182457957300397,{"$nulls":3},{"$f":"LOG(AW16)","v":-0.1593921209907098},-0.32532253212680107,-1.319224784352442,null,{"$f":"LOG(BA16)","v":-0.8176706935909784},{"$nulls":7},"6. alveolus",0.9839643910590135,0.5208109315364731,1.2174181370341601,0.49519731836545755,0.13273983826088454,0.3306511498404196,1.5008537114612583,0.9457147140598602,2.8742797351063296,{"$f":"AC181","v":0.8730298120610442},0.31281182621208803,1.736294793740761,0.6066822570287451,0.340999022531442,0.1507887084295597,0.2654782035806421,-0.03021146258506115,-0.43880784158797015]
[null,"1. alveolus",{"$f":"LOG(C17)","v":0.9034969473358594},0.41622431709856844,0.8892820887642333,{"$nulls":3},{"$f":"LOG(I17)","v":0.3026555539507185},-0.16909070045355667,-0.2599185084952127,null,{"$f":"I176/C176","v":0.3349823758045433},{"$nulls":8},"1. alveolus",{"$f":"LOG(W17)","v":1.4314441816172123},0.8576339851500081,2.6346073618883636,{"$nulls":3},{"$f":"LOG(AC17)","v":0.9535180814449926},{"$f":"LOG(AD17)","v":0.5927317663939622},{"$f":"LOG(AE17)","v":1.6413681416217163},null,{"$f":"LOG(AG17)","v":-0.4779261001722197},null,{"$f":"LOG(AI17)","v":-0.04817696468408802},{"$f":"LOG(AJ17)","v":-0.24033215531036956},{"$f":"LOG(AK17)","v":-0.34738007498392864},null,{"$f":"LOG(AM17)","v":-1.0016950461290806},null,null,"2. alveolus",0.6256005128828166,0.38610640713607575,0.186883851936737,{"$nulls":3},0.25594754939893993,-0.02099825152527892,-0.5364625168202924,null,-0.3696529634838766,{"$nulls":7},"7. alveolus",0.9163223242173815,0.36501974281653465,0.964746464938044,0.09254520760560635,-0.2309921290562261,-0.5081090696857914,1.4546162237926987,0.794139355767774,2.713920810639295,0.4778444763387584,0.251638220448212,0.7159657504796518,0.6077551724464728,0.3144571227346772,0.11930120402489604,-0.14703230897118164,-0.3738650213646113,-1.1644097462680472]
[null,"2. alveolus",0.8625785677670705,0.5474670224263855,0.8817446124443622,{"$nulls":3},0.7632407573100249,0.3026555539507185,0.7274395844348804,null,0.884836217628038,null,{"$f":"LOG(O18)","v":0.003245054813147085},{"$f":"LOG(P18)","v":-0.4847886956721982},{"$f":"LOG(Q18)","v":-0.7973782001328047},null,{"$f":"O177/I177","v":0.004251679148508782},null,null,"2. alveolus",1.3185850100788252,0.07371835034612269,0.313004946041391,{"$nulls":16},"3. alveolus",0.8009094446204131,0.25353184352700486,0.4463011160741388,{"$nulls":3},0.04249675743373609,-0.2198267563574058,-0.8598443686682422,null,-0.758412687186677,{"$nulls":7},"8. alveolus",0.957487564252472,0.43735412784817473,1.1711909324380816,0.4420876295507604,0.10974723771322865,0.250136886677481,1.4968604873943676,0.7934411329776636,2.8232834162451175,0.0916669575956845,-0.019996628416253725,0.12951897593582354,0.49175378277214765,0.3227979683463876,0.09090782997847839,0.32485838819886764,0.026451545738239983,-0.2599274292422025]
[null,"3. alveolus",1.089816831231369,0.4694538137671267,1.4795997808352261,{"$nulls":3},0.5194998528595386,0.015988105384130355,0.3108610514084159,null,0.4766854740833493,{"$nulls":8},"3. alveolus",1.6275194713376828,0.7367947549243606,3.105825984416431,{"$nulls":16},"4. alveolus",0.6904441774256653,0.40015792339044837,0.4740212103995218,{"$nulls":3},0.4475921088215379,0.08735543005405126,-0.05231155039537151,null,-0.2428520686041275,{"$nulls":7},"9. alveolus",0.9478011971439804,0.36125552005814887,1.0812572705939203,0.10636090880675036,-0.25375512827980173,-0.4972329523095441,{"$nulls":6},0.6778623449547883,0.35846786387692053,0.30576624924305934,1.2143252861789634E-3,-0.21268124337545247,-0.9281177718662281]
[null,"4. alveolus",0.9994567923220479,0.42119246830574913,1.2720482536692328,{"$nulls":3},0.21418130866382065,-0.31202537996544444,-0.3293478819153889,null,0.21429771682896975,{"$nulls":8},"4. alveolus",1.7958452723957066,1.1046577910087962,3.699681067620578,{"$nulls":16},"5. alveolus",0.7688452110633953,0.26311507618134117,0.48274288702096557,{"$nulls":3},-0.04924581840649645,-0.2986047309860798,-1.1488691078867892,null,-0.8180910294698918,{"$nulls":7},"10. alveolus",1.0131533434733961,0.5128844243846222,1.4152572169542355,0.46052199290020074,0.09254520760560635,0.3108610514084159,{"$f":"W185","v":1.6253639046057011},1.0184924534014728,3.298168572680143,{"$f":"AC185","v":1.0646451447919365},0.6258267132857112,2.118208131813492,0.59470186120636,0.13123359458968534,0.2710516607471356,-0.3346066497202881,-0.5485205948751382,-1.618808566017086]
[null,"5. alveolus",1.0487330483239683,0.4498639247181441,1.3576147225850406,{"$nulls":3},0.38336648275503926,-0.032686081712916516,-0.014420853558087521,null,0.3655520185691831,{"$nulls":8},"5. alveolus",1.546604348654274,0.7799570512469061,2.9240617089218395,{"$nulls":16},"6. alveolus",0.6066822570287451,0.340999022531442,0.1507887084295597,null,null,{"$f":"LOG(AV21)","v":{"v":-1.8973376581028523,"d":"-1.89734"}},0.2654782035806421,-0.03021146258506115,-0.43880784158797015,null,-0.34120405344810306,{"$nulls":7},"11. alveolus",0.839320893588549,0.36125552005814887,1.0663706572538498,-0.1092996023011249,-0.6064247967304125,-1.0753269253852076,1.6256724985186637,0.8360074591255315,3.164208047898518,0.3374592612906562,0.15685190107001115,0.8069061109123337,0.6751181523167984,0.3622562207830964,0.4431679487328496,0.1438887581092748,-0.1233203895807995,-0.4915228035372523]
[null,"6. alveolus",0.9839643910590135,0.5208109315364731,1.2174181370341601,null,null,{"$f":"LOG(H22)","v":1.38178192867948},0.49519731836545755,0.13273983826088454,0.3306511498404196,null,0.5032675195008739,{"$f":"LOG(N22)","v":1.4673614173811544},{"$f":"LOG(O22)","v":-0.5121548798885645},{"$f":"LOG(P22)","v":-1.2403321553103694},{"$f":"LOG(Q22)","v":-1.7757337595428933},null,{"$f":"O181/I181","v":-1.034244049582256},null,null,"6. alveolus",1.5008537114612583,0.9457147140598602,2.8742797351063296,{"$nulls":3},{"$f":"LOG(AC22)","v":0.8730298120610442},0.31281182621208803,1.736294793740761,null,{"$f":"LOG(AG22)","v":-0.6278238994002142},{"$nulls":8},"7. alveolus",0.6077551724464728,0.3144571227346772,0.11930120402489604,null,null,{"$f":"LOG(AV22)","v":{"v":-1.8143634230380883,"d":"-1.81436"}},-0.14703230897118164,-0.3738650213646113,-1.1644097462680472,null,-0.7547874814176544,{"$nulls":7},"12. alveolus",0.9393944374196266,0.47964727876938684,1.3164107107258094,0.22206584258858658,-0.08751223866767631,-0.049605933973008685,1.5009907561079947,0.8901414600645774,3.003093192617598,0.7263196121107753,0.4631461367263496,1.663240828906509,0.6592314328752285,0.1939034025527469,0.3726354975700943,-0.4403327216119423,-0.6929320493387017,-1.8165080423076967]
[null,"7. alveolus",0.9163223242173815,0.36501974281653465,0.964746464938044,null,null,{"$f":"LOG(H23)","v":1.5932860670204574},0.09254520760560635,-0.2309921290562261,-0.5081090696857914,null,0.10099634720200444,{"$nulls":8},"7. alveolus",1.4546162237926987,0.794139355767774,2.713920810639295,{"$nulls":3},0.4778444763387584,0.251638220448212,0.7159657504796518,null,{"$f":"LOG(AG23)","v":-0.9767717474539405},{"$nulls":8},"8. alveolus",0.49175378277214765,0.3227979683463876,0.09090782997847839,{"$nulls":3},0.32485838819886764,0.026451545738239983,-0.2599274292422025,null,-0.16689539457328004,null,{"$f":"LOG(BC23)","v":-0.7883455994468176},{"$f":"LOG(BD23)","v":-0.7883455994468176},{"$f":"LOG(BE23)","v":-2.565607484080578},null,{"$f":"LOG(BG23)","v":-1.1132039876456852},null,"13. alveolus",0.871426978736606,0.4498639247181441,1.1363717234923232,0.3154455182245843,0.044343734895107144,0.18325560428602955,1.4215216663369772,0.8071966607109473,2.7886314823941545,0.34340859380385735,0.22659990520735745,0.8297761890418487,0.5891450209520843,0.3123466390308533,0.22477703286331482,-0.14098185611110575,-0.344093581819785,-0.9517035268400782]
[null,"8. alveolus",0.957487564252472,0.43735412784817473,1.1711909324380816,{"$nulls":3},0.4420876295507604,0.10974723771322865,0.250136886677481,null,0.46171631471360813,{"$nulls":8},"8. alveolus",1.4968604873943676,0.7934411329776636,2.8232834162451175,{"$nulls":3},0.0916669575956845,-0.019996628416253725,0.12951897593582354,null,{"$f":"LOG(AG24)","v":-1.4051935297986833},{"$nulls":8},"9. alveolus",0.6778623449547883,0.35846786387692053,0.30576624924305934,{"$nulls":3},1.2143252861789634E-3,-0.21268124337545247,-0.9281177718662281,null,-0.6766480196686093,{"$nulls":7},"14. alveolus",0.7901091581617736,0.3419288837458095,0.9009245251042748,-0.1092996023011249,-0.37934352018037915,-0.831470107650274,1.325618272810029,0.7906369619317033,2.6316890445847587,{"$nulls":3},0.508233354972011,0.13123359458968534,0.03387744061338113]
[null,"9. alveolus",0.9478011971439804,0.36125552005814887,1.0812572705939203,{"$nulls":3},0.10636090880675036,-0.25375512827980173,-0.4972329523095441,null,0.11221858458002464,{"$nulls":8},"9. alveolus",{"$nulls":19},"10. alveolus",0.59470186120636,0.13123359458968534,0.2710516607471356,{"$nulls":3},-0.3346066497202881,-0.5485205948751382,-1.618808566017086,null,-0.9293085109266481,{"$nulls":7},"15. alveolus",0.761739954151147,0.48678457139904185,0.7127776144961038,0.20615098159625966,-0.37934352018037915,-0.20205487909180156,1.229041573173397,0.6584883813090171,2.32144658021818,{"$nulls":3},0.4583053921180167,0.24373236455264893,-0.11755623808472601,{"$f":"AW189","v":-0.4778166823813137},{"$f":"AX189","v":-0.4778166823813137},{"$f":"AY189","v":-1.9221548257457488}]
[null,"10. alveolus",1.0131533434733961,0.5128844243846222,1.4152572169542355,{"$nulls":3},0.46052199290020074,0.09254520760560635,0.3108610514084159,null,0.4545432296767556,{"$nulls":8},"10. alveolus",{"$f":"LOG(W26)","v":1.6253639046057011},1.0184924534014728,3.298168572680143,{"$nulls":3},{"$f":"LOG(AC26)","v":1.0646451447919365},0.6258267132857112,2.118208131813492,null,{"$f":"LOG(AG26)","v":-0.5607187598137646},{"$nulls":8},"11. alveolus",0.6751181523167984,0.3622562207830964,0.4431679487328496,{"$nulls":3},0.1438887581092748,-0.1233203895807995,-0.4915228035372523,null,-0.5312293942075237,{"$nulls":7},"16. alveolus",{"$nulls":12},0.061753967805932904,-0.16570648755730402,-0.87167375641244]
[null,"11. alveolus",0.839320893588549,0.36125552005814887,1.0663706572538498,{"$nulls":3},-0.1092996023011249,-0.6064247967304125,-1.0753269253852076,null,-0.13022385494755195,{"$nulls":8},"11. alveolus",1.6256724985186637,0.8360074591255315,3.164208047898518,{"$nulls":3},0.3374592612906562,0.15685190107001115,0.8069061109123337,null,{"$f":"LOG(AG27)","v":-1.2882132372280075},{"$nulls":8},"12. alveolus",0.6592314328752285,0.1939034025527469,0.3726354975700943,null,null,{"$f":"LOG(AV27)","v":{"v":-1.9208187539523751,"d":"-1.92082"}},-0.4403327216119423,-0.6929320493387017,-1.8165080423076967,null,-1.0995641544871708,{"$f":"LOG(BB27)","v":-1.9393021596463884},{"$nulls":6},"1. alveolus",{"$f":"C196","v":0.9725499500122249},{"$f":"D196","v":0.32582341900274453},{"$f":"E196","v":1.1600721728935142},{"$f":"I196","v":0.500716623555479},null,{"$f":"K196","v":0.1747602805037181},{"$nulls":6},{"$f":"AQ195","v":0.7128853013829272},{"$f":"AR195","v":0.33098163770082173},{"$f":"AS195","v":0.3797104649051964},{"$f":"AW195","v":0.1710825773575261},{"$f":"AX195","v":-0.1786175002527009},{"$f":"AY195","v":-0.6414498642507477}]
[null,"12. alveolus",0.9393944374196266,0.47964727876938684,1.3164107107258094,null,null,{"$f":"LOG(H28)","v":1.4892812372686548},0.22206584258858658,-0.08751223866767631,-0.049605933973008685,null,0.23639254581767338,{"$nulls":8},"12. alveolus",1.5009907561079947,0.8901414600645774,3.003093192617598,{"$nulls":3},0.7263196121107753,0.4631461367263496,1.663240828906509,null,{"$f":"LOG(AG28)","v":-0.7746711439972193},{"$nulls":8},"13. alveolus",0.5891450209520843,0.3123466390308533,0.22477703286331482,null,null,{"$f":"LOG(AV28)","v":{"v":-1.933053210369387,"d":"-1.93305"}},-0.14098185611110575,-0.344093581819785,-0.9517035268400782,null,-0.7301268770631901,{"$nulls":7},"2. alveolus",0.9099569781681643,0.377943380255784,0.9787030911414574,0.23489674573158806,{"$f":"J197","v":-0.36906388093580855},-0.4384681146606973,{"$f":"W197","v":1.5128844243846222},{"$f":"X197","v":0.6651117370750514},{"$f":"Y197","v":2.6209931525255046},{"$f":"AC197","v":0.28668096935493015},{"$f":"AD197","v":0.07003786660775509},{"$f":"AE197","v":0.6695385466642014},0.3370197526004077,0.21026499903228857,-0.16693236295832034,0.3165573999777684,-0.0847057169773136,-0.32975242088713425]
[null,"13. alveolus",0.871426978736606,0.4498639247181441,1.1363717234923232,null,null,{"$f":"LOG(H29)","v":1.3455029880446918},0.3154455182245843,0.044343734895107144,0.18325560428602955,null,0.3619873218544563,{"$f":"LOG(N29)","v":1.3313234542044283},{"$nulls":7},"13. alveolus",1.4215216663369772,0.8071966607109473,2.7886314823941545,{"$nulls":3},0.34340859380385735,0.22659990520735745,0.8297761890418487,null,{"$f":"LOG(AG29)","v":-1.0781130725331198},{"$nulls":8},"14. alveolus",0.508233354972011,0.13123359458968534,0.03387744061338113,{"$nulls":15},"3. alveolus",0.930312142239915,0.4993433592273684,0.8752117927218499,0.6548981612329695,0.169527489553293,0.37660432769496116,{"$nulls":6},0.6476567631955412,0.2654782035806421,0.10995520737750569,0.03854068633745743,-0.2653601610123006,-1.0374472905906862]
[null,"14. alveolus",0.7901091581617736,0.3419288837458095,0.9009245251042748,{"$nulls":3},-0.1092996023011249,-0.37934352018037915,-0.831470107650274,null,-0.138334812566172,{"$nulls":8},"14. alveolus",1.325618272810029,0.7906369619317033,2.6316890445847587,{"$nulls":16},"15. alveolus",0.4583053921180167,0.24373236455264893,-0.11755623808472601,{"$nulls":3},{"$f":"LOG(AW30)","v":-0.4778166823813137},{"$f":"LOG(AX30)","v":-0.4778166823813137},{"$f":"LOG(AY30)","v":-1.9221548257457488},null,{"$f":"LOG(BA30)","v":-0.9361220744993304},{"$nulls":7},"4. alveolus",1.04639760295456,0.4244732731953344,1.3039451631555095,0.3555472957321329,-0.11492161585077593,-0.07009697810937102,{"$f":"W199","v":1.6406304827244111},{"$f":"X199","v":1.1094097905463653},{"$f":"Y199","v":2.9850281732058392},{"$f":"AC199","v":1.4572004127937683},0.6594407818703177,2.672092197286069,0.5743554199391019,0.09089262571036294,0.052181976755590775,-0.4403327216119423,-0.714892970433188,-1.95846797999261]
[null,"15. alveolus",0.761739954151147,0.48678457139904185,0.7127776144961038,{"$nulls":3},0.20615098159625966,-0.37934352018037915,-0.20205487909180156,null,0.27063170373672496,{"$nulls":8},"15. alveolus",1.229041573173397,0.6584883813090171,2.32144658021818,{"$nulls":16},"16. alveolus",0.061753967805932904,-0.16570648755730402,-0.87167375641244,{"$nulls":6},{"$f":"AZ31","v":"avarage"},{"$f":"LOG(BA31)","v":-0.5805143439562891},{"$nulls":5},{"$f":"LOG(BG31)","v":-1.1132039876456852},null,"5. alveolus",0.8789524296286106,0.3359591061482479,0.8781447837844563,0.3154455182245843,-0.023420781359890043,-0.21637651668386815,1.4773383476918927,0.87069645798925,2.664628172856535,0.7638022240745926,0.3988077302032646,1.0587364947504392,0.6214670993468457,0.19667350048806045,0.044626665467837646,-0.19873352951037984,-0.4910664739499672,-1.346423757711481]
[{"$nulls":11},"average",{"$f":"(M176+M177+M178+M179+M180+M181+M182+M183+M184+M185+M186+M187+M188+M189+M190)/15","v":0.3006365801654987},{"$nulls":5},{"$f":"(S177+S181)/2","v":-0.5149961852168736},{"$nulls":12},{"$f":"AF32","v":"average"},{"$f":"(AG176+AG160+AG181+AG182+AG183+AG185+AG186+AG187+AG188)/9","v":-0.798825721155241},{"$nulls":5},{"$f":"LOG(AM32)","v":-1.0016950461290806},{"$nulls":21},"6. alveolus",0.8265606813439766,0.28273537262101855,0.6536436988408887,-0.056752874862138335,-0.41172829315767095,-0.9089066193870206,1.385874273904196,0.7454651686707271,2.427748420980499,0.794139355767774,0.49345805099518847,1.0680637113103484,0.5109201643452389,0.2839341134566093,-0.10808179566352391,-0.02099825152527892,-0.24964591123729193,-0.894707091750471]
[{"$nulls":41},"Dentary",{"$nulls":3},"dext",{"$nulls":14},"7. alveolus",0.7182940414897094,0.24735942246893702,0.6019807253517747,0.3439007122496062,0.02015403163833287,-0.10624766717110015,1.32623342090424,0.6419695977020593,2.2263809011431848,0.3042750504771283,0.05499586152914153,0.07696907621853376,0.5041717147759669,0.03454824709846889,-0.25079879893556767,-0.7624562618571255,-0.7624562618571255,-2.6561773162796682]
[null,"Dentary",{"$nulls":3},"dext",{"$nulls":15},"Dentary",{"$nulls":3},"dext",{"$nulls":15},"Small Alligator","Functional tooth",{"$nulls":5},"Tooth position 1 (labial)",{"$nulls":5},"Tooth position 2",{"$nulls":5},"8. alveolus",0.7794160989470676,0.35745838564503585,0.6444769947646684,0.05975269420929884,-0.22366209037982468,-0.6229725592799764,1.3020060605865404,0.6247975789607612,2.2663446903070747,0.5496162395190854,0.2730012720637376,0.7385472051708271,0.4832734075829816,0.23116364150509885,-0.29780101112164015,-0.02099825152527892,-0.344093581819785,-1.1666468033564719]
[null,"Medium Alligator","Functional tooth",{"$nulls":5},"Tooth position 1 (labial)",{"$nulls":5},"Tooth position 2",{"$nulls":6},"Large Alligator","Functional tooth",{"$nulls":5},"Tooth position 1 (labial)",{"$nulls":5},"Tooth position 2",{"$nulls":7},"tooth height","crown height","volume","developmental stage","size compared to tooth befoe","estimated age","tooth height","crown height","volume","developmental stage","size compared to tooth befoe","estimated age","tooth height","crown height","volume","developmental stage","size compared to tooth before",null,"9. alveolus",0.652971172017589,-0.01886121735933964,0.4493472425074317,-0.5413621509743507,-0.7759851886271361,-1.7501122124119375,1.2616196765479355,0.7454651686707271,2.217021456055401,0.8683504996479683,0.5269850685599957,1.399709743935718,0.49175378277214765,0.04641711698399,-0.3211993848564555,-0.7883455994468176,-0.7883455994468176,-2.643768064450414]
[null,null,"tooth height","crown height","volume","developmental stage","size compared to tooth befoe","estimated age","tooth height","crown height","volume","developmental stage","size compared to tooth before","estimated age","tooth height","crown height","volume","developmental stage","size compared to tooth before","estimated age",null,null,"tooth height","crown height","volume","developmental stage","size compared to tooth befoe",null,"tooth height","crown height","volume","developmental stage","size compared to tooth befoe",null,"tooth height","crown height","volume","developmental stage","size compared to tooth before",null,null,"1. alveolus",{"$f":"LOG(AQ36)","v":0.7128853013829272},0.33098163770082173,0.3797104649051964,{"$nulls":3},{"$f":"LOG(AW36)","v":0.1710825773575261},-0.1786175002527009,-0.6414498642507477,null,{"$f":"LOG(BA36)","v":-0.5418027240254011},{"$nulls":7},"10. alveolus",0.7647363919587676,0.3631417096979497,0.6588705448100026,0.14535181655846088,-0.1755487299633872,-0.457878226961125,1.328685336983151,0.6584883813090171,2.264622285111837,0.3988077302032646,0.18892848376085342,0.4703186531237408,0.5028093493890419,0.25834989251932206,-0.2368921919825004,-0.14098185611110575,-0.3346066497202881,-1.1843330976467814]
[null,"1. alveolus",{"$f":"LOG(C37)","v":0.9725499500122249},0.32582341900274453,1.1600721728935142,{"$nulls":3},{"$f":"LOG(I37)","v":0.500716623555479},null,{"$f":"LOG(K37)","v":0.1747602805037181},null,{"$f":"I196/C196","v":0.5148492615203826},{"$nulls":8},"1. alveolus",{"$nulls":19},"2. alveolus",0.3370197526004077,0.21026499903228857,-0.16693236295832034,null,null,{"$f":"LOG(AV37)","v":{"v":-1.8750612633917,"d":"-1.87506"}},0.3165573999777684,-0.0847057169773136,-0.32975242088713425,null,-0.020462352622639287,{"$nulls":7},"11. alveolus",0.7456602257060758,0.22206584258858658,0.6196170911854916,-0.12061736282565741,-0.4847886956721982,-1.2198317996205523,1.4147227211588782,0.7011360660925265,2.471943120077507,{"$nulls":3},0.5891450209520843,0.17400162640242475,-0.02424853514464768,-0.344093581819785,-0.5485205948751382,-1.5676560624269489]
[null,"2. alveolus",0.9099569781681643,0.377943380255784,0.9787030911414574,null,null,{"$f":"LOG(H38)","v":1.0511525224473812},0.23489674573158806,{"$f":"LOG(J38)","v":-0.36906388093580855},-0.4384681146606973,null,0.2581404960534058,{"$f":"LOG(N38)","v":1.0086001717619175},{"$nulls":7},"2. alveolus",{"$f":"LOG(W38)","v":1.5128844243846222},{"$f":"LOG(X38)","v":0.6651117370750514},{"$f":"LOG(Y38)","v":2.6209931525255046},{"$nulls":3},{"$f":"LOG(AC38)","v":0.28668096935493015},{"$f":"LOG(AD38)","v":0.07003786660775509},{"$f":"LOG(AE38)","v":0.6695385466642014},null,{"$f":"LOG(AG38)","v":-1.226203455029692},{"$nulls":8},"3. alveolus",0.6476567631955412,0.2654782035806421,0.10995520737750569,{"$nulls":3},0.03854068633745743,-0.2653601610123006,-1.0374472905906862,null,-0.6091160768580838,{"$nulls":7},"12. alveolus",0.9323469078099147,0.44677009520038763,1.140093033873357,0.4128803584649742,0.07463361829690418,0.16232240064143277,1.563303059369412,0.9765792186401099,2.9691588612492965,{"$f":"AC207","v":0.7287594751678744},0.3701428470511021,1.2128335617872565,0.5517914436436694,0.328950132069784,0.08437986450600798,0.20758051476543127,-0.03489241415094416,-0.45565197561041565]
[null,"3. alveolus",0.930312142239915,0.4993433592273684,0.8752117927218499,{"$nulls":3},0.6548981612329695,0.169527489553293,0.37660432769496116,null,0.703955297902669,null,{"$f":"LOG(O39)","v":-0.2860896458710447},{"$f":"LOG(P39)","v":-0.9685915357483759},{"$f":"LOG(Q39)","v":-1.4164124627302446},null,{"$f":"O198/I198","v":-0.4368460056941172},null,null,"3. alveolus",{"$nulls":19},"4. alveolus",0.5743554199391019,0.09089262571036294,0.052181976755590775,null,null,{"$f":"LOG(AV39)","v":{"v":-1.7569619513137056,"d":"-1.75696"}},-0.4403327216119423,-0.714892970433188,-1.95846797999261,null,-1.0146881415510443,{"$f":"LOG(BB39)","v":{"v":-1.9208187539523751,"d":"-1.9208"}},{"$nulls":6},"13. alveolus",0.8783781558498547,0.32582341900274453,0.9679965466452117,-0.24603413413483965,-0.7044329000375209,-1.1571948728674715,1.653453721491571,1.0782755220866007,3.3627083640727835,1.1154440834362396,0.5938396610812713,2.116714893264648,0.7318143141307349,0.25834989251932206,0.37567590020656316,-0.09539263618455208,-0.344093581819785,-1.165425177740583]
[null,"4. alveolus",1.04639760295456,0.4244732731953344,1.3039451631555095,null,null,{"$f":"LOG(H40)","v":1.3102379974811753},0.3555472957321329,-0.11492161585077593,-0.07009697810937102,null,0.3397822154104959,{"$nulls":8},"4. alveolus",{"$f":"LOG(W40)","v":1.6406304827244111},1.1094097905463653,2.9850281732058392,{"$nulls":3},{"$f":"LOG(AC40)","v":1.4572004127937683},0.6594407818703177,2.672092197286069,null,{"$f":"LOG(AG40)","v":-0.1834300699306429},null,{"$f":"LOG(AI40)","v":0.5496162395190854},{"$f":"LOG(AJ40)","v":0.2027606873931999},{"$f":"LOG(AK40)","v":0.31939740544628614},null,{"$f":"LOG(AM40)","v":-0.9075841732746829},null,null,"5. alveolus",0.6214670993468457,0.19667350048806045,0.044626665467837646,{"$nulls":3},-0.19873352951037984,-0.4910664739499672,-1.346423757711481,null,-0.8202006288572257,{"$nulls":7},"14. alveolus",0.9368905706863991,0.4244732731953344,1.251647952428401,0.20884428934073798,-0.08751223866767631,-0.12514203400113205,1.5822338639209927,0.8867726430544381,3.1245715286203777,{"$nulls":3},0.6151922673739658,0.35846786387692053,0.24755732965395974,0.22860565035509176,-0.07945928349752027,-0.4213447248709245]
[null,"5. alveolus",0.8789524296286106,0.3359591061482479,0.8781447837844563,{"$nulls":3},0.3154455182245843,-0.023420781359890043,-0.21637651668386815,null,0.35888804398421364,{"$nulls":8},"5. alveolus",1.4773383476918927,0.87069645798925,2.664628172856535,{"$nulls":3},0.7638022240745926,0.3988077302032646,1.0587364947504392,null,-0.7135361236173,{"$nulls":8},"6. alveolus",0.5109201643452389,0.2839341134566093,-0.10808179566352391,{"$nulls":3},-0.02099825152527892,-0.24964591123729193,-0.894707091750471,null,-0.5319184158705178,{"$nulls":7},"15. alveolus",0.8601882240270351,0.4853664657083231,1.0551221138184892,0.4195427247002798,0.13592733500546836,0.4004378224539611,1.4477005604345132,0.8435442119456352,2.8396505304732744,{"$f":"AC210","v":0.9476787399369365},0.5409548089261327,1.9594389095446108,0.6286749592626381,0.19667350048806045,0.2169662858128723,-0.5188441291719649,-0.6330170240221491,-1.8676605466094278]
[null,"6. alveolus",0.8265606813439766,0.28273537262101855,0.6536436988408887,{"$nulls":3},-0.056752874862138335,-0.41172829315767095,-0.9089066193870206,null,-0.0686614741580242,{"$nulls":8},"6. alveolus",1.385874273904196,0.7454651686707271,2.427748420980499,{"$nulls":3},0.794139355767774,0.49345805099518847,1.0680637113103484,null,-0.5917349181364222,{"$nulls":8},"7. alveolus",0.5041717147759669,0.03454824709846889,-0.25079879893556767,{"$nulls":3},-0.7624562618571255,-0.7624562618571255,-2.6561773162796682,null,-1.2666279766330923,{"$nulls":7},"16. alveolus",0.7721382666011204,0.3339508043872472,0.9850090454373398,-0.2093630380682967,-0.40066286700751097,-0.9201388916838888,1.4170562991191105,0.7213983755215053,2.755855479396903,0.1717264536532311,-6.5637695023883225E-3,0.4243207081245175,0.5697015554109736,0.3102258491835024,0.1725572461643748,-0.07427547306393742,-0.2734357838377553,-0.7699319174410886]
[null,"7. alveolus",0.7182940414897094,0.24735942246893702,0.6019807253517747,{"$nulls":3},0.3439007122496062,0.02015403163833287,-0.10624766717110015,null,0.4787742795922011,{"$nulls":8},"7. alveolus",1.32623342090424,0.6419695977020593,2.2263809011431848,{"$nulls":3},0.3042750504771283,0.05499586152914153,0.07696907621853376,null,-1.0219583704271116,{"$nulls":8},"8. alveolus",0.4832734075829816,0.23116364150509885,-0.29780101112164015,{"$nulls":3},-0.02099825152527892,-0.344093581819785,-1.1666468033564719,null,-0.5042716591082604,{"$nulls":7},"17. alveolus",0.810736437388581,0.4405155211122282,1.049950276942472,0.07463361829690418,-0.1381670023420551,-0.26789264725410683,{"$nulls":6},0.5241103934951362,0.15008068623349338,0.08898801902634398,-0.8158766457603289,-0.8158766457603289,-2.313182839189422]
[null,"8. alveolus",0.7794160989470676,0.35745838564503585,0.6444769947646684,{"$nulls":3},0.05975269420929884,-0.22366209037982468,-0.6229725592799764,null,0.07666340776129749,{"$nulls":8},"8. alveolus",1.3020060605865404,0.6247975789607612,2.2663446903070747,{"$nulls":3},0.5496162395190854,0.2730012720637376,0.7385472051708271,null,-0.752389821067455,{"$nulls":8},"9. alveolus",0.49175378277214765,0.04641711698399,-0.3211993848564555,{"$nulls":3},-0.7883455994468176,-0.7883455994468176,-2.643768064450414,null,-1.2800993822189652,{"$nulls":7},"18. alveolus",0.7865739780238269,0.39576308941776306,0.8892764846752235,0.432568465297358,0.12303452975350664,0.36114397853454455,{"$nulls":6},0.5292763219192271,0.2701662292606937,0.07910907116509788,-0.16570648755730402,-0.36371274790148694,-0.9570814634865228]
[null,"9. alveolus",0.652971172017589,-0.01886121735933964,0.4493472425074317,{"$nulls":3},-0.5413621509743507,-0.7759851886271361,-1.7501122124119375,null,-0.8290751172086477,{"$nulls":8},"9. alveolus",1.2616196765479355,0.7454651686707271,2.217021456055401,{"$nulls":3},0.8683504996479683,0.5269850685599957,1.399709743935718,null,-0.3932691768999672,null,{"$f":"LOG(AI45)","v":-0.23284413391781958},{"$f":"LOG(AJ45)","v":-0.37161106994968846},{"$f":"LOG(AK45)","v":-0.7513948975155571},null,{"$f":"LOG(AM45)","v":-1.1011946335657878},null,null,"10. alveolus",0.5028093493890419,0.25834989251932206,-0.2368921919825004,{"$nulls":3},-0.14098185611110575,-0.3346066497202881,-1.1843330976467814,null,-0.6437912055001477,{"$nulls":7},"19. alveolus",0.7815758770339173,0.4128803584649742,0.9196072951392912,-0.04215336629184988,-0.2860896458710447,-0.4726691822664287,{"$nulls":6},0.541928535787472,0.21558469418161483,0.007973906341672913,-0.9476909003526764,-0.9476909003526764,-2.5505437326530784]
[null,"10. alveolus",0.7647363919587676,0.3631417096979497,0.6588705448100026,{"$nulls":3},0.14535181655846088,-0.1755487299633872,-0.457878226961125,null,0.19006786925120966,{"$nulls":8},"10. alveolus",1.328685336983151,0.6584883813090171,2.264622285111837,{"$nulls":3},0.3988077302032646,0.18892848376085342,0.4703186531237408,null,-0.9298776067798864,{"$nulls":8},"11. alveolus",0.5891450209520843,0.17400162640242475,-0.02424853514464768,{"$nulls":3},-0.344093581819785,-0.5485205948751382,-1.5676560624269489,null,-0.9332386027718694,{"$nulls":7},"20. alveolus",0.7353992699626938,0.4009694792256556,0.6822479946790818,0.21152099724022955,0.01178183054810685,0.030971930476568637,{"$nulls":6},0.4522159137500546,0.4522159137500546,-0.18071669301488436,-0.3738650213646113,-0.5188441291719649,-1.3637286328538407]
[null,"11. alveolus",0.7456602257060758,0.22206584258858658,0.6196170911854916,null,null,{"$f":"LOG(H47)","v":1.6838347211528768},-0.12061736282565741,-0.4847886956721982,-1.2198317996205523,null,-0.16175914802407917,{"$f":"LOG(N47)","v":1.1957793657797922},{"$nulls":7},"11. alveolus",1.4147227211588782,0.7011360660925265,2.471943120077507,{"$nulls":16},"12. alveolus",0.5517914436436694,0.328950132069784,0.08437986450600798,null,null,{"$f":"LOG(AV47)","v":{"v":-1.8416375079047504,"d":"-1.84164"}},0.20758051476543127,-0.03489241415094416,-0.45565197561041565,null,-0.3442109288782382,{"$f":"LOG(BB47)","v":{"v":-1.8860566476931633,"d":"-1.8861"}}]
[null,"12. alveolus",0.9323469078099147,0.44677009520038763,1.140093033873357,null,null,{"$f":"LOG(H48)","v":1.5235047970557032},0.4128803584649742,0.07463361829690418,0.16232240064143277,null,0.4428398432026028,{"$nulls":8},"12. alveolus",1.563303059369412,0.9765792186401099,2.9691588612492965,{"$nulls":3},{"$f":"LOG(AC48)","v":0.7287594751678744},0.3701428470511021,1.2128335617872565,null,{"$f":"LOG(AG48)","v":-0.8345435842015374},{"$nulls":8},"13. alveolus",0.7318143141307349,0.25834989251932206,0.37567590020656316,{"$nulls":3},-0.09539263618455208,-0.344093581819785,-1.165425177740583,null,-0.827206950315287]
[null,"13. alveolus",0.8783781558498547,0.32582341900274453,0.9679965466452117,{"$nulls":3},-0.24603413413483965,-0.7044329000375209,-1.1571948728674715,null,-0.28010046982190145,{"$nulls":8},"13. alveolus",1.653453721491571,1.0782755220866007,3.3627083640727835,{"$nulls":3},1.1154440834362396,0.5938396610812713,2.116714893264648,null,{"$f":"LOG(AG49)","v":-0.5380096380553314},{"$nulls":8},"14. alveolus",0.6151922673739658,0.35846786387692053,0.24755732965395974,{"$nulls":3},0.22860565035509176,-0.07945928349752027,-0.4213447248709245,null,-0.386586617018874]
[null,"14. alveolus",0.9368905706863991,0.4244732731953344,1.251647952428401,{"$nulls":3},0.20884428934073798,-0.08751223866767631,-0.12514203400113205,null,0.22291214777381235,{"$nulls":8},"14. alveolus",1.5822338639209927,0.8867726430544381,3.1245715286203777,{"$nulls":16},"15. alveolus",0.6286749592626381,0.19667350048806045,0.2169662858128723,{"$nulls":3},-0.5188441291719649,-0.6330170240221491,-1.8676605466094278,null,-1.147519088434603]
[null,"15. alveolus",0.8601882240270351,0.4853664657083231,1.0551221138184892,{"$nulls":3},0.4195427247002798,0.13592733500546836,0.4004378224539611,null,0.48773362966556244,{"$nulls":8},"15. alveolus",1.4477005604345132,0.8435442119456352,2.8396505304732744,{"$nulls":3},{"$f":"LOG(AC51)","v":0.9476787399369365},0.5409548089261327,1.9594389095446108,null,{"$f":"LOG(AG51)","v":-0.5000218204975768},{"$nulls":8},"16. alveolus",0.5697015554109736,0.3102258491835024,0.1725572461643748,{"$nulls":3},-0.07427547306393742,-0.2734357838377553,-0.7699319174410886,null,-0.643977028474911]
[null,"16. alveolus",0.7721382666011204,0.3339508043872472,0.9850090454373398,{"$nulls":3},-0.2093630380682967,-0.40066286700751097,-0.9201388916838888,null,-0.27114708223164874,{"$nulls":8},"16. alveolus",1.4170562991191105,0.7213983755215053,2.755855479396903,{"$nulls":3},0.1717264536532311,-6.5637695023883225E-3,0.4243207081245175,null,{"$f":"LOG(AG52)","v":-1.2453298454658792},{"$nulls":8},"17. alveolus",0.5241103934951362,0.15008068623349338,0.08898801902634398,{"$nulls":3},-0.8158766457603289,-0.8158766457603289,-2.313182839189422,null,-1.3399870392554651]
[null,"17. alveolus",0.810736437388581,0.4405155211122282,1.049950276942472,{"$nulls":3},0.07463361829690418,-0.1381670023420551,-0.26789264725410683,null,0.0920565733264715,{"$nulls":8},"17. alveolus",{"$nulls":19},"18. alveolus",0.5292763219192271,0.2701662292606937,0.07910907116509788,null,null,{"$f":"LOG(AV53)","v":-1.8386319977650252},-0.16570648755730402,-0.36371274790148694,-0.9570814634865228,null,-0.6949828094765311]
[null,"18. alveolus",0.7865739780238269,0.39576308941776306,0.8892764846752235,null,null,{"$f":"LOG(H54)","v":1.5067114388269238},0.432568465297358,0.12303452975350664,0.36114397853454455,null,0.5499399641774758,{"$nulls":8},"18. alveolus",{"$nulls":19},"19. alveolus",0.541928535787472,0.21558469418161483,0.007973906341672913,null,null,{"$f":"LOG(AV54)","v":-1.9030899869919435},-0.9476909003526764,-0.9476909003526764,-2.5505437326530784,null,-1.4896194361401485]
[null,"19. alveolus",0.7815758770339173,0.4128803584649742,0.9196072951392912,null,null,{"$f":"LOG(H55)","v":1.6831916593682086},-0.04215336629184988,-0.2860896458710447,-0.4726691822664287,null,-0.05393381184156045,{"$f":"LOG(N55)","v":1.5277372799221394},{"$nulls":7},"19. alveolus",{"$nulls":19},"20. alveolus",0.4522159137500546,0.4522159137500546,-0.18071669301488436,{"$nulls":3},-0.3738650213646113,-0.5188441291719649,-1.3637286328538407,null,-0.826080935114666]
[null,"20. alveolus",0.7353992699626938,0.4009694792256556,0.6822479946790818,{"$nulls":3},0.21152099724022955,0.01178183054810685,0.030971930476568637,null,0.2876274234688319,{"$nulls":8},"20. alveolus",{"$nulls":29},"average",{"$f":"(BA195+BA196+BA197+BA198+BA199+BA200+BA201+BA202+BA203+BA204+BA205+BA206+BA207+BA208+BA209+BA210+BA211+BA212+BA213+BA214)/20","v":-0.7933193999562986}]
[null,"average",{"$f":"AVERAGE(C165:C215)","v":0.8754348956882453},{"$f":"AVERAGE(D165:D215)","v":0.39294296793765426},{"$f":"AVERAGE(E165:E215)","v":0.9689119045846397},{"$nulls":6},"average",{"$f":"(M196+M197+M198+M199+M200+M201+M202+M203+M204+M205+M206+M207+M208+M209+M210+M211+M212+M213+M214+M215)/20","v":0.1669776674902385},{"$nulls":18},"average",{"$f":"(AG197+AG199+AG200+AG201+AG202+AG203+AG204+AG205+AG207+AG208+AG210+AG211)/12","v":-0.7441920358424001},{"$nulls":5},{"$f":"(AM199+AM204)/2","v":-1.0043894034202354},null,null,"average",{"$f":"AVERAGE(AQ164:AQ210)","v":0.5791058866517023},{"$f":"AVERAGE(AR164:AR210)","v":0.23549667090085552},{"$f":"AVERAGE(AS164:AS210)","v":0.0727244179161244}]
[{"$nulls":21},"average",{"$f":"AVERAGE(W165:W211)","v":1.4744694233795632},{"$f":"AVERAGE(X165:X211)","v":0.8128246461075495},{"$f":"AVERAGE(Y165:Y211)","v":2.696541003130146}]
[null,null,"tooth height vs volume",null,"crown height vs volume",{"$nulls":3},"Replacement teeth 1",null,"tooth height vs volume",null,"crown height vs volume",{"$nulls":8},"Functional teeth",null,"tooth height vs volume",null,"crown height vs volume",null,null,"Replacement teeth 1",null,"tooth height vs volume",null,"crown height vs volume",{"$nulls":8},"Functional teeth",null,"tooth height vs volume",null,"crown height vs volume",null,null,"Replacement teeth 1",null,"tooth height vs volume",null,"crown height vs volume"]
[null,"R-square","p-value",null,"R-square","p-value",{"$nulls":3},"R-square","p-value",null,"R-square","p-value",{"$nulls":8},"R-square","p-value",null,"R-square","p-value",null,null,"R-square","p-value",null,"R-square","p-value",{"$nulls":8},"R-square","p-value",null,"R-square","p-value",null,null,"R-square","p-value",null,"R-square","p-value"]
[null,{"$f":"RSQ(BJ165:BJ205,BL165:BL205)","v":0.7853124704676885},{"$f":"FDIST(38*B220/(1-B220),1,38)","v":2.904543943022556E-14},null,{"$f":"RSQ(BK165:BK206,BL165:BL206)","v":0.3172289542949399},{"$f":"FDIST(38*E220/(1-E220),1,38)","v":1.544501419127351E-4},{"$nulls":3},{"$f":"RSQ(BM165:BM205,BO165:BO205)","v":0.9136162006683011},{"$f":"FDIST(38*J220/(1-J220),1,38)","v":8.317681777401857e-22},null,{"$f":"RSQ(BN165:BN205,BO165:BO205)","v":0.8993351851430847},{"$f":"FDIST(37*M220/(1-M220),1,37)","v":4.8971526029006736E-20},{"$nulls":8},{"$f":"RSQ(BP165:BP201,BR165:BR201)","v":0.5566804584111499},{"$f":"FDIST(29*W220/(1-W220),1,29)","v":1.4488827446063306E-6},null,{"$f":"RSQ(BQ165:BQ201,BR165:BR201)","v":0.7876569867065595},{"$f":"FDIST(29*Z220/(1-Z220),1,29)","v":2.8653428882982828E-11},null,null,{"$f":"RSQ(BS165:BS201,BU165:BU201)","v":0.900419565999599},{"$f":"FDIST(23*AD220/(1-AD220),1,23)","v":5.202757072143643e-13},null,{"$f":"RSQ(BT165:BT201,BU165:BU201)","v":0.8188572921879945},{"$f":"FDIST(23*AG220/(1-AG220),1,23)","v":5.287186192545224e-10},{"$nulls":8},{"$f":"RSQ(BV165:BV205,BX165:BX205)","v":0.8026382420909217},{"$f":"FDIST(39*AQ220/(1-AQ220),1,39)","v":2.549318518356399e-15},null,{"$f":"RSQ(BW165:BW205,BX165:BX205)","v":0.3287013116349667},{"$f":"FDIST(39*AT220/(1-AT220),1,39)","v":8.9239206651289387E-5},null,null,{"$f":"RSQ(BY165:BY205,CA165:CA205)","v":0.950077858151672},{"$f":"FDIST(38*AX220/(1-AX220),1,38)","v":2.4395742208003466E-26},null,{"$f":"RSQ(BZ165:BZ205,CA165:CA205)","v":0.9354878940699783},{"$f":"FDIST(38*BA220/(1-BA220),1,38)","v":3.2070797327931568E-24}]
{"$rows_empty":14}
[{"$nulls":4},"log",{"$nulls":8},"log"]
[null,null,"tooth height","crown height","tooth height","crown height",null,"ratio of tooth height to crown height",{"$nulls":3},"crown volume","crown volume [ccm]","crown volume [ccm]",null,"Body length","Skull length"]
[null,"1. alveolus",{"$f":"C6","v":{"v":5.7075000000000005,"d":"5.7075"}},2.4475,{"$f":"LOG(C237)","v":0.7564459201622729},{"$f":"LOG(D237)","v":0.3887227004751754},null,{"$f":"C237/D237","v":2.3319713993871303},{"$nulls":3},{"$f":"'Tooth measurements raw data'!U3","v":1.0623423},{"$f":"L237/1000","v":0.0010623423},{"$f":"LOG(M237)","v":-2.973735525581587},null,0.9,115.6]
[null,"2. alveolus",5.1275,2.1575,0.709905669040404,0.3339508043872472,null,2.376593279258401,{"$nulls":3},{"$f":"'Tooth measurements raw data'!U5","v":1.4073511},0.0014073511,-2.851597543097676,null,0.9,115.6]
[null,"3. alveolus",9.0275,2.9475,0.9555674970988642,0.4694538137671267,null,3.0627650551314676,{"$nulls":3},{"$f":"'Tooth measurements raw data'!U7","v":3.5724998},0.0035724998,-2.4470277868501897,null,0.9,115.6]
[null,"4. alveolus",11.4175,2.5375,1.0575710202790383,0.40440605092126936,null,4.499507389162561,{"$nulls":3},{"$f":"'Tooth measurements raw data'!U9","v":2.7612751},0.0027612751,-2.5588903233642566,null,0.9,115.6]
[null,"5. alveolus",{"v":7.817500000000001,"d":"7.8175"},2.6075,0.8930678899149709,0.41622431709856844,null,2.998082454458294,{"$nulls":3},{"$f":"'Tooth measurements raw data'!U11","v":2.7214592},0.0027214592,-2.5651981722224115,null,0.9,115.6]
[null,"1. alveolus",{"$f":"C17","v":8.0075},2.6075,0.9034969473358594,0.41622431709856844,null,3.070949185043145,{"$nulls":3},{"$f":"'Tooth measurements raw data'!U14","v":1.9802364},0.0019802364,-2.703282960704586,null,0.9,115.6]
[null,"2. alveolus",{"v":7.2875000000000005,"d":"7.2875"},3.5275,0.8625785677670705,0.5474670224263855,null,2.0659107016300498,{"$nulls":3},{"$f":"'Tooth measurements raw data'!U16","v":5.1345773},0.0051345773,-2.2894953035435637,null,0.9,115.6]
[null,"3. alveolus",{"v":12.297500000000001,"d":"12.2975"},2.9475,1.089816831231369,0.4694538137671267,null,4.172179813401188,{"$nulls":3},{"$f":"'Tooth measurements raw data'!U19","v":4.0562158},4.0562158000000004E-3,-2.3918789475958073,null,0.9,115.6]
[null,"4. alveolus",9.9875,2.6375,0.9994567923220479,0.42119246830574913,null,3.786729857819905,{"$nulls":3},{"$f":"'Tooth measurements raw data'!U21","v":3.3916616},3.3916616E-3,-2.4695874855969557,null,0.9,115.6]
[null,"5. alveolus",11.1875,2.8175,1.0487330483239683,0.4498639247181441,null,3.9707187222715175,{"$nulls":3},{"$f":"'Tooth measurements raw data'!U23","v":3.3375862},0.0033375862,-2.476567508937959,null,0.9,115.6]
[null,"6. alveolus",{"v":9.637500000000001,"d":"9.6375"},3.3175,0.9839643910590135,0.5208109315364731,null,2.905048982667672,{"$nulls":3},{"$f":"'Tooth measurements raw data'!U25","v":5.212357},0.005212357,-2.2829658466393488,null,0.9,115.6,{"$nulls":355},{"$f":"((#REF!/#REF!)*100)-100","v":{"$error":"#REF!"}},{"$f":"((#REF!/#REF!)*100)-100","v":{"$error":"#REF!"}}]
[null,"7. alveolus",8.2475,2.3175,0.9163223242173815,0.36501974281653465,null,3.5587918015102487,{"$nulls":3},{"$f":"'Tooth measurements raw data'!U28","v":2.518954},0.002518954,-2.598779763319107,null,0.9,115.6,{"$nulls":355},{"$f":"((#REF!/#REF!)*100)-100","v":{"$error":"#REF!"}},{"$f":"((#REF!/#REF!)*100)-100","v":{"$error":"#REF!"}},{"$f":"#REF!-#REF!","v":{"$error":"#REF!"}},{"$f":"#REF!-#REF!","v":{"$error":"#REF!"}},{"$f":"#REF!-#REF!","v":{"$error":"#REF!"}},{"$f":"#REF!-#REF!","v":{"$error":"#REF!"}},{"$f":"#REF!-#REF!","v":{"$error":"#REF!"}},{"$f":"((NL248/NK248)*100)-100","v":{"$error":"#REF!"}},{"$f":"((NM248/NK248)*100)-100","v":{"$error":"#REF!"}}]
[null,"8. alveolus",9.0675,2.7375,0.957487564252472,0.43735412784817473,null,3.3123287671232884,{"$nulls":3},{"$f":"'Tooth measurements raw data'!U30","v":4.090291},0.004090290999999999,-2.3882457934111074,null,0.9,115.6,{"$nulls":355},{"$f":"((#REF!/#REF!)*100)-100","v":{"$error":"#REF!"}},{"$f":"((#REF!/#REF!)*100)-100","v":{"$error":"#REF!"}}]
[null,"9. alveolus",8.8675,2.2975,0.9478011971439804,0.36125552005814887,null,3.8596300326441786,{"$nulls":3},{"$f":"'Tooth measurements raw data'!U32","v":3.2350836},0.0032350836,-2.490114491950593,null,0.9,115.6]
[null,"10. alveolus",{"v":10.307500000000001,"d":"10.3075"},3.2575,1.0131533434733961,0.5128844243846222,null,3.164236377590177,{"$nulls":3},{"$f":"'Tooth measurements raw data'!U34","v":6.7745271},0.0067745271,-2.169121015586928,null,0.9,115.6]
[null,"11. alveolus",{"v":6.907500000000001,"d":"6.9075"},2.2975,0.839320893588549,0.36125552005814887,null,3.0065288356909687,{"$nulls":3},{"$f":"'Tooth measurements raw data'!U36","v":4.0425119},0.0040425119,-2.3933486929808123,null,0.9,115.6]
[null,"12. alveolus",8.6975,3.0175,0.9393944374196266,0.47964727876938684,null,2.8823529411764706,{"$nulls":3},{"$f":"'Tooth measurements raw data'!U38","v":6.903419},6.903419E-3,-2.1609357664978988,null,0.9,115.6]
[null,"13. alveolus",7.4375,2.8175,0.871426978736606,0.4498639247181441,null,2.639751552795031,{"$nulls":3},{"$f":"'Tooth measurements raw data'!U40","v":6.1313624},0.006131362400000001,-2.212443013726157,null,0.9,115.6]
[null,"14. alveolus",6.1675,2.1975,0.7901091581617736,0.3419288837458095,null,2.8065984072810015,{"$nulls":3},{"$f":"'Tooth measurements raw data'!U42","v":2.9788733},2.9788733E-3,-2.5259479681783863,null,0.9,115.6]
[null,"15. alveolus",{"v":5.777500000000001,"d":"5.7775"},3.0675,0.761739954151147,0.48678457139904185,null,1.8834555827220867,{"$nulls":3},{"$f":"'Tooth measurements raw data'!U44","v":3.1049876},0.0031049876,-2.507940129871404,null,0.9,115.6]
[null,"1. alveolus",{"$f":"C37","v":{"v":9.387500000000001,"d":"9.3875"}},2.1175,0.9725499500122249,0.32582341900274453,null,4.433293978748524,{"$nulls":3},{"$f":"'Tooth measurements raw data'!U46","v":2.7904425},2.7904425000000004E-3,-2.5543269221492895,null,0.9,115.6]
[null,"2. alveolus",{"v":8.127500000000001,"d":"8.1275"},2.3875,0.9099569781681643,0.377943380255784,null,3.404188481675393,{"$nulls":3},{"$f":"'Tooth measurements raw data'!U48","v":2.1546853},2.1546853E-3,-2.666616151235842,null,0.9,115.6]
[null,"3. alveolus",8.5175,3.1575,0.930312142239915,0.4993433592273684,null,2.6975455265241486,{"$nulls":3},{"$f":"'Tooth measurements raw data'!U50","v":2.9638729},0.0029638729,-2.5281404241786003,null,0.9,115.6]
[null,"4. alveolus",{"v":11.127500000000001,"d":"11.1275"},2.6575,1.04639760295456,0.4244732731953344,null,4.187206020696143,{"$nulls":3},{"$f":"'Tooth measurements raw data'!U53","v":2.5698812},0.0025698812,-2.5900869526908745,null,0.9,115.6]
[null,"5. alveolus",{"v":7.567500000000001,"d":"7.5675"},2.1675,0.8789524296286106,0.3359591061482479,null,3.4913494809688586,{"$nulls":3},{"$f":"'Tooth measurements raw data'!U55","v":2.1372774},0.0021372774,-2.6701391065346907,null,0.9,115.6]
[null,"6. alveolus",{"v":6.7075000000000005,"d":"6.7075"},1.9175,0.8265606813439766,0.28273537262101855,null,3.4980443285528033,{"$nulls":3},{"$f":"'Tooth measurements raw data'!U57","v":1.0774353},1.0774353000000002E-3,-2.967608799771992,null,0.9,115.6]
[null,"7. alveolus",5.2275,1.7675,0.7182940414897094,0.24735942246893702,null,2.9575671852899577,{"$nulls":3},{"$f":"'Tooth measurements raw data'!U59","v":1.265866},1.265866E-3,-2.897612264729917,null,0.9,115.6]
[null,"8. alveolus",6.0175,2.2775,0.7794160989470676,0.35745838564503585,null,2.6421514818880354,{"$nulls":3},{"$f":"'Tooth measurements raw data'!U61","v":1.5605959},1.5605959E-3,-2.8067095383981298,null,0.9,115.6]
[null,"9. alveolus",{"v":4.4975000000000005,"d":"4.4975"},0.9575,0.652971172017589,-0.01886121735933964,null,4.697127937336815,{"$nulls":3},{"$f":"'Tooth measurements raw data'!U63","v":0.9403947},0.0009403947,-3.0266898271941,null,0.9,115.6]
[null,"10. alveolus",{"v":5.817500000000001,"d":"5.8175"},2.3075,0.7647363919587676,0.3631417096979497,null,2.5211267605633805,{"$nulls":3},{"$f":"'Tooth measurements raw data'!U65","v":1.8467144},1.8467143999999999E-3,-2.73360026432949,null,0.9,115.6]
[null,"11. alveolus",{"v":5.567500000000001,"d":"5.5675"},1.6675,0.7456602257060758,0.22206584258858658,null,3.3388305847076465,{"$nulls":3},{"$f":"'Tooth measurements raw data'!U67","v":1.3384606},1.3384605999999999E-3,-2.8733944085296703,null,0.9,115.6]
[null,"12. alveolus",{"v":8.557500000000001,"d":"8.5575"},2.7975,0.9323469078099147,0.44677009520038763,null,3.0589812332439683,{"$nulls":3},{"$f":"'Tooth measurements raw data'!U69","v":4.0487156},0.004048715600000001,-2.3926827289585852,null,0.9,115.6]
[null,"13. alveolus",7.5575,2.1175,{"$f":"LOG(C269)","v":0.8783781558498547},{"$f":"LOG(D269)","v":0.32582341900274453},null,{"$f":"C269/D269","v":3.569067296340023},{"$nulls":3},{"$f":"'Tooth measurements raw data'!U71","v":2.3947842},{"$f":"L269/1000","v":0.0023947842},{"$f":"LOG(M269)","v":-2.6207336158493235},null,0.9,115.6]
[null,"14. alveolus",8.6475,2.6575,0.9368905706863991,0.4244732731953344,null,3.2539981185324556,{"$nulls":3},{"$f":"'Tooth measurements raw data'!U73","v":4.1031618},4.1031617999999995E-3,-2.3868813571589227,null,0.9,115.6]
[null,"15. alveolus",{"v":7.2475000000000005,"d":"7.2475"},3.0575,0.8601882240270351,0.4853664657083231,null,2.3704006541291904,{"$nulls":3},{"$f":"'Tooth measurements raw data'!U75","v":5.12291},5.1229100000000005E-3,-2.2904832738028915,null,0.9,115.6]
[null,"16. alveolus",5.9175,2.1575,0.7721382666011204,0.3339508043872472,null,2.742757821552723,{"$nulls":3},{"$f":"'Tooth measurements raw data'!U77","v":3.2459173},3.2459172999999997E-3,-2.488662549393086,null,0.9,115.6]
[null,"17. alveolus",6.4675,2.7575,0.810736437388581,0.4405155211122282,null,2.345421577515866,{"$nulls":3},{"$f":"'Tooth measurements raw data'!U79","v":4.7609563},0.0047609563,-2.3223058048216374,null,0.9,115.6]
[null,"18. alveolus",{"v":6.117500000000001,"d":"6.1175"},2.4875,0.7865739780238269,0.39576308941776306,null,2.4592964824120607,{"$nulls":3},{"$f":"'Tooth measurements raw data'!U81","v":4.021493},0.004021493,-2.395612682914198,null,0.9,115.6]
[null,"19. alveolus",6.0475,2.5875,0.7815758770339173,0.4128803584649742,null,2.3371980676328503,{"$nulls":3},{"$f":"'Tooth measurements raw data'!U83","v":3.9052861},3.9052861E-3,-2.4083471443475406,null,0.9,115.6]
[null,"20. alveolus",5.4375,2.5175,0.7353992699626938,0.4009694792256556,null,2.159880834160874,{"$f":"AVERAGE(H237:H276)","v":3.112989124780913},"functional teeth medium",null,{"$f":"'Tooth measurements raw data'!U85","v":2.7476637},0.0027476637,-2.561036423785698,null,0.9,115.6]
[null,"1. alveolus",{"$f":"I6","v":1.2775},0.6275,0.10636090880675036,-0.2023862698469243,null,2.0358565737051797,{"$nulls":3},{"$f":"'Tooth measurements raw data'!U4","v":0.092780173},9.2780172999999989E-5,-4.032544822021233,null,0.9,115.6]
[null,"2. alveolus",2.1875,0.9175,0.3399480616943509,-0.03739392707587306,null,2.3841961852861036,{"$nulls":3},{"$f":"'Tooth measurements raw data'!U6","v":0.24361742},0.00024361742,-3.613291660458769,null,0.9,115.6]
[null,"3. alveolus",3.0175,1.0375,0.47964727876938684,0.015988105384130355,null,2.908433734939759,{"$nulls":3},{"$f":"'Tooth measurements raw data'!U8","v":0.54066211},0.00054066211,-3.267074065036008,null,0.9,115.6]
[null,"4. alveolus",2.2675,0.9175,0.3555472957321329,-0.03739392707587306,null,2.4713896457765667,{"$nulls":3},{"$f":"'Tooth measurements raw data'!U10","v":0.32889739},0.00032889739,-3.482939572893433,null,0.9,115.6]
[null,"5. alveolus",2.8275,1.3775,0.4514026135974929,0.13909160752382263,null,2.0526315789473686,{"$nulls":3},{"$f":"'Tooth measurements raw data'!U12","v":0.50001293},5.0001293000000006E-4,-3.301018764953892,null,0.9,115.6]
[null,"1. alveolus",{"$f":"I17","v":2.0075},{"$f":"J17","v":0.6775},0.3026555539507185,-0.16909070045355667,null,2.9630996309963096,{"$nulls":3},{"$f":"'Tooth measurements raw data'!U15","v":0.27185887},0.00027185887,-3.5656564926081575,null,0.9,115.6]
[null,"2. alveolus",5.7975,2.0075,0.7632407573100249,0.3026555539507185,null,2.8879202988792034,{"$nulls":3},{"$f":"'Tooth measurements raw data'!U17","v":1.7479155},1.7479155E-3,-2.7574795664217273,null,0.9,115.6]
[null,"3. alveolus",3.3075,1.0375,0.5194998528595386,0.015988105384130355,null,3.1879518072289157,{"$nulls":3},{"$f":"'Tooth measurements raw data'!U20","v":0.75270462},7.5270462E-4,-3.1233754183162667,null,0.9,115.6]
[null,"4. alveolus",1.6375,0.48749999999999993,0.21418130866382065,-0.31202537996544444,null,3.3589743589743595,{"$nulls":3},{"$f":"'Tooth measurements raw data'!U22","v":0.25269172},2.5269172000000003E-4,-3.5974089884608698,null,0.9,115.6]
[null,"5. alveolus",2.4175,0.9275,0.38336648275503926,-0.032686081712916516,null,2.606469002695418,{"$nulls":3},{"$f":"'Tooth measurements raw data'!U24","v":0.42343688},0.00042343688,-3.373211319006812,null,0.9,115.6]
[null,"6. alveolus",3.1275,1.3575,0.49519731836545755,0.13273983826088454,null,2.3038674033149174,{"$nulls":3},{"$f":"'Tooth measurements raw data'!U26","v":0.91724592},0.00091724592,-3.0375142113522564,null,0.9,115.6]
[null,"7. alveolus",1.2375,0.5875,0.09254520760560635,-0.2309921290562261,null,2.106382978723404,{"$nulls":3},{"$f":"'Tooth measurements raw data'!U29","v":0.15296692},1.5296692E-4,-3.8154024777756397,null,0.9,115.6]
[null,"8. alveolus",2.7675,1.2875,0.4420876295507604,0.10974723771322865,null,2.1495145631067962,{"$nulls":3},{"$f":"'Tooth measurements raw data'!U31","v":0.79853916},0.00079853916,-3.0977037813978874,null,0.9,115.6]
[null,"9. alveolus",1.2775,0.5575,0.10636090880675036,-0.25375512827980173,null,2.291479820627803,{"$nulls":3},{"$f":"'Tooth measurements raw data'!U33","v":0.14444818},1.4444818000000002E-4,-3.8402879257542706,null,0.9,115.6]
[null,"10. alveolus",2.8875,1.2375,0.46052199290020074,0.09254520760560635,null,2.3333333333333335,{"$nulls":3},{"$f":"'Tooth measurements raw data'!U35","v":0.92715359},9.2715358999999992E-4,-3.03284831573229,null,0.9,115.6]
[null,"11. alveolus",0.7775,0.2475,-0.1092996023011249,-0.6064247967304125,null,3.1414141414141414,{"$nulls":3},{"$f":"'Tooth measurements raw data'!U37","v":0.028334066},2.8334066e-05,-4.547691098806202,null,0.9,115.6]
[null,"12. alveolus",1.6675,0.8175,0.22206584258858658,-0.08751223866767631,null,2.0397553516819573,{"$nulls":3},{"$f":"'Tooth measurements raw data'!U39","v":0.48066059},0.00048066059,-3.3181614847928755,null,0.9,115.6]
[null,"13. alveolus",2.0675,1.1075,0.3154455182245843,0.044343734895107144,null,1.8668171557562077,{"$nulls":3},{"$f":"'Tooth measurements raw data'!U41","v":0.89113414},0.00089113414,-3.050056917874456,null,0.9,115.6]
[null,"14. alveolus",0.7775,0.4175,-0.1092996023011249,-0.37934352018037915,null,1.8622754491017963,{"$nulls":3},{"$f":"'Tooth measurements raw data'!U43","v":0.081390992},8.1390992e-05,-4.089423658270178,null,0.9,115.6]
[null,"15. alveolus",1.6075,0.4175,0.20615098159625966,-0.37934352018037915,null,3.8502994011976046,{"$nulls":3},{"$f":"'Tooth measurements raw data'!U45","v":0.44019657},0.00044019657,-3.356353345780573,null,0.9,115.6]
[null,"1. alveolus",{"$f":"I37","v":3.1675},null,{"$f":"LOG(C297)","v":0.500716623555479},{"$nulls":6},{"$f":"'Tooth measurements raw data'!U47","v":0.45103016},0.00045103016,-3.345794416251468,null,0.9,115.6]
[null,"2. alveolus",1.7175,{"$f":"J38","v":0.4275},0.23489674573158806,{"$f":"LOG(D298)","v":-0.36906388093580855},null,{"$f":"C298/D298","v":4.017543859649123},{"$nulls":3},{"$f":"'Tooth measurements raw data'!U49","v":0.1273181},1.273181E-4,-3.8951098510883626,null,0.9,115.6]
[null,"3. alveolus",4.5175,1.4775,0.6548981612329695,0.169527489553293,null,3.057529610829103,{"$nulls":3},{"$f":"'Tooth measurements raw data'!U51","v":0.81381732},8.138173199999999E-4,-3.089473071547881,null,0.9,115.6]
[null,"4. alveolus",2.2675,0.7675,0.3555472957321329,-0.11492161585077593,null,2.9543973941368082,{"$nulls":3},{"$f":"'Tooth measurements raw data'!U54","v":0.29593357},2.9593356999999996E-4,-3.528805766712271,null,0.9,115.6]
[null,"5. alveolus",2.0675,0.9475,0.3154455182245843,-0.023420781359890043,null,2.1820580474934035,{"$nulls":3},{"$f":"'Tooth measurements raw data'!U56","v":0.25195095},{"$f":"L301/1000","v":0.00025195095},{"$f":"LOG(M301)","v":-3.5986839997651288},null,0.9,115.6]
[null,"6. alveolus",0.8775,0.38749999999999996,-0.056752874862138335,-0.41172829315767095,null,2.264516129032258,{"$nulls":3},{"$f":"'Tooth measurements raw data'!U58","v":0.053982876},5.3982876e-05,-4.267743981623563,null,0.9,115.6]
[null,"7. alveolus",2.2075,1.0474999999999999,0.3439007122496062,0.02015403163833287,null,2.1073985680190934,{"$nulls":3},{"$f":"'Tooth measurements raw data'!U60","v":0.35528696},3.5528695999999997E-4,-3.449420732009603,null,0.9,115.6]
[null,"8. alveolus",1.1475,0.5975,0.05975269420929884,-0.22366209037982468,null,1.920502092050209,{"$nulls":3},{"$f":"'Tooth measurements raw data'!U62","v":0.095187649},9.5187649e-05,-4.021419399505546,null,0.9,115.6]
[null,"9. alveolus",0.2875,0.16749999999999998,-0.5413621509743507,-0.7759851886271361,null,1.7164179104477613,{"$nulls":3},{"$f":"'Tooth measurements raw data'!U64","v":7.500194E-3},7.500194E-6,-5.124927503002989,null,0.9,115.6]
[null,"10. alveolus",1.3975,0.6675,0.14535181655846088,-0.1755487299633872,null,2.093632958801498,{"$nulls":3},{"$f":"'Tooth measurements raw data'!U66","v":0.15213357},0.00015213357,-3.817774943362525,null,0.9,115.6]
[null,"11. alveolus",0.7575,0.32749999999999996,-0.12061736282565741,-0.4847886956721982,null,2.312977099236641,{"$nulls":3},{"$f":"'Tooth measurements raw data'!U68","v":0.034074955},3.4074955e-05,-4.467564709030034,null,0.9,115.6]
[null,"12. alveolus",2.5875,1.1875,0.4128803584649742,0.07463361829690418,null,2.1789473684210527,{"$nulls":3},{"$f":"'Tooth measurements raw data'!U70","v":0.58714479},5.8714478999999993E-4,-3.2312547884557867,null,0.9,115.6]
[null,"13. alveolus",0.5675,0.1975,-0.24603413413483965,-0.7044329000375209,null,2.873417721518987,{"$nulls":3},{"$f":"'Tooth measurements raw data'!U72","v":0.023333937},2.3333936999999998E-5,-4.632011979032079,null,0.9,115.6]
[null,"14. alveolus",1.6175,0.8175,0.20884428934073798,-0.08751223866767631,null,1.9785932721712538,{"$nulls":3},{"$f":"'Tooth measurements raw data'!U74","v":0.32380468},0.00032380468,-3.489716878610788,null,0.9,115.6]
[null,"15. alveolus",2.6275,1.3675,0.4195427247002798,0.13592733500546836,null,1.9213893967093236,{"$nulls":3},{"$f":"'Tooth measurements raw data'!U76","v":1.2154944},1.2154944E-3,-2.915247037688355,null,0.9,115.6]
[null,"16. alveolus",0.6174999999999999,0.39749999999999996,-0.2093630380682967,-0.40066286700751097,null,1.5534591194968552,{"$nulls":3},{"$f":"'Tooth measurements raw data'!U78","v":0.060927499},6.0927499000000006E-5,-4.215186648771836,null,0.9,115.6]
[null,"17. alveolus",1.1875,0.7275,0.07463361829690418,-0.1381670023420551,null,1.6323024054982818,{"$nulls":3},{"$f":"'Tooth measurements raw data'!U80","v":0.33028632},0.00033028632,-3.481109413809487,null,0.9,115.6]
[null,"18. alveolus",2.7075,1.3275,0.432568465297358,0.12303452975350664,null,2.0395480225988702,{"$nulls":3},{"$f":"'Tooth measurements raw data'!U82","v":1.3269788},1.3269788E-3,-2.877136015429884,null,0.9,115.6]
[null,"19. alveolus",0.9075,0.5175,-0.04215336629184988,-0.2860896458710447,null,1.7536231884057971,{"$nulls":3},{"$f":"'Tooth measurements raw data'!U84","v":0.20741276},2.0741276E-4,-3.68316452939767,null,0.9,115.6]
[null,"20. alveolus",1.6275,1.0275,0.21152099724022955,0.01178183054810685,null,1.5839416058394158,{"$f":"AVERAGE(H277:H316)","v":2.3831861073344327},"1st replacement teeth of medium",null,{"$f":"'Tooth measurements raw data'!U86","v":0.76798284},7.6798284000000007E-4,-3.114648483844229,null,0.9,115.6]
[null,"2nd replacement",{"$f":"O10","v":0.3775},{"$f":"P10","v":0.11750000000000001},-0.42308304403479297,-0.9299621333922449,null,3.212765957446808,{"$nulls":3},{"$f":"'Tooth measurements raw data'!U13","v":0.0043519642},4.3519642e-06,-5.361314685875685,null,0.9,115.6]
[null,"2nd replacement",{"$f":"O18","v":1.0075},{"$f":"P18","v":0.32749999999999996},0.003245054813147085,-0.4847886956721982,null,3.076335877862596,{"$nulls":3},{"$f":"'Tooth measurements raw data'!U18","v":0.061112691},6.1112691e-05,-4.213868592393415,null,0.9,115.6]
[null,"2nd replacement",{"$f":"O22","v":0.3075},{"$f":"P22","v":0.05750000000000001},-0.5121548798885645,-1.2403321553103694,null,5.347826086956521,{"$nulls":3},{"$f":"'Tooth measurements raw data'!U27","v":0.0057408893},5.7408893e-06,-5.2410208274334895,null,0.9,115.6]
[null,"2nd replacement",{"$f":"O39","v":{"v":0.5175,"d":"0.52"}},{"$f":"P39","v":0.1075},-0.2860896458710447,-0.9685915357483759,null,4.813953488372093,{"$f":"AVERAGE(H237:H320)","v":2.8182494528664757},"All teeth of medium",null,{"$f":"'Tooth measurements raw data'!U52","v":0.021111656},2.1111656e-05,-4.675477699261999,null,0.9,115.6]
[null,"1. alveolus",{"$f":"W6","v":27.255},5.655,1.4354461863637156,0.7524326092614742,null,4.819628647214854,{"$nulls":3},{"$f":"'Tooth measurements raw data'!U168","v":30.514372},0.030514372,-1.515495563598299,null,3.95,428,null,{"$f":"L321/63","v":0.4843551111111111}]
[null,"2. alveolus",23.265,8.055,1.3667030568692862,0.9060655447552368,null,2.8882681564245813,{"$nulls":3},{"$f":"'Tooth measurements raw data'!U169","v":74.045319},0.07404531900000001,-1.130502391521266,null,3.95,428,null,1.175322523809524]
[null,"3. alveolus",39.015,11.455,1.5912316112515539,1.0589950935254164,null,3.4059362723701443,{"$nulls":3},{"$f":"'Tooth measurements raw data'!U171","v":228.07452},0.22807452,-0.641923230468643,null,3.95,428,null,3.620230476190476]
[null,"5. alveolus",{"$f":"W10","v":37.615},{"$f":"X10","v":8.645},1.5753610661552064,0.9367649976099414,null,4.35106998264893,{"$nulls":3},{"$f":"'Tooth measurements raw data'!U174","v":118.48124},0.11848124,-0.9263504092273991,null,3.95,428,null,1.8806546031746032]
[null,"1. alveolus",{"$f":"W17","v":27.005},7.205,1.4314441816172123,0.8576339851500081,null,3.748091603053435,{"$nulls":3},{"$f":"'Tooth measurements raw data'!U176","v":99.440819},0.099440819,-1.002435307478681,null,3.95,428,null,1.5784256984126985]
[null,"2. alveolus",20.825,1.185,1.3185850100788252,0.07371835034612269,null,17.573839662447256,{"$nulls":3},{"$f":"'Tooth measurements raw data'!U179","v":1.089331},1.089331E-3,-2.962840137111619,null,3.95,428,null,0.017290968253968256]
[null,"3. alveolus",42.415000000000006,5.455,1.6275194713376828,0.7367947549243606,null,7.775435380384969,{"$nulls":3},{"$f":"'Tooth measurements raw data'!U180","v":125.27031},0.12527031,-0.9021518478490924,null,3.95,428,null,1.988417619047619]
[null,"4. alveolus",62.495000000000005,12.725,1.7958452723957066,1.1046577910087962,null,4.911198428290767,{"$nulls":3},{"$f":"'Tooth measurements raw data'!U181","v":649.74792},0.64974792,-0.1872551021062391,null,3.95,428,null,10.313459047619048]
[null,"5. alveolus",35.205000000000005,6.025,{"$f":"LOG(C329)","v":1.546604348654274},0.7799570512469061,null,5.843153526970955,{"$nulls":3},{"$f":"'Tooth measurements raw data'!U182","v":111.49426},0.11149426,-0.9527474905933458,null,3.95,428,null,1.7697501587301587]
[null,"6. alveolus",31.685,8.825,1.5008537114612583,{"$f":"LOG(D330)","v":0.9457147140598602},null,{"$f":"C330/D330","v":3.5903682719546746},{"$nulls":3},{"$f":"'Tooth measurements raw data'!U183","v":175.93329},0.17593329,-0.754651975804729,null,3.95,428,null,2.7925919047619048]
[null,"7. alveolus",28.485,6.2250000000000005,1.4546162237926987,0.794139355767774,null,4.575903614457831,{"$nulls":3},{"$f":"'Tooth measurements raw data'!U185","v":100.27339},0.10027339,-0.9988143023677981,null,3.95,428,null,1.5916411111111113]
[null,"8. alveolus",31.395,6.215,1.4968604873943676,0.7934411329776636,null,5.0514883346741755,{"$nulls":3},{"$f":"'Tooth measurements raw data'!U187","v":113.51156},0.11351156,-0.9449599077346339,null,3.95,428,null,1.8017707936507936]
["Functional teeth","10. alveolus",{"$f":"W26","v":42.205000000000005},10.434999999999999,1.6253639046057011,1.0184924534014728,null,4.044561571633925,{"$nulls":3},{"$f":"'Tooth measurements raw data'!U190","v":394.31738},{"$f":"L333/1000","v":0.39431738},{"$f":"LOG(M333)","v":-0.4041540804673583},null,3.95,428,null,6.259006031746032]
[null,"11. alveolus",42.235,6.855,1.6256724985186637,0.8360074591255315,null,6.161196207148067,{"$nulls":3},{"$f":"'Tooth measurements raw data'!U192","v":180.21521},0.18021521000000001,-0.7442085577503643,null,3.95,428,null,2.8605588888888893]
[null,"12. alveolus",31.695,7.765000000000001,1.5009907561079947,0.8901414600645774,null,4.081777205408886,{"$nulls":3},{"$f":"'Tooth measurements raw data'!U194","v":212.29611},0.21229611,-0.6730579635401358,null,3.95,428,null,3.3697795238095236]
[null,"13. alveolus",26.395,6.415,1.4215216663369772,0.8071966607109473,null,4.114575214341388,{"$nulls":3},{"$f":"'Tooth measurements raw data'!U196","v":125.80865},0.12580865,-0.900289497856402,null,3.95,428,null,1.9969626984126985]
[null,"14. alveolus",21.165,6.175,1.325618272810029,0.7906369619317033,null,3.4275303643724695,{"$nulls":3},{"$f":"'Tooth measurements raw data'!U198","v":116.10857},0.11610857,-0.9351357237037238,null,3.95,428,null,1.8429931746031747]
[null,"15. alveolus",16.945,4.555000000000001,1.229041573173397,0.6584883813090171,null,3.720087815587266,{"$nulls":3},{"$f":"'Tooth measurements raw data'!U199","v":55.132469},0.055132469,-1.2585925580546393,null,3.95,428,null,0.8751185555555555]
[null,"2. alveolus",{"$f":"W38","v":32.575},{"$f":"X38","v":4.625},1.5128844243846222,0.6651117370750514,null,7.043243243243244,{"$nulls":3},{"$f":"'Tooth measurements raw data'!U201","v":47.889238812},0.047889238812,-1.3197620659094766,null,3.95,428,null,0.7601466478095238]
[null,"4. alveolus",{"$f":"W40","v":43.715},{"$f":"X40","v":12.864999999999998},1.6406304827244111,1.1094097905463653,null,3.397979012825496,{"$nulls":3},{"$f":"'Tooth measurements raw data'!U204","v":357.18690990600004},0.35718690990600005,-0.44710446540432236,null,3.95,428,null,5.669633490571429]
[null,"5. alveolus",30.015,7.425,1.4773383476918927,0.87069645798925,null,4.042424242424243,{"$nulls":3},{"$f":"'Tooth measurements raw data'!U208","v":86.294617},0.086294617,-1.0640162944367022,null,3.95,428,null,1.3697558253968254]
[null,"6. alveolus",24.314999999999998,5.565,1.385874273904196,0.7454651686707271,null,4.369272237196765,{"$nulls":3},{"$f":"'Tooth measurements raw data'!U211","v":51.472328},0.051472328,-1.2884261889542248,null,3.95,428,null,0.8170210793650793]
[null,"7. alveolus",21.195,4.385,1.32623342090424,0.6419695977020593,null,4.833523375142532,{"$nulls":3},{"$f":"'Tooth measurements raw data'!U213","v":26.454161},0.026454161,-1.5775060076661653,null,3.95,428,null,0.41990731746031745]
[null,"8. alveolus",20.044999999999998,4.215,1.3020060605865404,0.6247975789607612,null,4.7556346381969155,{"$nulls":3},{"$f":"'Tooth measurements raw data'!U215","v":35.124615},0.035124615,-1.4543884273514014,null,3.95,428,null,0.5575335714285714]
[null,"9. alveolus",18.265,5.565,1.2616196765479355,0.7454651686707271,null,3.2821203953279423,{"$nulls":3},{"$f":"'Tooth measurements raw data'!U217","v":47.515182},0.047515182,-1.3231676028941945,null,3.95,428,null,0.7542092380952381]
[null,"10. alveolus",21.314999999999998,4.555000000000001,1.328685336983151,0.6584883813090171,null,4.679473106476398,{"$nulls":3},{"$f":"'Tooth measurements raw data'!U220","v":34.611694},0.034611694,-1.460777144512619,null,3.95,428,null,0.5493919682539683]
[null,"11. alveolus",25.985,5.025,1.4147227211588782,0.7011360660925265,null,5.171144278606965,{"$nulls":3},{"$f":"'Tooth measurements raw data'!U222","v":47.910850843},0.047910850843,-1.3195661164902424,null,3.95,428,null,0.7604896959206349]
[null,"12. alveolus",36.585,9.475,1.563303059369412,0.9765792186401099,null,3.861213720316623,{"$nulls":3},{"$f":"'Tooth measurements raw data'!U223","v":198.082379156},0.198082379156,-0.7031541563427447,null,3.95,428,null,3.1441647485079365]
[null,"13. alveolus",45.025000000000006,11.975,1.653453721491571,1.0782755220866007,null,3.7599164926931112,{"$nulls":3},{"$f":"'Tooth measurements raw data'!U225","v":477.434789812},0.477434789812,-0.321085937920632,null,3.95,428,null,7.5783299970158735]
[null,"14. alveolus",38.215,7.705,1.5822338639209927,0.8867726430544381,null,4.959766385463984,{"$nulls":3},{"$f":"'Tooth measurements raw data'!U227","v":157.094239625},0.157094239625,-0.8038397394981688,null,3.95,428,null,2.493559359126984]
[null,"15. alveolus",28.035,6.9750000000000005,1.4477005604345132,0.8435442119456352,null,4.019354838709677,{"$nulls":3},{"$f":"'Tooth measurements raw data'!U228","v":164.40663},0.16440663,-0.7840806727183757,null,3.95,428,null,2.609629047619048]
[null,"16. alveolus",26.125,5.265000000000001,1.4170562991191105,0.7213983755215053,null,4.962013295346628,{"$f":"AVERAGE(H321:H352)","v":4.913162172542346},"functional teeth large",null,{"$f":"'Tooth measurements raw data'!U230","v":104.78389971899999},0.10478389971899998,-0.979705442546532,null,3.95,428,null,1.6632365034761902]
[null,"2. alveolus",{"$f":"AC7","v":7.955000000000001},{"$f":"AD7","v":3.145},0.9006401839826004,0.4976206497812877,null,2.5294117647058827,{"$nulls":3},{"$f":"'Tooth measurements raw data'!U170","v":10.67195},0.010671950000000001,-1.9717562181703077,null,3.95,428]
[null,"3. alveolus",{"$f":"AC8","v":13.364999999999998},{"$f":"AD8","v":4.795},1.125968963092556,0.6807886115066824,null,2.787278415015641,{"$nulls":3},{"$f":"'Tooth measurements raw data'!U172","v":31.703924},0.031703924,-1.4988869817544934,null,3.95,428]
[null,"5. alveolus",{"$f":"AC10","v":6.505},{"$f":"AD10","v":2.9650000000000003},0.813247300897605,0.47202469770028144,null,2.193929173693086,{"$nulls":3},{"$f":"'Tooth measurements raw data'!U175","v":13.864778},0.013864778,-1.858087079865193,null,3.95,428]
[null,"1. alveolus",{"$f":"AC17","v":8.985},{"$f":"AD17","v":3.915},0.9535180814449926,0.5927317663939622,null,2.2950191570881224,{"$nulls":3},{"$f":"'Tooth measurements raw data'!U177","v":19.694618},0.019694617999999997,-1.7056524384192464,null,3.95,428]
[null,"6. alveolus",{"$f":"AC22","v":7.465},2.055,0.8730298120610442,0.31281182621208803,null,3.6326034063260337,{"$nulls":3},{"$f":"'Tooth measurements raw data'!U184","v":18.76964},0.01876964,-1.7265440570277122,null,3.95,428]
[null,"7. alveolus",3.0050000000000003,1.785,0.4778444763387584,0.251638220448212,null,1.6834733893557425,{"$nulls":3},{"$f":"'Tooth measurements raw data'!U186","v":2.6671255},2.6671255E-3,-2.5739565483614424,null,3.95,428]
[null,"8. alveolus",1.2349999999999999,0.9549999999999998,0.0916669575956845,-0.019996628416253725,null,1.293193717277487,{"$nulls":3},{"$f":"'Tooth measurements raw data'!U188","v":0.84958166},0.00084958166,-3.070794871317653,null,3.95,428]
[null,"10. alveolus",{"$f":"AC26","v":11.604999999999999},4.2250000000000005,1.0646451447919365,0.6258267132857112,null,2.746745562130177,{"$nulls":3},{"$f":"'Tooth measurements raw data'!U191","v":45.362282},0.045362282000000004,-1.3433051058991203,null,3.95,428]
[null,"11. alveolus",2.1750000000000003,1.435,{"$f":"LOG(C361)","v":0.3374592612906562},0.15685190107001115,null,1.515679442508711,{"$nulls":3},{"$f":"'Tooth measurements raw data'!U193","v":3.060195},3.0601950000000004E-3,-2.514250898771455,null,3.95,428]
[null,"12. alveolus",5.325,2.9050000000000002,0.7263196121107753,{"$f":"LOG(D362)","v":0.4631461367263496},null,{"$f":"C362/D362","v":1.8330464716006885},{"$nulls":3},{"$f":"'Tooth measurements raw data'!U195","v":25.843971},0.025843971,-1.587640754961502,null,3.95,428]
[null,"13. alveolus",2.205,1.685,0.34340859380385735,0.22659990520735745,null,1.3086053412462908,{"$nulls":3},{"$f":"'Tooth measurements raw data'!U197","v":5.0469198},0.005046919800000001,-2.296973596533243,null,3.95,428]
[null,"2. alveolus",{"$f":"AC38","v":1.9349999999999998},{"$f":"AD38","v":1.175},0.28668096935493015,0.07003786660775509,null,1.6468085106382977,{"$nulls":3},{"$f":"'Tooth measurements raw data'!U202","v":2.677258},0.002677258,-2.572309775029997,null,3.95,428]
[null,"4. alveolus",{"$f":"AC40","v":28.654999999999998},4.565,1.4572004127937683,0.6594407818703177,null,6.277108433734939,{"$nulls":3},{"$f":"'Tooth measurements raw data'!U205","v":64.081764},{"$f":"L365/1000","v":0.06408176400000001},{"$f":"LOG(M365)","v":-1.1932655417908333},null,3.95,428]
[null,"5. alveolus",5.805000000000001,2.5050000000000003,0.7638022240745926,0.3988077302032646,null,2.3173652694610776,{"$nulls":3},{"$f":"'Tooth measurements raw data'!U209","v":5.4683199},5.4683199E-3,-2.262146086872885,null,3.95,428]
[null,"6. alveolus",6.2250000000000005,3.115,0.794139355767774,0.49345805099518847,null,1.998394863563403,{"$nulls":3},{"$f":"'Tooth measurements raw data'!U212","v":5.8573213},0.0058573213,-2.232300952343936,null,3.95,428]
[null,"7. alveolus",2.015,1.135,0.3042750504771283,0.05499586152914153,null,1.775330396475771,{"$nulls":3},{"$f":"'Tooth measurements raw data'!U214","v":0.67546451},0.00067546451,-3.1703974645783983,null,3.95,428]
[null,"8. alveolus",3.5450000000000004,1.8749999999999998,0.5496162395190854,0.2730012720637376,null,1.8906666666666672,{"$nulls":3},{"$f":"'Tooth measurements raw data'!U216","v":2.6367946},0.0026367946,-2.578923699391581,null,3.95,428]
[null,"9. alveolus",7.385,3.365,0.8683504996479683,0.5269850685599957,null,2.1946508172362553,{"$nulls":3},{"$f":"'Tooth measurements raw data'!U218","v":10.564651},0.010564651,-1.9761448451594834,null,3.95,428]
[null,"10. alveolus",2.5050000000000003,1.545,0.3988077302032646,0.18892848376085342,null,1.6213592233009713,{"$nulls":3},{"$f":"'Tooth measurements raw data'!U221","v":1.5799156},0.0015799156,-2.8013661126869103,null,3.95,428]
[null,"12. alveolus",{"$f":"AC48","v":5.355},{"$f":"AD48","v":2.345},0.7287594751678744,0.3701428470511021,null,2.283582089552239,{"$nulls":3},{"$f":"'Tooth measurements raw data'!U224","v":8.7371264},0.0087371264,-2.0586313813049,null,3.95,428]
[null,"13. alveolus",{"$f":"AC49","v":13.045},{"$f":"AD49","v":3.925},1.1154440834362396,0.5938396610812713,null,3.3235668789808916,{"$nulls":3},{"$f":"'Tooth measurements raw data'!U226","v":48.130638},0.048130637999999996,-1.3175783814549287,null,3.95,428]
[null,"15. alveolus",{"$f":"AC51","v":8.864999999999998},{"$f":"AD51","v":3.475},0.9476787399369365,0.5409548089261327,null,2.551079136690647,{"$nulls":3},{"$f":"'Tooth measurements raw data'!U229","v":42.650597},0.042650597,-1.3700748854345333,null,3.95,428]
[null,"16. alveolus",{"$f":"AC52","v":1.4849999999999999},{"$f":"AD52","v":0.9849999999999999},0.1717264536532311,-6.5637695023883225E-3,null,1.5076142131979695,{"$f":"AVERAGE(H353:H375)","v":2.3133266234976952},"1st replacement teeth of large",{"$nulls":5},3.95,428]
[null,"2nd replacement",{"$f":"AI17","v":0.895},{"$f":"AJ17","v":0.575},-0.04817696468408802,-0.24033215531036956,null,1.556521739130435,{"$nulls":3},{"$f":"'Tooth measurements raw data'!U178","v":0.29123917},{"$f":"L376/1000","v":2.9123916999999997E-4},{"$f":"LOG(M376)","v":-3.535750215310777},null,3.95,428]
[null,"2nd replacement",{"$f":"AI40","v":3.5450000000000004},{"$f":"AJ40","v":1.595},0.5496162395190854,0.2027606873931999,null,2.222570532915361,{"$nulls":3},{"$f":"'Tooth measurements raw data'!U207","v":0.65891129},0.00065891129,-3.1811730510460374,null,3.95,428]
[null,"2nd replacement",{"$f":"AI45","v":0.585},{"$f":"AJ45","v":0.425},-0.23284413391781958,-0.37161106994968846,null,1.3764705882352941,{"$f":"AVERAGE(H321:H378)","v":3.7169528400359164},"All teeth of large",null,{"$f":"'Tooth measurements raw data'!U219","v":0.10759611},1.0759611E-4,-3.9682034297483786,null,3.95,428]
[null,"1. alveolus",{"$f":"AQ6","v":3.2028},1.4328,0.5055298198351325,0.15618557284097515,null,2.2353433835845893,{"$nulls":3},{"$f":"'Tooth measurements raw data'!U87","v":0.29744717},2.9744716999999997E-4,-3.526590158724999,null,0.37,57.73]
[null,"2. alveolus",2.5328,1.7728000000000002,0.40360089751828065,0.24865974304833577,null,1.4287003610108302,{"$nulls":3},{"$f":"'Tooth measurements raw data'!U89","v":0.32412434},0.00032412434,-3.489288354556259,null,0.37,57.73]
[null,"3. alveolus",4.9228000000000005,1.7928000000000002,0.6922121919253502,0.25353184352700486,null,2.745872378402499,{"$nulls":3},{"$f":"'Tooth measurements raw data'!U91","v":0.61779702},0.00061779702,-3.2091541908883676,null,0.37,57.73]
[null,"4. alveolus",4.1328000000000005,1.4328,0.616244388829242,0.15618557284097515,null,2.884422110552764,{"$nulls":3},{"$f":"'Tooth measurements raw data'!U93","v":0.41851798},0.00041851798,-3.3782858794937827,null,0.37,57.73]
[null,"5. alveolus",4.5928,1.7628000000000001,0.6620775338595629,0.24620304183788136,null,2.605400499205809,{"$nulls":3},{"$f":"'Tooth measurements raw data'!U95","v":0.51211196},5.1211196000000006E-4,-3.2906350814174097,null,0.37,57.73]
[null,"1. alveolus",{"$f":"AQ16","v":4.5528},{"$f":"AR16","v":1.6928},0.6582785726002687,0.22860565035509176,null,2.6895085066162574,{"$nulls":3},{"$f":"'Tooth measurements raw data'!U97","v":0.50718594},0.00050718594,-3.2948327942924345,null,0.37,57.73]
[null,"2. alveolus",4.2228,2.4328,0.6256005128828166,0.38610640713607575,null,1.7357777047024008,{"$nulls":3},{"$f":"'Tooth measurements raw data'!U99","v":0.95852262},0.00095852262,-3.0183976338289384,null,0.37,57.73]
[null,"3. alveolus",6.3228,1.7928000000000002,0.8009094446204131,0.25353184352700486,null,3.52677376171352,{"$nulls":3},{"$f":"'Tooth measurements raw data'!U101","v":0.67390221},6.7390220999999991E-4,-3.1714031193973566,null,0.37,57.73]
[null,"4. alveolus",4.9028,2.5128,0.6904441774256653,0.40015792339044837,null,1.9511302133078638,{"$nulls":3},{"$f":"'Tooth measurements raw data'!U103","v":1.5664996},1.5664996E-3,-2.805069711677785,null,0.37,57.73]
[null,"5. alveolus",5.872800000000001,1.8328000000000002,0.7688452110633953,0.26311507618134117,null,3.2042776080314272,{"$nulls":3},{"$f":"'Tooth measurements raw data'!U105","v":0.80201018},8.0201018000000007E-4,-3.09582011913508,null,0.37,57.73]
[null,"6. alveolus",4.042800000000001,2.1928,0.6066822570287451,0.340999022531442,null,1.8436701933600879,{"$nulls":3},{"$f":"'Tooth measurements raw data'!U107","v":0.93539602},0.00093539602,-3.029004482295502,null,0.37,57.73]
[null,"7. alveolus",4.0528,2.0627999999999997,0.6077551724464728,0.3144571227346772,null,1.9647081636610437,{"$nulls":3},{"$f":"'Tooth measurements raw data'!U109","v":0.76148266},0.00076148266,-3.1183399816937394,null,0.37,57.73]
[null,"8. alveolus",3.1028,2.1028,0.49175378277214765,0.3227979683463876,null,1.4755564009891573,{"$nulls":3},{"$f":"'Tooth measurements raw data'!U111","v":0.94614363},0.00094614363,-3.0240429302139056,null,0.37,57.73]
[null,"9. alveolus",4.7628,2.2828,0.6778623449547883,0.35846786387692053,null,2.086385141054845,{"$nulls":3},{"$f":"'Tooth measurements raw data'!U114","v":1.1649348},0.0011649348,-2.933698380897715,null,0.37,57.73]
[null,"10. alveolus",3.9328,1.3528,{"$f":"LOG(C393)","v":0.59470186120636},0.13123359458968534,null,2.9071555292726194,{"$nulls":3},{"$f":"'Tooth measurements raw data'!U116","v":0.52858526},0.00052858526,-3.2768849516657497,null,0.37,57.73]
[null,"11. alveolus",4.7328,2.3028,0.6751181523167984,{"$f":"LOG(D394)","v":0.3622562207830964},null,{"$f":"C394/D394","v":2.0552371026576344},{"$nulls":3},{"$f":"'Tooth measurements raw data'!U118","v":1.6173589},1.6173589E-3,-2.791193597289455,null,0.37,57.73]
[null,"12. alveolus",4.5628,1.5628000000000002,0.6592314328752285,0.1939034025527469,null,2.9196314307652926,{"$nulls":3},{"$f":"'Tooth measurements raw data'!U120","v":0.94422442},0.00094422442,-3.0249247718203485,null,0.37,57.73]
[null,"13. alveolus",3.8828,2.0528,0.5891450209520843,0.3123466390308533,null,1.891465315666407,{"$nulls":3},{"$f":"'Tooth measurements raw data'!U122","v":1.225902},0.001225902,-2.9115442464247514,null,0.37,57.73]
[null,"14. alveolus",3.2228,1.3528,0.508233354972011,0.13123359458968534,null,2.3823181549379067,{"$nulls":3},{"$f":"'Tooth measurements raw data'!U124","v":0.60676152},0.00060676152,-3.216981969384265,null,0.37,57.73]
[null,"15. alveolus",2.8728,1.7528000000000001,0.4583053921180167,0.24373236455264893,null,1.6389776357827475,{"$nulls":3},{"$f":"'Tooth measurements raw data'!U125","v":0.57314318},0.00057314318,-3.24173687102349,null,0.37,57.73]
[null,"16. alveolus",1.1528,0.6828,0.061753967805932904,-0.16570648755730402,null,1.688342120679555,{"$nulls":3},{"$f":"'Tooth measurements raw data'!U127","v":0.11112285},1.1112284999999999E-4,-3.954196628650922,null,0.37,57.73]
[null,"1. alveolus",{"$f":"AQ36","v":5.162800000000001},{"$f":"AR36","v":2.1428},0.7128853013829272,0.33098163770082173,null,2.4093709165577755,{"$nulls":3},{"$f":"'Tooth measurements raw data'!U128","v":1.0140201},0.0010140201,-2.9939534362920623,null,0.37,57.73]
[null,"2. alveolus",2.1728,1.6228,0.3370197526004077,0.21026499903228857,null,1.3389203845205817,{"$nulls":3},{"$f":"'Tooth measurements raw data'!U130","v":0.54582626},5.4582626000000006E-4,-3.262945574018357,null,0.37,57.73]
[null,"3. alveolus",4.4428,1.8428000000000002,0.6476567631955412,0.2654782035806421,null,2.410896461905795,{"$nulls":3},{"$f":"'Tooth measurements raw data'!U132","v":0.60545003},0.00060545003,-3.2179216949499896,null,0.37,57.73]
[null,"4. alveolus",3.7527999999999997,1.2328000000000001,0.5743554199391019,0.09089262571036294,null,3.0441271901362748,{"$nulls":3},{"$f":"'Tooth measurements raw data'!U134","v":0.3426128},0.0003426128,-3.46519641584358,null,0.37,57.73]
[null,"5. alveolus",4.1828,1.5728000000000002,0.6214670993468457,0.19667350048806045,null,2.659460834181078,{"$nulls":3},{"$f":"'Tooth measurements raw data'!U136","v":0.47535887},0.00047535887,-3.322978397922917,null,0.37,57.73]
[null,"6. alveolus",3.2428,1.9228,0.5109201643452389,0.2839341134566093,null,1.68649885583524,{"$nulls":3},{"$f":"'Tooth measurements raw data'!U138","v":0.55430281},0.00055430281,-3.2562529197759296,null,0.37,57.73]
[null,"7. alveolus",3.1928,1.0828000000000002,0.5041717147759669,0.03454824709846889,null,2.9486516438862203,{"$nulls":3},{"$f":"'Tooth measurements raw data'!U140","v":0.21412101},0.00021412101,-3.6693407167345606,null,0.37,57.73]
[null,"8. alveolus",3.0427999999999997,1.7028,0.4832734075829816,0.23116364150509885,null,1.786939159032182,{"$nulls":3},{"$f":"'Tooth measurements raw data'!U142","v":0.37629512},3.7629511999999997E-4,-3.42447141381092,null,0.37,57.73]
[null,"9. alveolus",3.1028,1.1128,0.49175378277214765,0.04641711698399,null,2.7882818116462973,{"$nulls":3},{"$f":"'Tooth measurements raw data'!U144","v":0.2222777},{"$f":"L408/1000","v":0.0002222777},{"$f":"LOG(M408)","v":-3.6531041056894127},null,0.37,57.73]
[null,"10. alveolus",3.1828,1.8128000000000002,0.5028093493890419,0.25834989251932206,null,1.7557369814651365,{"$nulls":3},{"$f":"'Tooth measurements raw data'!U146","v":0.43694249},4.3694249E-4,-3.359575720739556,null,0.37,57.73]
[null,"11. alveolus",3.8828,1.4928000000000001,0.5891450209520843,0.17400162640242475,null,2.60101822079314,{"$nulls":3},{"$f":"'Tooth measurements raw data'!U148","v":0.43569499},0.00043569499,-3.360817433931274,null,0.37,57.73]
[null,"12. alveolus",3.5627999999999997,2.1328,0.5517914436436694,0.328950132069784,null,1.6704801200300075,{"$nulls":3},{"$f":"'Tooth measurements raw data'!U150","v":0.90008235},9.0008235000000008E-4,-3.0457177544334813,null,0.37,57.73]
[null,"13. alveolus",5.3928,1.8128000000000002,0.7318143141307349,0.25834989251932206,null,2.9748455428067078,{"$nulls":3},{"$f":"'Tooth measurements raw data'!U152","v":0.82516879},0.00082516879,-3.0834572065194226,null,0.37,57.73]
[null,"14. alveolus",4.122800000000001,2.2828,0.6151922673739658,0.35846786387692053,null,1.8060276852987562,{"$nulls":3},{"$f":"'Tooth measurements raw data'!U154","v":1.1328198},1.1328198E-3,-2.9458391687683667,null,0.37,57.73]
[null,"15. alveolus",4.252800000000001,1.5728000000000002,0.6286749592626381,0.19667350048806045,null,2.703967446592065,{"$nulls":3},{"$f":"'Tooth measurements raw data'!U156","v":0.79369354},7.9369354000000006E-4,-3.100347154472959,null,0.37,57.73]
[null,"16. alveolus",3.7128,2.0427999999999997,0.5697015554109736,0.3102258491835024,null,1.8175053847660076,{"$nulls":3},{"$f":"'Tooth measurements raw data'!U158","v":1.1028479},1.1028479E-3,-2.957484379441568,null,0.37,57.73]
[null,"17. alveolus",3.3428,1.4128,0.5241103934951362,0.15008068623349338,null,2.3660815402038504,{"$nulls":3},{"$f":"'Tooth measurements raw data'!U160","v":0.69536549},6.9536549000000008E-4,-3.1577868665352287,null,0.37,57.73]
[null,"18. alveolus",3.3828,1.8628,0.5292763219192271,0.2701662292606937,null,1.815975950182521,{"$nulls":3},{"$f":"'Tooth measurements raw data'!U162","v":0.92567194},0.00092567194,-3.0335429008897745,null,0.37,57.73]
[null,"19. alveolus",3.4827999999999997,1.6428,0.541928535787472,0.21558469418161483,null,2.1200389578767953,{"$nulls":3},{"$f":"'Tooth measurements raw data'!U164","v":0.63766092},0.00063766092,-3.1954101985818624,null,0.37,57.73]
[null,"20. alveolus",2.8327999999999998,2.8327999999999998,0.4522159137500546,0.4522159137500546,null,1,{"$f":"AVERAGE(H379:H419)","v":2.233304361065163},"functional teeth small",null,{"$f":"'Tooth measurements raw data'!U166","v":0.46774599},0.00046774599,-3.3299899270312396,null,0.37,57.73]
[null,"1. alveolus",{"$f":"AW6","v":0.2528},0.1628,-0.5972229303896526,-0.7883455994468176,null,1.552825552825553,{"$nulls":3},{"$f":"'Tooth measurements raw data'!U88","v":1.8552463E-3},1.8552462999999999E-6,-5.7315984258709305,null,0.37,57.73]
[null,"2. alveolus",1.1528,0.7728,0.061753967805932904,-0.11193288659256305,null,1.4917184265010353,{"$nulls":3},{"$f":"'Tooth measurements raw data'!U90","v":0.080095463},8.0095463e-05,-4.096392083789292,null,0.37,57.73]
[null,"3. alveolus",1.0528000000000002,0.5328,0.022345876269880344,-0.2734357838377553,null,1.975975975975976,{"$nulls":3},{"$f":"'Tooth measurements raw data'!U92","v":0.046061289},4.6061288999999995E-5,-4.336663912707998,null,0.37,57.73]
[null,"4. alveolus",0.5328,0.3128,-0.2734357838377553,-0.5047332556121896,null,1.7033248081841432,{"$nulls":3},{"$f":"'Tooth measurements raw data'!U94","v":0.0088603999},8.8603998999999991E-6,-5.052546676482701,null,0.37,57.73]
[null,"5. alveolus",0.9928,0.5628,-0.003138231509326578,-0.24964591123729193,null,1.764036958066809,{"$nulls":3},{"$f":"'Tooth measurements raw data'!U96","v":0.036817044},3.6817044e-05,-4.4339510834589335,null,0.37,57.73]
[null,"1. alveolus",{"$f":"AW16","v":0.6928},{"$f":"AX16","v":0.4728},{"$f":"LOG(C425)","v":-0.1593921209907098},-0.32532253212680107,null,1.4653130287648053,{"$nulls":3},{"$f":"'Tooth measurements raw data'!U98","v":0.026037423},2.6037423000000002E-5,-4.584402001373514,null,0.37,57.73]
[null,"2. alveolus",1.8028000000000002,0.9528,0.25594754939893993,{"$f":"LOG(D426)","v":-0.02099825152527892},null,{"$f":"C426/D426","v":1.8921074727120069},{"$nulls":3},{"$f":"'Tooth measurements raw data'!U100","v":0.14867561},1.4867561000000002E-4,-3.8277602709615888,null,0.37,57.73]
[null,"3. alveolus",1.1028,0.6028,0.04249675743373609,-0.2198267563574058,null,1.829462508294625,{"$nulls":3},{"$f":"'Tooth measurements raw data'!U102","v":0.056265142},5.6265142e-05,-4.24976058073497,null,0.37,57.73]
[null,"4. alveolus",2.8028,1.2228,0.4475921088215379,0.08735543005405126,null,2.2921164540399084,{"$nulls":3},{"$f":"'Tooth measurements raw data'!U104","v":0.33499989},0.00033499989,-3.4749553355673366,null,0.37,57.73]
[null,"5. alveolus",0.8928,0.5028,-0.04924581840649645,-0.2986047309860798,null,1.775656324582339,{"$nulls":3},{"$f":"'Tooth measurements raw data'!U106","v":0.032082967},3.2082966999999994E-5,-4.493725475420792,null,0.37,57.73]
[null,"6. alveolus",1.8428000000000002,0.9328,0.2654782035806421,-0.03021146258506115,null,1.9755574614065183,{"$nulls":3},{"$f":"'Tooth measurements raw data'!U108","v":0.15689626},1.5689626E-4,-3.804387408743983,null,0.37,57.73]
[null,"7. alveolus",0.7128,0.4228,-0.14703230897118164,-0.3738650213646113,null,1.685903500473037,{"$nulls":3},{"$f":"'Tooth measurements raw data'!U110","v":0.032658733},3.2658733e-05,-4.4860006677861834,null,0.37,57.73]
[null,"8. alveolus",2.1128,1.0628000000000002,0.32485838819886764,0.026451545738239983,null,1.9879563417388029,{"$nulls":3},{"$f":"'Tooth measurements raw data'!U112","v":0.23795132},0.00023795132,-3.6235118816736875,null,0.37,57.73]
[null,"9. alveolus",1.0028000000000001,0.6128,1.2143252861789634E-3,-0.21268124337545247,null,1.6364229765013056,{"$nulls":3},{"$f":"'Tooth measurements raw data'!U115","v":0.064997591},6.4997591e-05,-4.18710273927706,null,0.37,57.73]
[null,"10. alveolus",0.4628,0.2828,-0.3346066497202881,-0.5485205948751382,null,1.6364922206506365,{"$nulls":3},{"$f":"'Tooth measurements raw data'!U117","v":0.015097867},1.5097867E-5,-4.821084404730895,null,0.37,57.73]
[null,"11. alveolus",1.3928,0.7528,0.1438887581092748,-0.1233203895807995,null,1.8501594048884165,{"$nulls":3},{"$f":"'Tooth measurements raw data'!U119","v":0.17256989},1.7256989000000002E-4,-3.7630349777261807,null,0.37,57.73]
[null,"12. alveolus",0.3628,0.2028,-0.4403327216119423,-0.6929320493387017,null,1.7889546351084813,{"$nulls":3},{"$f":"'Tooth measurements raw data'!U121","v":7.6129073E-3},7.6129073e-06,-5.118449458443071,null,0.37,57.73]
[null,"13. alveolus",0.7228,0.4528,-0.14098185611110575,-0.344093581819785,null,1.5962897526501767,{"$nulls":3},{"$f":"'Tooth measurements raw data'!U123","v":0.070979163},7.0979163e-05,-4.148869126242647,null,0.37,57.73]
[null,"14. alveolus",null,{"$f":"AX30","v":0.3328},null,-0.4778166823813137,null,0,{"$nulls":3},{"$f":"'Tooth measurements raw data'!U126","v":6.333427E-3},6.333427e-06,-5.198361230827518,null,0.37,57.73]
[null,"1. alveolus",{"$f":"AW36","v":1.4828000000000001},{"$f":"AX36","v":0.6628},{"$f":"LOG(C439)","v":0.1710825773575261},-0.1786175002527009,null,2.2371756185878096,{"$nulls":3},{"$f":"'Tooth measurements raw data'!U129","v":0.081215009},8.1215009e-05,-4.09036370322767,null,0.37,57.73]
[null,"2. alveolus",2.0728,0.8228,0.3165573999777684,-0.0847057169773136,null,2.5192027224112787,{"$nulls":3},{"$f":"'Tooth measurements raw data'!U131","v":0.20938693},{"$f":"L440/1000","v":0.00020938693},{"$f":"LOG(M440)","v":-3.6790504306133887},null,0.37,57.73]
[null,"3. alveolus",1.0928000000000002,0.5428,0.03854068633745743,-0.2653601610123006,null,2.0132645541635967,{"$nulls":3},{"$f":"'Tooth measurements raw data'!U133","v":0.043182455},4.3182455e-05,-4.364692670879856,null,0.37,57.73]
[null,"4. alveolus",0.3628,0.1928,-0.4403327216119423,-0.714892970433188,null,1.8817427385892116,{"$nulls":3},{"$f":"'Tooth measurements raw data'!U135","v":0.0046381159},4.6381159e-06,-5.333658403153497,null,0.37,57.73]
[null,"5. alveolus",0.6328,0.3228,-0.19873352951037984,-0.4910664739499672,null,1.9603469640644364,{"$nulls":3},{"$f":"'Tooth measurements raw data'!U137","v":0.02008784},2.008784E-5,-4.697066759444568,null,0.37,57.73]
[null,"6. alveolus",0.9528,0.5628,-0.02099825152527892,-0.24964591123729193,null,1.6929637526652452,{"$nulls":3},{"$f":"'Tooth measurements raw data'!U139","v":0.048908129},4.8908129E-5,-4.310618950969721,null,0.37,57.73]
[null,"7. alveolus",0.1728,0.1728,-0.7624562618571255,-0.7624562618571255,null,1,{"$nulls":3},{"$f":"'Tooth measurements raw data'!U141","v":0.00067172712},6.7172712e-07,-6.1728071173428365,null,0.37,57.73]
[null,"8. alveolus",0.9528,0.4528,-0.02099825152527892,-0.344093581819785,null,2.104240282685512,{"$nulls":3},{"$f":"'Tooth measurements raw data'!U143","v":0.027732734},2.7732734e-05,-4.55700731388466,null,0.37,57.73]
[null,"9. alveolus",0.1628,0.1628,-0.7883455994468176,-0.7883455994468176,null,1,{"$nulls":3},{"$f":"'Tooth measurements raw data'!U145","v":0.0011515322},1.1515322E-6,-5.938723913464582,null,0.37,57.73]
[null,"10. alveolus",0.7228,0.4628,-0.14098185611110575,-0.3346066497202881,null,1.5617977528089888,{"$nulls":3},{"$f":"'Tooth measurements raw data'!U147","v":0.030099772},3.0099772e-05,-4.5214367940911036,null,0.37,57.73]
[null,"11. alveolus",0.4528,0.2828,-0.344093581819785,-0.5485205948751382,null,1.6011315417256011,{"$nulls":3},{"$f":"'Tooth measurements raw data'!U149","v":0.01164327},1.164327E-5,-4.933925031411703,null,0.37,57.73]
[null,"12. alveolus",1.6128,0.9228,0.20758051476543127,-0.03489241415094416,null,1.7477243172951886,{"$nulls":3},{"$f":"'Tooth measurements raw data'!U151","v":0.14973117},0.00014973117,-3.8246877818220253,null,0.37,57.73]
[null,"13. alveolus",0.8028,0.4528,-0.09539263618455208,-0.344093581819785,null,1.7729681978798586,{"$nulls":3},{"$f":"'Tooth measurements raw data'!U153","v":0.034258083},3.4258083000000003E-5,-4.465236942766157,null,0.37,57.73]
[null,"14. alveolus",1.6928,0.8328,0.22860565035509176,-0.07945928349752027,null,2.032660902977906,{"$nulls":3},{"$f":"'Tooth measurements raw data'!U155","v":0.17042676},1.7042676000000002E-4,-3.768462212339972,null,0.37,57.73]
[null,"15. alveolus",0.3028,0.2328,-0.5188441291719649,-0.6330170240221491,null,1.3006872852233677,{"$nulls":3},{"$f":"'Tooth measurements raw data'!U157","v":0.0041263239},4.1263239000000005E-6,-5.384436684636836,null,0.37,57.73]
[null,"16. alveolus",0.8428,0.5328,-0.07427547306393742,-0.2734357838377553,null,1.5818318318318316,{"$nulls":3},{"$f":"'Tooth measurements raw data'!U159","v":0.096824661},9.6824661000000008E-5,-4.01401401487983,null,0.37,57.73]
[null,"17. alveolus",0.1528,0.1528,-0.8158766457603289,-0.8158766457603289,null,1,{"$nulls":3},{"$f":"'Tooth measurements raw data'!U161","v":0.0011515322},1.1515322E-6,-5.938723913464582,null,0.37,57.73]
[null,"18. alveolus",0.6828,0.4328,-0.16570648755730402,-0.36371274790148694,null,1.5776340110905729,{"$nulls":3},{"$f":"'Tooth measurements raw data'!U163","v":0.059783712},5.9783712e-05,-4.223417122902163,null,0.37,57.73]
[null,"19. alveolus",0.11280000000000001,0.11280000000000001,-0.9476909003526764,-0.9476909003526764,null,1,{"$nulls":3},{"$f":"'Tooth measurements raw data'!U165","v":0.00083166215},8.3166215e-07,-6.080053063359937,null,0.37,57.73]
[null,"20. alveolus",0.4228,0.3028,-0.3738650213646113,-0.5188441291719649,null,1.3963011889035666,{"$f":"AVERAGE(H420:H458)","v":1.6636396786222702},"1st replacement teeth of small",null,{"$f":"'Tooth measurements raw data'!U167","v":0.021047449},2.1047449e-05,-4.676800534144691,null,0.37,57.73]
[null,"2nd replacement",{"$f":"BC23","v":0.1628},{"$f":"BD23","v":0.1628},-0.7883455994468176,-0.7883455994468176,null,1,{"$f":"AVERAGE(H379:H459)","v":1.9437953860486454},"all teeth of small",null,{"$f":"'Tooth measurements raw data'!U113","v":0.0014074282},1.4074281999999999E-6,-5.851573751460042,null,0.37,57.73]

{"sheet":"Enamel thickness","index":3,"n_rows":18,"n_cols":17,"rows_kept":18}
[]
[null,"Enamel thickness"]
[null,"small","small","small","small","small","medium","medium","medium","medium","medium",null,"large","large","large","large","large"]
[null,null,"Picture number",{"$nulls":4},"Picture number",{"$nulls":5},"Picture number"]
[null,"Dent 4",9326,0.036,null,null,"Dent 19",9007,0.122,0.081,0.07,null,"Dent 11",7954,0.166,0.18,0.162]
[null,null,9336,0.024,0.029,null,"Dent 18",9021,0.116,0.071,0.08,null,"Mx 7",7928,0.206,0.174]
[null,"Mx 6",9235,0.056,0.023,0.017,"Mx 12",8111,0.096,0.066,0.072,0.072]
[]
[null,"tip of apex","average",{"$f":"AVERAGE(D5:D7)","v":{"v":0.03866666666666666,"d":"0.039"}},{"$f":"AVERAGE(E5:E7)","v":{"v":0.026000000000000002,"d":"0.026"}},{"$f":"AVERAGE(F5:F7)","v":0.017},null,null,{"$f":"AVERAGE(I5:I7)","v":{"v":0.11133333333333333,"d":"0.111"}},{"$f":"AVERAGE(J5:J7)","v":{"v":0.07266666666666667,"d":"0.073"}},{"$f":"AVERAGE(K5:K7)","v":{"v":0.07400000000000001,"d":"0.074"}},{"$f":"AVERAGE(L5:L7)","v":0.072},null,null,{"$f":"AVERAGE(O5:O7)","v":0.186},{"$f":"AVERAGE(P5:P7)","v":0.177},{"$f":"AVERAGE(Q5:Q7)","v":0.162}]
[]
[null,null,"average of averages",{"$f":"(D9+E9+F9)/3","v":{"v":0.02722222222222222,"d":"0.0272"}},{"$nulls":4},{"$f":"(I9+J9+K9+L9)/4","v":0.0825},{"$nulls":5},{"$f":"(O9+P9+Q9)/3","v":{"v":0.17500000000000002,"d":"0.1750"}}]
[null,null,"average without apex tips",{"$f":"(((D5+D6)/2)+(((E6+E7)/2))+F7)/3","v":{"v":0.024333333333333335,"d":"0.0243"}},{"$nulls":4},{"$f":"(J9+K9+L9)/3","v":{"v":0.07288888888888889,"d":"0.0729"}},{"$nulls":5},{"$f":"(O5+P9+Q9)/3","v":{"v":0.16833333333333333,"d":"0.1683"}}]
[null,null,"average of apex tips",{"$f":"D7","v":0.056},{"$nulls":4},{"$f":"(I5+I6+I7)/3","v":{"v":0.11133333333333333,"d":"0.111"}},{"$nulls":5},{"$f":"O6","v":0.206}]
[null,null,"average tooth length",{"$f":"'Tooth size Developmental st'!$AQ$58","v":{"v":3.905853658536585,"d":"3.906"}},{"$f":"'Tooth size Developmental st'!$AR$58","v":{"v":1.8148780487804876,"d":"1.815"}},"<--average crown height",null,null,{"$f":"'Tooth size Developmental st'!C58","v":7.841000000000001},{"$f":"'Tooth size Developmental st'!D58","v":2.6004999999999994},{"$nulls":4},{"$f":"'Tooth size Developmental st'!W59","v":{"v":31.0709375,"d":"31.071"}},{"$f":"'Tooth size Developmental st'!X59","v":{"v":6.965624999999999,"d":"6.966"}}]
[{"$nulls":3},{"$f":"$D$14/$D$12","v":160.51453391246238},{"$f":"$E$14/$D$12","v":74.58402940193784},{"$nulls":3},{"$f":"I14/I12","v":107.57469512195124},{"$f":"J14/I12","v":35.67759146341462},{"$nulls":4},{"$f":"O14/O12","v":184.57982673267327},{"$f":"P14/O12","v":41.3799504950495}]
[{"$nulls":3},{"$f":"$D$12/$D$14","v":0.00622996544690063},{"$f":"$D$12/$E$14","v":0.013407696098194689},{"$nulls":3},{"$f":"I12/I14","v":0.00929586645694285},{"$f":"I12/J14","v":0.028028797880749436},{"$nulls":4},{"$f":"O12/O14","v":0.005417710145802113},{"$f":"O12/P14","v":0.024166292806938838}]
[{"$nulls":4},{"$f":"((D5+D6+E6)/3)/'Tooth measurements raw data'!$Q$134","v":0.023544973544973542},"specific CH to enamel",{"$nulls":3},{"$f":"((J5+K5)/2)/'Tooth measurements raw data'!$Q$83","v":0.02827715355805244},{"$nulls":5},{"$f":"((O5+P5+Q5)/3)/'Tooth measurements raw data'!$Q$222","v":0.03313763861709067}]
[{"$nulls":4},{"$f":"((E7+F7)/2)/'Tooth measurements raw data'!$Q$107","v":0.009009009009009009},{"$nulls":4},{"$f":"((J6+K6)/2)/'Tooth measurements raw data'!$Q$81","v":0.029377431906614786},{"$f":"((J7+K7+L7)/3)/'Tooth measurements raw data'!Q38","v":0.022580645161290325},{"$nulls":4},{"$f":"P6/'Tooth measurements raw data'!$Q$185","v":0.028384991843393145}]

{"sheet":"Oblique and perpendicular trans","index":4,"n_rows":15,"n_cols":20,"rows_kept":15}
[]
[{"$nulls":17},"t-Test: Paired Two Sample for Means"]
[]
[{"$nulls":4},"oblique",{"$nulls":4},"perpendicular",{"$nulls":8},"Variable 1","Variable 2"]
[null,"Tooth","mean VEIW [µm]","SD","min","max","TFT [days]","mean VEIW [µm]","SD","min","max","TFT [days]","TFT difference",{"$nulls":4},"Mean",195.3823953823954,259.2707537560479]
[null,"Medium [NCSM 100804] Dent 18",21,5,12,34,{"$f":"2.4875/0.021","v":{"v":118.45238095238093,"d":"118.4524"}},14,4,8,21,{"$f":"2.4875/0.014","v":{"v":177.67857142857142,"d":"177.6786"}},{"$f":"L6-G6","v":{"v":59.22619047619048,"d":"59.2262"}},{"$nulls":4},"Variance",4468.245574170898,5013.021106899236]
[null,"Large [NCSM 100805] Dent 11",21,6,12,29,{"$f":"5.025/0.021","v":239.28571428571428},17.5,3,13,23.5,{"$f":"5.025/0.017","v":295.5882352941176},{"$f":"L7-G7","v":{"v":56.302521008403346,"d":"56.3025"}},{"$nulls":4},"Observations",3,3]
[null,"Large [NCSM 100805] Dent 11",22,6,12,36,{"$f":"5.025/0.022","v":228.40909090909093},16.5,3,12.5,21.5,{"$f":"5.025/0.0165","v":304.54545454545456},{"$f":"L8-G8","v":{"v":76.13636363636363,"d":"76.1364"}},{"$nulls":4},"Pearson Correlation",0.9895428357265871]
[{"$nulls":17},"Hypothesized Mean Difference",0]
[{"$nulls":17},"df",2]
[{"$nulls":17},"t Stat",-10.334766233498602]
[{"$nulls":17},"P(T<=t) one-tail",0.004616588873157082]
[{"$nulls":17},"t Critical one-tail",2.919985580353727]
[{"$nulls":17},"P(T<=t) two-tail",0.00923317774631416]
[{"$nulls":17},"t Critical two-tail",4.302652729749464]

{"sheet":"VEIW var along CA","index":5,"n_rows":387,"n_cols":32,"rows_kept":387}
[]
[]
[null,"Transect position along CA of tooth","mean VEIW [µm]","SD","min","max","CH [mm]","TFT [days]"]
[null,"apical",16,4,10,30,null,{"$f":"5.025/0.016","v":314.0625},{"$nulls":3},"ANOVA: Single Factor",{"$nulls":9},"TUKEY HSD/KRAMER",null,null,"alpha",0.05,null,null,"Pairwise t tests",null,null,17]
[null,null,16,3,9,30,null,{"$f":"5.025/0.016","v":314.0625},{"$nulls":13},"group","mean","n","ss","df","q-crit",{"$nulls":4},18]
[null,null,17,3,10,24,null,{"$f":"5.025/0.017","v":295.5882352941176},{"$nulls":3},"DESCRIPTION",{"$nulls":4},"Alpha",0.05,{"$nulls":3},{"$f":"Q39","v":"CA Apex"},{"$f":"AVERAGE(Q40:Q387)","v":0.015604651162790696},{"$f":"COUNT(Q40:Q387)","v":86},{"$f":"DEVSQ(Q40:Q387)","v":1.1405581395348835E-3},{"$nulls":3},"group 1","group 2","p-value","mean"]
[null,"mid crown",17,3,9,23,5.025,{"$f":"5.025/0.017","v":295.5882352941176},{"$nulls":3},"Group","Count","Sum","Mean","Variance","SS","Std Err","Lower","Upper",null,{"$f":"R39","v":"CA Mid"},{"$f":"AVERAGE(R40:R387)","v":0.01726149425287354},{"$f":"COUNT(R40:R387)","v":348},{"$f":"DEVSQ(R40:R387)","v":0.004489204022988515},{"$nulls":3},{"$f":"Q39","v":"CA Apex"},{"$f":"R39","v":"CA Mid"},{"$f":"_xlfn.T.TEST(Q40:Q387,R40:R387,2,3)","v":2.4831249455177582E-4},{"$f":"ABS(AVERAGE(Q40:Q387)-AVERAGE(R40:R387))","v":1.6568430900828438E-3}]
[null,null,18,4,11,30,null,{"$f":"5.025/0.018","v":279.1666666666667},{"$nulls":3},{"$f":"Q39","v":"CA Apex"},{"$f":"COUNT(Q40:Q387)","v":86},{"$f":"SUM(Q40:Q387)","v":1.3419999999999999},{"$f":"AVERAGE(Q40:Q387)","v":0.015604651162790696},{"$f":"_xlfn.VAR.S(Q40:Q387)","v":1.3418331053351571E-5},{"$f":"DEVSQ(Q40:Q387)","v":1.1405581395348835E-3},{"$f":"SQRT(O15/M8)","v":3.8508752589626219E-4},{"$f":"O8-R8*_xlfn.T.INV.2T(R6,N15)","v":0.014847957256257437},{"$f":"O8+R8*_xlfn.T.INV.2T(R6,N15)","v":0.016361345069323956},null,{"$f":"S39","v":"CA Base"},{"$f":"AVERAGE(S40:S387)","v":0.017190476190476197},{"$f":"COUNT(S40:S387)","v":42},{"$f":"DEVSQ(S40:S387)","v":4.0247619047619029E-4},{"$nulls":3},{"$f":"Q39","v":"CA Apex"},{"$f":"S39","v":"CA Base"},{"$f":"_xlfn.T.TEST(Q40:Q387,S40:S387,2,3)","v":0.012722750210076234},{"$f":"ABS(AVERAGE(Q40:Q387)-AVERAGE(S40:S387))","v":1.5858250276855005E-3}]
[null,null,18,4,11,30,null,{"$f":"5.025/0.018","v":279.1666666666667},{"$nulls":3},{"$f":"R39","v":"CA Mid"},{"$f":"COUNT(R40:R387)","v":348},{"$f":"SUM(R40:R387)","v":6.006999999999992},{"$f":"AVERAGE(R40:R387)","v":0.01726149425287354},{"$f":"_xlfn.VAR.S(R40:R387)","v":1.2937187386134048E-5},{"$f":"DEVSQ(R40:R387)","v":0.004489204022988515},{"$f":"SQRT(O15/M9)","v":1.9143399138226558E-4},{"$f":"O9-R9*_xlfn.T.INV.2T(R6,N15)","v":0.016885327991852342},{"$f":"O9+R9*_xlfn.T.INV.2T(R6,N15)","v":0.01763766051389474},{"$nulls":3},{"$f":"SUM(X6:X8)","v":476},{"$f":"SUM(Y6:Y8)","v":0.006032238352999588},{"$f":"X9-COUNT(X6:X8)","v":473},{"$f":"[1]!QCRIT(COUNT(X6:X8),Z9,Z4,2)","v":3.3246553911205075},null,{"$f":"R39","v":"CA Mid"},{"$f":"S39","v":"CA Base"},{"$f":"_xlfn.T.TEST(R40:R387,S40:S387,2,3)","v":0.8919671924223411},{"$f":"ABS(AVERAGE(R40:R387)-AVERAGE(S40:S387))","v":7.1018062397343318E-5}]
[null,null,17,4,7,29,null,{"$f":"5.025/0.017","v":295.5882352941176},{"$nulls":3},{"$f":"S39","v":"CA Base"},{"$f":"COUNT(S40:S387)","v":42},{"$f":"SUM(S40:S387)","v":0.7220000000000003},{"$f":"AVERAGE(S40:S387)","v":0.017190476190476197},{"$f":"_xlfn.VAR.S(S40:S387)","v":9.8164924506387885E-6},{"$f":"DEVSQ(S40:S387)","v":4.0247619047619029E-4},{"$f":"SQRT(O15/M10)","v":5.5104114926455736E-4},{"$f":"O10-R10*_xlfn.T.INV.2T(R6,N15)","v":0.016107684742149974},{"$f":"O10+R10*_xlfn.T.INV.2T(R6,N15)","v":0.01827326763880242},null,"Q TEST"]
[null,"basal",17,3,10,27,null,{"$f":"5.025/0.017","v":295.5882352941176},{"$nulls":13},"group 1","group 2","mean","std err","q-stat","lower","upper","p-value","mean-crit","Cohen d"]
[{"$nulls":11},"ANOVA",{"$nulls":9},{"$f":"V6","v":"CA Apex"},{"$f":"V7","v":"CA Mid"},{"$f":"ABS(W6-W7)","v":1.6568430900828438E-3},{"$f":"SQRT(Y9/Z9/HARMEAN(X6,X7))","v":3.0408828952908538E-4},{"$f":"X12/Y12","v":5.448559339949099},{"$f":"X12-Y12*AA$9","v":6.4585431892335643E-4},{"$f":"X12+Y12*AA$9","v":0.002667831861242331},{"$f":"[1]!QDIST(Z12,COUNT($X$6:$X$8),Z$9)","v":3.9024603473125641E-4},{"$f":"Y12*AA$9","v":1.0109887711594874E-3},{"$f":"X12*SQRT(Z$9/Y$9)","v":0.4639516295698364}]
[{"$nulls":11},"Sources","SS","df","MS","F","P value","F crit","RMSSE","Omega Sq",null,{"$f":"V6","v":"CA Apex"},{"$f":"V8","v":"CA Base"},{"$f":"ABS(W6-W8)","v":1.5858250276855005E-3},{"$f":"SQRT(Y9/Z9/HARMEAN(X6,X8))","v":4.7536236219525654E-4},{"$f":"X13/Y13","v":3.336034052763559},{"$f":"X13-Y13*AA$9","v":5.4089874772615676E-6},{"$f":"X13+Y13*AA$9","v":3.1662410678937394E-3},{"$f":"[1]!QDIST(Z13,COUNT($X$6:$X$8),Z$9)","v":0.049027888500203676},{"$f":"Y13*AA$9","v":0.001580416040208239},{"$f":"X13*SQRT(Z$9/Y$9)","v":0.44406504768688193}]
[{"$nulls":11},"Between Groups",{"$f":"M16-M15","v":1.9183517641217611E-4},{"$f":"COUNTA(L8:L10)-1","v":2},{"$f":"M14/N14","v":9.5917588206088054E-5},{"$f":"O14/O15","v":7.521091934127482},{"$f":"_xlfn.F.DIST.RT(P14,N14,N15)","v":6.0882673455098235E-4},{"$f":"_xlfn.F.INV.RT(R6,N14,N15)","v":3.014786026084528},{"$f":"SQRT(DEVSQ(O8:O10)/(O15*N14))","v":0.26231036238796934},{"$f":"(M16-N16*O15)/(M16+O15)","v":0.026668832052673175},null,{"$f":"V7","v":"CA Mid"},{"$f":"V8","v":"CA Base"},{"$f":"ABS(W7-W8)","v":7.1018062397343318E-5},{"$f":"SQRT(Y9/Z9/HARMEAN(X7,X8))","v":4.1248837634492774E-4},0.1721698512492317,{"$f":"X14-Y14*AA$9","v":-1.3003636417923655E-3},{"$f":"X14+Y14*AA$9","v":0.001442399766587052},{"$f":"[1]!QDIST(Z14,COUNT($X$6:$X$8),Z$9)","v":0.9918623180672612},{"$f":"Y14*AA$9","v":1.3713817041897088E-3},{"$f":"X14*SQRT(Z$9/Y$9)","v":0.019886581882954453}]
[{"$nulls":11},"Within Groups",{"$f":"SUM(Q8:Q10)","v":0.006032238352999588},{"$f":"N16-N14","v":473},{"$f":"M15/N15","v":1.2753146623677776E-5}]
[{"$nulls":11},"Total",{"$f":"DEVSQ(Q40:S387)","v":6.2240735294117645E-3},{"$f":"COUNT(Q40:S387)-1","v":475},{"$f":"M16/N16","v":1.3103312693498452E-5},{"$nulls":11},6.4585431892335643E-4,0.002667831861242331,3.9024603473125641E-4,1.0109887711594874E-3,0.4639516295698364]
[{"$nulls":26},5.4089874772615676E-6,3.1662410678937394E-3,0.049027888500203676,0.001580416040208239,0.44406504768688193]
[{"$nulls":26},-1.3003636417923655E-3,0.001442399766587052,0.9918623180672612,1.3713817041897088E-3,0.019886581882954453]
[{"$nulls":10},"Alternate computation"]
[{"$nulls":11},"Anova: Single Factor"]
[]
[{"$nulls":11},"SUMMARY"]
[{"$nulls":11},"Groups","Count","Sum","Average","Variance"]
[null,"Transect position along CA of tooth","mean VEIW [µm]","SD","min","max","CH [mm]","TFT [days]",{"$nulls":3},"Column 1",86,1.3419999999999999,0.015604651162790696,1.3418331053351571E-5]
[null,"apical",16,4,10,30,null,{"$f":"5.025/0.016","v":{"v":314.0625,"d":"314.1"}},{"$nulls":3},"Column 2",348,6.006999999999992,0.01726149425287354,1.2937187386134048E-5]
[null,null,16,3,9,30,null,{"$f":"5.025/0.016","v":{"v":314.0625,"d":"314.1"}},{"$nulls":3},"Column 3",42,0.7220000000000003,0.017190476190476197,9.8164924506387885E-6]
[null,null,17,3,10,24,null,{"$f":"5.025/0.017","v":{"v":295.5882352941176,"d":"295.6"}}]
[null,"mid crown",17,3,9,23,5.025,{"$f":"5.025/0.017","v":{"v":295.5882352941176,"d":"295.6"}}]
[null,null,18,4,11,30,null,{"$f":"5.025/0.018","v":{"v":279.1666666666667,"d":"279.2"}},{"$nulls":3},"ANOVA"]
[null,null,18,4,11,30,null,{"$f":"5.025/0.018","v":{"v":279.1666666666667,"d":"279.2"}},{"$nulls":3},"Source of Variation","SS","df","MS","F","P-value","F crit"]
[null,null,17,4,7,29,null,{"$f":"5.025/0.017","v":{"v":295.5882352941176,"d":"295.6"}},{"$nulls":3},"Between Groups",1.9183517641217611E-4,2,9.5917588206088054E-5,7.521091934127482,6.0882673455098235E-4,3.014786026084528]
[null,"basal",17,3,10,27,null,{"$f":"5.025/0.017","v":{"v":295.5882352941176,"d":"295.6"}},{"$nulls":3},"Within Groups",0.006032238352999588,473,1.2753146623677776E-5]
[]
[{"$nulls":11},"Total",6.2240735294117645E-3,475]
[]
[]
[]
[]
[{"$nulls":16},"CA Apex","CA Mid","CA Base"]
[{"$nulls":16},0.013,0.02,0.01]
[{"$nulls":16},0.015,0.013,0.012]
[{"$nulls":16},0.016,0.014,0.016]
[{"$nulls":16},0.013,0.013,0.014]
[{"$nulls":16},0.011,0.015,0.013]
[{"$nulls":16},0.015,0.011,0.011]
[{"$nulls":16},0.011,0.012,0.02]
[{"$nulls":16},0.016,0.012,0.017]
[{"$nulls":16},0.017,0.015,0.017]
[{"$nulls":16},0.015,0.013,0.015]
[{"$nulls":16},0.019,0.009,0.019]
[{"$nulls":16},0.016,0.01,0.019]
[{"$nulls":16},0.02,0.011,0.018]
[{"$nulls":16},0.017,0.015,0.022]
[{"$nulls":16},0.015,0.013,0.018]
[{"$nulls":16},0.013,0.011,0.019]
[{"$nulls":16},0.027,0.012,0.018]
[{"$nulls":16},0.015,0.018,0.017]
[{"$nulls":16},0.016,0.02,0.019]
[{"$nulls":16},0.015,0.019,0.017]
[{"$nulls":16},0.013,0.013,0.021]
[{"$nulls":16},0.01,0.016,0.016]
[{"$nulls":16},0.01,0.017,0.014]
[{"$nulls":16},0.012,0.019,0.023]
[{"$nulls":16},0.012,0.018,0.019]
[{"$nulls":16},0.012,0.017,0.017]
[{"$nulls":16},0.016,0.016,0.014]
[{"$nulls":16},0.012,0.014,0.019]
[{"$nulls":16},0.012,0.019,0.018]
[{"$nulls":16},0.013,0.012,0.017]
[{"$nulls":16},0.016,0.012,0.018]
[{"$nulls":16},0.013,0.017,0.018]
[{"$nulls":16},0.012,0.017,0.019]
[{"$nulls":16},0.016,0.017,0.018]
[{"$nulls":16},0.018,0.016,0.016]
[{"$nulls":16},0.015,0.017,0.016]
[{"$nulls":16},0.02,0.017,0.019]
[{"$nulls":16},0.017,0.016,0.017]
[{"$nulls":16},0.023,0.014,0.014]
[{"$nulls":16},0.014,0.02,0.014]
[{"$nulls":16},0.015,0.013,0.017]
[{"$nulls":16},0.018,0.013,0.027]
[{"$nulls":16},0.01,0.017]
[{"$nulls":16},0.016,0.016]
[{"$nulls":16},0.016,0.017]
[{"$nulls":16},0.03,0.017]
[{"$nulls":16},0.016,0.019]
[{"$nulls":16},0.023,0.017]
[{"$nulls":16},0.012,0.017]
[{"$nulls":16},0.013,0.017]
[{"$nulls":16},0.016,0.016]
[{"$nulls":16},0.016,0.018]
[{"$nulls":16},0.016,0.018]
[{"$nulls":16},0.016,0.016]
[{"$nulls":16},0.016,0.018]
[{"$nulls":16},0.015,0.015]
[{"$nulls":16},0.023,0.015]
[{"$nulls":16},0.017,0.018]
[{"$nulls":16},0.02,0.014]
[{"$nulls":16},0.022,0.016]
[{"$nulls":16},0.01,0.017]
[{"$nulls":16},0.013,0.015]
[{"$nulls":16},0.02,0.013]
[{"$nulls":16},0.014,0.018]
[{"$nulls":16},0.018,0.015]
[{"$nulls":16},0.019,0.019]
[{"$nulls":16},0.016,0.019]
[{"$nulls":16},0.015,0.015]
[{"$nulls":16},0.015,0.019]
[{"$nulls":16},0.012,0.014]
[{"$nulls":16},0.016,0.017]
[{"$nulls":16},0.018,0.018]
[{"$nulls":16},0.015,0.02]
[{"$nulls":16},0.012,0.02]
[{"$nulls":16},0.012,0.022]
[{"$nulls":16},0.018,0.018]
[{"$nulls":16},0.017,0.027]
[{"$nulls":16},0.015,0.019]
[{"$nulls":16},0.016,0.019]
[{"$nulls":16},0.013,0.021]
[{"$nulls":16},0.022,0.02]
[{"$nulls":16},0.011,0.017]
[{"$nulls":16},0.013,0.024]
[{"$nulls":16},0.018,0.024]
[{"$nulls":16},0.012,0.022]
[{"$nulls":16},0.015,0.021]
[{"$nulls":17},0.021]
[{"$nulls":17},0.016]
[{"$nulls":17},0.023]
[{"$nulls":17},0.016]
[{"$nulls":17},0.017]
[{"$nulls":17},0.017]
[{"$nulls":17},0.01]
[{"$nulls":17},0.016]
[{"$nulls":17},0.024]
[{"$nulls":17},0.014]
[{"$nulls":17},0.017]
[{"$nulls":17},0.018]
[{"$nulls":17},0.021]
[{"$nulls":17},0.016]
[{"$nulls":17},0.016]
[{"$nulls":17},0.011]
[{"$nulls":17},0.02]
[{"$nulls":17},0.014]
[{"$nulls":17},0.018]
[{"$nulls":17},0.013]
[{"$nulls":17},0.013]
[{"$nulls":17},0.018]
[{"$nulls":17},0.022]
[{"$nulls":17},0.018]
[{"$nulls":17},0.016]
[{"$nulls":17},0.018]
[{"$nulls":17},0.016]
[{"$nulls":17},0.016]
[{"$nulls":17},0.021]
[{"$nulls":17},0.014]
[{"$nulls":17},0.015]
[{"$nulls":17},0.017]
[{"$nulls":17},0.015]
[{"$nulls":17},0.023]
[{"$nulls":17},0.015]
[{"$nulls":17},0.018]
[{"$nulls":17},0.019]
[{"$nulls":17},0.02]
[{"$nulls":17},0.021]
[{"$nulls":17},0.017]
[{"$nulls":17},0.022]
[{"$nulls":17},0.014]
[{"$nulls":17},0.015]
[{"$nulls":17},0.019]
[{"$nulls":17},0.013]
[{"$nulls":17},0.013]
[{"$nulls":17},0.018]
[{"$nulls":17},0.021]
[{"$nulls":17},0.019]
[{"$nulls":17},0.014]
[{"$nulls":17},0.014]
[{"$nulls":17},0.015]
[{"$nulls":17},0.014]
[{"$nulls":17},0.02]
[{"$nulls":17},0.017]
[{"$nulls":17},0.016]
[{"$nulls":17},0.018]
[{"$nulls":17},0.02]
[{"$nulls":17},0.018]
[{"$nulls":17},0.009]
[{"$nulls":17},0.015]
[{"$nulls":17},0.014]
[{"$nulls":17},0.016]
[{"$nulls":17},0.023]
[{"$nulls":17},0.023]
[{"$nulls":17},0.015]
[{"$nulls":17},0.015]
[{"$nulls":17},0.018]
[{"$nulls":17},0.017]
[{"$nulls":17},0.021]
[{"$nulls":17},0.016]
[{"$nulls":17},0.014]
[{"$nulls":17},0.011]
[{"$nulls":17},0.011]
[{"$nulls":17},0.02]
[{"$nulls":17},0.019]
[{"$nulls":17},0.017]
[{"$nulls":17},0.02]
[{"$nulls":17},0.016]
[{"$nulls":17},0.019]
[{"$nulls":17},0.017]
[{"$nulls":17},0.019]
[{"$nulls":17},0.015]
[{"$nulls":17},0.022]
[{"$nulls":17},0.016]
[{"$nulls":17},0.016]
[{"$nulls":17},0.019]
[{"$nulls":17},0.015]
[{"$nulls":17},0.02]
[{"$nulls":17},0.016]
[{"$nulls":17},0.02]
[{"$nulls":17},0.015]
[{"$nulls":17},0.02]
[{"$nulls":17},0.014]
[{"$nulls":17},0.015]
[{"$nulls":17},0.016]
[{"$nulls":17},0.019]
[{"$nulls":17},0.015]
[{"$nulls":17},0.018]
[{"$nulls":17},0.017]
[{"$nulls":17},0.015]
[{"$nulls":17},0.012]
[{"$nulls":17},0.011]
[{"$nulls":17},0.024]
[{"$nulls":17},0.016]
[{"$nulls":17},0.017]
[{"$nulls":17},0.017]
[{"$nulls":17},0.016]
[{"$nulls":17},0.02]
[{"$nulls":17},0.018]
[{"$nulls":17},0.016]
[{"$nulls":17},0.024]
[{"$nulls":17},0.018]
[{"$nulls":17},0.018]
[{"$nulls":17},0.017]
[{"$nulls":17},0.019]
[{"$nulls":17},0.017]
[{"$nulls":17},0.018]
[{"$nulls":17},0.014]
[{"$nulls":17},0.017]
[{"$nulls":17},0.022]
[{"$nulls":17},0.017]
[{"$nulls":17},0.016]
[{"$nulls":17},0.016]
[{"$nulls":17},0.016]
[{"$nulls":17},0.013]
[{"$nulls":17},0.02]
[{"$nulls":17},0.02]
[{"$nulls":17},0.016]
[{"$nulls":17},0.019]
[{"$nulls":17},0.019]
[{"$nulls":17},0.022]
[{"$nulls":17},0.012]
[{"$nulls":17},0.015]
[{"$nulls":17},0.024]
[{"$nulls":17},0.015]
[{"$nulls":17},0.016]
[{"$nulls":17},0.024]
[{"$nulls":17},0.022]
[{"$nulls":17},0.017]
[{"$nulls":17},0.018]
[{"$nulls":17},0.03]
[{"$nulls":17},0.02]
[{"$nulls":17},0.026]
[{"$nulls":17},0.015]
[{"$nulls":17},0.018]
[{"$nulls":17},0.017]
[{"$nulls":17},0.015]
[{"$nulls":17},0.012]
[{"$nulls":17},0.011]
[{"$nulls":17},0.024]
[{"$nulls":17},0.016]
[{"$nulls":17},0.017]
[{"$nulls":17},0.017]
[{"$nulls":17},0.016]
[{"$nulls":17},0.02]
[{"$nulls":17},0.018]
[{"$nulls":17},0.016]
[{"$nulls":17},0.024]
[{"$nulls":17},0.018]
[{"$nulls":17},0.018]
[{"$nulls":17},0.017]
[{"$nulls":17},0.019]
[{"$nulls":17},0.017]
[{"$nulls":17},0.018]
[{"$nulls":17},0.014]
[{"$nulls":17},0.017]
[{"$nulls":17},0.022]
[{"$nulls":17},0.017]
[{"$nulls":17},0.016]
[{"$nulls":17},0.016]
[{"$nulls":17},0.016]
[{"$nulls":17},0.013]
[{"$nulls":17},0.02]
[{"$nulls":17},0.02]
[{"$nulls":17},0.016]
[{"$nulls":17},0.019]
[{"$nulls":17},0.019]
[{"$nulls":17},0.022]
[{"$nulls":17},0.012]
[{"$nulls":17},0.015]
[{"$nulls":17},0.024]
[{"$nulls":17},0.015]
[{"$nulls":17},0.016]
[{"$nulls":17},0.024]
[{"$nulls":17},0.022]
[{"$nulls":17},0.017]
[{"$nulls":17},0.018]
[{"$nulls":17},0.03]
[{"$nulls":17},0.02]
[{"$nulls":17},0.026]
[{"$nulls":17},0.018]
[{"$nulls":17},0.016]
[{"$nulls":17},0.018]
[{"$nulls":17},0.015]
[{"$nulls":17},0.019]
[{"$nulls":17},0.022]
[{"$nulls":17},0.018]
[{"$nulls":17},0.018]
[{"$nulls":17},0.018]
[{"$nulls":17},0.014]
[{"$nulls":17},0.02]
[{"$nulls":17},0.021]
[{"$nulls":17},0.016]
[{"$nulls":17},0.023]
[{"$nulls":17},0.018]
[{"$nulls":17},0.019]
[{"$nulls":17},0.016]
[{"$nulls":17},0.018]
[{"$nulls":17},0.017]
[{"$nulls":17},0.018]
[{"$nulls":17},0.022]
[{"$nulls":17},0.013]
[{"$nulls":17},0.019]
[{"$nulls":17},0.02]
[{"$nulls":17},0.018]
[{"$nulls":17},0.013]
[{"$nulls":17},0.017]
[{"$nulls":17},0.017]
[{"$nulls":17},0.018]
[{"$nulls":17},0.017]
[{"$nulls":17},0.018]
[{"$nulls":17},0.016]
[{"$nulls":17},0.018]
[{"$nulls":17},0.019]
[{"$nulls":17},0.015]
[{"$nulls":17},0.015]
[{"$nulls":17},0.022]
[{"$nulls":17},0.029]
[{"$nulls":17},0.008]
[{"$nulls":17},0.018]
[{"$nulls":17},0.028]
[{"$nulls":17},0.015]
[{"$nulls":17},0.018]
[{"$nulls":17},0.014]
[{"$nulls":17},0.013]
[{"$nulls":17},0.021]
[{"$nulls":17},0.019]
[{"$nulls":17},0.019]
[{"$nulls":17},0.021]
[{"$nulls":17},0.014]
[{"$nulls":17},0.026]
[{"$nulls":17},0.015]
[{"$nulls":17},0.019]
[{"$nulls":17},0.016]
[{"$nulls":17},0.018]
[{"$nulls":17},0.016]
[{"$nulls":17},0.01]
[{"$nulls":17},0.016]
[{"$nulls":17},0.013]
[{"$nulls":17},0.029]
[{"$nulls":17},0.017]
[{"$nulls":17},0.011]
[{"$nulls":17},0.017]
[{"$nulls":17},0.007]
[{"$nulls":17},0.008]
[{"$nulls":17},0.013]
[{"$nulls":17},0.015]
[{"$nulls":17},0.016]
[{"$nulls":17},0.021]
[{"$nulls":17},0.021]
[{"$nulls":17},0.016]

{"sheet":"VEIW near and far CA ","index":6,"n_rows":82,"n_cols":30,"rows_kept":82}
[]
[]
[null,null,"Tooth","Transect","mean VEIW near CA [µm]","based on # VEL","TFT based on near CA VEIW","mean VEIW    far CA [µm]","based on # VEL","TFT based on       far CA VEIW","Difference in TFT estimates [%]",{"$nulls":3},"mean VEIW near CA [µm]","mean VEIW    far CA [µm]",{"$nulls":4},"T Test: Two Independent Samples"]
[null,null,"Medium [NCSM 100804] Dent 18","mid crown",17.5,10,{"$f":"2.4875/0.0175","v":{"v":142.1428571428571,"d":"142.1429"}},13.5,15,{"$f":"2.4875/0.0135","v":{"v":184.25925925925924,"d":"184.2593"}},{"$f":"(G4/J4)*100","v":{"v":77.14285714285714,"d":"77.14"}},null,null,"med Dent 18 1",0.025,0.018]
[{"$nulls":3},"mid crown",18.4,10,{"$f":"2.4875/0.0184","v":{"v":135.19021739130434,"d":"135.1902"}},{"v":13.9473684210526,"d":"13.9"},19,{"$f":"2.4875/0.0139473684210526","v":{"v":178.34905660377396,"d":"178.3491"}},{"$f":"(G5/J5)*100","v":{"v":75.80091533180762,"d":"75.80"}},{"$nulls":3},0.018,0.01,{"$nulls":4},"SUMMARY",null,null,"Hyp Mean Diff",0]
[null,null,"Large [NCSM 100805] Dent 4","root base",{"v":19.308,"d":"19.3"},26,{"$f":"12.865/0.019308","v":{"v":666.3041226434639,"d":"666.3041"}},{"v":12.1111111111111,"d":"12.1"},9,{"$f":"12.865/0.0121111111111111","v":1062.2477064220193},{"$f":"(G6/J6)*100","v":{"v":62.725870681122345,"d":"62.73"}},{"$nulls":3},0.014,0.011,{"$nulls":4},"Groups","Count","Mean","Variance","Cohen d"]
[{"$nulls":14},0.013,0.011,{"$nulls":4},{"$f":"O3","v":"mean VEIW near CA [µm]"},{"$f":"COUNT(O4:O81)","v":47},{"$f":"AVERAGE(O4:O81)","v":0.01870212765957448},{"$f":"_xlfn.VAR.S(O4:O81)","v":3.082238667900036E-5}]
[{"$nulls":14},0.019,0.01,{"$nulls":4},{"$f":"P3","v":"mean VEIW    far CA [µm]"},{"$f":"COUNT(P4:P81)","v":44},{"$f":"AVERAGE(P4:P81)","v":0.013409090909090916},{"$f":"_xlfn.VAR.S(P4:P81)","v":1.3410147991543113E-5}]
[{"$nulls":14},0.018,0.022,{"$nulls":4},"Pooled",null,null,{"$f":"((V7-1)*X7+(V8-1)*X8)/(V7+V8-2)","v":2.2409732032251353E-5},{"$f":"ABS(W7-W8-Y5)/SQRT(X9)","v":1.11811526752221}]
[{"$nulls":14},0.019,0.014]
[{"$nulls":14},0.015,0.011,{"$nulls":4},"T TEST: Equal Variances",{"$nulls":3},"Alpha",0.05]
[{"$nulls":14},0.027,0.011,{"$nulls":4}," ","std err","t-stat","df","p-value","t-crit","lower","upper","sig","effect r"]
[{"$nulls":14},0.016,0.016,{"$nulls":4},"One Tail",{"$f":"SQRT(X9*(1/V7+1/V8))","v":0.000993033182143937},{"$f":"(ABS(W7-W8-Y5))/V13","v":5.330171081550381},{"$f":"V7+V8-2","v":89},{"$f":"_xlfn.T.DIST.RT(W13,X13)","v":3.6737051040630448E-7},{"$f":"_xlfn.T.INV.2T(Z11*2,X13)","v":1.662155325869701},null,null,{"$f":"IF(Y13<Z11,\"yes\",\"no\")","v":"yes"},{"$f":"SQRT(W13^2/(W13^2+X13))","v":0.49191182895947794}]
[{"$nulls":15},0.015,{"$nulls":4},"Two Tail",{"$f":"V13","v":0.000993033182143937},{"$f":"W13","v":5.330171081550381},89,{"$f":"_xlfn.T.DIST.2T(W14,X14)","v":7.34741020812609e-07},{"$f":"_xlfn.T.INV.2T(Z11,X14)","v":1.986978699506285},{"$f":"(W7-W8)-Z14*V14","v":0.003319900969660617},{"$f":"(W7-W8)+Z14*V14","v":0.007266172531306513},{"$f":"IF(Y14<Z11,\"yes\",\"no\")","v":"yes"},{"$f":"AD13","v":0.49191182895947794}]
[{"$nulls":15},0.013]
[{"$nulls":15},0.01,{"$nulls":4},"T TEST: Unequal Variances",{"$nulls":3},"Alpha",{"$f":"Z11","v":0.05}]
[{"$nulls":15},0.011,{"$nulls":4}," ","std err","t-stat","df","p-value","t-crit","lower","upper","sig","effect r"]
[{"$nulls":15},0.012,{"$nulls":4},"One Tail",{"$f":"SQRT(X7/V7+X8/V8)","v":9.8008752260816782E-4},{"$f":"(ABS(W7-W8-Y5))/V18","v":5.400575589818711},{"$f":"(X7/V7+X8/V8)^2/((X7/V7)^2/(V7-1)+(X8/V8)^2/(V8-1))","v":80.16839603793207},{"$f":"[1]!T_DIST_RT(W18,X18)","v":3.3072559024738268E-7},{"$f":"[1]!T_INV(1-Z16,X18)","v":1.6640836261478977},null,null,{"$f":"IF(Y18<Z16,\"yes\",\"no\")","v":"yes"},{"$f":"SQRT(W18^2/(W18^2+X18))","v":0.5164891630418044}]
[{"$nulls":15},0.016,{"$nulls":4},"Two Tail",{"$f":"V18","v":9.8008752260816782E-4},{"$f":"W18","v":5.400575589818711},80.16839603793207,{"$f":"[1]!T_DIST_2T(W19,X19)","v":6.6145118049476537E-7},{"$f":"[1]!T_INV_2T(Z16,X19)","v":1.9899992509454039},{"$f":"(W7-W8)-Z19*V19","v":0.003342663314632375},{"$f":"(W7-W8)+Z19*V19","v":0.007243410186334755},{"$f":"IF(Y19<Z16,\"yes\",\"no\")","v":"yes"},{"$f":"AD18","v":0.5164891630418044}]
[{"$nulls":15},0.012]
[{"$nulls":15},0.023]
[{"$nulls":15},0.019]
[{"$nulls":20},"Alternate computations"]
[{"$nulls":20},"t-Test: Two-Sample Assuming Unequal Variances"]
[]
[{"$nulls":21},"Variable 1","Variable 2",null,{"$f":"_xlfn.T.TEST(O4:O81, P4:P81,2,3)","v":{"v":6.6145118055733919E-7,"d":"6.61451E-07"}}]
[{"$nulls":20},"Mean",0.01870212765957448,0.013409090909090916]
[{"$nulls":20},"Variance",3.082238667900036E-5,1.3410147991543113E-5]
[{"$nulls":20},"Observations",47,44]
[{"$nulls":13},"med Dent 18 2",{"$nulls":6},"Hypothesized Mean Difference",0]
[{"$nulls":20},"df",80]
[{"$nulls":20},"t Stat",5.400575589818711]
[{"$nulls":20},"P(T<=t) one-tail",3.320333155038991E-7]
[{"$nulls":20},"t Critical one-tail",1.6641245785896708]
[{"$nulls":20},"P(T<=t) two-tail",6.6406663100779821E-7]
[{"$nulls":20},"t Critical two-tail",1.9900634212544475]
[]
[]
[]
[{"$nulls":14},0.014,0.011]
[{"$nulls":14},0.012,0.015]
[{"$nulls":14},0.015,0.018]
[{"$nulls":14},0.013,0.016]
[{"$nulls":14},0.032,0.014]
[{"$nulls":14},0.013,0.02]
[{"$nulls":14},0.013,0.012]
[{"$nulls":14},0.018,0.013]
[{"$nulls":14},0.013,0.011]
[{"$nulls":14},0.016,0.013]
[{"$nulls":14},0.034,0.018]
[{"$nulls":15},0.008]
[{"$nulls":15},0.009]
[{"$nulls":15},0.012]
[{"$nulls":15},0.012]
[{"$nulls":15},0.014]
[{"$nulls":13},"large Dent 4",0.018,0.011]
[{"$nulls":14},0.016,0.014]
[{"$nulls":14},0.015,0.008]
[{"$nulls":14},0.02,0.01]
[{"$nulls":14},0.016,0.013]
[{"$nulls":14},0.015,0.009]
[{"$nulls":14},0.018,0.01]
[{"$nulls":14},0.016,0.019]
[{"$nulls":14},0.022,0.015]
[{"$nulls":14},0.019]
[{"$nulls":14},0.019]
[{"$nulls":14},0.028]
[{"$nulls":14},0.031]
[{"$nulls":14},0.019]
[{"$nulls":14},0.015]
[{"$nulls":14},0.019]
[{"$nulls":14},0.02]
[{"$nulls":14},0.018]
[{"$nulls":14},0.014]
[{"$nulls":14},0.012]
[{"$nulls":14},0.014]
[{"$nulls":14},0.016]
[{"$nulls":14},0.024]
[{"$nulls":14},0.025]
[{"$nulls":14},0.027]
[{"$nulls":14},0.026]
[{"$nulls":13},"SD",{"$f":"_xlfn.STDEV.S(O4:O81)","v":0.005551791303624476},{"$f":"_xlfn.STDEV.S(P4:P81)","v":0.003661986891230376}]

{"sheet":"VEIW by tooth position","index":7,"n_rows":92,"n_cols":66,"rows_kept":92}
[]
[null,null,"VEIW in mm"]
[]
[{"$nulls":3},"Tooth position",1,2,3,4,11,12,15,16,17,18,19]
[null,null,"Small Alligator","functional teeth upper dentition",null,null,{"$f":"(0.017+0.02)/2","v":{"v":0.018500000000000003,"d":"0.019"}},null,{"v":0.012666666666666666,"d":"0.0127"},{"v":0.015333333333333332,"d":"0.0153"},null,null,{"v":0.012,"d":"0.0120"},{"v":0.011666666666666665,"d":"0.0117"}]
[null,null,"NCSM 100803","replacement teeth upper dentition",{"$nulls":8},0.0115]
[{"$nulls":3},"functional teeth lower dentition",null,{"v":0.013333333333333334,"d":"0.0133"},null,0.0175,null,0.0144,{"$nulls":3},0.0145,{"v":0.012499999999999999,"d":"0.0125"}]
[{"$nulls":3},"replacement teeth lower dentition",{"$nulls":3},{"v":0.012,"d":"0.0120"},null,{"v":0.013,"d":"0.0130"}]
[null,null,"Medium Alligator","functional teeth upper dentition",null,null,"0.0156*",null,"0.0115*",{"$nulls":3},"0.009'","0.0135'","0.0094*"]
[null,null,"NCSM 100804","replacement teeth upper dentition",null,null,{"v":0.024550000000000002,"d":"0.0246"},null,{"v":0.037,"d":"0.0370"},{"$nulls":4},{"v":0.015333333333333332,"d":"0.0153"},{"v":0.024,"d":"0.0240"}]
[{"$nulls":3},"functional teeth lower dentition",{"$nulls":4},"0.0115*","0.0143*",{"$nulls":3},"0.0128*"]
[{"$nulls":3},"replacement teeth lower dentition",{"$nulls":4},{"v":0.02299391592041187,"d":"0.0230"}]
[null,null,"Large Alligator","functional teeth upper dentition",{"$f":"(0.013+0.014+0.014+0.016)/4","v":{"v":0.01425,"d":"0.0143"}},null,null,{"$f":"0.023","v":{"v":0.023,"d":"0.0230"}},{"v":0.017,"d":"0.0170"},{"$f":"(0.015+0.0145+0.016+0.018+0.022)/5","v":{"v":0.017099999999999997,"d":"0.0171"}},{"$nulls":3},{"v":0.01875,"d":"0.0188"}]
[null,null,"NCSM 100805","replacement teeth upper dentition",null,{"v":0.013,"d":"0.0130"},null,{"$f":"(0.017+0.019+0.019)/3","v":{"v":0.018333333333333337,"d":"0.0183"}},{"v":0.01,"d":"0.0100"},{"v":0.02,"d":"0.0200"}]
[{"$nulls":3},"functional teeth lower dentition",{"$nulls":4},{"$f":"(0.016+0.016+0.014+0.017+0.017+0.018+0.018+0.017+0.017)/9","v":{"v":0.01666666666666667,"d":"0.0167"}},null,null,{"v":0.027,"d":"0.0270"}]
[{"$nulls":3},"replacement teeth upper dentition",{"$nulls":6},{"v":0.026,"d":"0.0260"}]
{"$rows_empty":10}
[{"$nulls":46},1,2,3,4,5,6,7,8,9,10,11,12,13,14,15,16,17,18,19,20]
[{"$nulls":44},"Small Alligator","functional teeth lower dentition",null,{"v":0.013333333333333334,"d":"0.0133"},null,0.0175,{"$nulls":7},0.0144,{"$nulls":5},0.0145,{"v":0.012499999999999999,"d":"0.0125"}]
[{"$nulls":45},"replacement teeth lower dentition",{"$nulls":3},{"v":0.012,"d":"0.0120"},{"$nulls":7},{"v":0.013,"d":"0.0130"}]
[{"$nulls":4},"Combining replacement and functional teeth",{"$nulls":39},"Medium Alligator","functional teeth lower dentition",{"$nulls":10},0.0115,{"v":0.014333333333333332,"d":"0.0143"},{"$nulls":5},{"$f":"(0.01+0.011+0.016+0.014+0.011+0.011+0.014+0.015)/8","v":{"v":0.01275,"d":"0.0128"}},{"v":0.009428571428571429,"d":"0.0094"}]
[{"$nulls":45},"replacement teeth lower dentition",{"$nulls":10},{"v":0.02299391592041187,"d":"0.0230"},{"$nulls":7},{"v":0.024,"d":"0.0240"}]
[{"$nulls":4},"With just tooth positions of the same orientation",{"$nulls":39},"Large Alligator","functional teeth lower dentition",{"$nulls":3},{"$f":"0.023","v":{"v":0.023,"d":"0.0230"}},{"$nulls":6},{"$f":"(0.016+0.016+0.014+0.017+0.017+0.018+0.018+0.017+0.017)/9","v":{"v":0.01666666666666667,"d":"0.0167"}},{"$nulls":4},{"v":0.027,"d":"0.0270"}]
[{"$nulls":6},"Mean increment width by tooth position",{"$nulls":15},{"$f":"W35-W36","v":{"v":5.0000000000000044E-4,"d":"0.0005"}},{"$nulls":22},"replacement teeth lower dentition",null,{"v":0.013,"d":"0.0130"},null,{"$f":"(0.017+0.019+0.019)/3","v":{"v":0.018333333333333337,"d":"0.0183"}},{"$nulls":10},{"v":0.026,"d":"0.0260"}]
[{"$nulls":6},1,2,3,4,5,6,7,8,9,10,11,12,13,14,15,16,17,18,19,20]
[{"$nulls":4},"Small Alligator","functional teeth upper dentition",null,null,{"$f":"(0.017+0.02)/2","v":{"v":0.018500000000000003,"d":"0.019"}},{"$nulls":7},{"v":0.012666666666666666,"d":"0.0127"},{"v":0.015333333333333332,"d":"0.0153"},{"$nulls":4},{"v":0.012,"d":"0.0120"},{"v":0.011666666666666665,"d":"0.0117"}]
[{"$nulls":5},"replacement teeth upper dentition",{"$nulls":16},0.0115]
[{"$nulls":4},"Medium Alligator","functional teeth upper dentition",null,null,{"v":0.01555,"d":"0.0156"},{"$nulls":7},0.0115,{"$nulls":5},{"$f":"(0.009)/1","v":{"v":0.009,"d":"0.0090"}},0.0135]
[{"$nulls":5},"replacement teeth upper dentition",null,null,{"v":0.024550000000000002,"d":"0.0246"},{"$nulls":7},{"v":0.037,"d":"0.0370"},{"$nulls":6},{"v":0.015333333333333332,"d":"0.0153"}]
[{"$nulls":4},"Large Alligator","functional teeth upper dentition",{"$f":"(0.013+0.014+0.014+0.016)/4","v":{"v":0.01425,"d":"0.0143"}},{"$nulls":9},{"v":0.017,"d":"0.0170"},{"$f":"(0.015+0.0145+0.016+0.018+0.022)/5","v":{"v":0.017099999999999997,"d":"0.0171"}},{"$nulls":5},{"v":0.01875,"d":"0.0188"}]
[{"$nulls":5},"replacement teeth upper dentition",{"$nulls":10},{"v":0.01,"d":"0.0100"},{"v":0.02,"d":"0.0200"}]
{"$rows_empty":8}
[{"$nulls":19},"Mean","SDs","only CA","SDs"]
[{"$nulls":4},1,{"$f":"COUNT(H50:S50)","v":1},1,{"$nulls":8},{"$f":"(0.013+0.014+0.014+0.016)/4","v":{"v":0.01425,"d":"0.0143"}},{"$nulls":3},{"$f":"AVERAGE(H50:S50)","v":0.01425},null,{"$f":"AVERAGE(H50:K50,M50,O50:S50)","v":0.01425}]
[{"$nulls":4},2,2,2,null,null,{"v":0.013333333333333334,"d":"0.0133"},{"$nulls":8},{"v":0.013,"d":"0.0130"},{"$f":"AVERAGE(H51:S51)","v":{"v":0.013166666666666667,"d":"0.0132"}},{"$f":"_xlfn.STDEV.S(H51:S51)","v":2.3570226039551688E-4},{"$f":"AVERAGE(H51:K51,M51,O51:S51)","v":0.013166666666666667},{"$f":"_xlfn.STDEV.S(H51:K51,M51,O51:S51)","v":2.3570226039551688E-4}]
[{"$nulls":4},2,3,3,{"$f":"(0.017+0.02)/2","v":{"v":0.018500000000000003,"d":"0.019"}},{"$nulls":3},{"v":0.01555,"d":"0.0156"},{"v":0.024550000000000002,"d":"0.0246"},{"$nulls":6},{"$f":"AVERAGE(H52:S52)","v":{"v":0.019533333333333337,"d":"0.020"}},{"$f":"_xlfn.STDEV.S(H52:S52)","v":0.004588118713953828},{"$f":"AVERAGE(H52:K52,M52,O52:S52)","v":0.021525000000000002},{"$f":"_xlfn.STDEV.S(H52:K52,M52,O52:S52)","v":0.004277996026178612},null,null,"ANOVA by hand for all",null,"SD from averaging SDs"]
[{"$nulls":4},4,4,4,null,null,0.0175,0.012,{"$nulls":6},{"$f":"0.023","v":{"v":0.023,"d":"0.0230"}},{"$f":"(0.017+0.019+0.019)/3","v":{"v":0.018333333333333337,"d":"0.0183"}},{"$f":"AVERAGE(H53:S53)","v":{"v":0.017708333333333336,"d":"0.0177"}},{"$f":"_xlfn.STDEV.S(H53:S53)","v":0.004510019709244926},{"$f":"AVERAGE(H53:K53,M53,O53:S53)","v":0.017708333333333336},{"$f":"_xlfn.STDEV.S(H53:K53,M53,O53:S53)","v":0.004510019709244926},{"$nulls":3},"SS","df","MS","F","F crit","p"]
[{"$nulls":5},0,5,{"$nulls":18},"Between Groups",{"$f":"(1*(V50-V70)^2)+(2*(V51-V70)^2)+(2*(V52-V70)^2)+(4*(V53-V70)^2)+(6*(V60-V70)^2)+(5*(V61-V70)^2)+(1*(V64-V70)^2)+(1*(V65-V70)^2)+(2*(V66-V70)^2)+(4*(V67-V70)^2)+(2*(V68-V70)^2)","v":3.6730650752369351E-4},{"$f":"11-1","v":10},{"$f":"AA54/AB54","v":3.6730650752369352E-5},{"$f":"AC54/AC55","v":1.0416778711674548},2.38,{"$f":"FDIST(AD54,AB54,AB55)","v":0.44810127741500727}]
[{"$nulls":5},0,6,{"$nulls":18},"Within Groups",{"$f":"((1-1)*(0^2))+((2-1)*(W51^2))+((2-1)*(W52^2))+((4-1)*(W53^2))+((6-1)*(W60^2))+((5-1)*(W61^2))+((1-1)*(0^2))+((1-1)*(0^2))+((2-1)*(W66^2))+((4-1)*(W67^2))+((2-1)*(W68^2))","v":6.69959863420032E-4},{"$f":"(F70-8)-11","v":19},{"$f":"AA55/AB55","v":3.5261045443159577E-5},null,"From F table for alpha = 0.05"]
[{"$nulls":5},0,7,{"$nulls":18},"total",{"$f":"AA54+AA55","v":1.0372663709437256E-3}]
[{"$nulls":5},0,8]
[{"$nulls":5},0,9]
[{"$nulls":5},0,10,{"$nulls":18},"Just the tooth positions wit 3 or more samples"]
[{"$nulls":4},6,8,11,{"v":0.012666666666666666,"d":"0.0127"},{"$nulls":3},0.0115,{"v":0.037,"d":"0.0370"},0.0115,{"v":0.02299391592041187,"d":"0.0230"},{"v":0.017,"d":"0.0170"},{"v":0.01,"d":"0.0100"},{"$f":"(0.016+0.016+0.014+0.017+0.017+0.018+0.018+0.017+0.017)/9","v":{"v":0.01666666666666667,"d":"0.0167"}},null,{"$f":"AVERAGE(H60:S60)","v":0.017415906156718147},{"$f":"_xlfn.STDEV.S(H60:S60)","v":0.008967656912485062},{"$f":"AVERAGE(H60:K60,M60,O60:S60)","v":{"v":0.019387874875624198,"d":"0.0194"}},{"$f":"_xlfn.STDEV.S(H60:K60,M60,O60:S60)","v":0.00969127688614903},null,null,"ANOVA by hand for all",null,"SD from averaging SDs"]
[{"$nulls":4},5,6,12,{"v":0.015333333333333332,"d":"0.0153"},null,0.0144,{"v":0.013,"d":"0.0130"},null,null,{"v":0.014333333333333332,"d":"0.0143"},null,{"$f":"(0.015+0.0145+0.016+0.018+0.022)/5","v":{"v":0.017099999999999997,"d":"0.0171"}},{"v":0.02,"d":"0.0200"},null,null,{"$f":"AVERAGE(H61:S61)","v":0.015694444444444445},{"$f":"_xlfn.STDEV.S(H61:S61)","v":2.5072709082600963E-3},{"$f":"AVERAGE(H61:K61,M61,O61:S61)","v":0.015966666666666664},{"$f":"_xlfn.STDEV.S(H61:K61,M61,O61:S61)","v":2.7022624266014993E-3},{"$nulls":3},"SS","df","MS","F","F crit","p"]
[{"$nulls":5},0,13,{"$nulls":18},"Between Groups",{"$f":"(4*(V53-V70)^2)+(6*(V60-V70)^2)+(5*(V61-V70)^2)+(4*(V67-V70)^2)","v":5.671241480514742E-5},{"$f":"4-1","v":3},{"$f":"AA62/AB62","v":1.8904138268382472E-5},{"$f":"AC62/AC63","v":0.48442913249697017},3.29,{"$f":"FDIST(AD62,AB62,AB63)","v":0.6981057648808959}]
[{"$nulls":5},0,14,{"$nulls":18},"Within Groups",{"$f":"((4-1)*(W53^2))+((6-1)*(W60^2))+((5-1)*(W61^2))+((4-1)*(W67^2))","v":5.8535305786447638E-4},{"$f":"(4+6+5+4)-4","v":15},{"$f":"AA63/AB63","v":3.9023537190965094E-5},null,"From F table for alpha = 0.05"]
[{"$nulls":5},1,15,{"$nulls":11},{"v":0.026,"d":"0.0260"},{"$f":"AVERAGE(H64:S64)","v":0.026},null,{"$f":"AVERAGE(H64:K64,M64,O64:S64)","v":0.026},{"$nulls":3},"total",{"$f":"AA62+AA63","v":6.4206547266962375E-4}]
[{"$nulls":5},1,16,{"$nulls":10},{"v":0.027,"d":"0.0270"},null,{"$f":"AVERAGE(H65:S65)","v":0.027},null,{"$f":"AVERAGE(H65:K65,M65,O65:S65)","v":0.027}]
[{"$nulls":4},2,3,17,{"v":0.012,"d":"0.0120"},0.0115,null,null,{"$f":"(0.009)/1","v":{"v":0.009,"d":"0.0090"}},{"$nulls":7},{"$f":"AVERAGE(H66:S66)","v":{"v":0.010833333333333334,"d":"0.0108"}},{"$f":"_xlfn.STDEV.S(H66:S66)","v":1.6072751268321596E-3},{"$f":"AVERAGE(H66:K66,M66,O66:S66)","v":0.01175},{"$f":"_xlfn.STDEV.S(H66:K66,M66,O66:S66)","v":3.5355339059327408E-4}]
[{"$nulls":4},4,6,18,{"v":0.011666666666666665,"d":"0.0117"},null,0.0145,null,0.0135,{"v":0.015333333333333332,"d":"0.0153"},{"$f":"(0.01+0.011+0.016+0.014+0.011+0.011+0.014+0.015)/8","v":{"v":0.01275,"d":"0.0128"}},null,{"v":0.01875,"d":"0.0188"},{"$nulls":3},{"$f":"AVERAGE(H67:S67)","v":{"v":0.014416666666666666,"d":"0.0144"}},{"$f":"_xlfn.STDEV.S(H67:S67)","v":2.4821585588175286E-3},{"$f":"AVERAGE(H67:K67,M67,O67:S67)","v":0.0150625},{"$f":"_xlfn.STDEV.S(H67:K67,M67,O67:S67)","v":2.9165674586302203E-3}]
[{"$nulls":4},2,3,19,null,null,{"v":0.012499999999999999,"d":"0.0125"},null,{"v":0.009428571428571429,"d":"0.0094"},{"v":0.024,"d":"0.0240"},{"$nulls":6},{"$f":"AVERAGE(H68:S68)","v":{"v":0.01530952380952381,"d":"0.0153"}},{"$f":"_xlfn.STDEV.S(H68:S68)","v":0.007681256451927122},{"$f":"AVERAGE(H68:K68,M68,O68:S68)","v":0.01825},{"$f":"_xlfn.STDEV.S(H68:K68,M68,O68:S68)","v":0.008131727983645302}]
[{"$nulls":5},0,20]
[{"$nulls":4},{"$f":"SUM(E50:E69)","v":28},{"$f":"SUM(F50:F69)","v":38},{"$nulls":13},{"$f":"AVERAGE(H50:S69)","v":{"v":0.016353661947780266,"d":"0.0164"}},{"$f":"_xlfn.STDEV.S(H50:S68)","v":0.005810437187675285},{"$f":"AVERAGE(H50:K69,M50:M69,O50:S69)","v":{"v":0.017462574975124844,"d":"0.0175"}},{"$f":"_xlfn.STDEV.S(H50:K69,M50:M69,O50:S69)","v":0.005980619189900908}]
[]
[]
[]
[{"$nulls":25},1,2,3,4,5,6,7,8,9,10,11,12,13,14,15,16,17,18,19,20]
[{"$nulls":23},"Small Alligator","functional teeth upper dentition",null,null,{"$f":"(0.017+0.02)/2","v":{"v":0.018500000000000003,"d":"0.019"}},{"$nulls":7},{"v":0.012666666666666666,"d":"0.0127"},{"v":0.015333333333333332,"d":"0.0153"},{"$nulls":4},{"v":0.012,"d":"0.0120"},{"v":0.011666666666666665,"d":"0.0117"}]
[{"$nulls":24},"replacement teeth upper dentition",{"$nulls":16},0.0115]
[{"$nulls":24},"functional teeth lower dentition",null,{"v":0.013333333333333334,"d":"0.0133"},null,0.0175,{"$nulls":7},0.0144,{"$nulls":5},0.0145,{"v":0.012499999999999999,"d":"0.0125"}]
[{"$nulls":24},"replacement teeth lower dentition",{"$nulls":3},0.012,{"$nulls":7},{"v":0.013,"d":"0.0130"}]
[{"$nulls":23},"Medium Alligator","functional teeth upper dentition",null,null,{"v":0.01555,"d":"0.0156"},{"$nulls":7},0.0115,{"$nulls":5},{"$f":"(0.009)/1","v":{"v":0.009,"d":"0.0090"}},0.0135,{"v":0.009428571428571429,"d":"0.0094"}]
[{"$nulls":13},"ANOVA by hand for all",null,"SD from calculation from those present",{"$nulls":8},"replacement teeth upper dentition",null,null,{"v":0.024550000000000002,"d":"0.0246"},{"$nulls":7},{"v":0.037,"d":"0.0370"},{"$nulls":6},{"v":0.015333333333333332,"d":"0.0153"},{"v":0.024,"d":"0.0240"}]
[{"$nulls":14},"SS","df","MS","F","F crit","p",{"$nulls":4},"functional teeth lower dentition",{"$nulls":10},0.0115,{"v":0.014333333333333332,"d":"0.0143"},{"$nulls":5},{"$f":"(0.01+0.011+0.016+0.014+0.011+0.011+0.014+0.015)/8","v":{"v":0.01275,"d":"0.0128"}}]
[{"$nulls":13},"Between Groups",{"$f":"(13*(N88-M88)^2)+(13*(O88-M88)^2)+(12*(P88-M88)^2)","v":1.4484695651094932E-4},{"$f":"3-1","v":2},{"$f":"O82/P82","v":7.2423478255474659E-5},{"$f":"Q82/Q83","v":2.2953756874652953},3.27,{"$f":"FDIST(R82,P82,P83)","v":0.11569118093698107},{"$nulls":4},"replacement teeth lower dentition",{"$nulls":10},{"v":0.02299391592041187,"d":"0.0230"}]
[{"$nulls":13},"Within Groups",{"$f":"((13-1)*(S89^2))+((13-1)*(T89^2))+((12-1)*(U89^2))","v":1.1043167150300915E-3},{"$f":"(13+13+12)-3","v":35},{"$f":"O83/P83","v":3.15519061437169e-05},null,"From F table for alpha = 0.05",{"$nulls":4},"Large Alligator","functional teeth upper dentition",{"$f":"(0.013+0.014+0.014+0.016)/4","v":{"v":0.01425,"d":"0.0143"}},{"$nulls":9},{"v":0.017,"d":"0.0170"},{"$f":"(0.015+0.0145+0.016+0.018+0.022)/5","v":{"v":0.017099999999999997,"d":"0.0171"}},{"$nulls":5},{"v":0.01875,"d":"0.0188"}]
[{"$nulls":13},"total",{"$f":"O82+O83","v":1.2491636715410408E-3},{"$nulls":9},"replacement teeth upper dentition",{"$nulls":10},{"v":0.01,"d":"0.0100"},{"v":0.02,"d":"0.0200"}]
[{"$nulls":24},"functional teeth lower dentition",{"$nulls":3},{"$f":"0.023","v":{"v":0.023,"d":"0.0230"}},{"$nulls":6},{"$f":"(0.016+0.016+0.014+0.017+0.017+0.018+0.018+0.017+0.017)/9","v":{"v":0.01666666666666667,"d":"0.0167"}},{"$nulls":4},{"v":0.027,"d":"0.0270"}]
[{"$nulls":16},"SDs",{"$nulls":7},"replacement teeth lower dentition",null,{"v":0.013,"d":"0.0130"},null,{"$f":"(0.017+0.019+0.019)/3","v":{"v":0.018333333333333337,"d":"0.0183"}},{"$nulls":10},{"v":0.026,"d":"0.0260"}]
[{"$nulls":12},"overall mean","small mean","medium mean","large mean",null,"overall mean","small mean","medium mean","large mean",null,null,"median","small",null,{"$f":"MEDIAN(AA75:AA78)","v":{"v":0.013333333333333334,"d":"0.0133"}},{"$f":"MEDIAN(AB75:AB78)","v":0.018500000000000003},{"$f":"MEDIAN($AC$75:$AC$78)","v":{"v":0.014750000000000001,"d":"0.0148"}},{"$nulls":6},{"$f":"MEDIAN(AJ75:AJ78)","v":0.012666666666666666},{"$f":"MEDIAN(AK75:AK78)","v":0.0144},{"$nulls":4},{"$f":"MEDIAN(AP75:AP78)","v":{"v":0.01175,"d":"0.0118"}},{"$f":"MEDIAN(AQ75:AQ78)","v":{"v":0.013083333333333332,"d":"0.01308"}},{"$f":"MEDIAN(AR75:AR78)","v":0.012499999999999999}]
[{"$nulls":12},{"$f":"(SUM(Z75:AS86))/(13+13+12)","v":0.016353661947780266},{"$f":"(SUM(Z75:AS78))/13","v":0.013761538461538464},{"$f":"(SUM(Z79:AS82))/13","v":0.017033781078126923},{"$f":"(SUM(Z83:AS86))/12","v":0.018425},{"$nulls":8},"medium",null,null,{"$f":"MEDIAN(AB79:AB82)","v":{"v":0.020050000000000002,"d":"0.0201"}},{"$nulls":7},{"$f":"MEDIAN(AJ79:AJ82)","v":{"v":0.017246957960205936,"d":"0.0172"}},{"$f":"MEDIAN(AK79:AK82)","v":{"v":0.014333333333333332,"d":"0.0143"}},{"$nulls":4},{"$f":"MEDIAN(AP79:AP82)","v":{"v":0.009,"d":"0.0090"}},{"$f":"MEDIAN(AQ79:AQ82)","v":{"v":0.0135,"d":"0.01350"}},{"$f":"MEDIAN(AR79:AR82)","v":{"v":0.016714285714285716,"d":"0.0167"}}]
[{"$nulls":16},"calculated",{"$f":"_xlfn.STDEV.S(Z75:AS86)","v":0.005810437187675289},{"$f":"_xlfn.STDEV.S(Z75:AS78)","v":2.2195197242349095E-3},{"$f":"_xlfn.STDEV.S(Z79:AS82)","v":0.00798981180663844},{"$f":"_xlfn.STDEV.S(Z83:AS86)","v":0.005037643649103579},{"$nulls":3},"large",{"$f":"MEDIAN(Z83:Z85)","v":{"v":0.01425,"d":"0.0143"}},null,null,{"$f":"MEDIAN(AC83:AC85)","v":{"v":0.023,"d":"0.0230"}},{"$nulls":6},{"$f":"MEDIAN(AJ83:AJ85)","v":{"v":0.01666666666666667,"d":"0.0167"}},{"$f":"MEDIAN(AK83:AK85)","v":{"v":0.018549999999999997,"d":"0.0186"}},{"$nulls":3},{"$f":"MEDIAN(AO83:AO85)","v":{"v":0.027,"d":"0.0270"}},null,{"$f":"MEDIAN(AQ83:AQ85)","v":0.01875}]
[{"$nulls":23},"mean","small",null,{"$f":"AVERAGE(AA75:AA78)","v":{"v":0.013333333333333334,"d":"0.0133"}},{"$f":"AVERAGE(AB75:AB78)","v":{"v":0.018500000000000003,"d":"0.0185"}},{"$f":"AVERAGE(AC75:AC78)","v":{"v":0.014750000000000001,"d":"0.0148"}},{"$nulls":6},{"$f":"AVERAGE(AJ75:AJ78)","v":{"v":0.012666666666666666,"d":"0.0127"}},{"$f":"AVERAGE(AK75:AK78)","v":{"v":0.014244444444444443,"d":"0.0142"}},{"$nulls":4},{"$f":"AVERAGE(AP75:AP78)","v":{"v":0.01175,"d":"0.0118"}},{"$f":"AVERAGE(AQ75:AQ78)","v":{"v":0.013083333333333332,"d":"0.0131"}},{"$f":"AVERAGE(AR75:AR78)","v":{"v":0.012499999999999999,"d":"0.0125"}}]
[{"$nulls":24},"medium",null,null,{"$f":"AVERAGE(AB79:AB82)","v":{"v":0.020050000000000002,"d":"0.0201"}},{"$nulls":7},{"$f":"AVERAGE(AJ79:AJ82)","v":{"v":0.020748478980102965,"d":"0.0207"}},{"$f":"AVERAGE(AK79:AK82)","v":{"v":0.014333333333333332,"d":"0.0143"}},{"$nulls":4},{"$f":"AVERAGE(AP79:AP82)","v":{"v":0.009,"d":"0.0090"}},{"$f":"AVERAGE(AQ79:AQ82)","v":{"v":0.01386111111111111,"d":"0.0139"}},{"$f":"AVERAGE(AR79:AR82)","v":{"v":0.016714285714285716,"d":"0.0167"}}]
[{"$nulls":24},"large",{"$f":"AVERAGE(Z83:Z86)","v":{"v":0.01425,"d":"0.0143"}},{"$f":"AVERAGE(AA83:AA86)","v":{"v":0.013,"d":"0.0130"}},null,{"$f":"AVERAGE(AC83:AC86)","v":{"v":0.020666666666666667,"d":"0.0207"}},{"$nulls":6},{"$f":"AVERAGE(AJ83:AJ86)","v":{"v":0.014555555555555558,"d":"0.0146"}},{"$f":"AVERAGE(AK83:AK86)","v":{"v":0.018549999999999997,"d":"0.0186"}},null,null,{"$f":"AVERAGE(AN83:AN86)","v":{"v":0.026,"d":"0.0260"}},{"$f":"AVERAGE(AO83:AO86)","v":{"v":0.027,"d":"0.0270"}},null,{"$f":"AVERAGE(AQ83:AQ86)","v":{"v":0.01875,"d":"0.0188"}}]

{"sheet":"TFT +- SD","index":8,"n_rows":73,"n_cols":109,"rows_kept":73}
[]
[]
[{"$nulls":74},"max",{"$nulls":4},"min",{"$nulls":21},"max",{"$nulls":4},"min"]
[{"$nulls":74},"t-Test: Two-Sample Assuming Unequal Variances",{"$nulls":4},"t-Test: Two-Sample Assuming Unequal Variances"]
[{"$nulls":101},"t-Test: Two-Sample Assuming Unequal Variances",{"$nulls":4},"t-Test: Two-Sample Assuming Unequal Variances"]
[{"$nulls":75},"Variable 1","Variable 2",{"$nulls":3},"Variable 1","Variable 2"]
[{"$nulls":3},"SDs",{"$nulls":21},"TFT from  VEIW of all sampled positions",{"$nulls":48},"Mean",280.44892484209316,194.45409071944377,null,null,"Mean",150.2112336024705,194.45409071944377,{"$nulls":3},"Large Alligator",{"$nulls":16},"Variable 1","Variable 2",{"$nulls":3},"Variable 1","Variable 2"]
[{"$nulls":26},"crown height",0.1928,0.2028,0.9228,{"v":1.175,"d":"1.1750"},1.2328000000000001,{"v":1.5628000000000002,"d":"1.5628"},1.6228,1.6428,{"v":1.785,"d":"1.7850"},{"v":1.7928000000000002,"d":"1.793"},1.8628,2.0528,{"v":2.055,"d":"2.0550"},{"v":2.0627999999999997,"d":"2.0628"},2.1328,2.1928,{"v":3.475,"d":"3.4750"},{"v":4.565,"d":"4.5650"},{"v":5.025,"d":"5.0250"},{"v":5.265000000000001,"d":"5.2650"},{"v":5.655,"d":"5.6550"},{"v":6.2250000000000005,"d":"6.2250"},{"v":6.415,"d":"6.4150"},{"v":8.825,"d":"8.8250"},{"v":12.864999999999998,"d":"12.8650"},{"$nulls":22},"Variance",37706.37528958455,20739.047155545162,null,null,"Variance",13402.556554125616,20739.047155545162,{"$nulls":3},"crown height",{"v":1.175,"d":"1.1750"},{"v":1.785,"d":"1.7850"},{"v":2.055,"d":"2.0550"},2.1928,{"v":3.475,"d":"3.4750"},{"v":4.565,"d":"4.5650"},{"v":5.025,"d":"5.0250"},{"v":5.265000000000001,"d":"5.2650"},{"v":5.655,"d":"5.6550"},{"v":6.2250000000000005,"d":"6.2250"},{"v":6.415,"d":"6.4150"},{"v":8.825,"d":"8.8250"},{"v":12.864999999999998,"d":"12.8650"},null,null,"Mean",278.37540388259345,391.2654298922088,null,null,"Mean",278.37540388259345,218.0448348152409]
[{"$nulls":5},1,2,3,4,5,6,7,8,9,10,11,12,13,14,15,16,17,18,19,20,null,"TFT by sampled CA sections",16.066666666666666,17.63478260869565,{"v":70.98461538461538,"d":"70.9846"},{"v":90.38461538461539,"d":"90.3846"},70.44571428571429,{"v":130.23333333333335,"d":"130.233"},{"v":121.71,"d":"121.7100"},{"v":131.424,"d":"131.4240"},{"v":89.25,"d":"89.2500"},{"v":96.90810810810811,"d":"96.908"},{"v":128.46896551724137,"d":"128.4690"},{"v":175.95428571428573,"d":"175.954"},{"v":205.5,"d":"205.5000"},{"v":134.5304347826087,"d":"134.530"},{"v":148.11111111111111,"d":"148.1111"},{"v":173.11578947368423,"d":"173.116"},{"v":133.65384615384616,"d":"133.6538"},{"v":248.99999999999997,"d":"249.0000"},{"v":301.49999999999994,"d":"301.5000"},{"v":195.00000000000003,"d":"195.0000"},{"v":396.8421052631579,"d":"396.8421"},{"v":364.03508771929836,"d":"364.0351"},{"v":342.1333333333333,"d":"342.1333"},{"v":519.1176470588234,"d":"519.1176"},{"v":559.3478260869565,"d":"559.3478"},{"$nulls":22},"Observations",25,25,null,null,"Observations",25,25,{"$nulls":3},"TFT by sampled CA sections",{"v":90.38461538461539,"d":"90.3846"},{"v":89.25,"d":"89.2500"},{"v":205.5,"d":"205.5000"},{"v":173.11578947368423,"d":"173.116"},{"v":133.65384615384616,"d":"133.6538"},{"v":248.99999999999997,"d":"249.0000"},{"v":301.49999999999994,"d":"301.5000"},{"v":195.00000000000003,"d":"195.0000"},{"v":396.8421052631579,"d":"396.8421"},{"v":364.03508771929836,"d":"364.0351"},{"v":342.1333333333333,"d":"342.1333"},{"v":519.1176470588234,"d":"519.1176"},{"v":559.3478260869565,"d":"559.3478"},null,null,"Variance",23261.013203419996,41536.453150722395,null,null,"Variance",23261.013203419996,15188.387549562865]
[{"$nulls":3},"Small Alligator","functional teeth upper dentition",null,null,{"$f":"(0.004+0.004)/2","v":0.004},{"$nulls":7},{"v":0.003,"d":"0.0030"},{"v":0.003,"d":"0.0030"},{"$nulls":4},{"v":0.003,"d":"0.0030"},{"v":0.003,"d":"0.0030"},{"$nulls":3},"VEIW of the tooth",{"v":0.012,"d":"0.0120"},0.0115,{"v":0.013,"d":"0.0130"},{"v":0.013,"d":"0.0130"},0.0175,{"v":0.012,"d":"0.0120"},{"v":0.013333333333333334,"d":"0.0133"},{"v":0.012499999999999999,"d":"0.0125"},{"v":0.02,"d":"0.0200"},{"v":0.018500000000000003,"d":"0.019"},0.0145,{"v":0.011666666666666665,"d":"0.0117"},{"v":0.01,"d":"0.0100"},{"v":0.015333333333333332,"d":"0.0153"},0.0144,{"v":0.012666666666666666,"d":"0.0127"},{"v":0.026,"d":"0.0260"},{"v":0.018333333333333337,"d":"0.0183"},{"v":0.01666666666666667,"d":"0.0167"},{"v":0.027,"d":"0.0270"},{"v":0.01425,"d":"0.0143"},{"v":0.017099999999999997,"d":"0.0171"},{"v":0.01875,"d":"0.0188"},{"v":0.017,"d":"0.0170"},{"v":0.023,"d":"0.0230"},{"$f":"AVERAGE(AB10:AZ10)","v":{"v":0.016,"d":"0.0160"}},{"$nulls":21},"Hypothesized Mean Difference",0,{"$nulls":3},"Hypothesized Mean Difference",0,{"$nulls":4},"VEIW of the tooth",{"v":0.013,"d":"0.0130"},{"v":0.02,"d":"0.0200"},{"v":0.01,"d":"0.0100"},{"v":0.012666666666666666,"d":"0.0127"},{"v":0.026,"d":"0.0260"},{"v":0.018333333333333337,"d":"0.0183"},{"v":0.01666666666666667,"d":"0.0167"},{"v":0.027,"d":"0.0270"},{"v":0.01425,"d":"0.0143"},{"v":0.017099999999999997,"d":"0.0171"},{"v":0.01875,"d":"0.0188"},{"v":0.017,"d":"0.0170"},{"v":0.023,"d":"0.0230"},null,null,"Observations",13,13,null,null,"Observations",13,13]
[{"$nulls":4},"replacement teeth upper dentition",{"$nulls":16},0.0025,{"$nulls":4},"TFT + SD",{"$f":"(AB8/(AB10-E26))","v":26.739401784475987},{"$f":"(AC8/(AC10-$E$26))","v":30.222045601311418},112.39494945394017,143.1123381105112,96.99194880805643,216.74448707872966,189.94186727010262,213.06471834334883,117.3544301023427,130.7626850793805,191.83687480690674,298.5022538897776,394.40854711790683,195.64351427397176,221.92778606361213,278.3800939443951,163.83523754144994,337.0579114469247,423.086638039909,237.051822725158,597.7590641626441,505.67274105764824,459.51624841813714,722.7484917146678,706.4670242170196,{"$nulls":22},"df",44,{"$nulls":3},"df",46,{"$nulls":4},"TFT + SD",143.1123381105112,117.3544301023427,394.40854711790683,278.3800939443951,163.83523754144994,337.0579114469247,423.086638039909,237.051822725158,597.7590641626441,505.67274105764824,459.51624841813714,722.7484917146678,706.4670242170196,null,null,"Hypothesized Mean Difference",0,{"$nulls":3},"Hypothesized Mean Difference",0]
[{"$nulls":6},{"$f":"0.003","v":{"v":0.003,"d":"0.0030"}},null,0.0048,{"$nulls":7},0.0037,{"$nulls":5},{"v":0.003,"d":"0.0030"},{"v":2.8E-3,"d":"0.0028"},null,null,"TFT - SD",{"$f":"(AB8/(AB10+$E$26))","v":11.483253588516746},12.449610182324173,51.87281005827352,66.04957934381382,55.30813979571999,93.08106176418035,89.54367378469348,95.01629104089147,72.00580887197621,76.97834518885342,96.56983877378215,124.74224715914845,138.94836484933174,102.50956616806637,111.14314995917941,125.61629971929959,112.86254046270935,197.42247978203517,234.19658531280584,165.61985550860345,297.0115023022111,284.38075804413046,272.5187272547048,405.0084902629686,462.9418608835418,{"$nulls":22},"t Stat",1.778554248790766,{"$nulls":3},"t Stat",-1.197212412514691,{"$nulls":4},"TFT - SD",66.04957934381382,72.00580887197621,138.94836484933174,125.61629971929959,112.86254046270935,197.42247978203517,234.19658531280584,165.61985550860345,297.0115023022111,284.38075804413046,272.5187272547048,405.0084902629686,462.9418608835418,null,null,"df",22,{"$nulls":3},"df",23]
[{"$nulls":8},0.003,{"$nulls":7},{"v":0.003,"d":"0.0030"},{"$nulls":9},"SD +",{"$f":"AB11-AB9","v":10.67273511780932},12.587262992615766,41.41033406932479,52.7277227258958,26.546234522342147,86.51115374539631,{"v":68.23186727010263,"d":"68.2319"},81.64071834334882,28.104430102342704,33.854576971272394,63.36790928966536,122.54796817549186,188.90854711790683,61.11307949136307,73.81667495250102,105.2643044707109,30.18139138760378,88.05791144692475,121.58663803990908,42.05182272515796,200.9169588994862,141.63765333834988,117.38291508480381,203.63084465584438,147.11919813006307,{"$nulls":22},"P(T<=t) one-tail",0.041111391694378094,{"$nulls":3},"P(T<=t) one-tail",0.11867856416703564,{"$nulls":4},"SD +",52.7277227258958,28.104430102342704,188.90854711790683,105.2643044707109,30.18139138760378,88.05791144692475,121.58663803990908,42.05182272515796,200.9169588994862,141.63765333834988,117.38291508480381,203.63084465584438,147.11919813006307,null,null,"t Stat",-1.5989991645208361,{"$nulls":3},"t Stat",1.1093390736685322]
[{"$nulls":3},"Medium Alligator","functional teeth upper dentition",{"$nulls":21},"SD -",{"$f":"AB12-AB9","v":-4.5834130781499205},-5.185172426371478,-19.11180532634186,-24.33503604080157,-15.1375744899943,-37.152271569153,{"v":-32.16632621530651,"d":"-32.1663"},-36.40770895910853,-17.244191128023786,-19.929762919254685,-31.89912674345922,-51.21203855513728,-66.55163515066826,-32.02086861454232,-36.9679611519317,-47.49948975438464,-20.791305691136813,-51.5775202179648,-67.3034146871941,-29.380144491396578,-99.8306029609468,-79.6543296751679,-69.61460607862853,-114.1091567958548,-96.40596520341472,{"$nulls":22},"t Critical one-tail",1.680229976572116,{"$nulls":3},"t Critical one-tail",1.678660413556865,{"$nulls":4},"SD -",-24.33503604080157,-17.244191128023786,-66.55163515066826,-47.49948975438464,-20.791305691136813,-51.5775202179648,-67.3034146871941,-29.380144491396578,-99.8306029609468,-79.6543296751679,-69.61460607862853,-114.1091567958548,-96.40596520341472,null,null,"P(T<=t) one-tail",0.0620424944214224,{"$nulls":3},"P(T<=t) one-tail",0.13937440111388183]
[{"$nulls":4},"replacement teeth upper dentition",null,null,{"v":0.00246,"d":"0.0025"},{"$nulls":7},{"v":0.011,"d":"0.0110"},{"$nulls":6},0.0037,{"v":0.004,"d":"0.0040"},null,null,"SD + [%]",{"$f":"((AB11/AB$9)*100)-100","v":66.42781193657254},71.37747752222944,58.33705493077832,58.33705493077835,37.68324984920406,66.42781193657254,56.06101985876478,62.12009856902,31.489557537638888,34.93472077022196,49.32546084926713,69.64761766274057,91.92630030068457,45.426954569884,49.838715271756115,60.80572129829463,22.581760462667575,35.364623071054126,40.32724313098146,21.565037294952802,50.62894189774852,38.907692724269594,34.30911391800581,39.226338347301464,26.301916494298098,{"$f":"AVERAGE(AB15:AZ15)","v":{"v":48.77517180542749,"d":"48.7752"}},{"$nulls":21},"P(T<=t) two-tail",0.08222278338875619,{"$nulls":3},"P(T<=t) two-tail",0.23735712833407127,{"$nulls":4},"SD + [%]",58.33705493077835,31.489557537638888,91.92630030068457,60.80572129829463,22.581760462667575,35.364623071054126,40.32724313098146,21.565037294952802,50.62894189774852,38.907692724269594,34.30911391800581,39.226338347301464,26.301916494298098,null,null,"t Critical one-tail",1.7171443743802424,{"$nulls":3},"t Critical one-tail",1.7138715277470482]
[{"$nulls":26},"SD - [%]",{"$f":"((AB12/AB$9)*100)-100","v":-28.527467291389556},-29.403098078536487,-26.92386966216344,-26.92386966216344,-21.488283060910135,-28.527467291389556,-26.42866339274218,-27.702481250843476,-19.321222552407605,-20.565629964648124,-24.830219979609126,-29.105308999574646,-32.38522391760013,-23.80195133263763,-24.959613680974144,-27.437988122744372,-15.556084833656328,-20.71386354135133,-22.322857276017942,-15.066740764818746,-25.156252735517086,-21.880948392696723,-20.347215338648255,-21.981367314782233,-17.23542323885377,{"$f":"AVERAGE(AB16:AZ16)","v":{"v":-23.94372446706705,"d":"-23.9437"}},{"$nulls":21},"t Critical two-tail",2.015367574443765,{"$nulls":3},"t Critical two-tail",2.01289559891943,{"$nulls":4},"SD - [%]",-26.92386966216344,-19.321222552407605,-32.38522391760013,-27.437988122744372,-15.556084833656328,-20.71386354135133,-22.322857276017942,-15.066740764818746,-25.156252735517086,-21.880948392696723,-20.347215338648255,-21.981367314782233,-17.23542323885377,null,null,"P(T<=t) two-tail",0.1240849888428448,{"$nulls":3},"P(T<=t) two-tail",0.27874880222776366]
[{"$nulls":15},{"v":0.015,"d":"0.0150"},{"$nulls":10},"TFT (tooth specific SD) +",{"$f":"(AB8/(AB10-I13))","v":21.42222222222222},{"$f":"(AC8/(AC10-V11))","v":22.533333333333335},{"$f":"(AD8/(AD10-Q13))","v":92.28000000000002},{"$f":"(AE8/(AE10-G21))","v":126.34408602150539},{"$f":"(AF8/(AF10-I12))","v":97.07086614173227},{"$f":"(AG8/(AG10-V10))","v":173.64444444444445},{"$f":"(AH8/(AH10-G12))","v":157.0451612903226},{"$f":"(AI8/(AI10-X12))","v":169.36082474226808},{"$f":"(AJ8/(AJ10-Q19))","v":122.26027397260273},{"$f":"(AK8/(AK10-H10))","v":123.64137931034482},{"$f":"(AL8/(AL10-W12))","v":161.98260869565217},{"$f":"(AM8/(AM10-W10))","v":236.86153846153846},{"$f":"(AN8/(AN10-P19))","v":256.875},{"$f":"(AO8/(AO10-Q10))","v":167.25405405405405},{"$f":"(AP8/(AP10-Q12))","v":199.32710280373834},{"$f":"(AQ8/(AQ10-P10))","v":226.84137931034482},{"$f":"(AR8/(AR10-T21))","v":193.05555555555557},{"$f":"(AS8/(AS10-I21))","v":325.99381099738156},{"$f":"(AT8/(AT10-P20))","v":381.64556962025307},{"$f":"(AU8/(AU10-U20))","v":256.82926829268297},{"$f":"(AV8/(AV10-F18))","v":904.8},{"$f":"(AW8/(AW10-Q18))","v":1020.491803278689},{"$f":"(AX8/(AX10-W18))","v":476.9516728624535},{"$f":"(AY8/(AY10-P18))","v":630.3571428571427},{"$f":"(AZ8/(AZ10-I20))","v":714.7222222222222},{"$nulls":33},"TFT (tooth specific SD) +",126.34408602150539,122.26027397260273,256.875,226.84137931034482,193.05555555555557,325.99381099738156,381.64556962025307,256.82926829268297,904.8,1020.491803278689,476.9516728624535,630.3571428571427,714.7222222222222,null,null,"t Critical two-tail",2.073873067904026,{"$nulls":3},"t Critical two-tail",2.068657610419049]
[{"$nulls":3},"Large Alligator","functional teeth upper dentition",{"v":0.008,"d":"0.0080"},{"$nulls":9},{"v":0.003,"d":"0.0030"},{"v":0.011,"d":"0.0110"},{"$nulls":5},{"v":5.3E-3,"d":"0.0053"},{"$nulls":3},"TFT (tooth specific SD) -",{"$f":"(AB8/(AB10+I13))","v":12.853333333333333},{"$f":"(AC8/(AC10+V11))","v":14.485714285714286},{"$f":"(AD8/(AD10+Q13))","v":57.675},{"$f":"(AE8/(AE10+G21))","v":70.35928143712576},{"$f":"(AF8/(AF10+I12))","v":55.28251121076234},{"$f":"(AG8/(AG10+G12))","v":104.18666666666668},{"$f":"(AH8/(AH10+G12))","v":99.35510204081632},{"$f":"(AI8/(AI10+X12))","v":107.37254901960785},{"$f":"(AJ8/(AJ10+Q19))","v":70.2755905511811},{"$f":"(AK8/(AK10+H10))","v":79.67999999999999},{"$f":"(AL8/(AL10+W12))","v":106.44571428571427},{"$f":"(AM8/(AM10+W10))","v":139.96363636363637},{"$f":"(AN8/(AN10+P19))","v":171.25},{"$f":"(AO8/(AO10+Q10))","v":112.51636363636362},{"$f":"(AP8/(AP10+Q12))","v":117.83425414364642},{"$f":"(AQ8/(AQ10+P10))","v":139.96595744680852},{"$f":"(AR8/(AR10+T21))","v":102.20588235294117},{"$f":"(AS8/(AS10+I21))","v":201.4266803941756},{"$f":"(AT8/(AT10+P20))","v":249.17355371900825},{"$f":"(AU8/(AU10+U20))","v":157.16417910447763},{"$f":"(AV8/(AV10+F18))","v":254.15730337078654},{"$f":"(AW8/(AW10+Q18))","v":221.53024911032034},{"$f":"(AX8/(AX10+W18))","v":266.73596673596677},{"$f":"(AY8/(AY10+P18))","v":441.24999999999994},{"$f":"(AZ8/(AZ10+I20))","v":459.46428571428567},{"$nulls":33},"TFT (tooth specific SD) -",70.35928143712576,70.2755905511811,171.25,139.96595744680852,102.20588235294117,201.4266803941756,249.17355371900825,157.16417910447763,254.15730337078654,221.53024911032034,266.73596673596677,441.24999999999994,459.46428571428567]
[{"$nulls":4},"replacement teeth upper dentition",{"$nulls":10},{"v":2E-3,"d":"0.0020"},0.0054,{"$nulls":9},"SD +",{"$f":"AB17-AB9","v":5.355555555555554},4.898550724637683,21.295384615384634,35.95947063689,26.62515185601798,43.4111111111111,{"v":35.3351612903226,"d":"35.3352"},37.93682474226807,33.01027397260273,26.733271202236708,33.5136431784108,60.90725274725273,51.375,32.72361927144536,51.21599169262723,53.72558983666059,59.40170940170941,76.99381099738159,80.14556962025313,61.82926829268294,507.95789473684204,656.4567155593907,134.81833952912018,111.23949579831924,155.37439613526567,{"$nulls":33},"SD +",35.95947063689,33.01027397260273,51.375,53.72558983666059,59.40170940170941,76.99381099738159,80.14556962025313,61.82926829268294,507.95789473684204,656.4567155593907,134.81833952912018,111.23949579831924,155.37439613526567]
[{"$nulls":8},{"v":0.005,"d":"0.0050"},{"$nulls":6},0.0035,{"$nulls":4},0.0065,{"$nulls":5},"SD -",{"$f":"AB18-AB9","v":-3.213333333333333},-3.149068322981366,-13.309615384615384,-20.025333947489628,-15.163203074951952,-26.046666666666667,{"v":-22.354897959183674,"d":"-22.3549"},-24.05145098039216,-18.974409448818903,-17.228108108108117,-22.023251231527098,-35.99064935064936,-34.25,-22.014071146245072,-30.276856967464695,-33.149832026875714,-31.447963800904986,-47.573319605824366,-52.32644628099169,-37.8358208955224,-142.68480189237138,-142.50483860897802,-75.39736659736656,-77.86764705882348,-99.88354037267084,{"$nulls":33},"SD -",-20.025333947489628,-18.974409448818903,-34.25,-33.149832026875714,-31.447963800904986,-47.573319605824366,-52.32644628099169,-37.8358208955224,-142.68480189237138,-142.50483860897802,-75.39736659736656,-77.86764705882348,-99.88354037267084]
[{"$nulls":6},0.0037,null,{"v":0.00433,"d":"0.0043"},{"$nulls":10},{"v":0.008,"d":"0.0080"},{"$nulls":5},"# measurents for CA","SD + [%]",{"$f":"((AB17/AB$9)*100)-100","v":33.333333333333314},27.777777777777786,30.00000000000003,39.784946236559136,37.79527559055117,33.333333333333314,29.032258064516157,28.86597938144334,36.986301369863014,27.586206896551715,26.08695652173914,34.61538461538461,25,24.324324324324323,34.57943925233647,31.03448275862067,44.44444444444443,30.921209235896242,26.58227848101265,31.707317073170742,127.99999999999997,180.32786885245906,39.40520446096653,21.428571428571416,27.77777777777777,{"$f":"AVERAGE(AB21:AZ21)","v":{"v":41.229226848425334,"d":"41.2292"}},{"$nulls":32},"SD + [%]",39.784946236559136,36.986301369863014,25,31.03448275862067,44.44444444444443,30.921209235896242,26.58227848101265,31.707317073170742,127.99999999999997,180.32786885245906,39.40520446096653,21.428571428571416,27.77777777777777]
[{"$nulls":3},"mean","small",null,{"$f":"G12","v":{"v":0.003,"d":"0.0030"}},{"$f":"H10","v":0.004},{"$f":"(I12+I13)/2","v":0.0039},{"$nulls":6},{"$f":"P10","v":{"v":0.003,"d":"0.0030"}},{"$f":"(Q10+Q12+Q13)/3","v":3.2333333333333333E-3},{"$nulls":4},{"$f":"(V10+V11)/2","v":0.00275},{"$f":"(W10+W12)/2","v":0.003},{"$f":"X12","v":{"v":2.8E-3,"d":"0.0028"}},null,38,"SD - [%]",{"$f":"((AB18/AB$9)*100)-100","v":-20},-17.857142857142847,-18.75,-22.155688622754482,-21.524663677130036,-20,-18.367346938775512,-18.300653594771248,-21.25984251968505,-17.777777777777786,-17.142857142857153,-20.454545454545453,-16.666666666666657,-16.363636363636374,-20.44198895027624,-19.148936170212778,-23.529411764705884,-19.105750845712606,-17.355371900826427,-19.40298507462687,-35.95505617977528,-39.14590747330961,-22.037422037422033,-14.999999999999986,-17.85714285714286,{"$f":"AVERAGE(AB22:AZ22)","v":{"v":-20.624031794790127,"d":"-20.6240"}},{"$nulls":32},"SD - [%]",-22.155688622754482,-21.25984251968505,-16.666666666666657,-19.148936170212778,-23.529411764705884,-19.105750845712606,-17.355371900826427,-19.40298507462687,-35.95505617977528,-39.14590747330961,-22.037422037422033,-14.999999999999986,-17.85714285714286]
[{"$nulls":4},"medium",null,null,{"$f":"(H14+H15)/2","v":1.23E-3},{"$nulls":7},{"$f":"(P14+P15+P16+P17)/4","v":0.0065},{"$f":"Q16","v":{"v":0,"d":"0.0000"}},{"$nulls":4},{"$f":"V14","v":{"v":0,"d":"0.0000"}},{"$f":"(W14+W15+W16)/3","v":1.2333333333333335E-3},{"$f":"(X14+X15)/2","v":2E-3},null,9,"Tooth specific SD",0.003,0.0025,{"v":0.003,"d":"0.0030"},0.0037,0.0048,{"v":0.003,"d":"0.0030"},{"$f":"0.003","v":{"v":0.003,"d":"0.0030"}},{"v":2.8E-3,"d":"0.0028"},0.0054,{"$f":"(0.004+0.004)/2","v":0.004},{"v":0.003,"d":"0.0030"},{"v":0.003,"d":"0.0030"},{"v":2E-3,"d":"0.0020"},{"v":0.003,"d":"0.0030"},0.0037,{"v":0.003,"d":"0.0030"},{"v":0.008,"d":"0.0080"},{"v":0.00433,"d":"0.0043"},0.0035,0.0065,{"v":0.008,"d":"0.0080"},{"v":0.011,"d":"0.0110"},{"v":5.3E-3,"d":"0.0053"},{"v":0.003,"d":"0.0030"},{"v":0.005,"d":"0.0050"},{"$f":"AVERAGE(AB23:AZ23)","v":{"v":4.3012000000000015E-3,"d":"0.0043"}},{"$nulls":32},"Tooth specific SD",0.0037,0.0054,{"v":2E-3,"d":"0.0020"},{"v":0.003,"d":"0.0030"},{"v":0.008,"d":"0.0080"},{"v":0.00433,"d":"0.0043"},0.0035,0.0065,{"v":0.008,"d":"0.0080"},{"v":0.011,"d":"0.0110"},{"v":5.3E-3,"d":"0.0053"},{"v":0.003,"d":"0.0030"},{"v":0.005,"d":"0.0050"}]
[{"$nulls":4},"large",{"$f":"F18","v":{"v":0.008,"d":"0.0080"}},{"$f":"G21","v":0.0037},null,{"$f":"(I20+I21)/2","v":0.004665},{"$nulls":6},{"$f":"(P18+P19+P20)/3","v":2.8333333333333335E-3},{"$f":"(Q18+Q19)/2","v":8.199999999999999E-3},null,null,{"$f":"T21","v":{"v":0.008,"d":"0.0080"}},{"$f":"U20","v":0.0065},null,{"$f":"W18","v":{"v":5.3E-3,"d":"0.0053"}},null,null,40,{"$nulls":26},{"$f":"E26","v":0.004789666666666668},{"$nulls":48},"max",{"$nulls":4},"min"]
[{"$nulls":25},{"$f":"SUM(Z22:Z24)","v":87},{"$nulls":19},"SD/VEIW ratio for tooth used in Fig. 5 (VEIW variation along the CA)",{"$nulls":6},{"$f":"BA23/BA10","v":0.2688250000000001},{"$nulls":32},"Small Alligator"]
[{"$nulls":3},"mean of all:",{"$f":"AVERAGE(F10:Y21)","v":{"v":0.004789666666666668,"d":"0.00479"}},{"$nulls":21},"Replacement rates from Erickson 1996",null,null,"Alligator mean",{"$f":"AVERAGE(AB10:AZ10)","v":0.016},null,"ratio SD/VEIW",{"$f":"E26/AE26","v":0.29935416666666675},{"$nulls":11},{"$f":"AT23/AT10","v":0.20999999999999996},{"$nulls":5},{"$f":"BA10/BA24","v":3.3405247407613605},{"$f":"BA24/BA10","v":0.29935416666666675},{"$nulls":32},"crown height",0.1928,0.2028,0.9228,1.2328000000000001,{"v":1.5628000000000002,"d":"1.5628"},1.6228,1.6428,{"v":1.7928000000000002,"d":"1.793"},1.8628,2.0528,{"v":2.0627999999999997,"d":"2.0628"},2.1328,{"$nulls":3},"t-Test: Two-Sample Assuming Unequal Variances",{"$nulls":4},"t-Test: Two-Sample Assuming Unequal Variances"]
[{"$nulls":85},"TFT by sampled CA sections",16.066666666666666,17.63478260869565,{"v":70.98461538461538,"d":"70.9846"},70.44571428571429,{"v":130.23333333333335,"d":"130.233"},{"v":121.71,"d":"121.7100"},{"v":131.424,"d":"131.4240"},{"v":96.90810810810811,"d":"96.908"},{"v":128.46896551724137,"d":"128.4690"},{"v":175.95428571428573,"d":"175.954"},{"v":134.5304347826087,"d":"134.530"},{"v":148.11111111111111,"d":"148.1111"}]
[null,"crown heights of the sampled positions ",{"$nulls":3},1,2,3,4,5,6,7,8,9,10,11,12,13,14,15,16,17,18,19,20,{"$nulls":49},"max",{"$nulls":4},"min",{"$nulls":5},"VEIW of the tooth",{"v":0.012,"d":"0.0120"},0.0115,{"v":0.013,"d":"0.0130"},0.0175,{"v":0.012,"d":"0.0120"},{"v":0.013333333333333334,"d":"0.0133"},{"v":0.012499999999999999,"d":"0.0125"},{"v":0.018500000000000003,"d":"0.019"},0.0145,{"v":0.011666666666666665,"d":"0.0117"},{"v":0.015333333333333332,"d":"0.0153"},0.0144,{"$nulls":4},"Variable 1","Variable 2",{"$nulls":3},"Variable 1","Variable 2"]
[{"$nulls":3},"Small Alligator","functional teeth upper dentition",1.4328,{"v":1.7728000000000002,"d":"1.7728"},{"v":1.7928000000000002,"d":"1.793"},1.4328,1.7628000000000001,1.6928,2.4328,1.7928000000000002,2.5128,1.8328000000000002,2.1928,{"v":2.0627999999999997,"d":"2.0628"},2.1028,2.2828,1.3528,2.3028,{"v":1.5628000000000002,"d":"1.5628"},2.0528,1.3528,1.7528000000000001,{"$nulls":49},"t-Test: Two-Sample Assuming Unequal Variances",{"$nulls":4},"t-Test: Two-Sample Assuming Unequal Variances",{"$nulls":5},"TFT + SD",26.739401784475987,30.222045601311418,112.39494945394017,96.99194880805643,216.74448707872966,189.94186727010262,213.06471834334883,130.7626850793805,191.83687480690674,298.5022538897776,195.64351427397176,221.92778606361213,{"$nulls":3},"Mean",103.53933479269836,160.39771103780114,null,null,"Mean",103.53933479269836,76.7248322886358]
[{"$nulls":4},"replacement teeth upper dentition",0.1628,0.7728,0.5328,0.3128,0.5628,0.4728,0.9528,0.6028,1.2228,0.5028,0.9328,0.4228,1.0628000000000002,0.6128,0.2828,0.7528,0.2028,0.4528,null,0.3328,{"$nulls":60},"TFT - SD",11.483253588516746,12.449610182324173,51.87281005827352,55.30813979571999,93.08106176418035,89.54367378469348,95.01629104089147,76.97834518885342,96.56983877378215,124.74224715914845,102.50956616806637,111.14314995917941,{"$nulls":3},"Variance",2532.9846100045834,6720.379147360482,null,null,"Variance",2532.9846100045834,1343.5932429230704]
[{"$nulls":4},"functional teeth lower dentition",2.1428,1.6228,1.8428000000000002,1.2328000000000001,1.5728000000000002,1.9228,1.0828000000000002,1.7028,1.1128,1.8128000000000002,1.4928000000000001,2.1328,1.8128000000000002,2.2828,1.5728000000000002,2.0427999999999997,1.4128,1.8628,1.6428,2.8327999999999998,{"$nulls":50},"Variable 1","Variable 2",{"$nulls":3},"Variable 1","Variable 2",{"$nulls":3},"SD +",10.67273511780932,12.587262992615766,41.41033406932479,26.546234522342147,86.51115374539631,{"v":68.23186727010263,"d":"68.2319"},81.64071834334882,33.854576971272394,63.36790928966536,122.54796817549186,61.11307949136307,73.81667495250102,{"$nulls":3},"Observations",12,12,null,null,"Observations",12,12]
[{"$nulls":4},"replacement teeth lower dentition",0.6628,0.8228,0.5428,0.1928,0.3228,0.5628,0.1728,0.4528,0.1628,0.4628,0.2828,0.9228,0.4528,0.8328,0.2328,0.5328,0.1528,0.4328,0.11280000000000001,0.3028,{"$nulls":49},"Mean",290.3836528196194,194.45409071944377,null,null,"Mean",152.50439099693355,194.45409071944377,{"$nulls":3},"SD -",-4.5834130781499205,-5.185172426371478,-19.11180532634186,-15.1375744899943,-37.152271569153,{"v":-32.16632621530651,"d":"-32.1663"},-36.40770895910853,-19.929762919254685,-31.89912674345922,-51.21203855513728,-32.02086861454232,-36.9679611519317,{"$nulls":3},"Hypothesized Mean Difference",0,{"$nulls":3},"Hypothesized Mean Difference",0]
[{"$nulls":3},"Large Alligator","functional teeth upper dentition",{"v":5.655,"d":"5.6550"},{"v":8.055,"d":"8.0550"},{"v":11.455,"d":"11.4550"},null,8.645,7.205,1.185,5.455,12.725,6.025,{"v":8.825,"d":"8.8250"},{"v":6.2250000000000005,"d":"6.2250"},6.215,null,{"v":10.434999999999999,"d":"10.4350"},{"v":6.855,"d":"6.8550"},{"v":7.765000000000001,"d":"7.7650"},{"v":6.415,"d":"6.4150"},6.175,4.555000000000001,{"$nulls":49},"Variance",69121.15989747919,20739.047155545162,null,null,"Variance",12859.535577826406,20739.047155545162,{"$nulls":3},"SD + [%]",66.42781193657254,71.37747752222944,58.33705493077832,37.68324984920406,66.42781193657254,56.06101985876478,62.12009856902,34.93472077022196,49.32546084926713,69.64761766274057,45.426954569884,49.838715271756115,{"$nulls":3},"df",18,{"$nulls":3},"df",20]
[{"$nulls":4},"replacement teeth upper dentition",3.145,{"v":4.795,"d":"4.7950"},null,{"v":2.9650000000000003,"d":"2.9650"},2.9650000000000003,3.915,{"$nulls":4},{"v":2.055,"d":"2.0550"},{"v":1.785,"d":"1.7850"},0.9549999999999998,null,{"v":4.2250000000000005,"d":"4.2250"},1.435,2.9050000000000002,1.685,{"$nulls":51},"Observations",25,25,null,null,"Observations",25,25,{"$nulls":3},"SD - [%]",-28.527467291389556,-29.403098078536487,-26.92386966216344,-21.488283060910135,-28.527467291389556,-26.42866339274218,-27.702481250843476,-20.565629964648124,-24.830219979609126,-29.105308999574646,-23.80195133263763,-24.959613680974144,{"$nulls":3},"t Stat",-2.0475535018174096,{"$nulls":3},"t Stat",1.491887625445472]
[{"$nulls":4},"functional teeth lower dentition",null,4.625,null,{"v":12.864999999999998,"d":"12.8650"},7.425,5.565,4.385,4.215,5.565,4.555000000000001,{"v":5.025,"d":"5.0250"},9.475,11.975,7.705,{"v":6.9750000000000005,"d":"6.9750"},{"v":5.265000000000001,"d":"5.2650"},{"$nulls":53},"Hypothesized Mean Difference",0,{"$nulls":3},"Hypothesized Mean Difference",0,{"$nulls":4},"TFT (tooth specific SD) +",21.42222222222222,22.533333333333335,92.28000000000002,97.07086614173227,173.64444444444445,157.0451612903226,169.36082474226808,123.64137931034482,161.98260869565217,236.86153846153846,167.25405405405405,199.32710280373834,{"$nulls":3},"P(T<=t) one-tail",0.027741811587966857,{"$nulls":3},"P(T<=t) one-tail",0.07566736551175167]
[{"$nulls":4},"replacement teeth lower dentition",null,{"v":1.175,"d":"1.1750"},null,{"v":4.565,"d":"4.5650"},2.5050000000000003,3.115,1.135,1.8749999999999998,3.365,1.545,null,2.345,3.925,null,{"v":3.475,"d":"3.4750"},0.9849999999999999,0.9849999999999999,{"$nulls":52},"df",37,{"$nulls":3},"df",45,{"$nulls":4},"TFT (tooth specific SD) -",12.853333333333333,14.485714285714286,57.675,55.28251121076234,104.18666666666668,99.35510204081632,107.37254901960785,79.67999999999999,106.44571428571427,139.96363636363637,112.51636363636362,117.83425414364642,{"$nulls":3},"t Critical one-tail",1.7340636066175394,{"$nulls":3},"t Critical one-tail",1.7247182429207868]
[{"$nulls":74},"t Stat",1.600069175615907,{"$nulls":3},"t Stat",-1.144296004959397,{"$nulls":4},"SD +",5.355555555555554,4.898550724637683,21.295384615384634,26.62515185601798,43.4111111111111,{"v":35.3351612903226,"d":"35.3352"},37.93682474226807,26.733271202236708,33.5136431784108,60.90725274725273,32.72361927144536,51.21599169262723,{"$nulls":3},"P(T<=t) two-tail",0.055483623175933715,{"$nulls":3},"P(T<=t) two-tail",0.15133473102350334]
[{"$nulls":74},"P(T<=t) one-tail",0.059044268777180886,{"$nulls":3},"P(T<=t) one-tail",0.12927561760441506,{"$nulls":4},"SD -",-3.213333333333333,-3.149068322981366,-13.309615384615384,-15.163203074951952,-26.046666666666667,{"v":-22.354897959183674,"d":"-22.3549"},-24.05145098039216,-17.228108108108117,-22.023251231527098,-35.99064935064936,-22.014071146245072,-30.276856967464695,{"$nulls":3},"t Critical two-tail",2.100922040241038,{"$nulls":3},"t Critical two-tail",2.085963447265865]
[{"$nulls":74},"t Critical one-tail",1.687093619596263,{"$nulls":3},"t Critical one-tail",1.6794273926523535,{"$nulls":4},"SD + [%]",33.333333333333314,27.777777777777786,30.00000000000003,37.79527559055117,33.333333333333314,29.032258064516157,28.86597938144334,27.586206896551715,26.08695652173914,34.61538461538461,24.324324324324323,34.57943925233647]
[{"$nulls":74},"P(T<=t) two-tail",0.11808853755436177,{"$nulls":3},"P(T<=t) two-tail",0.2585512352088301,{"$nulls":4},"SD - [%]",-20,-17.857142857142847,-18.75,-21.524663677130036,-20,-18.367346938775512,-18.300653594771248,-17.777777777777786,-17.142857142857153,-20.454545454545453,-16.363636363636374,-20.44198895027624]
[{"$nulls":74},"t Critical two-tail",2.026192463029111,{"$nulls":3},"t Critical two-tail",2.0141033888808457,{"$nulls":4},"Tooth specific SD",0.003,0.0025,{"v":0.003,"d":"0.0030"},0.0048,{"v":0.003,"d":"0.0030"},{"v":0.003,"d":"0.0030"},{"v":2.8E-3,"d":"0.0028"},0.004,{"v":0.003,"d":"0.0030"},{"v":0.003,"d":"0.0030"},{"v":0.003,"d":"0.0030"},0.0037]
[{"$nulls":3},"# of VEIWs",{"$nulls":75},"P(T<=t) two-tail",0.08222278338875619]
[{"$nulls":79},"t Critical two-tail",2.015367574443765]
[{"$nulls":5},1,2,3,4,5,6,7,8,9,10,11,12,13,14,15,16,17,18,19,20]
[{"$nulls":3},"Small Alligator","functional teeth upper dentition",null,null,{"$f":"(37+28)","v":65},{"$nulls":7},{"$f":"31+31+27","v":89},{"$f":"91+68+53","v":212},{"$nulls":4},{"$f":"26","v":26},{"$f":"83+95+78","v":256}]
[{"$nulls":4},"replacement teeth upper dentition",{"$nulls":16},{"$f":"29+26","v":55}]
[{"$nulls":6},{"$f":"82+41+69","v":192},null,{"$f":"65+101+(24+12)","v":202},{"$nulls":7},{"$f":"(59+54)+(37+54)+(57+64)+(55+72)+(57+53)","v":562},{"$nulls":5},{"$f":"51+58+46+58","v":213},{"$f":"51+28+56+54","v":189}]
[{"$nulls":8},{"$f":"37+26","v":63},{"$nulls":7},{"$f":"53+53+58+53","v":217}]
[{"$nulls":3},"Medium Alligator","functional teeth upper dentition"]
[{"$nulls":4},"replacement teeth upper dentition",null,null,{"$f":"13+19","v":32},{"$nulls":7},{"$f":"15","v":15},{"$nulls":6},{"$f":"14+15+16","v":45},{"$f":"20+18","v":38}]
[]
[{"$nulls":15},{"$f":"10","v":10}]
[{"$nulls":3},"Large Alligator","functional teeth upper dentition",{"$f":"95+85+98+85","v":363},{"$nulls":9},{"$f":"(24+9)","v":33},{"$f":"101+(58+36)+(31+51)+49+22","v":348},{"$nulls":5},{"$f":"(36+91)+93+60+105","v":385}]
[{"$nulls":4},"replacement teeth upper dentition",{"$nulls":10},{"$f":"21","v":21},{"$f":"23+33+31","v":87}]
[{"$nulls":8},{"$f":"57","v":57},{"$nulls":6},{"$f":"86+82+91+63+38+47+71+42","v":520},{"$nulls":4},{"$f":"34","v":34}]
[{"$nulls":6},{"$f":"53+60+65","v":178},null,{"$f":"45+47+38","v":130},{"$nulls":10},{"$f":"17","v":17}]
[]
[{"$nulls":4},{"$f":"SUM(F45:X56)","v":4654}]
[]
[]
[]
[]
[]
[{"$nulls":4},"crown height [mm]",0.1928,0.2028,0.9228,{"v":1.175,"d":"1.1750"},{"v":1.2328000000000001,"d":"1.2328"},{"v":1.5628000000000002,"d":"1.5628"},1.6228,1.6428,{"v":1.785,"d":"1.7850"},{"v":1.7928000000000002,"d":"1.7928"},1.8628,2.0528,{"v":2.055,"d":"2.0550"},{"v":2.0627999999999997,"d":"2.0628"},2.1328,2.1928,{"v":3.475,"d":"3.4750"},{"v":4.565,"d":"4.5650"},{"v":5.025,"d":"5.0250"},{"v":5.265000000000001,"d":"5.2650"},{"v":5.655,"d":"5.6550"},{"v":6.2250000000000005,"d":"6.2250"},{"v":6.415,"d":"6.4150"},{"v":8.825,"d":"8.8250"},{"v":12.864999999999998,"d":"12.8650"},"Mean","Variance","t -statistic","p-value",null,"crown height [mm]",0.1928,0.2028,0.9228,{"v":1.175,"d":"1.1750"},{"v":1.2328000000000001,"d":"1.2328"},{"v":1.5628000000000002,"d":"1.5628"},1.6228,1.6428,{"v":1.785,"d":"1.7850"},{"v":1.7928000000000002,"d":"1.7928"},1.8628,2.0528,{"v":2.055,"d":"2.0550"},{"v":2.0627999999999997,"d":"2.0628"},2.1328,2.1928,{"v":3.475,"d":"3.4750"},{"v":4.565,"d":"4.5650"},{"v":5.025,"d":"5.0250"},{"v":5.265000000000001,"d":"5.2650"},{"v":5.655,"d":"5.6550"},{"v":6.2250000000000005,"d":"6.2250"},{"v":6.415,"d":"6.4150"},{"v":8.825,"d":"8.8250"},{"v":12.864999999999998,"d":"12.8650"},"Mean","Variance","t -statistic","p-value"]
[{"$nulls":4},"TFT by sampled CA sections [days]",{"v":16.066666666666666,"d":"16.0667"},{"v":17.63478260869565,"d":"17.6348"},{"v":70.98461538461538,"d":"70.9846"},{"v":90.38461538461539,"d":"90.3846"},{"v":70.44571428571429,"d":"70.4457"},{"v":130.23333333333335,"d":"130.2333"},{"v":121.71,"d":"121.7100"},{"v":131.424,"d":"131.4240"},{"v":89.25,"d":"89.2500"},{"v":96.90810810810811,"d":"96.9081"},{"v":128.46896551724137,"d":"128.4690"},{"v":175.95428571428573,"d":"175.9543"},{"v":205.5,"d":"205.5000"},{"v":134.5304347826087,"d":"134.5304"},{"v":148.11111111111111,"d":"148.1111"},{"v":173.11578947368423,"d":"173.1158"},{"v":133.65384615384616,"d":"133.6538"},{"v":248.99999999999997,"d":"249.0000"},{"v":301.49999999999994,"d":"301.5000"},{"v":195.00000000000003,"d":"195.0000"},{"v":396.8421052631579,"d":"396.8421"},{"v":364.03508771929836,"d":"364.0351"},{"v":342.1333333333333,"d":"342.1333"},{"v":519.1176470588234,"d":"519.1176"},{"v":559.3478260869565,"d":"559.3478"},{"v":194.45409071944377,"d":"194.4541"},{"v":20739.047155545162,"d":"20739.047"},{"$nulls":3},"TFT by sampled CA sections [days]",{"v":16.066666666666666,"d":"16.0667"},{"v":17.63478260869565,"d":"17.6348"},{"v":70.98461538461538,"d":"70.9846"},{"v":90.38461538461539,"d":"90.3846"},{"v":70.44571428571429,"d":"70.4457"},{"v":130.23333333333335,"d":"130.2333"},{"v":121.71,"d":"121.7100"},{"v":131.424,"d":"131.4240"},{"v":89.25,"d":"89.2500"},{"v":96.90810810810811,"d":"96.9081"},{"v":128.46896551724137,"d":"128.4690"},{"v":175.95428571428573,"d":"175.9543"},{"v":205.5,"d":"205.5000"},{"v":134.5304347826087,"d":"134.5304"},{"v":148.11111111111111,"d":"148.1111"},{"v":173.11578947368423,"d":"173.1158"},{"v":133.65384615384616,"d":"133.6538"},{"v":248.99999999999997,"d":"249.0000"},{"v":301.49999999999994,"d":"301.5000"},{"v":195.00000000000003,"d":"195.0000"},{"v":396.8421052631579,"d":"396.8421"},{"v":364.03508771929836,"d":"364.0351"},{"v":342.1333333333333,"d":"342.1333"},{"v":519.1176470588234,"d":"519.1176"},{"v":559.3478260869565,"d":"559.3478"},{"v":194.45409071944377,"d":"194.4541"},{"v":20739.047155545162,"d":"20739.047"}]
[{"$nulls":4},"VEIW of the tooth [mm]",{"v":0.012,"d":"0.0120"},0.0115,{"v":0.013,"d":"0.0130"},{"v":0.013,"d":"0.0130"},0.0175,{"v":0.012,"d":"0.0120"},{"v":0.013333333333333334,"d":"0.0133"},{"v":0.012499999999999999,"d":"0.0125"},{"v":0.02,"d":"0.0200"},{"v":0.018500000000000003,"d":"0.0185"},0.0145,{"v":0.011666666666666665,"d":"0.0117"},{"v":0.01,"d":"0.0100"},{"v":0.015333333333333332,"d":"0.0153"},0.0144,{"v":0.012666666666666666,"d":"0.0127"},{"v":0.026,"d":"0.0260"},{"v":0.018333333333333337,"d":"0.0183"},{"v":0.01666666666666667,"d":"0.0167"},{"v":0.027,"d":"0.0270"},{"v":0.01425,"d":"0.0143"},{"v":0.017099999999999997,"d":"0.0171"},{"v":0.01875,"d":"0.0188"},{"v":0.017,"d":"0.0170"},{"v":0.023,"d":"0.0230"},{"$nulls":5},"VEIW of the tooth [mm]",{"v":0.012,"d":"0.0120"},0.0115,{"v":0.013,"d":"0.0130"},{"v":0.013,"d":"0.0130"},0.0175,{"v":0.012,"d":"0.0120"},{"v":0.013333333333333334,"d":"0.0133"},{"v":0.012499999999999999,"d":"0.0125"},{"v":0.02,"d":"0.0200"},{"v":0.018500000000000003,"d":"0.0185"},0.0145,{"v":0.011666666666666665,"d":"0.0117"},{"v":0.01,"d":"0.0100"},{"v":0.015333333333333332,"d":"0.0153"},0.0144,{"v":0.012666666666666666,"d":"0.0127"},{"v":0.026,"d":"0.0260"},{"v":0.018333333333333337,"d":"0.0183"},{"v":0.01666666666666667,"d":"0.0167"},{"v":0.027,"d":"0.0270"},{"v":0.01425,"d":"0.0143"},{"v":0.017099999999999997,"d":"0.0171"},{"v":0.01875,"d":"0.0188"},{"v":0.017,"d":"0.0170"},{"v":0.023,"d":"0.0230"}]
[{"$nulls":4},"TFT + SD  [days]",{"v":26.739401784475987,"d":"26.7394"},{"v":30.222045601311418,"d":"30.2220"},{"v":112.39494945394017,"d":"112.3949"},{"v":143.1123381105112,"d":"143.1123"},{"v":96.99194880805643,"d":"96.9919"},{"v":216.74448707872966,"d":"216.7445"},{"v":189.94186727010262,"d":"189.9419"},{"v":213.06471834334883,"d":"213.0647"},{"v":117.3544301023427,"d":"117.3544"},{"v":130.7626850793805,"d":"130.7627"},{"v":191.83687480690674,"d":"191.8369"},{"v":298.5022538897776,"d":"298.5023"},{"v":394.40854711790683,"d":"394.4085"},{"v":195.64351427397176,"d":"195.6435"},{"v":221.92778606361213,"d":"221.9278"},{"v":278.3800939443951,"d":"278.3801"},{"v":163.83523754144994,"d":"163.8352"},{"v":337.0579114469247,"d":"337.0579"},{"v":423.086638039909,"d":"423.0866"},{"v":237.051822725158,"d":"237.0518"},{"v":597.7590641626441,"d":"597.7591"},{"v":505.67274105764824,"d":"505.6727"},{"v":459.51624841813714,"d":"459.5162"},{"v":722.7484917146678,"d":"722.7485"},{"v":706.4670242170196,"d":"706.4670"},{"v":280.44892484209316,"d":"280.4489"},{"v":37706.37528958455,"d":"37706.375"},{"v":1.778554248790766,"d":"1.7786"},{"v":0.041111391694378094,"d":"0.0411"},null,"Tooth specific SD  [mm]",0.003,0.0025,{"v":0.003,"d":"0.0030"},0.0037,0.0048,{"v":0.003,"d":"0.0030"},{"$f":"0.003","v":{"v":0.003,"d":"0.0030"}},{"v":2.8E-3,"d":"0.0028"},0.0054,{"$f":"(0.004+0.004)/2","v":0.004},{"v":0.003,"d":"0.0030"},{"v":0.003,"d":"0.0030"},{"v":2E-3,"d":"0.0020"},{"v":0.003,"d":"0.0030"},0.0037,{"v":0.003,"d":"0.0030"},{"v":0.008,"d":"0.0080"},{"v":0.00433,"d":"0.0043"},0.0035,0.0065,{"v":0.008,"d":"0.0080"},{"v":0.011,"d":"0.0110"},{"v":5.3E-3,"d":"0.0053"},{"v":0.003,"d":"0.0030"},{"v":0.005,"d":"0.0050"}]
[{"$nulls":4},"TFT - SD  [days]",{"v":11.483253588516746,"d":"11.4833"},{"v":12.449610182324173,"d":"12.4496"},{"v":51.87281005827352,"d":"51.8728"},{"v":66.04957934381382,"d":"66.0496"},{"v":55.30813979571999,"d":"55.3081"},{"v":93.08106176418035,"d":"93.0811"},{"v":89.54367378469348,"d":"89.5437"},{"v":95.01629104089147,"d":"95.0163"},{"v":72.00580887197621,"d":"72.0058"},{"v":76.97834518885342,"d":"76.9783"},{"v":96.56983877378215,"d":"96.5698"},{"v":124.74224715914845,"d":"124.7422"},{"v":138.94836484933174,"d":"138.9484"},{"v":102.50956616806637,"d":"102.5096"},{"v":111.14314995917941,"d":"111.1431"},{"v":125.61629971929959,"d":"125.6163"},{"v":112.86254046270935,"d":"112.8625"},{"v":197.42247978203517,"d":"197.4225"},{"v":234.19658531280584,"d":"234.1966"},{"v":165.61985550860345,"d":"165.6199"},{"v":297.0115023022111,"d":"297.0115"},{"v":284.38075804413046,"d":"284.3808"},{"v":272.5187272547048,"d":"272.5187"},{"v":405.0084902629686,"d":"405.0085"},{"v":462.9418608835418,"d":"462.9419"},{"v":150.2112336024705,"d":"150.2112"},{"v":13402.556554125616,"d":"13402.557"},{"v":-1.197212412514691,"d":"-1.1972"},{"v":0.11867856416703564,"d":"0.1187"},null,"TFT (tooth specific SD) + [days]",{"v":21.42222222222222,"d":"21.4222"},{"v":22.533333333333335,"d":"22.5333"},{"v":92.28000000000002,"d":"92.2800"},{"v":126.34408602150539,"d":"126.3441"},{"v":97.07086614173227,"d":"97.0709"},{"v":173.64444444444445,"d":"173.6444"},{"v":157.0451612903226,"d":"157.0452"},{"v":169.36082474226808,"d":"169.3608"},{"v":122.26027397260273,"d":"122.2603"},{"v":123.64137931034482,"d":"123.6414"},{"v":161.98260869565217,"d":"161.9826"},{"v":236.86153846153846,"d":"236.8615"},{"v":256.875,"d":"256.8750"},{"v":167.25405405405405,"d":"167.2541"},{"v":199.32710280373834,"d":"199.3271"},{"v":226.84137931034482,"d":"226.8414"},{"v":193.05555555555557,"d":"193.0556"},{"v":325.99381099738156,"d":"325.9938"},{"v":381.64556962025307,"d":"381.6456"},{"v":256.82926829268297,"d":"256.8293"},{"v":904.8,"d":"904.8000"},{"v":1020.491803278689,"d":"1020.4918"},{"v":476.9516728624535,"d":"476.9517"},{"v":630.3571428571427,"d":"630.3571"},{"v":714.7222222222222,"d":"714.7222"},{"v":290.3836528196194,"d":"290.3837"},{"v":69121.15989747919,"d":"69121.160"},{"v":1.600069175615907,"d":"1.6001"},{"v":0.059044268777180886,"d":"0.0590"}]
[{"$nulls":4},"SD +   [days]",{"v":10.67273511780932,"d":"10.6727"},{"v":12.587262992615766,"d":"12.5873"},{"v":41.41033406932479,"d":"41.4103"},{"v":52.7277227258958,"d":"52.7277"},{"v":26.546234522342147,"d":"26.5462"},{"v":86.51115374539631,"d":"86.5112"},{"v":68.23186727010263,"d":"68.2319"},{"v":81.64071834334882,"d":"81.6407"},{"v":28.104430102342704,"d":"28.1044"},{"v":33.854576971272394,"d":"33.8546"},{"v":63.36790928966536,"d":"63.3679"},{"v":122.54796817549186,"d":"122.5480"},{"v":188.90854711790683,"d":"188.9085"},{"v":61.11307949136307,"d":"61.1131"},{"v":73.81667495250102,"d":"73.8167"},{"v":105.2643044707109,"d":"105.2643"},{"v":30.18139138760378,"d":"30.1814"},{"v":88.05791144692475,"d":"88.0579"},{"v":121.58663803990908,"d":"121.5866"},{"v":42.05182272515796,"d":"42.0518"},{"v":200.9169588994862,"d":"200.9170"},{"v":141.63765333834988,"d":"141.6377"},{"v":117.38291508480381,"d":"117.3829"},{"v":203.63084465584438,"d":"203.6308"},{"v":147.11919813006307,"d":"147.1192"},{"$nulls":5},"TFT (tooth specific SD) -  [days]",{"v":12.853333333333333,"d":"12.8533"},{"v":14.485714285714286,"d":"14.4857"},{"v":57.675,"d":"57.6750"},{"v":70.35928143712576,"d":"70.3593"},{"v":55.28251121076234,"d":"55.2825"},{"v":104.18666666666668,"d":"104.1867"},{"v":99.35510204081632,"d":"99.3551"},{"v":107.37254901960785,"d":"107.3725"},{"v":70.2755905511811,"d":"70.2756"},{"v":79.67999999999999,"d":"79.6800"},{"v":106.44571428571427,"d":"106.4457"},{"v":139.96363636363637,"d":"139.9636"},{"v":171.25,"d":"171.2500"},{"v":112.51636363636362,"d":"112.5164"},{"v":117.83425414364642,"d":"117.8343"},{"v":139.96595744680852,"d":"139.9660"},{"v":102.20588235294117,"d":"102.2059"},{"v":201.4266803941756,"d":"201.4267"},{"v":249.17355371900825,"d":"249.1736"},{"v":157.16417910447763,"d":"157.1642"},{"v":254.15730337078654,"d":"254.1573"},{"v":221.53024911032034,"d":"221.5302"},{"v":266.73596673596677,"d":"266.7360"},{"v":441.24999999999994,"d":"441.2500"},{"v":459.46428571428567,"d":"459.4643"},{"v":152.50439099693355,"d":"152.5044"},{"v":12859.535577826406,"d":"12859.536"},{"v":-1.144296004959397,"d":"-1.1443"},{"v":0.12927561760441506,"d":"0.1293"}]
[{"$nulls":4},"SD -   [days]",{"v":-4.5834130781499205,"d":"-4.5834"},{"v":-5.185172426371478,"d":"-5.1852"},{"v":-19.11180532634186,"d":"-19.1118"},{"v":-24.33503604080157,"d":"-24.3350"},{"v":-15.1375744899943,"d":"-15.1376"},{"v":-37.152271569153,"d":"-37.1523"},{"v":-32.16632621530651,"d":"-32.1663"},{"v":-36.40770895910853,"d":"-36.4077"},{"v":-17.244191128023786,"d":"-17.2442"},{"v":-19.929762919254685,"d":"-19.9298"},{"v":-31.89912674345922,"d":"-31.8991"},{"v":-51.21203855513728,"d":"-51.2120"},{"v":-66.55163515066826,"d":"-66.5516"},{"v":-32.02086861454232,"d":"-32.0209"},{"v":-36.9679611519317,"d":"-36.9680"},{"v":-47.49948975438464,"d":"-47.4995"},{"v":-20.791305691136813,"d":"-20.7913"},{"v":-51.5775202179648,"d":"-51.5775"},{"v":-67.3034146871941,"d":"-67.3034"},{"v":-29.380144491396578,"d":"-29.3801"},{"v":-99.8306029609468,"d":"-99.8306"},{"v":-79.6543296751679,"d":"-79.6543"},{"v":-69.61460607862853,"d":"-69.6146"},{"v":-114.1091567958548,"d":"-114.1092"},{"v":-96.40596520341472,"d":"-96.4060"},{"$nulls":5},"SD +   [days]",{"v":5.355555555555554,"d":"5.3556"},{"v":4.898550724637683,"d":"4.8986"},{"v":21.295384615384634,"d":"21.2954"},{"v":35.95947063689,"d":"35.9595"},{"v":26.62515185601798,"d":"26.6252"},{"v":43.4111111111111,"d":"43.4111"},{"v":35.3351612903226,"d":"35.3352"},{"v":37.93682474226807,"d":"37.9368"},{"v":33.01027397260273,"d":"33.0103"},{"v":26.733271202236708,"d":"26.7333"},{"v":33.5136431784108,"d":"33.5136"},{"v":60.90725274725273,"d":"60.9073"},{"v":51.375,"d":"51.3750"},{"v":32.72361927144536,"d":"32.7236"},{"v":51.21599169262723,"d":"51.2160"},{"v":53.72558983666059,"d":"53.7256"},{"v":59.40170940170941,"d":"59.4017"},{"v":76.99381099738159,"d":"76.9938"},{"v":80.14556962025313,"d":"80.1456"},{"v":61.82926829268294,"d":"61.8293"},{"v":507.95789473684204,"d":"507.9579"},{"v":656.4567155593907,"d":"656.4567"},{"v":134.81833952912018,"d":"134.8183"},{"v":111.23949579831924,"d":"111.2395"},{"v":155.37439613526567,"d":"155.3744"}]
[{"$nulls":4},"SD + [%]",{"v":66.42781193657254,"d":"66.4278"},{"v":71.37747752222944,"d":"71.3775"},{"v":58.33705493077832,"d":"58.3371"},{"v":58.33705493077835,"d":"58.3371"},{"v":37.68324984920406,"d":"37.6832"},{"v":66.42781193657254,"d":"66.4278"},{"v":56.06101985876478,"d":"56.0610"},{"v":62.12009856902,"d":"62.1201"},{"v":31.489557537638888,"d":"31.4896"},{"v":34.93472077022196,"d":"34.9347"},{"v":49.32546084926713,"d":"49.3255"},{"v":69.64761766274057,"d":"69.6476"},{"v":91.92630030068457,"d":"91.9263"},{"v":45.426954569884,"d":"45.4270"},{"v":49.838715271756115,"d":"49.8387"},{"v":60.80572129829463,"d":"60.8057"},{"v":22.581760462667575,"d":"22.5818"},{"v":35.364623071054126,"d":"35.3646"},{"v":40.32724313098146,"d":"40.3272"},{"v":21.565037294952802,"d":"21.5650"},{"v":50.62894189774852,"d":"50.6289"},{"v":38.907692724269594,"d":"38.9077"},{"v":34.30911391800581,"d":"34.3091"},{"v":39.226338347301464,"d":"39.2263"},{"v":26.301916494298098,"d":"26.3019"},{"$nulls":5},"SD -   [days]",{"v":-3.213333333333333,"d":"-3.2133"},{"v":-3.149068322981366,"d":"-3.1491"},{"v":-13.309615384615384,"d":"-13.3096"},{"v":-20.025333947489628,"d":"-20.0253"},{"v":-15.163203074951952,"d":"-15.1632"},{"v":-26.046666666666667,"d":"-26.0467"},{"v":-22.354897959183674,"d":"-22.3549"},{"v":-24.05145098039216,"d":"-24.0515"},{"v":-18.974409448818903,"d":"-18.9744"},{"v":-17.228108108108117,"d":"-17.2281"},{"v":-22.023251231527098,"d":"-22.0233"},{"v":-35.99064935064936,"d":"-35.9906"},{"v":-34.25,"d":"-34.2500"},{"v":-22.014071146245072,"d":"-22.0141"},{"v":-30.276856967464695,"d":"-30.2769"},{"v":-33.149832026875714,"d":"-33.1498"},{"v":-31.447963800904986,"d":"-31.4480"},{"v":-47.573319605824366,"d":"-47.5733"},{"v":-52.32644628099169,"d":"-52.3264"},{"v":-37.8358208955224,"d":"-37.8358"},{"v":-142.68480189237138,"d":"-142.6848"},{"v":-142.50483860897802,"d":"-142.5048"},{"v":-75.39736659736656,"d":"-75.3974"},{"v":-77.86764705882348,"d":"-77.8676"},{"v":-99.88354037267084,"d":"-99.8835"}]
[{"$nulls":4},"SD - [%]",{"v":-28.527467291389556,"d":"-28.5275"},{"v":-29.403098078536487,"d":"-29.4031"},{"v":-26.92386966216344,"d":"-26.9239"},{"v":-26.92386966216344,"d":"-26.9239"},{"v":-21.488283060910135,"d":"-21.4883"},{"v":-28.527467291389556,"d":"-28.5275"},{"v":-26.42866339274218,"d":"-26.4287"},{"v":-27.702481250843476,"d":"-27.7025"},{"v":-19.321222552407605,"d":"-19.3212"},{"v":-20.565629964648124,"d":"-20.5656"},{"v":-24.830219979609126,"d":"-24.8302"},{"v":-29.105308999574646,"d":"-29.1053"},{"v":-32.38522391760013,"d":"-32.3852"},{"v":-23.80195133263763,"d":"-23.8020"},{"v":-24.959613680974144,"d":"-24.9596"},{"v":-27.437988122744372,"d":"-27.4380"},{"v":-15.556084833656328,"d":"-15.5561"},{"v":-20.71386354135133,"d":"-20.7139"},{"v":-22.322857276017942,"d":"-22.3229"},{"v":-15.066740764818746,"d":"-15.0667"},{"v":-25.156252735517086,"d":"-25.1563"},{"v":-21.880948392696723,"d":"-21.8809"},{"v":-20.347215338648255,"d":"-20.3472"},{"v":-21.981367314782233,"d":"-21.9814"},{"v":-17.23542323885377,"d":"-17.2354"},{"$nulls":5},"SD + [%]",{"v":33.333333333333314,"d":"33.3333"},{"v":27.777777777777786,"d":"27.7778"},{"v":30.00000000000003,"d":"30.0000"},{"v":39.784946236559136,"d":"39.7849"},{"v":37.79527559055117,"d":"37.7953"},{"v":33.333333333333314,"d":"33.3333"},{"v":29.032258064516157,"d":"29.0323"},{"v":28.86597938144334,"d":"28.8660"},{"v":36.986301369863014,"d":"36.9863"},{"v":27.586206896551715,"d":"27.5862"},{"v":26.08695652173914,"d":"26.0870"},{"v":34.61538461538461,"d":"34.6154"},{"v":25,"d":"25.0000"},{"v":24.324324324324323,"d":"24.3243"},{"v":34.57943925233647,"d":"34.5794"},{"v":31.03448275862067,"d":"31.0345"},{"v":44.44444444444443,"d":"44.4444"},{"v":30.921209235896242,"d":"30.9212"},{"v":26.58227848101265,"d":"26.5823"},{"v":31.707317073170742,"d":"31.7073"},{"v":127.99999999999997,"d":"128.0000"},{"v":180.32786885245906,"d":"180.3279"},{"v":39.40520446096653,"d":"39.4052"},{"v":21.428571428571416,"d":"21.4286"},{"v":27.77777777777777,"d":"27.7778"}]
[{"$nulls":35},"SD - [%]",{"v":-20,"d":"-20.0000"},{"v":-17.857142857142847,"d":"-17.8571"},{"v":-18.75,"d":"-18.7500"},{"v":-22.155688622754482,"d":"-22.1557"},{"v":-21.524663677130036,"d":"-21.5247"},{"v":-20,"d":"-20.0000"},{"v":-18.367346938775512,"d":"-18.3673"},{"v":-18.300653594771248,"d":"-18.3007"},{"v":-21.25984251968505,"d":"-21.2598"},{"v":-17.777777777777786,"d":"-17.7778"},{"v":-17.142857142857153,"d":"-17.1429"},{"v":-20.454545454545453,"d":"-20.4545"},{"v":-16.666666666666657,"d":"-16.6667"},{"v":-16.363636363636374,"d":"-16.3636"},{"v":-20.44198895027624,"d":"-20.4420"},{"v":-19.148936170212778,"d":"-19.1489"},{"v":-23.529411764705884,"d":"-23.5294"},{"v":-19.105750845712606,"d":"-19.1058"},{"v":-17.355371900826427,"d":"-17.3554"},{"v":-19.40298507462687,"d":"-19.4030"},{"v":-35.95505617977528,"d":"-35.9551"},{"v":-39.14590747330961,"d":"-39.1459"},{"v":-22.037422037422033,"d":"-22.0374"},{"v":-14.999999999999986,"d":"-15.0000"},{"v":-17.85714285714286,"d":"-17.8571"}]

{"sheet":"Body length vs. VEIW, TRR","index":9,"n_rows":60,"n_cols":32,"rows_kept":60}
[]
[]
[]
[{"$nulls":6},"Are volumes from Erickson wrong by factor of 10? Corrected"]
[{"$nulls":3},"Extend of Ericksons (1996) and Erickson (1992 MSc Thesis) tables",{"$nulls":8},"skull lengths estimated for all but small and medium alligator from this study"]
[{"$nulls":3},"Taxon (total length, m)",null,"Sample size (n)","Mean crown vol (cc)","Mean tooth vol (cmm)","Mean tooth replacement rate est. (days)","STD","VEIW (average increment width)","VEIW (average) preliminary correction","skull length",null,"r squared","p value (actual degrees of freedom)",null,"r squared skull","p value skull (actual degrees of freedom)"]
[{"$nulls":13},"VELW All data",{"$f":"RSQ(K12:K20,E12:E20)","v":{"v":0.3866356309153148,"d":"0.3866"}},{"$f":"FDIST(7*O7/(1-O7),1,7)","v":{"v":0.07380718975105387,"d":"0.0738"}},null,{"$f":"RSQ(K12:K20,M12:M20)","v":0.3799534552190716},{"$f":"FDIST(7*R7/(1-R7),1,7)","v":{"v":0.07709091485712946,"d":"0.0771"}}]
[null,null,"Erickson 1992 referencing Westergard & Ferguson (1990)","Alligator",0.22,1,null,null,6.49,{"$nulls":4},"VELW Erickson 1996 & this study",{"$f":"RSQ(K24:K30,E24:E30)","v":0.405591172719002},{"$f":"FDIST(4*O8/(1-O8),1,4)","v":0.17386187454936247}]
[{"$nulls":4},0.3,1,null,null,24.74,{"$nulls":4},"VELW Erickson 1996",{"$f":"RSQ(K28:K30,E28:E30)","v":0.8895111115361989},{"$f":"FDIST(1*O9/(1-O9),1,1)","v":0.21571589975333127}]
[null,null,"Erickson 1996 referencing Westergard & Ferguson (1990)",null,0.18,{"$nulls":3},11.41,{"$nulls":4},"VELW This study",{"$f":"RSQ(K24:K26,E24:E26)","v":0.7867406008594909},{"$f":"FDIST(1*O10/(1-O10),1,1)","v":0.3055925607628247}]
[{"$nulls":4},0.2,{"$nulls":3},20.26,{"$nulls":5},"r squared","p value (actual degrees of freedom)"]
[{"$nulls":3},"Alligator (0.37)",0.37,1,{"$f":"(('Tooth measurements raw data'!U87+'Tooth measurements raw data'!U89+'Tooth measurements raw data'!U91+'Tooth measurements raw data'!U93+'Tooth measurements raw data'!U95+'Tooth measurements raw data'!U97+'Tooth measurements raw data'!U99+'Tooth measurements raw data'!U101+'Tooth measurements raw data'!U103+'Tooth measurements raw data'!U105+'Tooth measurements raw data'!U107+'Tooth measurements raw data'!U109+'Tooth measurements raw data'!U111+'Tooth measurements raw data'!U114+'Tooth measurements raw data'!U116+'Tooth measurements raw data'!U118+'Tooth measurements raw data'!U120+'Tooth measurements raw data'!U122+'Tooth measurements raw data'!U124+'Tooth measurements raw data'!U125+'Tooth measurements raw data'!U127+'Tooth measurements raw data'!U128+'Tooth measurements raw data'!U130+'Tooth measurements raw data'!U132+'Tooth measurements raw data'!U134+'Tooth measurements raw data'!U136+'Tooth measurements raw data'!U138+'Tooth measurements raw data'!U140+'Tooth measurements raw data'!U142+'Tooth measurements raw data'!U144+'Tooth measurements raw data'!U146+'Tooth measurements raw data'!U148+'Tooth measurements raw data'!U150+'Tooth measurements raw data'!U152+'Tooth measurements raw data'!U154+'Tooth measurements raw data'!U156+'Tooth measurements raw data'!U158+'Tooth measurements raw data'!U160+'Tooth measurements raw data'!U162+'Tooth measurements raw data'!U164+'Tooth measurements raw data'!U166)/41)/1000","v":7.023691014634146E-4},1.3706650182195124,{"v":90.47402430322498,"d":"90"},null,13.6,13.6,57.73,"replacement rate all alligators",{"$f":"RSQ(I12:I20,E12:E20)","v":0.8991506129773447},{"$f":"FDIST(7*O12/(1-O12),1,7)","v":9.8761274369683045E-5}]
[null,null,"Erickson 1996","Alligator (0.60)",0.6,2,2E-3,null,83,1.4,6.6,{"$f":"K13+((K13*(1/5))*1.3333333333333)","v":8.359999999999955},{"$f":"((1000*E13)-130.31)/7.13","v":65.87517531556803},"replacement rate this study",{"$f":"RSQ(I24:I26,E24:E26)","v":0.9931944636171768},{"$f":"FDIST(1*O13/(1-O13),1,1)","v":0.052578130259180594}]
[null,null,"Erickson 1996","Alligator (0.85)",0.85,2,0.004,null,109,2,10.5,{"$f":"K14+((K14*(1/5))*1.3333333333333)","v":13.29999999999993},{"$f":"((1000*E14)-130.31)/7.13","v":100.93828892005611},"replacement rate all + Erickson 1992",{"$f":"RSQ(I12:I22,E12:E22)","v":0.8829972716979241},{"$f":"FDIST(9*O14/(1-O14),1,9)","v":1.7441090209700134E-5}]
[{"$nulls":3},"Alligator (0.90)",0.9,1,{"$f":"(('Tooth measurements raw data'!U3+'Tooth measurements raw data'!U5+'Tooth measurements raw data'!U7+'Tooth measurements raw data'!U9+'Tooth measurements raw data'!U11+'Tooth measurements raw data'!U14+'Tooth measurements raw data'!U16+'Tooth measurements raw data'!U19+'Tooth measurements raw data'!U21+'Tooth measurements raw data'!U23+'Tooth measurements raw data'!U25+'Tooth measurements raw data'!U28+'Tooth measurements raw data'!U30+'Tooth measurements raw data'!U32+'Tooth measurements raw data'!U34+'Tooth measurements raw data'!U36+'Tooth measurements raw data'!U38+'Tooth measurements raw data'!U40+'Tooth measurements raw data'!U42+'Tooth measurements raw data'!U44+'Tooth measurements raw data'!U46+'Tooth measurements raw data'!U48+'Tooth measurements raw data'!U50+'Tooth measurements raw data'!U53+'Tooth measurements raw data'!U55+'Tooth measurements raw data'!U57+'Tooth measurements raw data'!U59+'Tooth measurements raw data'!U61+'Tooth measurements raw data'!U63+'Tooth measurements raw data'!U65+'Tooth measurements raw data'!U67+'Tooth measurements raw data'!U69+'Tooth measurements raw data'!U71+'Tooth measurements raw data'!U73+'Tooth measurements raw data'!U75+'Tooth measurements raw data'!U77+'Tooth measurements raw data'!U79+'Tooth measurements raw data'!U81+'Tooth measurements raw data'!U83+'Tooth measurements raw data'!U85)/40)/1000","v":3.2353521475E-3},11.219442500000003,{"v":133.61838846785886,"d":"134"},null,16.2,16.2,115.6,"replacement rate all + Erickson 1996",{"$f":"RSQ(I10:I20,E10:E20)","v":0.8924612564494558},{"$f":"FDIST(9*O15/(1-O15),1,9)","v":1.1881524189352157E-5}]
[null,null,"Erickson 1996","Alligator (1.40)",1.4,2,0.012,null,122,2.1,13,{"$f":"K16+((K16*(1/5))*1.3333333333333)","v":16.46666666666658},{"$f":"((1000*E16)-130.31)/7.13","v":178.0771388499299}]
[null,null,"Erickson 1992","Alligator (1.50)",1.5,"?",0.02,null,115,null,14,{"$f":"K17+((K17*(1/5))*1.3333333333333)","v":17.733333333333242},{"$f":"((1000*E17)-130.31)/7.13","v":192.10238429172512}]
[null,null,"Erickson 1992","Alligator (2.50)",2.5,"?",0.045,null,154,null,16.3,20.646666666666558,{"$f":"((1000*E18)-130.31)/7.13","v":332.35483870967744},{"$nulls":5},"OLS Regressions"]
[null,null,"Erickson 1992","Alligator (3.20)",3.2,"?",0.13,null,260,null,14,17.733333333333242,{"$f":"((1000*E19)-130.31)/7.13","v":430.53155680224404}]
[{"$nulls":3},"Alligator (3.95)",3.95,1,0.14837550796478127,829.516074170956,{"v":278.99750658881067,"d":"279"},null,18.07,18.07,428]
[null,null,"Erickson 1992 referencing Westergard & Ferguson (1990)","Alligator",0.22,1,null,null,6.49]
[{"$nulls":4},0.3,1,null,null,24.74]
[]
[{"$nulls":3},"Alligator (0.37)",0.37,1,null,{"$f":"H12","v":1.3706650182195124},{"$f":"I12","v":{"v":90.47402430322498,"d":"90"}},null,13.6]
[{"$nulls":3},"Alligator (0.90)",0.9,1,null,{"$f":"H15","v":11.219442500000003},{"$f":"I15","v":{"v":133.61838846785886,"d":"134"}},null,16.2]
[{"$nulls":3},"Alligator (3.95)",3.95,1,null,{"$f":"H20","v":829.516074170956},{"$f":"I20","v":{"v":278.99750658881067,"d":"279"}},null,18.07]
[]
[null,null,"Erickson 1996","Alligator (0.60)",0.6,2,2E-3,null,83,1.4,6.6]
[null,null,"Erickson 1996","Alligator (0.85)",0.85,2,0.004,null,109,2,10.5]
[null,null,"Erickson 1996","Alligator (1.40)",1.4,2,0.012,null,122,2.1,13]
[]
[null,null,"Erickson 1996","Caiman (0.13)",0.13,1,1E-3,null,111,1.1,5.2]
[]
[{"$nulls":3},"VAR.S",{"$f":"_xlfn.VAR.S(E12:E20)","v":1.5529750000000004},{"$nulls":3},{"$f":"_xlfn.VAR.S(I12:I20)","v":5093.169617165942},null,{"$f":"_xlfn.VAR.S(K12:K20)","v":11.664877777777747},{"$f":"_xlfn.VAR.S(L12:L20)","v":12.895722222222105}]
[{"$nulls":4},{"$f":"_xlfn.VAR.S(E10:E20)","v":1.6138618181818185},{"$nulls":3},{"$f":"_xlfn.VAR.S(I10:I20)","v":7004.901488454319}]
[null,null,"Elements for reduced major axis regression calculation",null,{"$f":"_xlfn.VAR.S(E12:E22)","v":1.5804472727272736},{"$nulls":3},{"$f":"_xlfn.VAR.S(I12:I22)","v":7027.275007809204}]
[{"$nulls":3},"uncorrected VEIW","corrected VEIW","replacement rate no hatchlings","replacement rate hatchlings low","replacement rate hatchlings high"]
[null,null,"Mean x",{"$f":"AVERAGE(E12:E20)","v":1.6966666666666665},{"$f":"AVERAGE(E12:E20)","v":1.6966666666666665},{"$f":"AVERAGE(E12:E20)","v":1.6966666666666665},{"$f":"AVERAGE(E10:E20)","v":1.4227272727272726},{"$f":"AVERAGE(E12:E22)","v":1.4354545454545455}]
[null,null,"Mean y",{"$f":"AVERAGE(K12:K20)","v":13.585555555555556},{"$f":"AVERAGE(L12:L20)","v":15.789999999999944},{"$f":"AVERAGE(I12:I20)","v":{"v":149.56554659554382,"d":"150"}},{"$f":"AVERAGE(I10:I20)","v":{"v":125.2509017599904,"d":"125"}},{"$f":"AVERAGE(I12:I22)","v":{"v":125.21090175999039,"d":"125"}}]
[null,null,"DEVSQ x",{"$f":"DEVSQ(E12:E20)","v":12.423800000000004},{"$f":"DEVSQ(E12:E20)","v":12.423800000000004},{"$f":"DEVSQ(E12:E20)","v":12.423800000000004},{"$f":"DEVSQ(E10:E20)","v":16.13861818181818},{"$f":"DEVSQ(E12:E22)","v":15.804472727272726}]
[null,null,"DEVSQ y",{"$f":"DEVSQ(K12:K20)","v":93.31902222222222},{"$f":"DEVSQ(L12:L20)","v":103.16577777777695},{"$f":"DEVSQ(I12:I20)","v":40745.35693732749},{"$f":"DEVSQ(I10:I20)","v":70049.01488454317},{"$f":"DEVSQ(I12:I22)","v":70272.75007809195}]
[null,null,"SUM Product - means",{"$f":"SUMPRODUCT(E12:E20-D38,K12:K20-D39)","v":21.172066666666673},{"$f":"SUMPRODUCT(E12:E20-E38,L12:L20-E39)","v":24.2128666666666},{"$f":"SUMPRODUCT(E12:E20-F38,I12:I20-F39)","v":674.656193125114},{"$f":"SUMPRODUCT(E10:E20-G38,I10:I20-G39)","v":1004.4512770952185},{"$f":"SUMPRODUCT(E12:E22-H38,I12:I22-H39)","v":990.2917508488198}]
[null,null,"n",{"$f":"COUNT(E12:E20)","v":9},{"$f":"COUNT(E12:E20)","v":9},{"$f":"COUNT(E12:E20)","v":9},{"$f":"COUNT(E10:E20)","v":11},{"$f":"COUNT(E12:E22)","v":11}]
[null,null,"lambda",{"$f":"(E34/K34)","v":0.133132556515809},{"$f":"(E34/L34)","v":0.12042559332767655},{"$f":"(E34/I34)","v":3.0491326948269638E-4},{"$f":"(E35/I35)","v":2.303903660660799E-4},{"$f":"(E36/I36)","v":2.2490186750496728E-4}]
[null,null,"b0",{"$f":"D39-D38*D46","v":8.935540149709318},{"$f":"E39-E38*E46","v":10.900807574643395},{"$f":"F39-F38*F46","v":52.40087990480227},{"$f":"G39-G38*G46","v":31.518553099297506},{"$f":"H39-H38*H46","v":29.493056384378974}]
[null,null,"b1",{"$f":"(D44*D41-D40+SQRT((D44*D41-D40)^2+4*D44*D42^2)/(2*D44*D42))","v":2.7406770564909064},{"$f":"(E44*E41-E40+SQRT((E44*E41-E40)^2+4*E44*E42^2)/(2*E44*E42))","v":2.881645830269087},{"$f":"(F44*F41-F40+SQRT((F44*F41-F40)^2+4*F44*F42^2)/(2*F44*F42))","v":57.26797643855102},{"$f":"(G44*G41-G40+SQRT((G44*G41-G40)^2+4*G44*G42^2)/(2*G44*G42))","v":65.8821619979311},{"$f":"(H44*H41-H40+SQRT((H44*H41-H40)^2+4*H44*H42^2)/(2*H44*H42))","v":66.6812095713569}]
[{"$nulls":6},"reduced major axis replacement rate hatchlings low","reduced major axis replacement rate hatchlings high"]
[{"$nulls":6},{"$f":"G$46*E10+G$45","v":43.377342258925104}]
[null,"x","y","reduced major axis uncorrected values","reduced major axis corrected values","reduced major axis replacement rate no hatchlings",{"$f":"G$46*E11+G$45","v":44.694985498883725}]
[null,0.37,13.6,{"$f":"D$46*B50+D$45","v":9.949590660610953},{"$f":"E$46*B50+E$45","v":11.967016531842956},{"$f":"F$46*B50+F$45","v":73.59003118706615},{"$f":"G$46*E12+G$45","v":55.894953038532016},{"$f":"H$46*E12+H$45","v":54.165103925781025}]
[null,0.6,8.359999999999955,10.579946383603861,12.629795072804846,86.76166576793287,{"$f":"G$46*E13+G$45","v":71.04785029805618},{"$f":"H$46*E13+H$45","v":69.50178212719311},{"$nulls":23},"Reduced Major Axis Regressions"]
[null,0.85,13.29999999999993,11.265115647726589,13.35020653037212,101.07865987757063,87.51839079753894,86.17208452003234]
[null,0.9,16.2,11.402149500551134,13.494288821885572,103.94205869949818,90.8124988974355,89.50614499860018]
[null,1.4,16.46666666666658,12.772488028796587,14.935111737020115,132.57604691877367,123.75357989640105,122.84674978427863]
[null,1.5,17.733333333333242,13.046555734445679,15.223276320047026,138.3028445626288,130.34179609619417,129.5148707414143]
[null,2.5,20.646666666666558,15.787232790936585,18.104922150316114,195.5708210011798,196.2239580941253,196.19608031277124]
[null,3.2,17.733333333333242,17.70570673048022,20.122074231504474,235.65840450816552,242.34147149267704,242.87292701272108]
[null,3.95,18.07,19.761214522848398,22.28330860420629,278.6093868370788,291.75309299112536,292.88383419123875]
[{"$nulls":7},44.16292249007749]
[{"$nulls":7},49.49741925578604]

{"sheet":"TFTs in Archosaurs","index":10,"n_rows":71,"n_cols":28,"rows_kept":71}
[]
[{"$nulls":12},"Replacement rates from Erickson 1996",null,null,"Alligator mean",{"$f":"'TFT +- SD'!$AE$26","v":0.016},null,"ratio SD/VEIW",{"$f":"'TFT +- SD'!$E$26/$Q$2","v":0.29935416666666675}]
[null,"Taxon","Mean increment width, micro m","Central axis height (back calculated from mean VEIW and TFT)","Mean tooth formation rate, days","SD based on Alligator","TFT + SD","TFT - SD","SD +","SD -","Source",{"$nulls":4},"SD",{"$f":"'TFT +- SD'!$E$26","v":0.004789666666666668}]
[null,"Crocodilian",13,3.198,246,3.8916041666666673E-3,351.1046356040559,189.32482483284963,105.10463560405589,-56.67517516715037,"Erickson 1996b",null,"Taxon","Sample size, n","Mean crown volume, ml","Increment size range, micro m","Mean increment width, micro m","Mean tooth formation rate, days","Tooth replacement rate, days",null,"Central axis height (back calculated from mean VEIW and TFT)","SD based on Alligator","TFT + SD","TFT - SD","SD +","SD -","SD + [%]","SD - [%]"]
[null,"Leidyosuchus",19,5.377,283,0.005687729166666668,403.9130564062919,217.80050986868474,120.9130564062919,-65.19949013131526,null,null,"Crocodilian†",1,0.9,"8–19",13,246,"NA",null,{"$f":"R5*(Q5/1000)","v":3.198},{"$f":"(Q5/1000)/($Q$2/$Q$3)","v":3.8916041666666673E-3},{"$f":"U5/((Q5/1000)-V5)","v":351.1046356040559},{"$f":"U5/((Q5/1000)+V5)","v":189.32482483284963},{"$f":"W5-$R5","v":105.10463560405589},{"$f":"X5-$R5","v":-56.67517516715037},{"$f":"((W5/$R5)*100)-100","v":42.725461627665},{"$f":"((X5/$R5)*100)-100","v":-23.03868909233755}]
[null,"Adult Edmontonia",13.5,3.7664999999999997,279,0.004041281250000001,398.2040379411852,214.72205743237828,119.20403794118522,-64.27794256762172,null,null,"Leidyosuchus†",1,1.2,"13–22",19,283,"NA",null,5.377,{"$f":"(Q6/1000)/($Q$2/$Q$3)","v":0.005687729166666668},403.9130564062919,217.80050986868474,{"$f":"W6-$R6","v":120.9130564062919},{"$f":"X6-$R6","v":-65.19949013131526},{"$f":"((W6/$R6)*100)-100","v":42.72546162766497},{"$f":"((X6/$R6)*100)-100","v":-23.03868909233755}]
[null,"Adult Triceratops",15.8,6.019800000000001,381,0.004729795833333335,543.7840088014035,293.222594558194,162.7840088014035,-87.77740544180602,null,null,"Adult Edmontonia‡",1,0.2,"9–17",13.5,279,"NA",null,3.7664999999999997,0.004041281250000001,398.2040379411852,214.72205743237828,119.20403794118522,-64.27794256762172,42.72546162766494,-23.038689092337535]
[null,"Infant Lambeosaurinae",11,1.617,147,0.003292895833333334,209.8064285926675,113.13312703426382,62.80642859266749,-33.86687296573618,null,null,"Adult Triceratops§",2,2.65,"13–26",15.8,381,83,null,6.019800000000001,0.004729795833333335,543.7840088014035,293.222594558194,162.7840088014035,-87.77740544180602,42.72546162766494,-23.038689092337535]
[null,"Adult Prosaurolophus",16,5.168,323,0.004789666666666668,461.00324105735785,248.58503423174975,138.00324105735785,-74.41496576825025,null,null,"Infant Lambeosaurinae¶",5,0.12,11,11,147,60,null,1.617,0.003292895833333334,209.8064285926675,113.13312703426382,62.80642859266749,-33.86687296573618,42.72546162766494,-23.038689092337535]
[null,"Infant Maiasaura",12,1.584,132,0.003592250000000001,188.3976093485178,101.58893039811444,56.39760934851779,-30.411069601885558,null,null,"Adult Prosaurolophus¶",3,2,"15–28",16,323,81,null,5.168,0.004789666666666668,461.00324105735785,248.58503423174975,138.00324105735785,-74.41496576825025,42.72546162766497,-23.038689092337535]
[null,"Adult Maiasaura",13,3.653,281,3.8916041666666673E-3,401.0585471737386,216.2612836505315,120.058547173739,-64.73871634946849,null,null,"Infant Maiasaura¶",1,0.1,"11–19",12,132,46,null,1.584,0.003592250000000001,188.3976093485178,101.58893039811444,56.39760934851779,-30.411069601885558,42.725461627665,-23.038689092337535]
[null,"Juvenile Edmontosaurus",14,3.15,225,0.004190958333333335,321.1322886622462,173.16294954224054,96.1322886622462,-51.83705045775946,null,null,"Adult Maiasaura¶",1,1.9,13,13,281,58,null,3.653,3.8916041666666673E-3,401.0585471737386,216.2612836505315,120.05854717373859,-64.73871634946849,42.72546162766497,-23.038689092337535]
[null,"Adult Edmontosaurus",19.8,6.7122,339,0.005927212500000002,483.8393149177842,260.89884397697574,144.83931491778418,-78.10115602302426,null,null,"Juvenile Edmontosaurus¶",3,0.43,"12–21",14,225,"NA",null,3.15,0.004190958333333335,321.1322886622462,173.16294954224054,96.1322886622462,-51.83705045775946,42.72546162766497,-23.038689092337535]
[null,"Adult Deinonychus",10.1,4.1713,413,0.003023477083333334,589.4561565222563,317.8502140486459,176.45615652225626,-95.14978595135409,null,null,"Adult Edmontosaurus¶",2,2,"11–25",19.8,339,50,null,6.7122,0.005927212500000002,483.8393149177842,260.89884397697574,144.83931491778418,-78.10115602302426,42.72546162766494,-23.038689092337535]
[null,"Adult Troodon",11,3.993,363,0.003292895833333334,518.0934257084239,279.36955859481475,155.09342570842387,-83.63044140518525,null,null,"Adult Deinonychus**",1,0.2,"6–12",10.1,413,290,"*",4.1713,0.003023477083333334,589.4561565222563,317.8502140486459,176.45615652225626,-95.14978595135409,42.72546162766494,-23.03868909233755]
[null,"Juvenile Albertosaur",14.5,4.915500000000001,339,4.340635416666668E-3,483.83931491778424,260.89884397697574,144.83931491778424,-78.10115602302426,null,null,"Adult Troodon††",2,0.04,"7–15",11,363,"NA",null,3.993,0.003292895833333334,518.0934257084239,279.36955859481475,155.09342570842387,-83.63044140518525,42.72546162766497,-23.038689092337535]
[null,"Adult Albertosaur",14,7.266,519,0.004190958333333335,740.7451458475812,399.4292036107682,221.74514584758117,-119.57079638923182,null,null,"Juvenile Albertosaur‡‡",1,1.8,"12–17",14.5,339,296,"*",4.915500000000001,4.340635416666668E-3,483.83931491778424,260.89884397697574,144.83931491778424,-78.10115602302426,42.72546162766497,-23.038689092337535]
[null,"Juvenile Tyrannosaurus",14,3.696,264,0.004190958333333335,376.7952186970355,203.1778607962289,112.79521869703552,-60.82213920377109,null,null,"Adult Albertosaur‡‡",1,18,"12–24",14,519,454,"*",7.266,0.004190958333333335,740.7451458475812,399.4292036107682,221.74514584758117,-119.57079638923182,42.72546162766497,-23.038689092337535]
[null,"Sub. Ad. Tyrannosaurus",14,4.396,314,0.004190958333333335,448.157949510868,241.65851625006013,134.15794951086798,-72.34148374993987,null,null,"Juvenile Tyrannosaurus‡‡",1,1.8,"12–17",14,264,"NA","NA",3.696,0.004190958333333335,376.7952186970355,203.1778607962289,112.79521869703552,-60.82213920377109,42.72546162766497,-23.038689092337535]
[null,"Adult Tyrannosaurus",17,15.861,933,0.005089020833333335,1331.6285569861143,718.0490307684906,398.6285569861143,-214.95096923150936,null,null,"Sub. Ad. Tyrannosaurus‡‡",1,15.5,"8–17",14,314,null,null,4.396,0.004190958333333335,448.157949510868,241.65851625006013,134.15794951086798,-72.34148374993987,42.72546162766494,-23.038689092337535]
[null,"MPCA-Ph 4, 5, 9, 13, 19",18.2,1.1648,64,0.005448245833333335,91.34429544170557,49.255238980903975,27.34429544170557,-14.744761019096025,"Garcia & Zurriaguz 2016",null,"Adult Tyrannosaurus‡‡",1,138,"7–22",17,933,777,"*",15.861,0.005089020833333335,1331.6285569861143,718.0490307684906,398.6285569861143,-214.95096923150936,42.72546162766497,-23.03868909233755]
[null,null,20.8,1.1232,54,0.006226566666666667,77.07174927893908,41.559107890137724,23.07174927893908,-12.440892109862276,null,null,"NA, not applicable."]
[null,"Majungasaurus",{"$nulls":8},"D'Emic et al. 2019b",null,"*Replacement rate estimated via computed tomography (see Materials and Methods)."]
[null,"Pmx FMNH PR 2100 Right 3",17.551,{"$f":"E24*(C24/1000)","v":5.124891999999999},292,{"$f":"(C24/1000)/($Q$2/$Q$3)","v":0.005253964979166667},{"$f":"D24/((C24/1000)-F24)","v":416.7583479527817},{"$f":"D24/((C24/1000)+F24)","v":224.72702785037436},{"$f":"G24-$E24","v":124.75834795278172},{"$f":"H24-$E24","v":-67.27297214962564},{"$f":"((G24/$E24)*100)-100","v":42.72546162766497},{"$f":"((H24/$E24)*100)-100","v":-23.03868909233755},"†Neosuchia (13)."]
[null,"Mx UA 9944 Left 1",17.551,{"$f":"E25*(C25/1000)","v":4.633463999999999},264,{"$f":"(C25/1000)/($Q$2/$Q$3)","v":0.005253964979166667},{"$f":"D25/((C25/1000)-F25)","v":376.7952186970355},{"$f":"D25/((C25/1000)+F25)","v":203.17786079622888},{"$f":"G25-$E25","v":112.79521869703552},{"$f":"H25-$E25","v":-60.822139203771115},{"$f":"((G25/$E25)*100)-100","v":42.72546162766497},{"$f":"((H25/$E25)*100)-100","v":-23.038689092337535},"‡Nodosauridae (14)."]
[null,"Dent FMNH PR 2100 Right 2",17.551,{"$f":"E26*(C26/1000)","v":4.38775},250,{"$f":"(C26/1000)/($Q$2/$Q$3)","v":0.005253964979166667},{"$f":"D26/((C26/1000)-F26)","v":356.81365406916245},{"$f":"D26/((C26/1000)+F26)","v":192.40327726915615},106.81365406916245,-57.59672273084385,42.72546162766497,-23.038689092337535,"§Ceratopsidae (15)."]
[null,"Ceratosaurus",{"$nulls":10},"¶Hadrosauridae (16)."]
[null,"Mx BYU 12893 Right 6",{"v":14.464506172839505,"d":"14.465"},{"$f":"E28*(C28/1000)","v":4.831145061728395},334,{"$f":"(C28/1000)/($Q$2/$Q$3)","v":{"v":0.004330010191615227,"d":"0.00433"}},{"$f":"D28/((C28/1000)-F28)","v":{"v":476.703041836401,"d":"476.7030"}},{"$f":"D28/((C28/1000)+F28)","v":257.0507784315926},142.70304183640098,-76.94922156840738,42.72546162766497,-23.038689092337535,"**Dromomaeosauridae (Theropoda) (17)."]
[null,"Allosaurus",{"$nulls":10},"††Troodontidae (Theropoda) (17)."]
[null,"Pmx BYU 8901 Right 2",23,{"$f":"E30*(C30/1000)","v":8.05},350,{"$f":"(C30/1000)/($Q$2/$Q$3)","v":0.006885145833333335},{"$f":"D30/((C30/1000)-F30)","v":499.5391156968274},{"$f":"D30/((C30/1000)+F30)","v":269.36458817681864},149.53911569682742,-80.63541182318136,42.72546162766497,-23.038689092337535,"‡‡Tyrannosauridae (Theropoda) (17)."]
[null,"Mx  BYU 8901 Right 6",23,{"$f":"E31*(C31/1000)","v":7.359999999999999},320,{"$f":"(C31/1000)/($Q$2/$Q$3)","v":0.006885145833333335},{"$f":"D31/((C31/1000)-F31)","v":456.72147720852786},{"$f":"D31/((C31/1000)+F31)","v":246.27619490451985},136.72147720852786,-73.72380509548015,42.72546162766494,-23.03868909233755]
[null,"Dent BYU 2028 Left 5",23,{"$f":"E32*(C32/1000)","v":8.165},355,{"$f":"(C32/1000)/($Q$2/$Q$3)","v":0.006885145833333335},{"$f":"D32/((C32/1000)-F32)","v":506.6753887782106},{"$f":"D32/((C32/1000)+F32)","v":273.2126537222017},151.67538877821062,-81.78734627779829,42.72546162766497,-23.03868909233755,"Ricart et al. 2019","values are not reliable because the age was calculated based on mid-crown width, not crown height"]
[{"$nulls":14},"Mean crown volume, ml","Increment size range, micro m","Mean increment width, micro m","Mean tooth formation rate, days","tooth diameter (alternative)",null,"Crown height (back calculated from mean VEIW and TFT)","SD based on Alligator","TFT + SD","TFT - SD","SD +","SD -","SD + [%]","SD - [%]"]
[{"$nulls":12},"Sphagesaurid FUP-Pv 000100",null,0.918,null,24,181,4.35,null,{"$f":"R34*(Q34/1000)","v":4.344},{"$f":"(Q34/1000)/($Q$2/$Q$3)","v":0.007184500000000002},{"$f":"U34/((Q34/1000)-V34)","v":258.3330855460736},{"$f":"U34/((Q34/1000)+V34)","v":139.29997274286904},{"$f":"W34-$R34","v":77.33308554607362},{"$f":"X34-$R34","v":-41.700027257130955},{"$f":"((W34/$R34)*100)-100","v":42.72546162766497},{"$f":"((X34/$R34)*100)-100","v":-23.03868909233755}]
[{"$nulls":12},"Mariliasuchus FUP-Pv 000109",null,0.031,null,25,50,1.26,null,{"$f":"R35*(Q35/1000)","v":1.25},{"$f":"(Q35/1000)/($Q$2/$Q$3)","v":7.483854166666669E-3},{"$f":"U35/((Q35/1000)-V35)","v":71.36273081383247},{"$f":"U35/((Q35/1000)+V35)","v":38.480655453831226},{"$f":"W35-$R35","v":21.36273081383247},{"$f":"X35-$R35","v":-11.519344546168774},{"$f":"((W35/$R35)*100)-100","v":42.72546162766494},{"$f":"((X35/$R35)*100)-100","v":-23.03868909233755}]
[{"$nulls":12},"Mariliasuchus FUP-Pv 000110",null,"0.039+",{"$nulls":3},2.7]
[{"$nulls":12},"Baurusuchid FUP-Pv 000104",null,0.055,null,25,58,2.3,null,{"$f":"R37*(Q37/1000)","v":1.4500000000000002},{"$f":"(Q37/1000)/($Q$2/$Q$3)","v":7.483854166666669E-3},{"$f":"U37/((Q37/1000)-V37)","v":82.78076774404568},{"$f":"U37/((Q37/1000)+V37)","v":44.63756032644422},24.780767744045676,-13.362439673555777,42.72546162766494,-23.03868909233755]
[{"$nulls":12},"Baurusuchid FUP-Pv 000108",null,0.554,null,25,146,3.65,null,{"$f":"R38*(Q38/1000)","v":3.6500000000000004},{"$f":"(Q38/1000)/($Q$2/$Q$3)","v":7.483854166666669E-3},{"$f":"U38/((Q38/1000)-V38)","v":208.37917397639086},{"$f":"U38/((Q38/1000)+V38)","v":112.36351392518718},62.37917397639086,-33.63648607481282,42.72546162766497,-23.03868909233755]
[]
[{"$nulls":4},"Central axis height (back calculated from mean VEIW and TFT)"]
[]
[null,null,"Taxon","Mean increment width, µm","Central axis height (from mean VEIW and TFT), mm","Mean tooth formation time, days","VEIW SD based on Alligator, µm","TFT + SD","TFT - SD","SD +","SD -","Source"]
[null,null,"Crocodilian",13,3.198,246,{"v":3.89160416666667,"d":"3.8916"},{"v":351.1046356040559,"d":"351.1046"},{"v":189.32482483284963,"d":"189.3248"},{"v":105.10463560405589,"d":"105.1046"},{"v":-56.67517516715037,"d":"-56.6752"},"Erickson 1996b"]
[null,null,"Leidyosuchus",19,5.377,283,{"v":5.68772916666667,"d":"5.6877"},{"v":403.9130564062919,"d":"403.9131"},{"v":217.80050986868474,"d":"217.8005"},{"v":120.9130564062919,"d":"120.9131"},{"v":-65.19949013131526,"d":"-65.1995"}]
[null,null,"Adult Edmontonia",13.5,3.7664999999999997,279,{"v":4.04128125,"d":"4.0413"},{"v":398.2040379411852,"d":"398.2040"},{"v":214.72205743237828,"d":"214.7221"},{"v":119.20403794118522,"d":"119.2040"},{"v":-64.27794256762172,"d":"-64.2779"}]
[null,null,"Adult Triceratops",15.8,6.019800000000001,381,{"v":4.72979583333333,"d":"4.7298"},{"v":543.7840088014035,"d":"543.7840"},{"v":293.222594558194,"d":"293.2226"},{"v":162.7840088014035,"d":"162.7840"},{"v":-87.77740544180602,"d":"-87.7774"}]
[null,null,"Infant Lambeosaurinae",11,1.617,147,{"v":3.29289583333333,"d":"3.2929"},{"v":209.8064285926675,"d":"209.8064"},{"v":113.13312703426382,"d":"113.1331"},{"v":62.80642859266749,"d":"62.8064"},{"v":-33.86687296573618,"d":"-33.8669"}]
[null,null,"Adult Prosaurolophus",16,5.168,323,{"v":4.78966666666667,"d":"4.7897"},{"v":461.00324105735785,"d":"461.0032"},{"v":248.58503423174975,"d":"248.5850"},{"v":138.00324105735785,"d":"138.0032"},{"v":-74.41496576825025,"d":"-74.4150"}]
[null,null,"Infant Maiasaura",12,1.584,132,{"v":3.59225,"d":"3.5923"},{"v":188.3976093485178,"d":"188.3976"},{"v":101.58893039811444,"d":"101.5889"},{"v":56.39760934851779,"d":"56.3976"},{"v":-30.411069601885558,"d":"-30.4111"}]
[null,null,"Adult Maiasaura",13,3.653,281,{"v":3.89160416666667,"d":"3.8916"},{"v":401.0585471737386,"d":"401.0585"},{"v":216.2612836505315,"d":"216.2613"},{"v":120.05854717373859,"d":"120.0585"},{"v":-64.73871634946849,"d":"-64.7387"}]
[null,null,"Juvenile Edmontosaurus",14,3.15,225,{"v":4.19095833333333,"d":"4.1910"},{"v":321.1322886622462,"d":"321.1323"},{"v":173.16294954224054,"d":"173.1629"},{"v":96.1322886622462,"d":"96.1323"},{"v":-51.83705045775946,"d":"-51.8371"}]
[null,null,"Adult Edmontosaurus",19.8,6.7122,339,{"v":5.9272125,"d":"5.9272"},{"v":483.8393149177842,"d":"483.8393"},{"v":260.89884397697574,"d":"260.8988"},{"v":144.83931491778418,"d":"144.8393"},{"v":-78.10115602302426,"d":"-78.1012"}]
[null,null,"Adult Deinonychus",10.1,4.1713,413,{"v":3.02347708333333,"d":"3.0235"},{"v":589.4561565222563,"d":"589.4562"},{"v":317.8502140486459,"d":"317.8502"},{"v":176.45615652225626,"d":"176.4562"},{"v":-95.14978595135409,"d":"-95.1498"}]
[null,null,"Adult Troodon",11,3.993,363,{"v":3.29289583333333,"d":"3.2929"},{"v":518.0934257084239,"d":"518.0934"},{"v":279.36955859481475,"d":"279.3696"},{"v":155.09342570842387,"d":"155.0934"},{"v":-83.63044140518525,"d":"-83.6304"}]
[null,null,"Juvenile Albertosaur",14.5,4.915500000000001,339,{"v":4.34063541666667,"d":"4.3406"},{"v":483.83931491778424,"d":"483.8393"},{"v":260.89884397697574,"d":"260.8988"},{"v":144.83931491778424,"d":"144.8393"},{"v":-78.10115602302426,"d":"-78.1012"}]
[null,null,"Adult Albertosaur",14,7.266,519,{"v":4.19095833333333,"d":"4.1910"},{"v":740.7451458475812,"d":"740.7451"},{"v":399.4292036107682,"d":"399.4292"},{"v":221.74514584758117,"d":"221.7451"},{"v":-119.57079638923182,"d":"-119.5708"}]
[null,null,"Juvenile Tyrannosaurus",14,3.696,264,{"v":4.19095833333333,"d":"4.1910"},{"v":376.7952186970355,"d":"376.7952"},{"v":203.1778607962289,"d":"203.1779"},{"v":112.79521869703552,"d":"112.7952"},{"v":-60.82213920377109,"d":"-60.8221"}]
[null,null,"Sub. Ad. Tyrannosaurus",14,4.396,314,{"v":4.19095833333333,"d":"4.1910"},{"v":448.157949510868,"d":"448.1579"},{"v":241.65851625006013,"d":"241.6585"},{"v":134.15794951086798,"d":"134.1579"},{"v":-72.34148374993987,"d":"-72.3415"}]
[null,null,"Adult Tyrannosaurus",17,15.861,933,{"v":5.08902083333334,"d":"5.0890"},{"v":1331.6285569861143,"d":"1331.6286"},{"v":718.0490307684906,"d":"718.0490"},{"v":398.6285569861143,"d":"398.6286"},{"v":-214.95096923150936,"d":"-214.9510"}]
[null,null,"Titaosauria indet.",18.2,1.1648,64,{"v":5.44824583333333,"d":"5.4482"},{"v":91.34429544170557,"d":"91.3443"},{"v":49.255238980903975,"d":"49.2552"},{"v":27.34429544170557,"d":"27.3443"},{"v":-14.744761019096025,"d":"-14.7448"},"Garcia"]
[null,null,"MPCA-Ph 4, 5, 9, 13, 19",20.8,1.1232,54,{"v":6.22656666666667,"d":"6.2266"},{"v":77.07174927893908,"d":"77.0717"},{"v":41.559107890137724,"d":"41.5591"},{"v":23.07174927893908,"d":"23.0717"},{"v":-12.440892109862276,"d":"-12.4409"}," & Zurriaguz 2016"]
[null,null,"Majungasaurus",{"$nulls":8},"D'Emic et al."]
[null,null,"FMNH PR 2100 Pmx dext 3",{"v":17.551,"d":"17.5510"},{"v":5.124891999999999,"d":"5.12489"},292,{"v":5.25396497916667,"d":"5.2540"},{"v":416.7583479527817,"d":"416.7583"},{"v":224.72702785037436,"d":"224.7270"},{"v":124.75834795278172,"d":"124.7583"},{"v":-67.27297214962564,"d":"-67.2730"},"2019b"]
[null,null,"UA 9944 Mx sin 1",{"v":17.551,"d":"17.5510"},{"v":4.633463999999999,"d":"4.63346"},264,{"v":5.25396497916667,"d":"5.2540"},{"v":376.7952186970355,"d":"376.7952"},{"v":203.17786079622888,"d":"203.1779"},{"v":112.79521869703552,"d":"112.7952"},{"v":-60.822139203771115,"d":"-60.8221"}]
[null,null,"FMNH PR 2100 Dent dext 2",{"v":17.551,"d":"17.5510"},4.38775,250,{"v":5.25396497916667,"d":"5.2540"},{"v":356.81365406916245,"d":"356.8137"},{"v":192.40327726915615,"d":"192.4033"},{"v":106.81365406916245,"d":"106.8137"},{"v":-57.59672273084385,"d":"-57.5967"}]
[null,null,"Ceratosaurus"]
[null,null,"BYU 12893 Mx dext 6",{"v":14.464506172839505,"d":"14.4645"},{"v":4.831145061728395,"d":"4.83115"},334,{"v":4.33001019161523,"d":"4.3300"},{"v":476.703041836401,"d":"476.7030"},{"v":257.0507784315926,"d":"257.0508"},{"v":142.70304183640098,"d":"142.7030"},{"v":-76.94922156840738,"d":"-76.9492"}]
[null,null,"Allosaurus"]
[null,null,"BYU 8901 Pmx dext 2",23,8.05,350,{"v":6.88514583333334,"d":"6.8851"},{"v":499.5391156968274,"d":"499.5391"},{"v":269.36458817681864,"d":"269.3646"},{"v":149.53911569682742,"d":"149.5391"},{"v":-80.63541182318136,"d":"-80.6354"}]
[null,null,"BYU 8901 Mx dext 6",23,7.359999999999999,320,{"v":6.88514583333334,"d":"6.8851"},{"v":456.72147720852786,"d":"456.7215"},{"v":246.27619490451985,"d":"246.2762"},{"v":136.72147720852786,"d":"136.7215"},{"v":-73.72380509548015,"d":"-73.7238"}]
[null,null,"BYU 2028 Dent sin 5",23,8.165,355,{"v":6.88514583333334,"d":"6.8851"},{"v":506.6753887782106,"d":"506.6754"},{"v":273.2126537222017,"d":"273.2127"},{"v":151.67538877821062,"d":"151.6754"},{"v":-81.78734627779829,"d":"-81.7873"}]

{"sheet":"TRR in Sauropods","index":11,"n_rows":581,"n_cols":69,"rows_kept":581}
[{"$nulls":33},"Alligator mean",{"$f":"'TFT +- SD'!$AE$26","v":0.016},null,"ratio SD/VEIW",{"$f":"AI2/AI1","v":0.29935416666666675}]
[{"$nulls":33},"SD",{"$f":"'TFT +- SD'!$E$26","v":0.004789666666666668}]
[]
[null,null,"Taxon","tooth position","Mean tooth formation time, days","TFT + SD","TFT - SD","TRR (count)","TRR max-max","TRR min-min","TRR min-max","TRR max-min","Source"]
[null,null,"Diplodocus YPM 4677","I","187 - 183",264.0421040111802,142.3784251791755,{"$nulls":5},"D'Emic et al. 2013"]
[null,null,"pmx","II","178 - 145",230.50162052867893,124.29251711587486,36,51.3811661859594,27.706071926758476,-67.32312586364517,146.41036397636304]
[null,null," Average for tooth postion","III","144 - 113",189.34911242603553,102.10200580416551,33,47.09940233712945,25.397232599528614,-47.9297954532742,120.42643038993226]
[{"$nulls":3},"IV",110,156.99800779043147,84.6574419984287]
[null,null,"Camarasaurus UMNH 5527","I","130 - 113",173.41143587761294,93.50799275280987]
[null,null,"pmx","II","315 - 208",373.22708215634395,201.25382802353732,62,88.48978620915227,47.716012762750694,-118.66728855885569,254.87308753075865]
[null,null," Average for tooth postion","III",253,361.0954179179924,194.712116596386,63,89.91704082542896,48.48562587182735,-76.46626049617743,214.86892719343373]
[{"$nulls":3},"IV",190,271.17837709256344,146.22649072455866,60,85.63527697659896,46.176786544597476,-39.31660939140582,171.12867291260227]
[null,null,"Tornieria aficana MB.R.2345","I",{"$nulls":8},"Sattler 2014"]
[null,null,"mx sin","II",135.23333333333332,193.01239927447895,104.07734611746218]
[null,null," Average for tooth postion","III",148.925,212.55389372900004,114.6146322692363]
[null,null,"MB.R.2346","I",156.325,223.11557788944725,120.30976927640332]
[null,null,"pmx sin","II",118.60000000000001,169.27239749041067,91.27611473648767,37.725,53.84318039903659,29.033654539915656,-48.96262821400734,131.83946315295958]
[{"$nulls":3},"III",102.66666666666667,146.53147393773602,79.01361253186678,17.949999999999996,25.619220362165876,13.81455530792541,-56.585968037837276,96.01974370792857]
[null,null,"MB.R.2343","II",125.775,179.51294936219563,96.79808879411245,36.875,52.63001397520145,28.379483397200524,-54.335377170882666,135.34487454328465]
[null,null,"pmx dext","III",96.4,137.58734500906903,74.1907037149866,{"$nulls":22},"Diplodocus (YPM 4677)","position","Mean crown volume, ml","tooth length (crown based on enamel?)","No VEIW directly reported, assume 0.015 mm as the text says)","tooth formation time","tooth length (alternative)",null,"Crown height (back calculated from mean VEIW and TFT)","SD based on Alligator","TFT + SD","TFT - SD","SD +","SD -","SD + [%]","SD - [%]","TRR (count)","TRR max-max","TRR min-min","TRRmin-max","TRRmax-min"," [%]+ TRR max-max","[%]- TRR min-min"]
[null,null,"Giraffatitan brancai","I",216.34185,308.7749041063305,166.49952380188873,{"$nulls":5},"Kosch 2014",{"$nulls":17},"1iii",0.78,32,15,141,32,null,{"$f":"AI21*(AH21/1000)","v":2.1149999999999998},{"$f":"(AH21/1000)/($AI$1/$AI$2)","v":0.004490312500000001},{"$f":"AL21/((AH21/1000)-AM21)","v":201.2429008950076},{"$f":"AL21/((AH21/1000)+AM21)","v":108.51544837980404},{"$f":"AN21-AI21","v":60.24290089500761},{"$f":"AO21-AI21","v":-32.48455162019596},{"$f":"((AN21/AI21)*100)-100","v":42.72546162766497},{"$f":"((AO21/AI21)*100)-100","v":-23.038689092337563}]
[null,null,"MB.R.2180.1","II",229.58587500000002,327.6774999256638,176.69229905882727,73.45515,104.83920192679378,56.53204636918983,-47.640045357137524,209.01129365312113,{"$nulls":18},"2i",null,56.6,15,187,59,null,{"$f":"AI22*(AH22/1000)","v":2.8049999999999997},{"$f":"(AH22/1000)/($AI$1/$AI$2)","v":0.004490312500000001},{"$f":"AL22/((AH22/1000)-AM22)","v":266.8966132437335},{"$f":"AL22/((AH22/1000)+AM22)","v":143.91765139732877},{"$f":"AN22-AI22","v":79.8966132437335},{"$f":"AO22-AI22","v":-43.08234860267123},{"$f":"((AN22/AI22)*100)-100","v":42.72546162766497},{"$f":"((AO22/AI22)*100)-100","v":-23.038689092337563}]
[null,null,"pmx sin","III",158.40255000000002,226.0807707174928,121.90867899116546,{"$nulls":23},"2ii",1.2,38.5]
[null,null,"MB.R.2181.1","I",286.5196573027876,408.93650353940734,220.50928426836737,91.4299438827876,130.4938094726237,70.36568337433349,-57.93340979841628,258.7929026453735,{"$nulls":18},"2iii",null,30]
[null,null,"pmx sin","II",202.47359203000002,288.98136889893254,155.82633066812036,64.14131282,91.54598481638965,49.363995179656555,-41.60905341442257,182.51903341046875,{"$nulls":18},"3i",null,45]
[{"$nulls":3},"III",138.33227921000002,197.4353840825429,106.46233548846381,{"$nulls":23},"3ii",1.5,46,15,178,50,null,{"$f":"AI26*(AH26/1000)","v":2.67},{"$f":"(AH26/1000)/($AI$1/$AI$2)","v":0.004490312500000001},{"$f":"AL26/((AH26/1000)-AM26)","v":254.05132169724365},{"$f":"AL26/((AH26/1000)+AM26)","v":136.99113341563915},{"$f":"AN26-AI26","v":76.05132169724365},{"$f":"AO26-AI26","v":-41.008866584360845},{"$f":"((AN26/AI26)*100)-100","v":42.72546162766497},{"$f":"((AO26/AI26)*100)-100","v":-23.03868909233755},{"$f":"AI26-AI27","v":34},{"$f":"AN26-AN27","v":48.526656953406075},{"$f":"AO26-AO27","v":26.166845708605223},{"$f":"AO26-AN27","v":-68.53353132819842},{"$f":"AN26-AO27","v":143.22703399020972},{"$f":"((AU26/$AT26)*100)-100","v":42.72546162766494},{"$f":"((AV26/$AT26)*100)-100","v":-23.038689092337577}]
[null,null,"MB.R.2181.2","I",279.6774320649919,399.1709059831587,215.24341803010483,58.54676638999187,83.56114259818655,45.05835890778449,-100.36634535486738,228.98584686083842,{"$nulls":18},"3iii",0.734,30.8,15,144,33,null,2.16,0.004490312500000001,205.52466474383758,110.82428770703393,61.524664743837576,-33.17571229296607,42.72546162766497,-23.03868909233755,{"$f":"AI27-AI28","v":34},{"$f":"AN27-AN28","v":48.5266569534061},{"$f":"AO27-AO28","v":26.166845708605237},{"$f":"AO27-AN28","v":-46.17372008339754},{"$f":"AN27-AO28","v":120.86722274540888},{"$f":"((AU27/$AT27)*100)-100","v":42.72546162766503},{"$f":"((AV27/$AT27)*100)-100","v":-23.038689092337535}]
[null,null,"pmx dext","II",221.13066567500002,315.6097633849722,170.18505912232035,89.17264196477966,127.27206488981665,68.62843422709075,-27.342550611203148,223.24304972811055,{"$nulls":18},"3iv",null,24.5,15,110,25,null,1.65,0.004490312500000001,156.99800779043147,84.6574419984287,46.99800779043147,-25.342558001571305,42.72546162766497,-23.03868909233755]
[{"$nulls":3},"III",145.93206752855366,208.282217042924,112.31123220463009,{"$nulls":23},"4i",1.52,51.9,15,183,54,null,2.745,0.004490312500000001,261.18759477862693,140.83919896102228,78.18759477862693,-42.16080103897772,42.725461627665,-23.03868909233755,{"$f":"AI29-AI30","v":38},{"$f":"AN29-AN30","v":54.23567541851273},{"$f":"AO29-AO30","v":29.24529814491173},{"$f":"AO29-AN30","v":-66.11272039909193},{"$f":"AN29-AO30","v":149.5936939625164},{"$f":"((AU29/$AT29)*100)-100","v":42.725461627665055},{"$f":"((AV29/$AT29)*100)-100","v":-23.038689092337563}]
[null,null,"MB.R.2180.2","I",{"$nulls":26},"4ii",0.91,33.5,15,145,36,null,2.175,0.004490312500000001,206.9519193601142,111.59390081611055,61.9519193601142,-33.40609918388945,42.72546162766497,-23.03868909233755,{"$f":"AI30-AI31","v":32},{"$f":"AN30-AN31","v":45.67214772085279},{"$f":"AO30-AO31","v":24.62761949045199},{"$f":"AO30-AN31","v":-49.685870823150864},{"$f":"AN30-AO31","v":119.98563803445565},42.72546162766497,-23.038689092337535]
[null,null,"mx sin","II",205.04286000000002,292.6483684695668,157.80367297856304,92.53020000000001,132.0641550950017,71.21245490548189,-16.153969807177788,219.4305798076614,{"$nulls":18},"4iii",0.815,20.6,15,113,23,null,1.6949999999999998,0.004490312500000001,161.2797716392614,86.96628132565856,48.27977163926141,-26.033718674341443,42.72546162766497,-23.038689092337563]
[null,null,"first 5 alveoli","III",132.8481,189.608063988582,102.24163927592231]
[null,null,"MB.R.2180.3","I",132.8481,189.608063988582,102.24163927592231,{"$nulls":22},"Camarasaurus (UMNH 5527)"]
[null,null,"mx dext","II",178.00814999999997,254.06295382236627,136.99740576247814,80.68089999999998,115.15218697035472,62.09307829210022,-20.213781484916055,197.45904674737102,{"$nulls":18},"4i",{"v":13.3,"d":"13"},53,15,315,117,null,{"$f":"AI34*(AH34/1000)","v":4.725},{"$f":"(AH34/1000)/($AI$1/$AI$2)","v":0.004490312500000001},{"$f":"AL34/((AH34/1000)-AM34)","v":449.58520412714466},{"$f":"AL34/((AH34/1000)+AM34)","v":242.4281293591367},{"$f":"AN34-AI34","v":{"v":134.58520412714466,"d":"135"}},{"$f":"AO34-AI34","v":{"v":-72.5718706408633,"d":"-73"}},{"$f":"((AN34/AI34)*100)-100","v":42.72546162766497},{"$f":"((AO34/AI34)*100)-100","v":-23.03868909233755},{"$f":"AI34-AI35","v":62},{"$f":"AN34-AN35","v":88.48978620915227},47.716012762750694,{"$f":"AO34-AN35","v":-118.66728855885569},{"$f":"AN34-AO35","v":254.87308753075865},{"$f":"((AU34/$AT34)*100)-100","v":42.72546162766494},{"$f":"((AV34/$AT34)*100)-100","v":-23.03868909233759}]
[null,null,"first 5 alveoli","III",139.7876,199.5124973982338,107.58236944635955,{"$nulls":23},"4ii",15,53,15,253,62,null,{"$f":"AI35*(AH35/1000)","v":3.795},{"$f":"(AH35/1000)/($AI$1/$AI$2)","v":0.004490312500000001},{"$f":"AL35/((AH35/1000)-AM35)","v":361.0954179179924},{"$f":"AL35/((AH35/1000)+AM35)","v":194.712116596386},{"$f":"AN35-AI35","v":108.09541791799239},{"$f":"AO35-AI35","v":-58.28788340361399},{"$f":"((AN35/AI35)*100)-100","v":42.72546162766497},{"$f":"((AO35/AI35)*100)-100","v":-23.03868909233755},{"$f":"AI35-AI36","v":63},89.91704082542896,48.48562587182735,{"$f":"AO35-AN36","v":-76.46626049617743},{"$f":"AN35-AO36","v":214.86892719343373},42.72546162766503,-23.038689092337535]
[null,null,"MB.R.2181.4","I",132.8481,189.608063988582,102.24163927592231,{"$nulls":23},"4iii",3.8,31,15,190,31,null,{"$f":"AI36*(AH36/1000)","v":2.85},{"$f":"(AH36/1000)/($AI$1/$AI$2)","v":0.004490312500000001},{"$f":"AL36/((AH36/1000)-AM36)","v":271.17837709256344},{"$f":"AL36/((AH36/1000)+AM36)","v":146.22649072455866},{"$f":"AN36-AI36","v":81.17837709256344},{"$f":"AO36-AI36","v":-43.77350927544134},{"$f":"((AN36/AI36)*100)-100","v":42.72546162766497},{"$f":"((AO36/AI36)*100)-100","v":-23.03868909233755},{"$f":"AI36-AI37","v":60},85.63527697659896,46.176786544597476,{"$f":"AO36-AN37","v":-39.31660939140582},{"$f":"AN36-AO37","v":171.12867291260227},42.72546162766494,-23.038689092337535]
[null,null," mx sin","II",178.00814999999997,254.06295382236627,136.99740576247814,80.68089999999998,115.15218697035472,62.09307829210022,-20.213781484916055,197.45904674737102,{"$nulls":18},"4iv",0.79,7.6,15,130,8,null,{"$f":"AI37*(AH37/1000)","v":1.95},{"$f":"(AH37/1000)/($AI$1/$AI$2)","v":0.004490312500000001},{"$f":"AL37/((AH37/1000)-AM37)","v":185.54310011596448},{"$f":"AL37/((AH37/1000)+AM37)","v":100.04970417996118},{"$f":"AN37-AI37","v":55.54310011596448},{"$f":"AO37-AI37","v":-29.950295820038818},{"$f":"((AN37/AI37)*100)-100","v":42.72546162766497},{"$f":"((AO37/AI37)*100)-100","v":-23.03868909233755}]
[null,null,"first 5 alveoli","III",139.7876,199.5124973982338,107.58236944635955,{"$nulls":23},"3i",16.4,57,15]
[null,null,"MB.R.2181.3","I",211.3709375,{"$nulls":25},"3ii",null,null,15,208,48,null,{"$f":"AI39*(AH39/1000)","v":3.12},{"$f":"(AH39/1000)/($AI$1/$AI$2)","v":0.004490312500000001},{"$f":"AL39/((AH39/1000)-AM39)","v":296.8689601855432},{"$f":"AL39/((AH39/1000)+AM39)","v":160.0795266879379},{"$f":"AN39-AI39","v":88.86896018554319},{"$f":"AO39-AI39","v":-47.920473312062086},{"$f":"((AN39/AI39)*100)-100","v":42.725461627665},{"$f":"((AO39/AI39)*100)-100","v":-23.038689092337535},{"$nulls":13},"1III",15,2.1149999999999998,141,0.004490312500000001,201.2429008950076,108.51544837980404,60.24290089500761,-32.48455162019596]
[null,null," mx dext","II",224.10303090800002,319.8520853850317,172.47263037060077,74.06757059,105.71328204097414,57.003373283522265,-40.61823658897806,203.33489191347445,{"$nulls":46},"2I",15,2.8049999999999997,187,0.004490312500000001,266.8966132437335,143.91765139732877,79.8966132437335,-43.08234860267123]
[null,null,"first 5 alveoli","III",146.13905967199997,208.57764753519078,112.47053607170226,{"$nulls":22},"Garcia & Zurriaguz 2016",null,null,"Increment size range, mm","Mean increment width, micro m","Mean tooth formation rate, days","Tooth replacement rate, days",null,"Crown height (back calculated from mean VEIW and TFT)","SD based on Alligator","TFT + SD","TFT - SD","SD +","SD -","SD + [%]","SD - [%]",{"$nulls":13},"3II",15,2.67,178,0.004490312500000001,254.05132169724365,136.99113341563915,76.05132169724365,-41.008866584360845]
[null,null,"MB.R.2180.14","I",{"$nulls":25},"MPCA-Ph 4, 5, 9, 13, 19",null,null,"13-30",18.2,64,null,null,{"$f":"AI42*(AH42/1000)","v":1.1648},{"$f":"(AH42/1000)/($AI$1/$AI$2)","v":0.005448245833333335},{"$f":"AL42/((AH42/1000)-AM42)","v":91.34429544170557},{"$f":"AL42/((AH42/1000)+AM42)","v":49.255238980903975},{"$f":"AN42-AI42","v":27.34429544170557},{"$f":"AO42-AI42","v":-14.744761019096025},{"$f":"((AN42/AI42)*100)-100","v":42.72546162766494},{"$f":"((AO42/AI42)*100)-100","v":-23.038689092337535},{"$nulls":13},"3III",15,2.16,144,0.004490312500000001,205.52466474383758,110.82428770703393,61.524664743837576,-33.17571229296607]
[null,null,"dent sin","II",227.88581999999997,325.25108857898965,175.383914444676,114.20430000000002,162.99861437364336,87.89312639291956,-6.7548694978356,257.64661026439853,{"$nulls":17},"no crown heights and nosspecific association of VEIW and TFT given",{"$nulls":3},20.8,54,null,null,{"$f":"AI43*(AH43/1000)","v":1.1232},{"$f":"(AH43/1000)/($AI$1/$AI$2)","v":0.006226566666666667},{"$f":"AL43/((AH43/1000)-AM43)","v":77.07174927893908},{"$f":"AL43/((AH43/1000)+AM43)","v":41.559107890137724},{"$f":"AN43-AI43","v":23.07174927893908},{"$f":"AO43-AI43","v":-12.440892109862276},{"$f":"((AN43/AI43)*100)-100","v":42.72546162766497},{"$f":"((AO43/AI43)*100)-100","v":-23.03868909233755},{"$nulls":13},"3iv",15,1.65,110,0.004490312500000001,156.99800779043147,84.6574419984287,46.99800779043147,-25.342558001571305]
[null,null,"first 5 alveoli","III",143.92034999999998,205.41098391365114,110.76298802289597,{"$nulls":51},"4i",15,2.745,183,0.004490312500000001,261.18759477862693,140.83919896102228,78.18759477862693,-42.16080103897772]
["3II",null,"MB.R.2180.13","I",{"$nulls":54},"4ii",15,2.175,145,0.004490312500000001,206.9519193601142,111.59390081611055,61.9519193601142,-33.40609918388945]
["3III",null,"dent dext","II",236.83206,338.01965091730847,182.2690580256217,104.13811400000002,148.631603936844,80.14605768891596,-19.387186049018126,248.16484767477812,{"$nulls":17},"Specimen",null,null,"teeth Length","No VEIW directly reported, assume 0.015 mm as the text says)","TFT","VEIW from tooth age",null,"Crown height (back calculated from mean VEIW and TFT)","SD based on Alligator","TFT + SD","TFT - SD","SD +","SD -","SD + [%]","SD - [%]","TRR (count)","TRR max-max","TRR min-min","TRRmin-max","TRRmax-min"," [%]+ TRR max-max","[%]- TRR min-min",{"$nulls":6},"4iii",15,1.6949999999999998,113,0.004490312500000001,161.2797716392614,86.96628132565856,48.27977163926141,-26.033718674341443]
["3iv",null,"first 5 alveoli","III",154.93029066666668,221.12497255508313,119.23638269011848,{"$nulls":22},"MB.R.2345 - Left Maxilla",{"$nulls":28},"4i",15,1.6949999999999998,113,0.004490312500000001,161.2797716392614,86.96628132565856,48.27977163926141,-26.033718674341443]
["4i",null,"Brachiosaurus sp. USNM 5730","I",280,399.8146947756535,215.5905658259712,52.88250000000005,75.47679224525001,40.6990652407446,-108.74733670443229,224.9231941904269,"D'Emic et al. 2019a",{"$nulls":16},"1",{"$nulls":28},"4ii",15,4.725,315,0.004490312500000001,449.58520412714466,242.4281293591367,134.58520412714466,-72.5718706408633]
["4ii",null,"mx","II","260-227",350.686354851179,189.09927688434956,97.59349999999999,139.2907733935952,75.10923696066953,-28.36664258406053,242.76665293832525,{"$nulls":17},"1I",null,null,"-",{"$nulls":25},"4iii",15,3.795,253,0.004490312500000001,361.0954179179924,194.712116596386,108.09541791799239,-58.28788340361399]
["4iii",null," Average for tooth postion","III","162-153",224.56980761797155,121.0939280732415,{"$nulls":22},"1II",null,null,33.04,15,141.2,null,null,{"$f":"AI50*(AH50/1000)","v":2.118},{"$f":"(AH50/1000)/($AI$1/$AI$2)","v":0.004490312500000001},{"$f":"AL50/((AH50/1000)-AM50)","v":201.52835181826293},{"$f":"AL50/((AH50/1000)+AM50)","v":108.66937100161937},{"$f":"AN50-$AI50","v":60.328351818262945},{"$f":"AO50-$AI50","v":-32.53062899838062},{"$f":"((AN50/$AI50)*100)-100","v":42.72546162766497},{"$f":"((AO50/$AI50)*100)-100","v":-23.03868909233755},{"$f":"AI50-AI51","v":-36.20000000000002},{"$f":"AN50-AN51","v":-51.66661710921474},{"$f":"AO50-AO51","v":-27.85999454857381},{"$f":"AO50-AN51","v":-144.5255979258583},{"$f":"AN50-AO51","v":64.99898626806976},{"$f":"((AU50/$AT50)*100)-100","v":42.72546162766497},{"$f":"((AV50/$AT50)*100)-100","v":-23.038689092337577},{"$nulls":6},"4iv",15,2.85,190,0.004490312500000001,271.17837709256344,146.22649072455866,81.17837709256344,-43.77350927544134]
["4i",null,"dent","I","258-242",358.5752787606673,193.35319148936168,83.715125,119.48279860842675,64.42825762798824,-45.73928866287886,229.65034489929383,{"$nulls":17},"1III",null,null,49.96,15,177.4,null,null,{"$f":"AI51*(AH51/1000)","v":2.661},{"$f":"(AH51/1000)/($AI$1/$AI$2)","v":0.004490312500000001},{"$f":"AL51/((AH51/1000)-AM51)","v":253.19496892747767},{"$f":"AL51/((AH51/1000)+AM51)","v":136.52936555019318},{"$f":"AN51-$AI51","v":75.79496892747767},{"$f":"AO51-$AI51","v":-40.87063444980683},{"$f":"((AN51/$AI51)*100)-100","v":42.72546162766497},{"$f":"((AO51/$AI51)*100)-100","v":-23.038689092337563},{"$nulls":13},"3i",15,1.95,130,0.004490312500000001,185.54310011596448,100.04970417996118,55.54310011596448,-29.950295820038818]
["4ii",null," Average for tooth postion","II","185-150",239.09248015224054,128.92493386137343,{"$nulls":22},"2",{"$nulls":28},"3ii",15,3.12,208,0.004490312500000001,296.8689601855432,160.0795266879379,88.86896018554319,-47.920473312062086]
["4iii",null,"Dicraeosaurus hansemanni","I",{"$nulls":8},"Kosch 2010,",{"$nulls":16},"2I",null,null,"-"]
["4iv",null,"MB.R.2337","II",188.5,269.03749516814844,145.0720710609437,20.333333333333332,29.020843864291844,15.648799884558022,-95.93104250371293,140.6006862525628,"Schwarz et al. 2015",{"$nulls":16},"2II",null,null,"-",{"$nulls":25},"Taxo+NU650:OF711n","tooth position","Mean tooth formation rate, days","TFT + SD","TFT - SD","TRR (count)","TRR max-max","TRR min-min","TRRmin-max","TRRmax-min"]
["3i",null,"pmx dext","III",174,248.34230323213708,133.91268097933266,34.666666666666664,49.47816003092387,26.679921114656313,-62.101682357347094,138.25976350292726,{"$nulls":17},"2III",null,null,34.64,15,145.6,null,null,{"$f":"AI55*(AH55/1000)","v":2.1839999999999997},{"$f":"(AH55/1000)/($AI$1/$AI$2)","v":0.004490312500000001},{"$f":"AL55/((AH55/1000)-AM55)","v":207.80827212988018},{"$f":"AL55/((AH55/1000)+AM55)","v":112.05566868155651},{"$f":"AN55-$AI55","v":62.208272129880186},{"$f":"AO55-$AI55","v":-33.54433131844348},{"$f":"((AN55/$AI55)*100)-100","v":42.72546162766497},{"$f":"((AO55/$AI55)*100)-100","v":-23.038689092337563},{"$nulls":13},"Diplodocus (YPM 4677)","I","187 - 183",{"$f":"AVERAGE(BL39,BL43)","v":179.12045434271954},{"$f":"AVERAGE(BM39,BM43)","v":96.58644518911638},{"$nulls":5},"D-Emic et al. 2013"]
["3ii",null,null,"IV",141,201.2429008950076,108.51544837980404,60.333333333333336,86.11102851535786,46.433324247623005,-2.670574956645543,135.21492771962642,{"$nulls":17},"3",{"$nulls":28},"pmx","II","178 - 145",{"$f":"AVERAGE(BL40,BL44)","v":264.0421040111802},{"$f":"AVERAGE(BM40,BM44)","v":142.3784251791755},{"$f":"AVERAGE(AT29,AT26)","v":36},{"$f":"AVERAGE(AL29,AL26)","v":2.7075},0.004490312500000001,257.6194582379353,138.91516618833072]
[{"$nulls":3},"V",74.75,106.68728256667957,57.52857990347768,76,108.47135083702537,58.49059628982346,39.41899258102273,127.5429545458261,{"$nulls":8},"3I",null,null,"-",{"$nulls":34}," Average for tooth postion","III","144 - 113",{"$f":"AVERAGE(BL38,BL41,BL45)","v":230.50162052867893},{"$f":"AVERAGE(BM38,BM41,BM45)","v":124.29251711587486},{"$f":"AVERAGE(AT30,AT27)","v":33},2.1675,0.004490312500000001,206.2382920519759,111.20909426157223]
[{"$nulls":3},"VI",28.5,40.67675656388452,21.9339736086838,{"$nulls":13},"3II",null,null,27.72,15,125.2,null,null,{"$f":"Z58*(Y58/1000)","v":1.878},{"$f":"(Y58/1000)/($AI$1/$AI$2)","v":0.004490312500000001},{"$f":"AC58/((Y58/1000)-AD58)","v":178.69227795783655},{"$f":"AC58/((Y58/1000)+AD58)","v":96.35556125639339},{"$f":"AE58-$Z58","v":53.49227795783655},{"$f":"AF58-$Z58","v":-28.844438743606617},{"$f":"((AE58/$Z58)*100)-100","v":42.72546162766497},{"$f":"((AF58/$Z58)*100)-100","v":-23.03868909233755},{"$nulls":23},"IV",{"$f":"BJ42","v":144},{"$f":"BL42","v":205.52466474383758},{"$f":"BM42","v":110.82428770703393}]
[null,null,"MB.R.2338","I",{"$nulls":16},4,{"$nulls":37},"Camarasaurus (UMNH 5527)","I","130 - 113",{"$f":"AVERAGE(BL46,BL50)","v":216.22907436591242},{"$f":"AVERAGE(BM46,BM50)","v":116.59638602510861}]
[null,null,"pmx sin","II",185.25,264.39891766524937,142.57082845644467,19,27.117837709256335,14.622649072455857,-96.84758639794842,138.58807317966063,{"$nulls":8},"4I",null,null,"-",{"$nulls":34},"pmx","II","315 - 208",{"$f":"AVERAGE(BL47,BL51)","v":173.41143587761294},{"$f":"AVERAGE(BM47,BM51)","v":93.50799275280987},{"$f":"AT34","v":62},{"$f":"AL34","v":4.725},0.004490312500000001,449.58520412714466,242.4281293591367]
[{"$nulls":3},"III",175.25,250.12637150248284,134.87469736567846,54,77.07174927893908,41.55910789013772,-38.23472831679867,156.86558548587547,{"$nulls":8},"4II",null,null,32.36,15,139.3,null,null,{"$f":"Z61*(Y61/1000)","v":2.0895},{"$f":"(Y61/1000)/($AI$1/$AI$2)","v":0.004490312500000001},{"$f":"AC61/((Y61/1000)-AD61)","v":198.8165680473373},{"$f":"AC61/((Y61/1000)+AD61)","v":107.2071060943738},{"$f":"AE61-$Z61","v":59.5165680473373},{"$f":"AF61-$Z61","v":-32.09289390562621},{"$f":"((AE61/$Z61)*100)-100","v":42.72546162766497},{"$f":"((AF61/$Z61)*100)-100","v":-23.03868909233755},{"$f":"Z61-Z62","v":-6.799999999999983},{"$f":"AE61-AE62","v":-9.70533139068121},{"$f":"AF61-AF62","v":-5.233369141721042},{"$f":"AF61-AE62","v":-101.31479334364472},{"$f":"AE61-AF62","v":86.37609281124247},{"$f":"((AL61/$AK61)*100)-100","v":42.7254616276652},{"$f":"((AM61/$AK61)*100)-100","v":-23.03868909233742},{"$nulls":15}," Average for tooth postion","III",{"$f":"BJ48","v":315},{"$f":"BL48","v":449.58520412714466},{"$f":"BM48","v":242.4281293591367},{"$f":"AT35","v":63},3.795,0.004490312500000001,361.0954179179924,194.712116596386]
[{"$nulls":3},"IV",123.25,175.90913145609707,94.85481569369398,50.666666666666664,72.31423389135026,38.993730859882305,-7.479602315586139,118.78756706681871,{"$nulls":8},"4III",null,null,34.84,15,146.1,null,null,{"$f":"Z62*(Y62/1000)","v":2.1915},{"$f":"(Y62/1000)/($AI$1/$AI$2)","v":0.004490312500000001},{"$f":"AC62/((Y62/1000)-AD62)","v":208.52189943801852},{"$f":"AC62/((Y62/1000)+AD62)","v":112.44047523609484},{"$f":"AE62-$Z62","v":62.42189943801853},{"$f":"AF62-$Z62","v":-33.659524763905154},{"$f":"((AE62/$Z62)*100)-100","v":42.72546162766497},{"$f":"((AF62/$Z62)*100)-100","v":-23.03868909233755},{"$nulls":23},"IV",{"$f":"BJ49","v":253},{"$f":"BL49","v":361.0954179179924},{"$f":"BM49","v":194.712116596386},{"$f":"AT36","v":60},2.85,0.004490312500000001,271.17837709256344,146.22649072455866]
[{"$nulls":3},"V",65.25,93.12836371205138,50.21725536724974,77,109.89860545330203,59.260209398900095,38.21568116849929,130.94313368370283,{"$nulls":8},"5",{"$nulls":20},"Average for tooth mesial teeth",{"$nulls":16},"Tornieria aficana MB.R.2345","I",{"$nulls":8},"Sattler 2014"]
[{"$nulls":3},"VI",32,45.67214772085279,24.627619490451984,{"$nulls":13},"5I",null,null,"-",{"$nulls":17},{"$f":"AVERAGE(Z48:Z66)","v":134.3},{"$f":"AVERAGE(AE50:AE66)","v":191.68029496595403},{"$f":"AVERAGE(AF50:AF66)","v":103.35904054899068},{"$nulls":14},"mx sin","II",{"$f":"AP66","v":135.23333333333332},193.01239927447895,104.07734611746218]
[null,null,"MB.R.2339","I",{"$nulls":16},"5II",null,null,"-",{"$nulls":16},"I",{"$nulls":17}," Average for tooth postion","III",148.925,212.55389372900004,114.6146322692363]
[null,null,"pmx sin","II",189,269.7511224762868,145.45687761548203,10,12.845291546489833,6.926517981689614,-111.77777406791495,131.5495835960944,{"$nulls":8},"5III",null,null,28.17,15,126.6,null,null,{"$f":"Z66*(Y66/1000)","v":1.8989999999999998},{"$f":"(Y66/1000)/($AI$1/$AI$2)","v":0.004490312500000001},{"$f":"AC66/((Y66/1000)-AD66)","v":180.69043442062383},{"$f":"AC66/((Y66/1000)+AD66)","v":97.43301960910065},{"$f":"AE66-$Z66","v":54.090434420623836},{"$f":"AF66-$Z66","v":-29.16698039089934},{"$f":"((AE66/$Z66)*100)-100","v":42.72546162766494},{"$f":"((AF66/$Z66)*100)-100","v":-23.03868909233755},{"$nulls":4},"II",{"$f":"AVERAGE(AI50,Z58,Z61)","v":135.23333333333332},{"$f":"AVERAGE(AN50,AE58,AE61)","v":193.01239927447895},{"$f":"AVERAGE(AO50,AF58,AF61)","v":104.07734611746218},{"$f":"AVERAGE(AP50,AG58,AG61)","v":57.779065941145596},{"$nulls":13},"MB.R.2346","I",156.325,223.11557788944725,120.30976927640332]
[{"$nulls":3},"III",181.75,259.4035265082811,139.8771825746765,43.25,61.72876215396511,33.28576696756401,-57.797581779639486,152.8121109011686,{"$nulls":8},6,{"$nulls":19},"III",{"$f":"AVERAGE(AI51,AI55,Z62,Z66)","v":148.925},{"$f":"AVERAGE(AN51,AN55,AE62,AE66)","v":212.55389372900004},{"$f":"AVERAGE(AO51,AO55,AF62,AF66)","v":114.6146322692363},{"$f":"AVERAGE(AP51,AP55,AG62,AG66)","v":63.628893729000055},{"$nulls":13},"pmx sin","II",118.60000000000001,169.27239749041067,91.27611473648767,37.725,53.8431803990366,29.033654539915656,-48.96262821400734,131.83946315295958]
[{"$nulls":3},"IV",138.5,197.674764354316,106.5914156071125,58.25,83.13758139811485,44.82996360371338,-7.945767349088648,135.91331235091687,{"$nulls":8},"6I",null,null,"-",{"$nulls":35},"III",102.66666666666667,146.53147393773602,79.01361253186678,17.949999999999996,25.619220362165876,13.81455530792541,-56.585968037837276,96.01974370792857]
[{"$nulls":3},"V",80.25,114.53718295620115,61.761452003399114,56.5,80.6398858196307,43.48314066282928,28.3573859972287,95.76564048523129,{"$nulls":8},"6II",null,null,27.31,15,123.8,null,null,{"$f":"Z69*(Y69/1000)","v":1.857},{"$f":"(Y69/1000)/($AI$1/$AI$2)","v":0.004490312500000001},{"$f":"AC69/((Y69/1000)-AD69)","v":176.69412149504925},{"$f":"AC69/((Y69/1000)+AD69)","v":95.27810290368612},{"$f":"AE69-$Z69","v":52.89412149504925},{"$f":"AF69-$Z69","v":-28.52189709631388},{"$f":"((AE69/$Z69)*100)-100","v":42.72546162766497},{"$f":"((AF69/$Z69)*100)-100","v":-23.038689092337535},{"$f":"Z69-Z70","v":-16.799999999999997},{"$f":"AE69-AE70","v":-23.977877553447712},{"$f":"AF69-AF70","v":-12.929500232487285},{"$f":"AF69-AE70","v":-105.39389614481084},{"$f":"AE69-AF70","v":68.48651835887584},{"$f":"((AL69/$AK69)*100)-100","v":42.72546162766497},{"$f":"((AM69/$AK69)*100)-100","v":-23.038689092337577},{"$nulls":15},"MB.R.2343","II",125.775,179.51294936219563,96.79808879411245,36.875,52.63001397520145,28.379483397200524,-54.335377170882666,135.34487454328465]
[{"$nulls":3},"VI",23,32.826856174362945,17.701101508762363,{"$nulls":13},"6III",null,null,32.82,15,140.6,null,null,{"$f":"Z70*(Y70/1000)","v":2.109},{"$f":"(Y70/1000)/($AI$1/$AI$2)","v":0.004490312500000001},{"$f":"AC70/((Y70/1000)-AD70)","v":200.67199904849696},{"$f":"AC70/((Y70/1000)+AD70)","v":108.2076031361734},{"$f":"AE70-$Z70","v":60.07199904849696},{"$f":"AF70-$Z70","v":-32.39239686382659},{"$f":"((AE70/$Z70)*100)-100","v":42.72546162766497},{"$f":"((AF70/$Z70)*100)-100","v":-23.03868909233755},{"$nulls":22},"pmx dext","III",96.4,137.58734500906903,74.1907037149866]
[null,null,"MB.R.2336","I",{"$nulls":16},7,{"$nulls":37},"Giraffatitan brancai MB.R.2180.1","I",216.34185,308.7749041063305,166.49952380188873,{"$nulls":5},"Kosch 2014"]
[null,null,"max dext","II",176,251.19681246469034,135.45190719748592,35.25,50.3107252237519,27.12886209495101,-65.43418004345254,142.87376736215546,{"$nulls":8},"7I",null,null,16.15,15,82.6,null,null,{"$f":"Z72*(Y72/1000)","v":1.2389999999999999},{"$f":"(Y72/1000)/($AI$1/$AI$2)","v":0.004490312500000001},{"$f":"AC72/((Y72/1000)-AD72)","v":117.89123130445125},{"$f":"AC72/((Y72/1000)+AD72)","v":63.57004280972918},{"$f":"AE72-$Z72","v":35.29123130445126},{"$f":"AF72-$Z72","v":-19.029957190270814},{"$f":"((AE72/$Z72)*100)-100","v":42.72546162766497},{"$f":"((AF72/$Z72)*100)-100","v":-23.03868909233755},{"$f":"Z72-Z73","v":-33.7},{"$f":"AE72-AE73","v":-48.098480568523115},{"$f":"AF72-AF73","v":-25.93596177588224},{"$f":"AF72-AE73","v":-102.41966906324518},{"$f":"AE72-AF73","v":28.38522671883983},{"$f":"((AL72/$AK72)*100)-100","v":42.72546162766503},{"$f":"((AM72/$AK72)*100)-100","v":-23.038689092337577},{"$nulls":15},"pmx sin","II",229.58587500000002,327.6774999256638,176.69229905882727,73.45515,104.83920192679378,56.53204636918983,-47.640045357137524,209.01129365312113]
[null,null,"first 5 alveoli","III",149,212.6609378252208,114.67235325241704,62.75,89.56022717135976,48.29322259455818,-14.182720589444216,152.03617035536217,{"$nulls":8},"7II",null,null,25.05,15,116.3,null,null,{"$f":"Z73*(Y73/1000)","v":1.7445},{"$f":"(Y73/1000)/($AI$1/$AI$2)","v":0.004490312500000001},{"$f":"AC73/((Y73/1000)-AD73)","v":165.98971187297437},{"$f":"AC73/((Y73/1000)+AD73)","v":89.50600458561142},{"$f":"AE73-$Z73","v":49.68971187297437},{"$f":"AF73-$Z73","v":-26.793995414388576},{"$f":"((AE73/$Z73)*100)-100","v":42.72546162766497},{"$f":"((AF73/$Z73)*100)-100","v":-23.03868909233755},{"$nulls":23},"III",158.40255000000002,226.0807707174928,121.90867899116546]
[{"$nulls":3},"IV",95,135.58918854628172,73.11324536227933,55.25,78.8558175492849,42.52112427648351,16.3798743652825,104.99706746048591,{"$nulls":8},8,{"$nulls":37},"MB.R.2181.1","I",286.5196573027876,408.93650353940734,220.50928426836737,91.4299438827876,130.4938094726237,70.36568337433349,-57.93340979841628,258.7929026453735]
[{"$nulls":3},"V",38.6,55.092028188278675,29.707066010357703,{"$nulls":13},"8I",null,null,"-",{"$nulls":34},"pmx sin","II",202.47359203000002,288.98136889893254,155.82633066812036,64.14131282,91.54598481638965,49.363995179656555,-41.60905341442257,182.51903341046875]
[null,null,"MB.R.2371","I",{"$nulls":16},"8II",null,null,24.76,15,115.3,null,null,{"$f":"Z76*(Y76/1000)","v":1.7294999999999998},{"$f":"(Y76/1000)/($AI$1/$AI$2)","v":0.004490312500000001},{"$f":"AC76/((Y76/1000)-AD76)","v":164.5624572566977},{"$f":"AC76/((Y76/1000)+AD76)","v":88.73639147653479},{"$f":"AE76-$Z76","v":49.262457256697715},{"$f":"AF76-$Z76","v":-26.563608523465206},{"$f":"((AE76/$Z76)*100)-100","v":42.72546162766497},{"$f":"((AF76/$Z76)*100)-100","v":-23.038689092337563},{"$f":"Z76-Z77","v":115.3},{"$f":"AE76-AE77","v":164.5624572566977},{"$f":"AF76-AF77","v":88.73639147653479},{"$f":"AF76-AE77","v":88.73639147653479},{"$f":"AE76-AF77","v":164.5624572566977},{"$f":"((AL76/$AK76)*100)-100","v":42.72546162766497},{"$f":"((AM76/$AK76)*100)-100","v":-23.038689092337563},{"$nulls":16},"III",138.33227921000002,197.4353840825429,106.46233548846381]
[null,null,"dent sin","II",153.4,218.9408581368381,118.05865093235418,49.6,70.79182896732183,38.172810210200566,-30.090378237162042,139.05501741468447,{"$nulls":8},9,{"$nulls":37},"MB.R.2181.2","I",279.6774320649919,399.1709059831587,215.24341803010483,58.54676638999187,83.56114259818655,45.05835890778449,-100.36634535486738,228.98584686083842]
[null,null,"first 5 alveoli","III",103.8,148.14902916951624,79.88584072215363,61.6,87.91888436264162,47.40816751912007,19.655695915279004,115.67135596648268,{"$nulls":8},"9I",null,null,16.1,15,82.4,null,null,{"$f":"Z78*(Y78/1000)","v":1.236},{"$f":"(Y78/1000)/($AI$1/$AI$2)","v":0.004490312500000001},{"$f":"AC78/((Y78/1000)-AD78)","v":117.60578038119594},{"$f":"AC78/((Y78/1000)+AD78)","v":63.41612018791386},{"$f":"AE78-$Z78","v":35.205780381195936},{"$f":"AF78-$Z78","v":-18.983879812086144},{"$f":"((AE78/$Z78)*100)-100","v":42.72546162766497},{"$f":"((AF78/$Z78)*100)-100","v":-23.03868909233755},{"$f":"Z78-Z79","v":-52.099999999999994},{"$f":"AE78-AE79","v":-74.35996550801345},{"$f":"AF78-AF79","v":-40.09684298289214},{"$f":"AF78-AE79","v":-128.54962570129553},{"$f":"AE78-AF79","v":14.092817210389939},{"$f":"((AL78/$AK78)*100)-100","v":42.72546162766497},{"$f":"((AM78/$AK78)*100)-100","v":-23.038689092337535},{"$nulls":15},"pmx dext","II",221.13066567500002,315.6097633849722,170.18505912232035,89.17264196477966,127.27206488981665,68.62843422709075,-27.342550611203148,223.24304972811055]
[{"$nulls":3},"IV",42.2,60.23014480687461,32.477673203033554,{"$nulls":13},"9II",null,null,30.74,15,134.5,null,null,{"$f":"Z79*(Y79/1000)","v":2.0175},{"$f":"(Y79/1000)/($AI$1/$AI$2)","v":0.004490312500000001},{"$f":"AC79/((Y79/1000)-AD79)","v":191.9657458892094},{"$f":"AC79/((Y79/1000)+AD79)","v":103.512963170806},{"$f":"AE79-$Z79","v":57.46574588920939},{"$f":"AF79-$Z79","v":-30.987036829193997},{"$f":"((AE79/$Z79)*100)-100","v":42.72546162766497},{"$f":"((AF79/$Z79)*100)-100","v":-23.038689092337535},{"$nulls":23},"III",145.93206752855366,208.282217042924,112.31123220463009]
[{"$nulls":20},"10",{"$nulls":37},"MB.R.2180.2","I"]
[{"$nulls":20},"10I",null,null,11.63,15,63.11,null,null,{"$f":"Z81*(Y81/1000)","v":0.94665},{"$f":"(Y81/1000)/($AI$1/$AI$2)","v":0.004490312500000001},{"$f":"AC81/((Y81/1000)-AD81)","v":90.07403883321936},{"$f":"AC81/((Y81/1000)+AD81)","v":48.57028331382577},{"$f":"AE81-$Z81","v":26.964038833219362},{"$f":"AF81-$Z81","v":-14.53971668617423},{"$f":"((AE81/$Z81)*100)-100","v":42.72546162766497},{"$f":"((AF81/$Z81)*100)-100","v":-23.03868909233755},{"$f":"Z81-Z82","v":-23.989999999999995},{"$f":"AE81-AE82","v":-34.239838244476815},{"$f":"AF81-AF82","v":-18.46301848674821},{"$f":"AF81-AE82","v":-75.74359376387041},{"$f":"AE81-AF82","v":23.04073703264538},{"$f":"((AL81/$AK81)*100)-100","v":42.72546162766494},{"$f":"((AM81/$AK81)*100)-100","v":-23.038689092337577},{"$nulls":15},"mx sin","II",205.04286000000002,292.6483684695668,157.80367297856304,92.53020000000001,132.0641550950017,71.21245490548189,-16.153969807177788,219.4305798076614]
[{"$nulls":20},"10II",null,null,17.25,15,87.1,null,null,{"$f":"Z82*(Y82/1000)","v":1.3064999999999998},{"$f":"(Y82/1000)/($AI$1/$AI$2)","v":0.004490312500000001},{"$f":"AC82/((Y82/1000)-AD82)","v":124.31387707769618},{"$f":"AC82/((Y82/1000)+AD82)","v":67.03330180057398},{"$f":"AE82-$Z82","v":37.21387707769618},{"$f":"AF82-$Z82","v":-20.066698199426014},{"$f":"((AE82/$Z82)*100)-100","v":42.72546162766497},{"$f":"((AF82/$Z82)*100)-100","v":-23.038689092337563},{"$nulls":22},"first 5 alveoli","III",132.8481,189.608063988582,102.24163927592231]
[{"$nulls":20},"MB.R.2346 - Left premaxilla",{"$nulls":37},"MB.R.2180.3","I",132.8481,189.608063988582,102.24163927592231]
[{"$nulls":20},"1",{"$nulls":37},"mx dext","II",178.00814999999997,254.06295382236627,136.99740576247814,80.68089999999998,115.15218697035472,62.09307829210022,-20.213781484916055,197.45904674737102]
[{"$nulls":20},"1I",null,null,53.77,15,154.1,null,null,{"$f":"Z85*(Y85/1000)","v":2.3114999999999997},{"$f":"(Y85/1000)/($AI$1/$AI$2)","v":0.004490312500000001},{"$f":"AC85/((Y85/1000)-AD85)","v":219.93993636823168},{"$f":"AC85/((Y85/1000)+AD85)","v":118.59738010870782},{"$f":"AE85-$Z85","v":65.83993636823169},-35.50261989129217,{"$f":"((AE85/$Z85)*100)-100","v":42.72546162766494},-23.03868909233755,{"$f":"Z85-Z86","v":39.8},{"$f":"AE85-AE86","v":56.80473372781063},{"$f":"AF85-AF86","v":30.63060174124965},{"$f":"AF85-AE86","v":-44.53782253171323},{"$f":"AE85-AF86","v":131.9731580007735},{"$f":"((AL85/$AK85)*100)-100","v":42.72546162766491},{"$f":"((AM85/$AK85)*100)-100","v":-23.038689092337563},{"$nulls":15},"first 5 alveoli","III",139.7876,199.5124973982338,107.58236944635955]
[{"$nulls":20},"1II",null,null,23.46,15,114.3,null,null,{"$f":"Z86*(Y86/1000)","v":1.7145},{"$f":"(Y86/1000)/($AI$1/$AI$2)","v":0.004490312500000001},{"$f":"AC86/((Y86/1000)-AD86)","v":163.13520264042106},{"$f":"AC86/((Y86/1000)+AD86)","v":87.96677836745818},48.83520264042106,-26.33322163254182,42.72546162766497,-23.03868909233755,{"$f":"Z86-Z87","v":10.700000000000003},{"$f":"AE86-AE87","v":15.27162439416017},{"$f":"AF86-AF87","v":8.234860267119885},{"$f":"AF86-AE87","v":-59.89679987880271},{"$f":"AE86-AF87","v":83.40328454008277},{"$f":"((AL86/$AK86)*100)-100","v":42.72546162766511},{"$f":"((AM86/$AK86)*100)-100","v":-23.03868909233755},{"$nulls":15},"MB.R.2181.4","I",132.8481,189.608063988582,102.24163927592231]
[{"$nulls":20},"1III",null,null,19.6,15,103.6,null,null,{"$f":"Z87*(Y87/1000)","v":1.5539999999999998},{"$f":"(Y87/1000)/($AI$1/$AI$2)","v":0.004490312500000001},{"$f":"AC87/((Y87/1000)-AD87)","v":147.8635782462609},{"$f":"AC87/((Y87/1000)+AD87)","v":79.73191810033829},44.26357824626089,-23.868081899661703,42.72546162766494,-23.03868909233755,{"$nulls":22}," mx sin","II",178.00814999999997,254.06295382236627,136.99740576247814,80.68089999999998,115.15218697035472,62.09307829210022,-20.213781484916055,197.45904674737102]
[{"$nulls":20},"1IV",null,null,"-",{"$nulls":34},"first 5 alveoli","III",139.7876,199.5124973982338,107.58236944635955]
[{"$nulls":20},"2",{"$nulls":37},"MB.R.2181.3","I",211.3709375]
[{"$nulls":20},"2I",null,null,43.17,15,173.2,null,null,{"$f":"Z90*(Y90/1000)","v":2.598},{"$f":"(Y90/1000)/($AI$1/$AI$2)","v":0.004490312500000001},{"$f":"AC90/((Y90/1000)-AD90)","v":247.20049953911573},{"$f":"AC90/((Y90/1000)+AD90)","v":133.29699049207136},{"$f":"AE90-$Z90","v":74.00049953911574},-39.90300950792863,{"$f":"((AE90/$Z90)*100)-100","v":42.72546162766497},-23.03868909233755,{"$f":"Z90-Z91","v":37.5},{"$f":"AE90-AE91","v":53.52204811037436},{"$f":"AF90-AF91","v":28.860491590373414},{"$f":"AF90-AE91","v":-60.38146093667001},{"$f":"AE90-AF91","v":142.76400063741778},{"$f":"((AL90/$AK90)*100)-100","v":42.72546162766494},{"$f":"((AM90/$AK90)*100)-100","v":-23.038689092337563},{"$nulls":15}," mx dext","II",224.10303090800002,319.8520853850317,172.47263037060077,74.06757059,105.71328204097414,57.003373283522265,-40.61823658897806,203.33489191347445]
[{"$nulls":20},"2II",null,null,30.16,15,135.7,null,null,{"$f":"Z91*(Y91/1000)","v":2.0355},{"$f":"(Y91/1000)/($AI$1/$AI$2)","v":0.004490312500000001},{"$f":"AC91/((Y91/1000)-AD91)","v":193.67845142874137},{"$f":"AC91/((Y91/1000)+AD91)","v":104.43649890169795},57.97845142874138,-31.263501098302044,42.725461627665,-23.038689092337535,{"$f":"Z91-Z92","v":25.19999999999999},{"$f":"AE91-AE92","v":35.96681633017158},{"$f":"AF91-AF92","v":19.394250348730935},{"$f":"AF91-AE92","v":-53.27513619687184},{"$f":"AE91-AF92","v":108.63620287577436},{"$f":"((AL91/$AK91)*100)-100","v":42.725461627665055},{"$f":"((AM91/$AK91)*100)-100","v":-23.038689092337535},{"$nulls":15},"first 5 alveoli","III",146.13905967199997,208.57764753519078,112.47053607170226]
[{"$nulls":20},"2III",null,null,"-",15,110.5,null,null,{"$f":"Z92*(Y92/1000)","v":1.6575},{"$f":"(Y92/1000)/($AI$1/$AI$2)","v":0.004490312500000001},{"$f":"AC92/((Y92/1000)-AD92)","v":157.7116350985698},{"$f":"AC92/((Y92/1000)+AD92)","v":85.04224855296701},47.211635098569786,-25.45775144703299,42.72546162766497,-23.03868909233755,{"$nulls":22},"MB.R.2180.14","I"]
[{"$nulls":20},3,{"$nulls":37},"dent sin","II",227.88581999999997,325.25108857898965,175.383914444676,114.20430000000002,162.99861437364336,87.89312639291956,-6.7548694978356,257.64661026439853]
[{"$nulls":20},"3I",null,null,45.17,15,147.6,null,null,{"$f":"Z94*(Y94/1000)","v":2.214},{"$f":"(Y94/1000)/($AI$1/$AI$2)","v":0.004490312500000001},{"$f":"AC94/((Y94/1000)-AD94)","v":210.6627813624335},{"$f":"AC94/((Y94/1000)+AD94)","v":113.59489489970977},{"$f":"AE94-$Z94","v":63.0627813624335},-34.00510510029022,{"$f":"((AE94/$Z94)*100)-100","v":42.72546162766497},-23.03868909233755,{"$f":"Z94-Z95","v":18.5},{"$f":"AE94-AE95","v":26.404210401118007},{"$f":"AF94-AF95","v":14.237842517917557},{"$f":"AF94-AE95","v":-70.66367606160571},{"$f":"AE94-AF95","v":111.30572898064128},{"$f":"((AL94/$AK94)*100)-100","v":42.72546162766491},{"$f":"((AM94/$AK94)*100)-100","v":-23.038689092337535},{"$nulls":15},"first 5 alveoli","III",143.92034999999998,205.41098391365114,110.76298802289597]
[{"$nulls":20},"3II",null,null,38.55,15,129.1,null,null,{"$f":"Z95*(Y95/1000)","v":1.9364999999999999},{"$f":"(Y95/1000)/($AI$1/$AI$2)","v":0.004490312500000001},{"$f":"AC95/((Y95/1000)-AD95)","v":184.25857096131548},{"$f":"AC95/((Y95/1000)+AD95)","v":99.35705238179222},55.15857096131549,-29.74294761820778,42.72546162766497,-23.03868909233755,{"$f":"Z95-Z96","v":35.19999999999999},{"$f":"AE95-AE96","v":50.23936249293806},{"$f":"AF95-AF96","v":27.090381439497165},{"$f":"AF95-AE96","v":-34.66215608658521},{"$f":"AE95-AF96","v":111.99190001902043},{"$f":"((AL95/$AK95)*100)-100","v":42.72546162766497},{"$f":"((AM95/$AK95)*100)-100","v":-23.038689092337577},{"$nulls":15},"MB.R.2180.13","I"]
[{"$nulls":20},"3III",null,null,"-",15,93.9,null,null,{"$f":"Z96*(Y96/1000)","v":1.4085},{"$f":"(Y96/1000)/($AI$1/$AI$2)","v":0.004490312500000001},{"$f":"AC96/((Y96/1000)-AD96)","v":134.01920846837743},{"$f":"AC96/((Y96/1000)+AD96)","v":72.26667094229505},40.11920846837742,-21.633329057704955,42.72546162766497,-23.038689092337535,{"$nulls":22},"dent dext","II",236.83206,338.01965091730847,182.2690580256217,104.13811400000002,148.631603936844,80.14605768891596,-19.387186049018126,248.16484767477812]
[{"$nulls":20},"4I",null,null,30.24,15,150.4,null,null,{"$f":"Z97*(Y97/1000)","v":2.256},{"$f":"(Y97/1000)/($AI$1/$AI$2)","v":0.004490312500000001},{"$f":"AC97/((Y97/1000)-AD97)","v":214.6590942880081},{"$f":"AC97/((Y97/1000)+AD97)","v":115.74981160512432},64.2590942880081,-34.650188394875684,42.72546162766494,-23.03868909233755,{"$f":"Z97-Z98","v":55.10000000000001},{"$f":"AE97-AE98","v":78.64172935684337},{"$f":"AF97-AF98","v":42.405682310122},{"$f":"AF97-AE98","v":-20.267553326040414},{"$f":"AE97-AF98","v":141.3149649930058},{"$f":"((AL97/$AK97)*100)-100","v":42.72546162766491},{"$f":"((AM97/$AK97)*100)-100","v":-23.038689092337577},null,"Average for tooth mesial teeth",{"$nulls":13},"first 5 alveoli","III",154.93029066666668,221.12497255508313,119.23638269011848]
[{"$nulls":20},"4II",null,null,20.8,15,95.3,null,null,{"$f":"Z98*(Y98/1000)","v":1.4295},{"$f":"(Y98/1000)/($AI$1/$AI$2)","v":0.004490312500000001},{"$f":"AC98/((Y98/1000)-AD98)","v":136.01736493116474},{"$f":"AC98/((Y98/1000)+AD98)","v":73.34412929500232},40.71736493116474,-21.95587070499768,42.725461627665,-23.038689092337535,null,"I",{"$f":"AVERAGE(Z85,Z90,Z94,Z97)","v":156.325},{"$f":"AVERAGE(AE85,AE90,AE94,AE97)","v":223.11557788944725},120.30976927640332,{"$nulls":17},"Brachisaurus sp. USNM 5730","I",280,{"$f":"AVERAGE(AE564)","v":399.8146947756535},{"$f":"AVERAGE(AF564)","v":215.5905658259712},{"$nulls":5},"D'Emic et al. 2019a"]
[{"$nulls":20},"MB.R.2343 - Right Premaxilla",{"$nulls":16},"II",{"$f":"AVERAGE(Z86,Z91,Z95,Z98)","v":118.60000000000001},169.27239749041067,91.27611473648767,{"$f":"AVERAGE(AK85,AK90,AK94,AK97)","v":37.725},{"$f":"AVERAGE(AL85,AL90,AL94,AL97)","v":53.84318039903659},{"$f":"AVERAGE(AM85,AM90,AM94,AM97)","v":29.033654539915656},{"$f":"AVERAGE(AN85,AN90,AN94,AN97)","v":-48.96262821400734},{"$f":"AVERAGE(AO85,AO90,AO94,AO97)","v":131.83946315295958},{"$nulls":12},"mx","II","260-227",{"$f":"AVERAGE(AE565,AE566,AE568)","v":350.686354851179},{"$f":"AVERAGE(AF565,AF566,AF568)","v":189.09927688434956},{"$f":"AVERAGE(AK564)","v":{"v":52.88250000000005,"d":"52.8825"}},{"$f":"AVERAGE(AL564)","v":{"v":75.47679224525001,"d":"75.4768"}},{"$f":"AVERAGE(AM564)","v":{"v":40.6990652407446,"d":"40.6991"}},{"$f":"AVERAGE(AN564)","v":{"v":-108.74733670443229,"d":"-108.7473"}},{"$f":"AVERAGE(AO564)","v":{"v":224.9231941904269,"d":"224.9232"}}]
[{"$nulls":20},1,{"$nulls":16},"III",{"$f":"AVERAGE(Z87,Z92,Z96,Z99)","v":102.66666666666667},146.53147393773602,79.01361253186678,{"$f":"AVERAGE(AK86,AK91,AK98)","v":17.949999999999996},{"$f":"AVERAGE(AL86,AL91,AL96)","v":25.619220362165876},{"$f":"AVERAGE(AM86,AM91,AM96)","v":13.81455530792541},{"$f":"AVERAGE(AN86,AN91,AN96)","v":-56.585968037837276},{"$f":"AVERAGE(AO86,AO91,AO96)","v":96.01974370792857},{"$nulls":13},"III","162-153",{"$f":"AVERAGE(AE567,AE569)","v":224.56980761797155},{"$f":"AVERAGE(AF567,AF569)","v":121.0939280732415},{"$f":"AVERAGE(AK566,AK568)","v":{"v":97.59349999999999,"d":"97.5935"}},{"$f":"AVERAGE(AL566,AL568)","v":139.2907733935952},{"$f":"AVERAGE(AM566,AM568)","v":75.10923696066953},{"$f":"AVERAGE(AN566,AN568)","v":-28.36664258406053},{"$f":"AVERAGE(AO566,AO568)","v":242.76665293832525}]
[{"$nulls":20},"1I",null,null,37.97,15,182.5,null,null,{"$f":"Z101*(Y101/1000)","v":2.7375},{"$f":"(Y101/1000)/($AI$1/$AI$2)","v":0.004490312500000001},{"$f":"AC101/((Y101/1000)-AD101)","v":260.47396747048856},{"$f":"AC101/((Y101/1000)+AD101)","v":140.45439240648398},{"$f":"AE101-$Z101","v":77.97396747048856},-42.045607593516024,{"$f":"((AE101/$Z101)*100)-100","v":42.72546162766497},-23.03868909233755,{"$f":"Z101-Z102","v":71.8},{"$f":"AE101-AE102","v":102.47688144866342},{"$f":"AF101-AF102","v":55.25822123170164},{"$f":"AF101-AE102","v":-17.542693615341165},{"$f":"AE101-AF102","v":175.27779629570622},{"$f":"((AL101/$AK101)*100)-100","v":42.72546162766494},{"$f":"((AM101/$AK101)*100)-100","v":-23.03868909233755},{"$nulls":15},"dent","I","258-242",{"$f":"AVERAGE(AE573,AE575,AE577,AE579)","v":358.5752787606673},{"$f":"AVERAGE(AF573,AF575,AF577,AF579)","v":193.35319148936168}]
[{"$nulls":20},"1II",null,null,24.49,15,110.7,null,null,{"$f":"Z102*(Y102/1000)","v":1.6605},{"$f":"(Y102/1000)/($AI$1/$AI$2)","v":0.004490312500000001},{"$f":"AC102/((Y102/1000)-AD102)","v":157.99708602182514},{"$f":"AC102/((Y102/1000)+AD102)","v":85.19617117478234},47.29708602182514,-25.503828825217667,42.72546162766497,-23.03868909233755,{"$f":"Z102-Z103","v":14.299999999999997},{"$f":"AE102-AE103","v":20.409741012756115},{"$f":"AF102-AF95","v":-14.16088120700988},{"$f":"AF102-AE103","v":-52.39117383428669},{"$f":"AE102-AF103","v":83.80638230683854},{"$f":"((AL102/$AK102)*100)-100","v":42.72546162766517},{"$f":"((AM102/$AK102)*100)-100","v":-199.0271413077614},{"$nulls":16},"II","185-150",{"$f":"AVERAGE(AE574,AE576,AE578,AE580)","v":239.09248015224054},{"$f":"AVERAGE(AF574,AF576,AF578,AF580)","v":128.92493386137343},{"$f":"AVERAGE(AK573,AK575,AK577,AK579)","v":{"v":83.715125,"d":"83.7151"}},{"$f":"AVERAGE(AL573,AL575,AL577,AL579)","v":{"v":119.48279860842675,"d":"119.4828"}},{"$f":"AVERAGE(AM573,AM575,AM577,AM579)","v":{"v":64.42825762798824,"d":"64.4283"}},{"$f":"AVERAGE(AN573,AN575,AN577,AN579)","v":{"v":-45.73928866287886,"d":"-45.7393"}},{"$f":"AVERAGE(AO573,AO575,AO577,AO579)","v":{"v":229.65034489929383,"d":"229.6503"}}]
[{"$nulls":20},"1III",null,null,21.49,15,96.4,null,null,{"$f":"Z103*(Y103/1000)","v":1.446},{"$f":"(Y103/1000)/($AI$1/$AI$2)","v":0.004490312500000001},{"$f":"AC103/((Y103/1000)-AD103)","v":137.58734500906903},{"$f":"AC103/((Y103/1000)+AD103)","v":74.1907037149866},41.18734500906902,-22.20929628501341,42.72546162766494,-23.038689092337563]
[{"$nulls":20},2,{"$nulls":37},"Dicraeosaurus hansemanni MB.R.2337","I",{"$nulls":8},"Kosch 2010, Schwarz et al. 2015"]
[{"$nulls":20},"2I",null,null,47.26,15,165.6,null,null,{"$f":"Z105*(Y105/1000)","v":2.484},{"$f":"(Y105/1000)/($AI$1/$AI$2)","v":0.004490312500000001},{"$f":"AC105/((Y105/1000)-AD105)","v":236.3533644554132},{"$f":"AC105/((Y105/1000)+AD105)","v":127.44793086308901},{"$f":"AE105-$Z105","v":70.75336445541322},{"$f":"AF105-$Z105","v":-38.15206913691098},{"$f":"((AE105/$Z105)*100)-100","v":42.725461627665},{"$f":"((AF105/$Z105)*100)-100","v":-23.03868909233755},{"$f":"Z105-Z106","v":29.599999999999994},{"$f":"AE105-AE106","v":42.24673664178883},{"$f":"AF105-AF106","v":22.78054802866808},{"$f":"AF105-AE106","v":-66.65869695053537},{"$f":"AE105-AF106","v":131.68598162099227},{"$f":"((AL105/$AK105)*100)-100","v":42.725461627665},{"$f":"((AM105/$AK105)*100)-100","v":-23.038689092337563},{"$nulls":15},"pmx dext","II",188.5,269.03749516814844,145.0720710609437,20.333333333333332,29.020843864291844,15.648799884558022,-95.93104250371293,140.6006862525628]
[{"$nulls":20},"2II",null,null,31.13,15,136,null,null,{"$f":"Z106*(Y106/1000)","v":2.04},{"$f":"(Y106/1000)/($AI$1/$AI$2)","v":0.004490312500000001},{"$f":"AC106/((Y106/1000)-AD106)","v":194.10662781362439},{"$f":"AC106/((Y106/1000)+AD106)","v":104.66738283442093},{"$f":"AE106-$Z106","v":58.106627813624385},{"$f":"AF106-$Z106","v":-31.332617165579066},{"$f":"((AE106/$Z106)*100)-100","v":42.725461627665},{"$f":"((AF106/$Z106)*100)-100","v":-23.03868909233755},{"$nulls":23},"III",174,248.34230323213708,133.91268097933266,34.666666666666664,49.47816003092387,26.679921114656313,-62.101682357347094,138.25976350292726]
[{"$nulls":20},"2III",null,null,23.4,{"$nulls":35},"IV",141,201.2429008950076,108.51544837980404,60.333333333333336,86.11102851535786,46.433324247623005,-2.670574956645543,135.21492771962642]
[{"$nulls":20},"2IV",null,null,"-",{"$nulls":35},"V",74.75,106.68728256667957,57.52857990347768,76,108.47135083702537,58.49059628982346,39.41899258102273,127.5429545458261]
[{"$nulls":20},3,{"$nulls":38},"VI",28.5,40.67675656388452,21.9339736086838]
[{"$nulls":20},"3I",null,null,35.4,15,169.5,null,null,{"$f":"Z110*(Y110/1000)","v":2.5425},{"$f":"(Y110/1000)/($AI$1/$AI$2)","v":0.004490312500000001},{"$f":"AC110/((Y110/1000)-AD110)","v":241.91965745889215},{"$f":"AC110/((Y110/1000)+AD110)","v":130.44942198848784},{"$f":"AE110-$Z110","v":72.41965745889215},{"$f":"AF110-$Z110","v":-39.05057801151216},{"$f":"((AE110/$Z110)*100)-100","v":42.72546162766497},{"$f":"((AF110/$Z110)*100)-100","v":-23.038689092337563},{"$f":"Z110-Z111","v":14},{"$f":"AE110-AE111","v":19.981564627873098},{"$f":"AF110-AF111","v":10.774583527072735},{"$f":"AF110-AE111","v":-91.4886708425312},{"$f":"AE110-AF111","v":122.24481899747704},{"$f":"((AL110/$AK110)*100)-100","v":42.725461627665},{"$f":"((AM110/$AK110)*100)-100","v":-23.038689092337606},{"$nulls":15},"MB.R.2338","I",{"$error":"#DIV/0!"}]
[{"$nulls":20},"3II",null,null,28.95,15,155.5,null,null,{"$f":"Z111*(Y111/1000)","v":2.3325},{"$f":"(Y111/1000)/($AI$1/$AI$2)","v":0.004490312500000001},{"$f":"AC111/((Y111/1000)-AD111)","v":221.93809283101905},{"$f":"AC111/((Y111/1000)+AD111)","v":119.6748384614151},{"$f":"AE111-$Z111","v":66.43809283101905},{"$f":"AF111-$Z111","v":-35.825161538584894},{"$f":"((AE111/$Z111)*100)-100","v":42.72546162766497},{"$f":"((AF111/$Z111)*100)-100","v":-23.03868909233755},{"$nulls":22},"pmx sin","II",185.25,264.39891766524937,142.57082845644467,19,27.117837709256335,14.622649072455857,-96.84758639794842,138.58807317966063]
[{"$nulls":20},"3III",null,null,18.98,{"$nulls":35},"III",175.25,250.12637150248284,134.87469736567846,54,77.07174927893908,41.55910789013772,-38.23472831679867,156.86558548587547]
[{"$nulls":20},"4I",null,null,36.49,15,133,null,null,{"$f":"Z113*(Y113/1000)","v":1.9949999999999999},{"$f":"(Y113/1000)/($AI$1/$AI$2)","v":0.004490312500000001},{"$f":"AC113/((Y113/1000)-AD113)","v":189.82486396479442},{"$f":"AC113/((Y113/1000)+AD113)","v":102.35854350719106},{"$f":"AE113-$Z113","v":56.82486396479442},{"$f":"AF113-$Z113","v":-30.641456492808942},{"$f":"((AE113/$Z113)*100)-100","v":42.72546162766497},{"$f":"((AF113/$Z113)*100)-100","v":-23.03868909233755},{"$f":"Z113-Z114","v":32.099999999999994},{"$f":"AE113-AE114","v":45.814873182480454},{"$f":"AF113-AF114","v":24.70458080135964},{"$f":"AF113-AE114","v":-41.651447275122905},{"$f":"AE113-AF114","v":112.170901258963},{"$f":"((AL113/$AK113)*100)-100","v":42.725461627665},{"$f":"((AM113/$AK113)*100)-100","v":-23.038689092337563},{"$nulls":16},"IV",123.25,175.90913145609707,94.85481569369398,50.666666666666664,72.31423389135026,38.993730859882305,-7.479602315586139,118.78756706681871]
[{"$nulls":20},"4II",null,null,19.32,15,100.9,null,null,{"$f":"Z114*(Y114/1000)","v":1.5135},{"$f":"(Y114/1000)/($AI$1/$AI$2)","v":0.004490312500000001},{"$f":"AC114/((Y114/1000)-AD114)","v":144.00999078231396},{"$f":"AC114/((Y114/1000)+AD114)","v":77.65396270583142},{"$f":"AE114-$Z114","v":43.10999078231396},{"$f":"AF114-$Z114","v":-23.246037294168588},{"$f":"((AE114/$Z114)*100)-100","v":42.72546162766497},{"$f":"((AF114/$Z114)*100)-100","v":-23.03868909233755},{"$nulls":9},"Average for tooth mesial teeth",{"$nulls":13},"V",65.25,93.12836371205138,50.21725536724974,77,109.89860545330203,59.260209398900095,38.21568116849929,130.94313368370283]
[{"$nulls":44},"I",{"$f":"AVERAGE(Z101,Z105,Z110,Z113)","v":162.65},{"$f":"AVERAGE(AE101,AE105,AE110,AE113)","v":232.14296333739708},125.17757219131298,{"$nulls":11},"VI",32,45.67214772085279,24.627619490451984]
[{"$nulls":20},"Giraffatitan brancai, Kosch 2014",{"$nulls":23},"II",{"$f":"AVERAGE(Z102,Z106,Z111,Z114)","v":125.775},179.51294936219563,96.79808879411245,{"$f":"AVERAGE(AK101,AK105,AK110,AK113)","v":36.875},{"$f":"AVERAGE(AL101,AL105,AL110,AL113)","v":52.63001397520145},{"$f":"AVERAGE(AM101,AM105,AM110,AM113)","v":28.379483397200524},{"$f":"AVERAGE(AN101,AN105,AN110,AN113)","v":-54.335377170882666},{"$f":"AVERAGE(AO101,AO105,AO110,AO113)","v":135.34487454328465},{"$nulls":5},"MB.R.2339","I",{"$error":"#DIV/0!"}]
[{"$nulls":20},"MB.R.2180.1 - pmx sin",{"$nulls":7},"Crown height (back calculated from mean VEIW and TFT)","SD based on Alligator","TFT + SD","TFT - SD","SD +","SD -","SD + [%]","SD - [%]","TRR (count)","TRR max-max","TRR min-min","TRRmin-max","TRRmax-min"," [%]+ TRR max-max","[%]- TRR min-min",null,"III",{"$f":"AVERAGE(Z103,Z107,Z112,Z115)","v":96.4},137.58734500906903,74.1907037149866,{"$nulls":10},"pmx sin","II",189,269.7511224762868,145.45687761548203,10,12.845291546489833,6.926517981689614,-111.77777406791495,131.5495835960944]
[{"$nulls":20},"1I",null,null,39,15,201.7491,null,null,{"$f":"Z118*(Y118/1000)","v":3.0262365},{"$f":"(Y118/1000)/($AI$1/$AI$2)","v":0.004490312500000001},{"$f":"AC118/((Y118/1000)-AD118)","v":287.9473343046594},{"$f":"AC118/((Y118/1000)+AD118)","v":155.26875210441082},{"$f":"AE118-$Z118","v":86.19823430465942},{"$f":"AF118-$Z118","v":-46.480347895589176},{"$f":"((AE118/$Z118)*100)-100","v":42.72546162766497},{"$f":"((AF118/$Z118)*100)-100","v":-23.03868909233755},{"$f":"Z118-Z119","v":-6.117899999999992},{"$f":"AE118-AE119","v":-8.731801016918894},{"$f":"AF118-AF119","v":-4.70841604001987},{"$f":"AF118-AE119","v":-141.4103832171675},{"$f":"AE118-AF119","v":127.97016616022873},{"$f":"((AL118/$AK118)*100)-100","v":42.72546162766483},{"$f":"((AM118/$AK118)*100)-100","v":-23.038689092337634},{"$nulls":16},"III",181.75,259.4035265082811,139.8771825746765,43.25,61.72876215396511,33.28576696756401,-57.797581779639486,152.8121109011686]
[{"$nulls":20},"1II",null,null,42,15,207.867,null,null,{"$f":"Z119*(Y119/1000)","v":3.1180049999999997},{"$f":"(Y119/1000)/($AI$1/$AI$2)","v":0.004490312500000001},{"$f":"AC119/((Y119/1000)-AD119)","v":296.6791353215783},{"$f":"AC119/((Y119/1000)+AD119)","v":159.9771681444307},{"$f":"AE119-$Z119","v":88.81213532157832},{"$f":"AF119-$Z119","v":-47.8898318555693},{"$f":"((AE119/$Z119)*100)-100","v":42.72546162766497},{"$f":"((AF119/$Z119)*100)-100","v":-23.03868909233755},{"$nulls":23},"IV",138.5,197.674764354316,106.5914156071125,58.25,83.13758139811485,44.82996360371338,-7.945767349088648,135.91331235091687]
[{"$nulls":20},"1III",{"$nulls":38},"V",80.25,114.53718295620115,61.761452003399114,56.5,80.6398858196307,43.48314066282928,28.3573859972287,95.76564048523129]
[{"$nulls":20},"2I",{"$nulls":38},"VI",23,32.826856174362945,17.701101508762363]
[{"$nulls":20},"2II",null,null,81,15,274.62330000000003,null,null,{"$f":"Z122*(Y122/1000)","v":4.1193495},{"$f":"(Y122/1000)/($AI$1/$AI$2)","v":0.004490312500000001},{"$f":"AC122/((Y122/1000)-AD122)","v":391.9573726621273},{"$f":"AC122/((Y122/1000)+AD122)","v":211.3536917378826},{"$f":"AE122-$Z122","v":117.33407266212726},-63.26960826211743,{"$f":"((AE122/$Z122)*100)-100","v":42.72546162766497},-23.03868909233755,{"$f":"Z122-Z123","v":126.87180000000004},{"$f":"AE122-AE123","v":181.0783622253279},{"$f":"AF122-AF123","v":97.64220045214773},{"$f":"AF122-AE123","v":0.4746813010832227},{"$f":"AE122-AF123","v":278.2458813763924},{"$f":"((AL122/$AK122)*100)-100","v":42.72546162766497},{"$f":"((AM122/$AK122)*100)-100","v":-23.038689092337535},{"$nulls":15},"MB.R.2336","I"]
[{"$nulls":20},"2III",null,null,15,15,147.7515,null,null,{"$f":"Z123*(Y123/1000)","v":2.2162724999999996},{"$f":"(Y123/1000)/($AI$1/$AI$2)","v":0.004490312500000001},{"$f":"AC123/((Y123/1000)-AD123)","v":210.87901043679938},{"$f":"AC123/((Y123/1000)+AD123)","v":113.71149128573487},63.12751043679938,-34.04000871426513,42.72546162766494,-23.038689092337563,{"$nulls":22},"max dext","II",176,251.19681246469034,135.45190719748592,35.25,50.3107252237519,27.12886209495101,-65.43418004345254,142.87376736215546]
[{"$nulls":20},"3I",null,null,54,15,230.9346,null,null,{"$f":"Z124*(Y124/1000)","v":3.4640189999999995},{"$f":"(Y124/1000)/($AI$1/$AI$2)","v":0.004490312500000001},{"$f":"AC124/((Y124/1000)-AD124)","v":329.60247390800157},{"$f":"AC124/((Y124/1000)+AD124)","v":177.73029549936663},98.66787390800158,-53.204304500633356,42.72546162766497,-23.03868909233755,{"$f":"Z124-Z125","v":-15.82650000000001},{"$f":"AE124-AE125","v":-22.588445184502405},{"$f":"AF124-AF125","v":-12.180281870801196},{"$f":"AF124-AE125","v":-174.46062359313734},{"$f":"AE124-AF125","v":139.69189653783374},{"$f":"((AL124/$AK124)*100)-100","v":42.72546162766494},{"$f":"((AM124/$AK124)*100)-100","v":-23.03868909233762},{"$nulls":15},"first 5 alveoli","III",149,212.6609378252208,114.67235325241704,62.75,89.56022717135976,48.29322259455818,-14.182720589444216,152.03617035536217]
[{"$nulls":20},"3II",null,null,63,15,246.7611,null,null,{"$f":"Z125*(Y125/1000)","v":3.7014164999999997},{"$f":"(Y125/1000)/($AI$1/$AI$2)","v":0.004490312500000001},{"$f":"AC125/((Y125/1000)-AD125)","v":352.190919092504},{"$f":"AC125/((Y125/1000)+AD125)","v":189.91057737016783},105.42981909250398,-56.85052262983217,42.72546162766497,-23.038689092337563,{"$nulls":23},"IV",95,135.58918854628172,73.11324536227933,55.25,78.8558175492849,42.52112427648351,16.3798743652825,104.99706746048591]
[{"$nulls":20},"3III",{"$nulls":38},"V",38.6,55.092028188278675,29.707066010357703]
[{"$nulls":20},"4I",{"$nulls":37},"MB.R.2371","I"]
[{"$nulls":20},"4II",null,null,33,15,189.0921,null,null,{"$f":"Z128*(Y128/1000)","v":2.8363815},{"$f":"(Y128/1000)/($AI$1/$AI$2)","v":0.004490312500000001},{"$f":"AC128/((Y128/1000)-AD128)","v":269.8825726264459},{"$f":"AC128/((Y128/1000)+AD128)","v":145.52775898282798},{"$f":"AE128-$Z128","v":80.7904726264459},{"$f":"AF128-$Z128","v":-43.56434101717201},{"$f":"((AE128/$Z128)*100)-100","v":42.725461627665},{"$f":"((AF128/$Z128)*100)-100","v":-23.03868909233755},{"$f":"Z128-Z129","v":20.03849999999997},{"$f":"AE128-AE129","v":28.600041628259646},{"$f":"AF128-AF129","v":15.421892286231923},{"$f":"AF128-AE129","v":-95.75477201535827},{"$f":"AE128-AF129","v":139.77670592984984},{"$f":"((AL128/$AK128)*100)-100","v":42.7254616276652},{"$f":"((AM128/$AK128)*100)-100","v":-23.03868909233752},{"$nulls":15},"  dent sin","II",153.4,218.9408581368381,118.05865093235418,49.6,70.79182896732183,38.172810210200566,-30.090378237162042,139.05501741468447]
[{"$nulls":20},"4III",null,null,24,15,169.05360000000002,null,null,{"$f":"Z129*(Y129/1000)","v":2.535804},{"$f":"(Y129/1000)/($AI$1/$AI$2)","v":0.004490312500000001},{"$f":"AC129/((Y129/1000)-AD129)","v":241.28253099818625},{"$f":"AC129/((Y129/1000)+AD129)","v":130.10586669659605},{"$f":"AE129-$Z129","v":72.22893099818623},{"$f":"AF129-$Z129","v":-38.947733303403965},{"$f":"((AE129/$Z129)*100)-100","v":42.72546162766497},{"$f":"((AF129/$Z129)*100)-100","v":-23.03868909233755},{"$nulls":9},"Average for tooth mesial teeth",{"$nulls":13},"III",103.8,148.14902916951624,79.88584072215363,61.6,87.91888436264162,47.40816751912007,19.655695915279004,115.67135596648268]
[{"$nulls":20},"MB.R.2181.1 - pmx sin",{"$nulls":23},"I",{"$f":"AVERAGE(Z118,Z124)","v":216.34185},{"$f":"AVERAGE(AE118,AE124)","v":308.7749041063305},{"$f":"AVERAGE(AF118,AF124)","v":166.49952380188873},{"$nulls":11},"IV",42.2,60.23014480687461,32.477673203033554]
[{"$nulls":20},"1I",null,null,89.890104572194,15,286.5196573027876,null,null,{"$f":"Z131*(Y131/1000)","v":4.297794859541814},{"$f":"(Y131/1000)/($AI$1/$AI$2)","v":0.004490312500000001},{"$f":"AC131/((Y131/1000)-AD131)","v":408.93650353940734},{"$f":"AC131/((Y131/1000)+AD131)","v":220.50928426836737},{"$f":"AE131-$Z131","v":122.41684623661973},-66.01037303442024,{"$f":"((AE131/$Z131)*100)-100","v":42.72546162766497},-23.038689092337535,{"$f":"Z131-Z132","v":91.4299438827876},{"$f":"AE131-AE132","v":130.4938094726237},{"$f":"AF131-AF132","v":70.36568337433349},{"$f":"AF131-AE132","v":-57.93340979841628},{"$f":"AE131-AF132","v":258.7929026453735},{"$f":"((AL131/$AK131)*100)-100","v":42.72546162766503},{"$f":"((AM131/$AK131)*100)-100","v":-23.038689092337535},null,"II",{"$f":"AVERAGE(Z119,Z122,Z125,Z128)","v":229.58587500000002},{"$f":"AVERAGE(AE119,AE122,AE125,AE128)","v":327.6774999256638},{"$f":"AVERAGE(AF119,AF122,AF125,AF128)","v":176.69229905882727},{"$f":"AVERAGE(AK122,AK128)","v":73.45515},{"$f":"AVERAGE(AL122,AL128)","v":104.83920192679378},{"$f":"AVERAGE(AM122,AM128)","v":56.53204636918983},{"$f":"AVERAGE(AN122,AN128)","v":-47.640045357137524},{"$f":"AVERAGE(AO122,AO128)","v":209.01129365312113}]
[{"$nulls":20},"1II",null,null,35.81,15,195.08971342,null,null,{"$f":"Z132*(Y132/1000)","v":2.9263457013},{"$f":"(Y132/1000)/($AI$1/$AI$2)","v":0.004490312500000001},{"$f":"AC132/((Y132/1000)-AD132)","v":278.44269406678364},{"$f":"AC132/((Y132/1000)+AD132)","v":150.14360089403388},83.35298064678364,-44.94611252596613,42.72546162766494,-23.03868909233755,{"$f":"Z132-Z133","v":51.55310094000001},{"$f":"AE132-AE133","v":73.57940129999105},{"$f":"AF132-AF133","v":39.675942296974455},{"$f":"AF132-AE133","v":-54.719691872758716},{"$f":"AE132-AF133","v":167.97503546972422},{"$f":"((AL132/$AK132)*100)-100","v":42.725461627664856},{"$f":"((AM132/$AK132)*100)-100","v":-23.038689092337563},null,"III",{"$f":"AVERAGE(Z123,Z129)","v":158.40255000000002},{"$f":"AVERAGE(AE123,AE129)","v":226.0807707174928},{"$f":"AVERAGE(AF123,AF129)","v":121.90867899116546}]
[{"$nulls":20},"1III",null,null,13.28,15,143.53661248,null,null,{"$f":"Z133*(Y133/1000)","v":2.1530491872},{"$f":"(Y133/1000)/($AI$1/$AI$2)","v":0.004490312500000001},{"$f":"AC133/((Y133/1000)-AD133)","v":204.8632927667926},{"$f":"AC133/((Y133/1000)+AD133)","v":110.46765859705943},61.326680286792595,-33.068953882940576,42.725461627665,-23.03868909233755]
[{"$nulls":20},"2I"]
[{"$nulls":20},"2II",null,null,36.53,15,196.60664398,null,null,{"$f":"Z135*(Y135/1000)","v":2.9490996597},{"$f":"(Y135/1000)/($AI$1/$AI$2)","v":0.004490312500000001},{"$f":"AC135/((Y135/1000)-AD135)","v":280.6077402111148},{"$f":"AC135/((Y135/1000)+AD135)","v":151.31105053856882},{"$f":"AE135-$Z135","v":84.00109623111479},{"$f":"AF135-$Z135","v":-45.29559344143118},{"$f":"((AE135/$Z135)*100)-100","v":42.72546162766497},{"$f":"((AF135/$Z135)*100)-100","v":-23.03868909233755},{"$f":"Z135-Z136","v":87.16664398},{"$f":"AE135-AE136","v":124.40899500579823},{"$f":"AF135-AF136","v":67.08459188122303},{"$f":"AF135-AE136","v":-4.887694666747734},{"$f":"AE135-AF136","v":196.38128155376899},{"$f":"((AL135/$AK135)*100)-100","v":42.72546162766494},{"$f":"((AM135/$AK135)*100)-100","v":-23.03868909233755}]
[{"$nulls":20},"2III",{"$nulls":3},15,109.44,null,null,{"$f":"Z136*(Y136/1000)","v":1.6416},{"$f":"(Y136/1000)/($AI$1/$AI$2)","v":0.004490312500000001},{"$f":"AC136/((Y136/1000)-AD136)","v":156.19874520531656},{"$f":"AC136/((Y136/1000)+AD136)","v":84.22645865734579},{"$f":"AE136-$Z136","v":46.75874520531656},{"$f":"AF136-$Z136","v":-25.21354134265421},{"$f":"((AE136/$Z136)*100)-100","v":42.72546162766497},{"$f":"((AF136/$Z136)*100)-100","v":-23.03868909233755}]
[{"$nulls":20},"3I"]
[{"$nulls":20},"3II",null,null,41.24,15,206.33041072,null,null,{"$f":"Z138*(Y138/1000)","v":3.0949561608},{"$f":"(Y138/1000)/($AI$1/$AI$2)","v":0.004490312500000001},{"$f":"AC138/((Y138/1000)-AD138)","v":294.4860311783771},{"$f":"AC138/((Y138/1000)+AD138)","v":158.79458889127608},{"$f":"AE138-$Z138","v":88.15562045837711},{"$f":"AF138-$Z138","v":-47.535821828723925},{"$f":"((AE138/$Z138)*100)-100","v":42.72546162766494},{"$f":"((AF138/$Z138)*100)-100","v":-23.038689092337563},{"$f":"Z138-Z139","v":41.27344633999999},{"$f":"AE138-AE139","v":58.907716818411586},{"$f":"AF138-AF139","v":31.764585360034616},{"$f":"AF138-AE139","v":-76.78372546868945},{"$f":"AE138-AF139","v":167.45602764713567},{"$f":"((AL138/$AK138)*100)-100","v":42.72546162766497},{"$f":"((AM138/$AK138)*100)-100","v":-23.038689092337563}]
[{"$nulls":20},"3III",null,null,22.27,15,165.05696438,null,null,{"$f":"Z139*(Y139/1000)","v":2.4758544657},{"$f":"(Y139/1000)/($AI$1/$AI$2)","v":0.004490312500000001},{"$f":"AC139/((Y139/1000)-AD139)","v":235.57831435996553},{"$f":"AC139/((Y139/1000)+AD139)","v":127.03000353124146},{"$f":"AE139-$Z139","v":70.52134997996552},{"$f":"AF139-$Z139","v":-38.02696084875855},{"$f":"((AE139/$Z139)*100)-100","v":42.72546162766494},{"$f":"((AF139/$Z139)*100)-100","v":-23.038689092337563}]
[{"$nulls":20},"4I"]
[{"$nulls":20},"4II",null,null,44,15,211.8676,null,null,{"$f":"Z141*(Y141/1000)","v":3.178014},{"$f":"(Y141/1000)/($AI$1/$AI$2)","v":0.004490312500000001},{"$f":"AC141/((Y141/1000)-AD141)","v":302.38901013945474},{"$f":"AC141/((Y141/1000)+AD141)","v":163.05608234860264},{"$f":"AE141-$Z141","v":90.52141013945473},{"$f":"AF141-$Z141","v":-48.81151765139737},{"$f":"((AE141/$Z141)*100)-100","v":42.72546162766497},{"$f":"((AF141/$Z141)*100)-100","v":-23.038689092337563},{"$f":"Z141-Z142","v":76.57206002000001},{"$f":"AE141-AE142","v":109.28782614135773},{"$f":"AF141-AF142","v":58.9308611803941},{"$f":"AF141-AE142","v":-30.04510164949437},{"$f":"AE141-AF142","v":198.26378897124619},{"$f":"((AL141/$AK141)*100)-100","v":42.725461627665},{"$f":"((AM141/$AK141)*100)-100","v":-23.03868909233755}]
[{"$nulls":20},"4III",null,null,9.97,15,135.29553998,null,null,{"$f":"Z142*(Y142/1000)","v":2.0294330997},{"$f":"(Y142/1000)/($AI$1/$AI$2)","v":0.004490312500000001},{"$f":"AC142/((Y142/1000)-AD142)","v":193.101183998097},{"$f":"AC142/((Y142/1000)+AD142)","v":104.12522116820854},{"$f":"AE142-$Z142","v":57.80564401809701},{"$f":"AF142-$Z142","v":-31.17031881179146},{"$f":"((AE142/$Z142)*100)-100","v":42.72546162766497},{"$f":"((AF142/$Z142)*100)-100","v":-23.038689092337563},{"$nulls":9},"Average for tooth mesial teeth"]
[{"$nulls":20},"MB.R.2181.2 - pmx dext",{"$nulls":23},"I",{"$f":"AVERAGE(Z131)","v":286.5196573027876},{"$f":"AVERAGE(AE131)","v":408.93650353940734},{"$f":"AVERAGE(AF131)","v":220.50928426836737},{"$f":"AVERAGE(AK131)","v":91.4299438827876},{"$f":"AVERAGE(AL131)","v":130.4938094726237},{"$f":"AVERAGE(AM131)","v":70.36568337433349},{"$f":"AVERAGE(AN131)","v":-57.93340979841628},{"$f":"AVERAGE(AO131)","v":258.7929026453735}]
[{"$nulls":20},"1I",null,null,75.383129,15,266.471469996821,null,null,{"$f":"Z144*(Y144/1000)","v":3.9970720499523145},{"$f":"(Y144/1000)/($AI$1/$AI$2)","v":0.004490312500000001},{"$f":"AC144/((Y144/1000)-AD144)","v":380.3226356589875},{"$f":"AC144/((Y144/1000)+AD144)","v":205.07993650447185},{"$f":"AE144-$Z144","v":113.85116566216652},-61.39153349234914,{"$f":"((AE144/$Z144)*100)-100","v":42.72546162766497},-23.038689092337563,{"$f":"Z144-Z145","v":8.495696876821},{"$f":"AE144-AE145","v":12.1255225859299},{"$f":"AF144-AF145","v":6.538399687142771},{"$f":"AF144-AE145","v":-163.11717656858576},{"$f":"AE144-AF145","v":181.78109884165843},{"$f":"((AL144/$AK144)*100)-100","v":42.72546162766511},{"$f":"((AM144/$AK144)*100)-100","v":-23.038689092337634},null,"II",{"$f":"AVERAGE(Z132,Z135,Z138,Z141)","v":202.47359203000002},{"$f":"AVERAGE(AE132,AE135,AE138,AE141)","v":288.98136889893254},{"$f":"AVERAGE(AF132,AF135,AF138,AF141)","v":155.82633066812036},{"$f":"AVERAGE(AK132,AK135,AK138,AK141)","v":64.14131282},{"$f":"AVERAGE(AL132,AL135,AL138,AL141)","v":91.54598481638965},{"$f":"AVERAGE(AM132,AM135,AM138,AM141)","v":49.363995179656555},{"$f":"AVERAGE(AN132,AN135,AN138,AN141)","v":-41.60905341442257},{"$f":"AVERAGE(AO132,AO135,AO138,AO141)","v":182.51903341046875}]
[{"$nulls":20},"1II",null,null,69.86,15,257.97577312,null,null,3.8696365967999995,0.004490312500000001,368.1971130730576,198.54153681732907,110.22133995305762,-59.43423630267091,42.72546162766497,-23.03868909233755,{"$f":"Z145-Z146","v":89.15192112},{"$f":"AE145-AE146","v":127.2424909684517},{"$f":"AF145-AF146","v":68.61248719331718},{"$f":"AF145-AE146","v":-42.41308528727683},{"$f":"AE145-AF146","v":238.2680634490457},{"$f":"((AL145/$AK145)*100)-100","v":42.72546162766494},{"$f":"((AM145/$AK145)*100)-100","v":-23.03868909233755},null,"III",{"$f":"AVERAGE(Z133,Z136,Z139,Z142)","v":138.33227921000002},{"$f":"AVERAGE(AE133,AE136,AE139,AE142)","v":197.4353840825429},{"$f":"AVERAGE(AF133,AF136,AF139,AF142)","v":106.46233548846381}]
[{"$nulls":20},"1III",null,null,23.9,15,168.823852,null,null,2.53235778,0.004490312500000001,240.9546221046059,129.9290496240119,72.13077010460592,-38.89480237598809,42.72546162766497,-23.03868909233755]
[{"$nulls":20},"2I",null,null,111.13569,15,309.9556371431464,null,null,4.6493345571471965,0.004490312500000001,442.38561395352593,238.545921577563,132.42997681037951,-71.40971556558341,42.72546162766497,-23.038689092337535,{"$f":"Z147-Z148","v":83.67889426314642},{"$f":"AE147-AE148","v":119.43108812200143},{"$f":"AF147-AF148","v":64.40037397795427},{"$f":"AF147-AE148","v":-84.4086042539615},{"$f":"AE147-AF148","v":268.2400663539172},{"$f":"((AL147/$AK147)*100)-100","v":42.72546162766503},{"$f":"((AM147/$AK147)*100)-100","v":-23.038689092337506}]
[{"$nulls":20},"2II",null,null,51.48,15,226.27674288,null,null,3.3941511431999998,0.004490312500000001,322.9545258315245,174.14554759960873,96.6777829515245,-52.13119528039127,42.72546162766494,-23.038689092337563,{"$f":"Z148-Z149","v":90.62917626000001},{"$f":"AE148-AE149","v":129.35091018643513},{"$f":"AF148-AF149","v":69.74940211451198},{"$f":"AF148-AE149","v":-19.458068045480644},{"$f":"AE148-AF149","v":218.55838034642775},{"$f":"((AL148/$AK148)*100)-100","v":42.72546162766494},{"$f":"((AM148/$AK148)*100)-100","v":-23.038689092337577}]
[{"$nulls":20},"2III",null,null,10.11,15,135.64756662,null,null,2.0347134993,0.004490312500000001,193.60361564508938,104.39614548509675,57.956049025089385,-31.25142113490324,42.72546162766497,-23.038689092337535]
[{"$nulls":20},"3I",null,null,89.4,15,285.895932,null,null,4.2884389800000005,0.004490312500000001,408.0462887217152,220.02925709887924,122.15035672171518,-65.86667490112077,42.72546162766497,-23.03868909233755,{"$f":"Z150-Z151","v":106.68739778000003},{"$f":"AE150-AE151","v":152.27008098004828},{"$f":"AF150-AF151","v":82.1080199047604},{"$f":"AF150-AE151","v":-35.74695064278768},{"$f":"AE150-AF151","v":270.1250515275964},{"$f":"((AL150/$AK150)*100)-100","v":42.72546162766503},{"$f":"((AM150/$AK150)*100)-100","v":-23.038689092337535}]
[{"$nulls":20},"3II",null,null,28.49,15,179.20853422,null,null,2.6881280132999996,0.004490312500000001,255.77620774166692,137.92123719411885,76.56767352166693,-41.287297025881145,42.72546162766497,-23.03868909233755]
[{"$nulls":20},"3III"]
[{"$nulls":20},"4I",null,null,68.86,15,256.38668912,null,null,{"$f":"Z153*(Y153/1000)","v":3.8458003368000004},{"$f":"(Y153/1000)/($AI$1/$AI$2)","v":0.004490312500000001},{"$f":"AC153/((Y153/1000)-AD153)","v":365.92908559840635},{"$f":"AC153/((Y153/1000)+AD153)","v":197.3185569395052},{"$f":"AE153-$Z153","v":109.54239647840632},-59.068132180494814,{"$f":"((AE153/$Z153)*100)-100","v":42.72546162766497},-23.038689092337535,{"$f":"Z153-Z154","v":35.32507664000005},{"$f":"AE153-AE154","v":50.417878704766565},{"$f":"AF153-AF154","v":27.18664206128051},{"$f":"AF153-AE154","v":-118.19264995413457},{"$f":"AE153-AF154","v":195.79717072018164},{"$f":"((AL153/$AK153)*100)-100","v":42.72546162766514},{"$f":"((AM153/$AK153)*100)-100","v":-23.038689092337464}]
[{"$nulls":20},"4II",null,null,48.72,15,221.06161247999998,null,null,{"$f":"Z154*(Y154/1000)","v":3.3159241871999994},{"$f":"(Y154/1000)/($AI$1/$AI$2)","v":0.004490312500000001},{"$f":"AC154/((Y154/1000)-AD154)","v":315.5112068936398},{"$f":"AC154/((Y154/1000)+AD154)","v":170.1319148782247},94.4495944136398,-50.929697601775274,42.72546162766494,-23.038689092337563,{"$f":"Z154-Z155","v":87.73682851433901},{"$f":"AE154-AE155","v":125.22279351456311},{"$f":"AF154-AF155","v":67.52341337344308},{"$f":"AF154-AE155","v":-20.156498500851967},{"$f":"AE154-AF155","v":212.90270538885815},{"$f":"((AL154/$AK154)*100)-100","v":42.72546162766494},{"$f":"((AM154/$AK154)*100)-100","v":-23.038689092337563}]
[{"$nulls":20},"4III",null,null,9.18847,15,133.32478396566097,null,null,{"$f":"Z155*(Y155/1000)","v":1.9998717594849145},{"$f":"(Y155/1000)/($AI$1/$AI$2)","v":0.004490312500000001},{"$f":"AC155/((Y155/1000)-AD155)","v":190.28841337907667},{"$f":"AC155/((Y155/1000)+AD155)","v":102.60850150478163},56.9636294134157,-30.71628246087934,42.72546162766497,-23.03868909233755,{"$nulls":9},"Average for tooth mesial teeth"]
[{"$nulls":20},"MB.R.2180.2 - mx sin",{"$nulls":23},"I",{"$f":"AVERAGE(Z144,Z147,Z150,Z153)","v":279.6774320649919},{"$f":"AVERAGE(AE144,AE147,AE150,AE153)","v":399.1709059831587},215.24341803010483,{"$f":"AVERAGE(AK144,AK147,AK150,AK153)","v":58.54676638999187},83.56114259818655,45.05835890778449,-100.36634535486738,228.98584686083842]
[{"$nulls":20},"1I",{"$nulls":23},"II",{"$f":"AVERAGE(Z145,Z148,Z151,Z154)","v":221.13066567500002},315.6097633849722,170.18505912232035,89.17264196477966,127.27206488981665,68.62843422709075,-27.342550611203148,223.24304972811055]
[{"$nulls":20},"1II",null,null,54,15,230.9346,null,null,{"$f":"Z158*(Y158/1000)","v":3.4640189999999995},{"$f":"(Y158/1000)/($AI$1/$AI$2)","v":0.004490312500000001},{"$f":"AC158/((Y158/1000)-AD158)","v":329.60247390800157},{"$f":"AC158/((Y158/1000)+AD158)","v":177.73029549936663},{"$f":"AE158-$Z158","v":98.66787390800158},{"$f":"AF158-$Z158","v":-53.204304500633356},{"$f":"((AE158/$Z158)*100)-100","v":42.72546162766497},{"$f":"((AF158/$Z158)*100)-100","v":-23.03868909233755},{"$nulls":8},"III",{"$f":"AVERAGE(Z146,Z149,Z152,Z155)","v":145.93206752855366},208.282217042924,112.31123220463009]
[{"$nulls":20},"1III"]
[{"$nulls":20},"2I"]
[{"$nulls":20},"2II",null,null,21,15,162.0933,null,null,{"$f":"Z161*(Y161/1000)","v":2.4313995},{"$f":"(Y161/1000)/($AI$1/$AI$2)","v":0.004490312500000001},{"$f":"AC161/((Y161/1000)-AD161)","v":231.34841069251587},{"$f":"AC161/((Y161/1000)+AD161)","v":124.74912857349001},{"$f":"AE161-$Z161","v":69.25511069251587},{"$f":"AF161-$Z161","v":-37.34417142650999},{"$f":"((AE161/$Z161)*100)-100","v":42.72546162766497},{"$f":"((AF161/$Z161)*100)-100","v":-23.03868909233755}]
[{"$nulls":20},"2III"]
[{"$nulls":20},"3I"]
[{"$nulls":20},"3II",null,null,51,15,225.3783,null,null,{"$f":"Z164*(Y164/1000)","v":3.3806745},{"$f":"(Y164/1000)/($AI$1/$AI$2)","v":0.004490312500000001},{"$f":"AC164/((Y164/1000)-AD164)","v":321.6722190835837},{"$f":"AC164/((Y164/1000)+AD164)","v":173.4540941814042},{"$f":"AE164-$Z164","v":96.29391908358369},{"$f":"AF164-$Z164","v":-51.924205818595794},{"$f":"((AE164/$Z164)*100)-100","v":42.725461627665},{"$f":"((AF164/$Z164)*100)-100","v":-23.03868909233755},{"$f":"Z164-Z165","v":92.53020000000001},{"$f":"AE164-AE165","v":132.0641550950017},{"$f":"AF164-AF165","v":71.21245490548189},{"$f":"AF164-AE165","v":-16.153969807177788},{"$f":"AE164-AF165","v":219.4305798076614},{"$f":"((AL164/$AK164)*100)-100","v":42.725461627665},{"$f":"((AM164/$AK164)*100)-100","v":-23.03868909233755}]
[{"$nulls":20},"3III",null,null,9,15,132.8481,null,null,{"$f":"Z165*(Y165/1000)","v":1.9927214999999998},{"$f":"(Y165/1000)/($AI$1/$AI$2)","v":0.004490312500000001},{"$f":"AC165/((Y165/1000)-AD165)","v":189.608063988582},{"$f":"AC165/((Y165/1000)+AD165)","v":102.24163927592231},{"$f":"AE165-$Z165","v":56.759963988582},{"$f":"AF165-$Z165","v":-30.606460724077678},{"$f":"((AE165/$Z165)*100)-100","v":42.72546162766497},{"$f":"((AF165/$Z165)*100)-100","v":-23.03868909233755}]
[{"$nulls":20},"4I"]
[{"$nulls":20},"4II",null,null,27,15,175.87349999999998,null,null,{"$f":"Z167*(Y167/1000)","v":2.6381024999999996},{"$f":"(Y167/1000)/($AI$1/$AI$2)","v":0.004490312500000001},{"$f":"AC167/((Y167/1000)-AD167)","v":251.01626475573133},{"$f":"AC167/((Y167/1000)+AD167)","v":135.3545511391877},{"$f":"AE167-$Z167","v":75.14276475573135},{"$f":"AF167-$Z167","v":-40.51894886081229},{"$f":"((AE167/$Z167)*100)-100","v":42.72546162766497},{"$f":"((AF167/$Z167)*100)-100","v":-23.038689092337563}]
[{"$nulls":20},"4III"]
[{"$nulls":20},"5I"]
[{"$nulls":20},"5II",null,null,54,15,230.9346,null,null,{"$f":"Z170*(Y170/1000)","v":3.4640189999999995},{"$f":"(Y170/1000)/($AI$1/$AI$2)","v":0.004490312500000001},{"$f":"AC170/((Y170/1000)-AD170)","v":329.60247390800157},{"$f":"AC170/((Y170/1000)+AD170)","v":177.73029549936663},{"$f":"AE170-$Z170","v":98.66787390800158},{"$f":"AF170-$Z170","v":-53.204304500633356},{"$f":"((AE170/$Z170)*100)-100","v":42.72546162766497},{"$f":"((AF170/$Z170)*100)-100","v":-23.03868909233755}]
[{"$nulls":20},"5III",{"$nulls":24},"Average for tooth mesial teeth"]
[{"$nulls":20},"6I",{"$nulls":23},"I"]
[{"$nulls":20},"6II",null,null,45,15,213.84449999999998,null,null,{"$f":"Z173*(Y173/1000)","v":3.2076674999999994},{"$f":"(Y173/1000)/($AI$1/$AI$2)","v":0.004490312500000001},{"$f":"AC173/((Y173/1000)-AD173)","v":305.210549790372},{"$f":"AC173/((Y173/1000)+AD173)","v":164.5775305039362},{"$f":"AE173-$Z173","v":91.36604979037202},{"$f":"AF173-$Z173","v":-49.26696949606378},{"$f":"((AE173/$Z173)*100)-100","v":42.72546162766497},{"$f":"((AF173/$Z173)*100)-100","v":-23.038689092337563},{"$nulls":8},"II",{"$f":"AVERAGE(Z158,Z161,Z164,Z167,Z170)","v":205.04286000000002},{"$f":"AVERAGE(AE158,AE161,AE164,AE167,AE170)","v":292.6483684695668},{"$f":"AVERAGE(AF158,AF161,AF164,AF167,AF170)","v":157.80367297856304},{"$f":"AVERAGE(AK161,AK164,AK167,AK170)","v":92.53020000000001},{"$f":"AVERAGE(AL161,AL164,AL167,AL170)","v":132.0641550950017},{"$f":"AVERAGE(AM161,AM164,AM167,AM170)","v":71.21245490548189},{"$f":"AVERAGE(AN161,AN164,AN167,AN170)","v":-16.153969807177788},{"$f":"AVERAGE(AO161,AO164,AO167,AO170)","v":219.4305798076614}]
[{"$nulls":20},"6III",{"$nulls":23},"III",{"$f":"AVERAGE(Z159,Z162,Z165,Z168,Z171)","v":132.8481},{"$f":"AVERAGE(AE162,AE165,AE168,AE171)","v":189.608063988582},{"$f":"AVERAGE(AF162,AF165,AF168,AF171)","v":102.24163927592231}]
[{"$nulls":20},"7I"]
[{"$nulls":20},"7II",null,null,72,15,261.32399999999996,null,null,{"$f":"Z176*(Y176/1000)","v":3.919859999999999},{"$f":"(Y176/1000)/($AI$1/$AI$2)","v":0.004490312500000001},{"$f":"AC176/((Y176/1000)-AD176)","v":372.97588534387916},{"$f":"AC176/((Y176/1000)+AD176)","v":201.11837611633976},{"$f":"AE176-$Z176","v":111.6518853438792},{"$f":"AF176-$Z176","v":-60.205623883660195},{"$f":"((AE176/$Z176)*100)-100","v":42.72546162766497},{"$f":"((AF176/$Z176)*100)-100","v":-23.038689092337563},{"$f":"Z176-Z177","v":99.23069999999996},{"$f":"AE176-AE177","v":141.6274746513633},{"$f":"AF176-AF177","v":76.36924754284975},{"$f":"AF176-AE177","v":-30.23003457617611},{"$f":"AE176-AF177","v":248.22675677038916},{"$f":"((AL176/$AK176)*100)-100","v":42.72546162766497},{"$f":"((AM176/$AK176)*100)-100","v":-23.038689092337577}]
[{"$nulls":20},"7III",null,null,21,15,162.0933,null,null,{"$f":"Z177*(Y177/1000)","v":2.4313995},{"$f":"(Y177/1000)/($AI$1/$AI$2)","v":0.004490312500000001},{"$f":"AC177/((Y177/1000)-AD177)","v":231.34841069251587},{"$f":"AC177/((Y177/1000)+AD177)","v":124.74912857349001},{"$f":"AE177-$Z177","v":69.25511069251587},{"$f":"AF177-$Z177","v":-37.34417142650999},{"$f":"((AE177/$Z177)*100)-100","v":42.72546162766497},{"$f":"((AF177/$Z177)*100)-100","v":-23.03868909233755}]
[{"$nulls":20},"8I"]
[{"$nulls":20},"8II",null,null,54,15,230.9346,null,null,{"$f":"Z179*(Y179/1000)","v":3.4640189999999995},{"$f":"(Y179/1000)/($AI$1/$AI$2)","v":0.004490312500000001},{"$f":"AC179/((Y179/1000)-AD179)","v":329.60247390800157},{"$f":"AC179/((Y179/1000)+AD179)","v":177.73029549936663},{"$f":"AE179-$Z179","v":98.66787390800158},{"$f":"AF179-$Z179","v":-53.204304500633356},{"$f":"((AE179/$Z179)*100)-100","v":42.72546162766497},{"$f":"((AF179/$Z179)*100)-100","v":-23.03868909233755},{"$f":"Z179-Z180","v":113.55149999999999},{"$f":"AE179-AE180","v":162.06690256013798},{"$f":"AF179-AF180","v":87.39072295531432},{"$f":"AF179-AE180","v":10.194724151503038},{"$f":"AE179-AF180","v":239.26290136394925},{"$f":"((AL179/$AK179)*100)-100","v":42.72546162766497},{"$f":"((AM179/$AK179)*100)-100","v":-23.03868909233755}]
[{"$nulls":20},"8III",null,null,3,15,117.3831,null,null,{"$f":"Z180*(Y180/1000)","v":1.7607465},{"$f":"(Y180/1000)/($AI$1/$AI$2)","v":0.004490312500000001},{"$f":"AC180/((Y180/1000)-AD180)","v":167.5355713478636},{"$f":"AC180/((Y180/1000)+AD180)","v":90.33957254405232},{"$f":"AE180-$Z180","v":50.152471347863596},{"$f":"AF180-$Z180","v":-27.043527455947682},{"$f":"((AE180/$Z180)*100)-100","v":42.72546162766497},{"$f":"((AF180/$Z180)*100)-100","v":-23.03868909233755}]
[{"$nulls":20},"9I"]
[{"$nulls":20},"9II",null,null,30,15,182.553,null,null,{"$f":"Z182*(Y182/1000)","v":2.738295},{"$f":"(Y182/1000)/($AI$1/$AI$2)","v":0.004490312500000001},{"$f":"AC182/((Y182/1000)-AD182)","v":260.54961196515126},{"$f":"AC182/((Y182/1000)+AD182)","v":140.49518190126503},{"$f":"AE182-$Z182","v":77.99661196515126},{"$f":"AF182-$Z182","v":-42.05781809873497},{"$f":"((AE182/$Z182)*100)-100","v":42.725461627665},{"$f":"((AF182/$Z182)*100)-100","v":-23.03868909233755}]
[{"$nulls":20},"9III"]
[{"$nulls":20},"10I"]
[{"$nulls":20},"10II",null,null,12,15,140.37,null,null,{"$f":"Z185*(Y185/1000)","v":2.10555},{"$f":"(Y185/1000)/($AI$1/$AI$2)","v":0.004490312500000001},{"$f":"AC185/((Y185/1000)-AD185)","v":200.34373048675334},{"$f":"AC185/((Y185/1000)+AD185)","v":108.03059212108579},{"$f":"AE185-$Z185","v":59.97373048675334},{"$f":"AF185-$Z185","v":-32.339407878914216},{"$f":"((AE185/$Z185)*100)-100","v":42.72546162766497},{"$f":"((AF185/$Z185)*100)-100","v":-23.03868909233755}]
[{"$nulls":20},"10III"]
[{"$nulls":20},"11I"]
[{"$nulls":20},"11II",null,null,45,15,213.84449999999998,null,null,{"$f":"Z188*(Y188/1000)","v":3.2076674999999994},{"$f":"(Y188/1000)/($AI$1/$AI$2)","v":0.004490312500000001},{"$f":"AC188/((Y188/1000)-AD188)","v":305.210549790372},{"$f":"AC188/((Y188/1000)+AD188)","v":164.5775305039362},{"$f":"AE188-$Z188","v":91.36604979037202},{"$f":"AF188-$Z188","v":-49.26696949606378},{"$f":"((AE188/$Z188)*100)-100","v":42.72546162766497},{"$f":"((AF188/$Z188)*100)-100","v":-23.038689092337563}]
[{"$nulls":20},"11III"]
[{"$nulls":20},"12I"]
[{"$nulls":20},"12II",null,null,24,15,169.05360000000002,null,null,{"$f":"Z191*(Y191/1000)","v":2.535804},{"$f":"(Y191/1000)/($AI$1/$AI$2)","v":0.004490312500000001},{"$f":"AC191/((Y191/1000)-AD191)","v":241.28253099818625},{"$f":"AC191/((Y191/1000)+AD191)","v":130.10586669659605},{"$f":"AE191-$Z191","v":72.22893099818623},{"$f":"AF191-$Z191","v":-38.947733303403965},{"$f":"((AE191/$Z191)*100)-100","v":42.72546162766497},{"$f":"((AF191/$Z191)*100)-100","v":-23.03868909233755}]
[{"$nulls":20},"12III"]
[{"$nulls":20},"MB.R.2180.3 mx dext"]
[{"$nulls":20},"1I"]
[{"$nulls":20},"1II",null,null,38.26,15,200.21843072000001,null,null,{"$f":"Z195*(Y195/1000)","v":3.0032764608},{"$f":"(Y195/1000)/($AI$1/$AI$2)","v":0.004490312500000001},{"$f":"AC195/((Y195/1000)-AD195)","v":285.76267950878656},{"$f":"AC195/((Y195/1000)+AD195)","v":154.09072896086195},{"$f":"AE195-$Z195","v":85.54424878878655},{"$f":"AF195-$Z195","v":-46.12770175913806},{"$f":"((AE195/$Z195)*100)-100","v":42.72546162766494},{"$f":"((AF195/$Z195)*100)-100","v":-23.03868909233755}]
[{"$nulls":20},"1III"]
[{"$nulls":20},"2I"]
[{"$nulls":20},"2II",null,null,69.78,15,257.84922048,null,null,{"$f":"Z198*(Y198/1000)","v":3.8677383072},{"$f":"(Y198/1000)/($AI$1/$AI$2)","v":0.004490312500000001},{"$f":"AC198/((Y198/1000)-AD198)","v":368.01649023341565},{"$f":"AC198/((Y198/1000)+AD198)","v":198.44414024659685},{"$f":"AE198-$Z198","v":110.16726975341567},{"$f":"AF198-$Z198","v":-59.40508023340314},{"$f":"((AE198/$Z198)*100)-100","v":42.72546162766497},{"$f":"((AF198/$Z198)*100)-100","v":-23.038689092337535},{"$f":"Z198-Z199","v":128.78918026},{"$f":"AE198-AE199","v":183.8149520525706},{"$f":"AF198-AF199","v":99.11784143532846},{"$f":"AF198-AE199","v":14.242602065751782},{"$f":"AE198-AF199","v":268.6901914221473},{"$f":"((AL198/$AK198)*100)-100","v":42.725461627665},{"$f":"((AM198/$AK198)*100)-100","v":-23.038689092337535}]
[{"$nulls":20},"2III",null,null,7.51,15,129.06004022,null,null,{"$f":"Z199*(Y199/1000)","v":1.9359006032999997},{"$f":"(Y199/1000)/($AI$1/$AI$2)","v":0.004490312500000001},{"$f":"AC199/((Y199/1000)-AD199)","v":184.20153818084506},{"$f":"AC199/((Y199/1000)+AD199)","v":99.32629881126839},{"$f":"AE199-$Z199","v":55.14149796084507},{"$f":"AF199-$Z199","v":-29.733741408731603},{"$f":"((AE199/$Z199)*100)-100","v":42.72546162766497},{"$f":"((AF199/$Z199)*100)-100","v":-23.038689092337563}]
[{"$nulls":20},"3I"]
[{"$nulls":20},"3II",null,null,28.51,15,179.25306422,null,null,{"$f":"Z201*(Y201/1000)","v":2.6887959633},{"$f":"(Y201/1000)/($AI$1/$AI$2)","v":0.004490312500000001},{"$f":"AC201/((Y201/1000)-AD201)","v":255.83976338972977},{"$f":"AC201/((Y201/1000)+AD201)","v":137.95550806586604},{"$f":"AE201-$Z201","v":76.58669916972977},{"$f":"AF201-$Z201","v":-41.29755615413396},{"$f":"((AE201/$Z201)*100)-100","v":42.72546162766497},{"$f":"((AF201/$Z201)*100)-100","v":-23.03868909233755},{"$f":"Z201-Z202","v":54.06726422},{"$f":"AE201-AE202","v":77.16775244744437},{"$f":"AF201-AF202","v":41.61087531562154},{"$f":"AF201-AE202","v":-40.716502876419355},{"$f":"AE201-AF202","v":159.49513063948527},{"$f":"((AL201/$AK201)*100)-100","v":42.72546162766503},{"$f":"((AM201/$AK201)*100)-100","v":-23.038689092337535}]
[{"$nulls":20},"3III",null,null,6,15,125.1858,null,null,{"$f":"Z202*(Y202/1000)","v":1.8777869999999999},{"$f":"(Y202/1000)/($AI$1/$AI$2)","v":0.004490312500000001},{"$f":"AC202/((Y202/1000)-AD202)","v":178.6720109422854},{"$f":"AC202/((Y202/1000)+AD202)","v":96.3446327502445},{"$f":"AE202-$Z202","v":53.486210942285396},{"$f":"AF202-$Z202","v":-28.8411672497555},{"$f":"((AE202/$Z202)*100)-100","v":42.72546162766494},{"$f":"((AF202/$Z202)*100)-100","v":-23.03868909233755}]
[{"$nulls":20},"4I"]
[{"$nulls":20},"4II",null,null,25.51,15,172.50383222,null,null,{"$f":"Z204*(Y204/1000)","v":2.5875574833},{"$f":"(Y204/1000)/($AI$1/$AI$2)","v":0.004490312500000001},{"$f":"AC204/((Y204/1000)-AD204)","v":246.20689086140766},{"$f":"AC204/((Y204/1000)+AD204)","v":132.76121064246658},{"$f":"AE204-$Z204","v":73.70305864140767},{"$f":"AF204-$Z204","v":-39.74262157753341},{"$f":"((AE204/$Z204)*100)-100","v":42.72546162766497},{"$f":"((AF204/$Z204)*100)-100","v":-23.03868909233755}]
[{"$nulls":20},"4III"]
[{"$nulls":20},"5I"]
[{"$nulls":20},"5II",null,null,52.51,15,228.19252022,null,null,{"$f":"Z207*(Y207/1000)","v":3.4228878033},{"$f":"(Y207/1000)/($AI$1/$AI$2)","v":0.004490312500000001},{"$f":"AC207/((Y207/1000)-AD207)","v":325.6888278837977},{"$f":"AC207/((Y207/1000)+AD207)","v":175.6199549545447},{"$f":"AE207-$Z207","v":97.49630766379772},{"$f":"AF207-$Z207","v":-52.572565265455296},{"$f":"((AE207/$Z207)*100)-100","v":42.72546162766497},{"$f":"((AF207/$Z207)*100)-100","v":-23.03868909233755},{"$f":"Z207-Z208","v":106.89052022000001},{"$f":"AE207-AE208","v":152.55998842020756},{"$f":"AF207-AF208","v":82.26434559733201},{"$f":"AF207-AE208","v":2.4911154909545417},{"$f":"AE207-AF208","v":232.33321852658503},{"$f":"((AL207/$AK207)*100)-100","v":42.72546162766494},{"$f":"((AM207/$AK207)*100)-100","v":-23.03868909233755}]
[{"$nulls":20},"5III",null,null,4.5,15,121.30199999999999,null,null,{"$f":"Z208*(Y208/1000)","v":1.8195299999999999},{"$f":"(Y208/1000)/($AI$1/$AI$2)","v":0.004490312500000001},{"$f":"AC208/((Y208/1000)-AD208)","v":173.12883946359017},{"$f":"AC208/((Y208/1000)+AD208)","v":93.3556093572127},{"$f":"AE208-$Z208","v":51.826839463590176},{"$f":"AF208-$Z208","v":-27.946390642787293},{"$f":"((AE208/$Z208)*100)-100","v":42.72546162766497},{"$f":"((AF208/$Z208)*100)-100","v":-23.03868909233755},{"$nulls":9},"Average for tooth mesial teeth"]
[{"$nulls":20},"6I",{"$nulls":23},"I"]
[{"$nulls":20},"6II",null,null,34.51,15,192.33032822,null,null,{"$f":"Z210*(Y210/1000)","v":2.8849549233},{"$f":"(Y210/1000)/($AI$1/$AI$2)","v":0.004490312500000001},{"$f":"AC210/((Y210/1000)-AD210)","v":274.5043488019982},{"$f":"AC210/((Y210/1000)+AD210)","v":148.01994187112186},{"$f":"AE210-$Z210","v":82.1740205819982},{"$f":"AF210-$Z210","v":-44.310386348878154},{"$f":"((AE210/$Z210)*100)-100","v":42.72546162766497},{"$f":"((AF210/$Z210)*100)-100","v":-23.03868909233755},{"$nulls":8},"II",{"$f":"AVERAGE(Z195,Z198,Z201,Z204,Z207)","v":207.603413572},{"$f":"AVERAGE(AE195,AE198,AE201,AE204,AE207)","v":296.3029303754275},{"$f":"AVERAGE(AF195,AF198,AF201,AF204,AF207)","v":159.77430857406722},{"$f":"AVERAGE(AK198,AK201,AK204,AK207)","v":96.58232156666668},{"$f":"AVERAGE(AL198,AL201,AL204,AL207)","v":137.84756430674085},{"$f":"AVERAGE(AM198,AM201,AM204,AM207)","v":74.33102078276067},{"$f":"AVERAGE(AN198,AN201,AN204,AN207)","v":-7.994261773237677},{"$f":"AVERAGE(AO198,AO201,AO204,AO207)","v":220.1728468627392}]
[{"$nulls":20},"6III",{"$nulls":23},"III",{"$f":"AVERAGE(Z196,Z199,Z202,Z205,Z208)","v":125.18261340666668},{"$f":"AVERAGE(AE199,AE202,AE205,AE208)","v":178.6674628622402},{"$f":"AVERAGE(AF199,AF202,AF205,AF208)","v":96.34218030624186}]
[{"$nulls":20},"7I"]
[{"$nulls":20},"7II",null,null,15.01,15,147.77587022,null,null,{"$f":"Z213*(Y213/1000)","v":2.2166380533},{"$f":"(Y213/1000)/($AI$1/$AI$2)","v":0.004490312500000001},{"$f":"AC213/((Y213/1000)-AD213)","v":210.9137929457941},{"$f":"AC213/((Y213/1000)+AD213)","v":113.73024692651798},{"$f":"AE213-$Z213","v":63.13792272579411},{"$f":"AF213-$Z213","v":-34.04562329348202},{"$f":"((AE213/$Z213)*100)-100","v":42.725461627665},{"$f":"((AF213/$Z213)*100)-100","v":-23.038689092337535}]
[{"$nulls":20},"7III"]
[{"$nulls":20},"8I"]
[{"$nulls":20},"8II",null,null,42.01,15,207.88715822,null,null,{"$f":"Z216*(Y216/1000)","v":3.1183073733},{"$f":"(Y216/1000)/($AI$1/$AI$2)","v":0.004490312500000001},{"$f":"AC216/((Y216/1000)-AD216)","v":296.70790623412927},{"$f":"AC216/((Y216/1000)+AD216)","v":159.99268217479835},{"$f":"AE216-$Z216","v":88.82074801412926},{"$f":"AF216-$Z216","v":-47.89447604520166},{"$f":"((AE216/$Z216)*100)-100","v":42.72546162766497},{"$f":"((AF216/$Z216)*100)-100","v":-23.038689092337563},{"$f":"Z216-Z217","v":90.50405822},{"$f":"AE216-AE217","v":129.17233488626567},{"$f":"AF216-AF217","v":69.65310963074603},{"$f":"AF216-AE217","v":-7.542889173065248},{"$f":"AE216-AF217","v":206.36833369007695},{"$f":"((AL216/$AK216)*100)-100","v":42.72546162766497},{"$f":"((AM216/$AK216)*100)-100","v":-23.038689092337563}]
[{"$nulls":20},"8III",null,null,3,15,117.3831,null,null,{"$f":"Z217*(Y217/1000)","v":1.7607465},{"$f":"(Y217/1000)/($AI$1/$AI$2)","v":0.004490312500000001},{"$f":"AC217/((Y217/1000)-AD217)","v":167.5355713478636},{"$f":"AC217/((Y217/1000)+AD217)","v":90.33957254405232},{"$f":"AE217-$Z217","v":50.152471347863596},{"$f":"AF217-$Z217","v":-27.043527455947682},{"$f":"((AE217/$Z217)*100)-100","v":42.72546162766497},{"$f":"((AF217/$Z217)*100)-100","v":-23.03868909233755}]
[{"$nulls":20},"9I"]
[{"$nulls":20},"9II",null,null,27.01,15,175.89599822,null,null,{"$f":"Z219*(Y219/1000)","v":2.6384399732999997},{"$f":"(Y219/1000)/($AI$1/$AI$2)","v":0.004490312500000001},{"$f":"AC219/((Y219/1000)-AD219)","v":251.04837544408434},{"$f":"AC219/((Y219/1000)+AD219)","v":135.3718660642306},{"$f":"AE219-$Z219","v":75.15237722408435},{"$f":"AF219-$Z219","v":-40.524132155769394},{"$f":"((AE219/$Z219)*100)-100","v":42.72546162766497},{"$f":"((AF219/$Z219)*100)-100","v":-23.03868909233755}]
[{"$nulls":20},"9III"]
[{"$nulls":20},"10I"]
[{"$nulls":20},"10II",null,null,9.01,15,132.87340622,null,null,{"$f":"Z222*(Y222/1000)","v":1.9931010932999997},{"$f":"(Y222/1000)/($AI$1/$AI$2)","v":0.004490312500000001},{"$f":"AC222/((Y222/1000)-AD222)","v":189.6441824078975},{"$f":"AC222/((Y222/1000)+AD222)","v":102.26111527457549},{"$f":"AE222-$Z222","v":56.770776187897496},{"$f":"AF222-$Z222","v":-30.612290945424505},{"$f":"((AE222/$Z222)*100)-100","v":42.72546162766497},{"$f":"((AF222/$Z222)*100)-100","v":-23.03868909233755}]
[{"$nulls":20},"10III"]
[{"$nulls":20},"11I"]
[{"$nulls":20},"11II",null,null,44.26,15,212.38309472,null,null,{"$f":"Z225*(Y225/1000)","v":3.1857464207999997},{"$f":"(Y225/1000)/($AI$1/$AI$2)","v":0.004490312500000001},{"$f":"AC225/((Y225/1000)-AD225)","v":303.1247523582409},{"$f":"AC225/((Y225/1000)+AD225)","v":163.45281384277442},{"$f":"AE225-$Z225","v":90.74165763824092},{"$f":"AF225-$Z225","v":-48.930280877225584},{"$f":"((AE225/$Z225)*100)-100","v":42.72546162766494},{"$f":"((AF225/$Z225)*100)-100","v":-23.038689092337563}]
[{"$nulls":20},"11III"]
[{"$nulls":20},"12I"]
[{"$nulls":20},"12II",null,null,26.26,15,174.20430272000002,null,null,{"$f":"Z228*(Y228/1000)","v":2.6130645408},{"$f":"(Y228/1000)/($AI$1/$AI$2)","v":0.004490312500000001},{"$f":"AC228/((Y228/1000)-AD228)","v":248.63389523237493},{"$f":"AC228/((Y228/1000)+AD228)","v":134.06991503086468},{"$f":"AE228-$Z228","v":74.42959251237491},{"$f":"AF228-$Z228","v":-40.13438768913534},{"$f":"((AE228/$Z228)*100)-100","v":42.72546162766494},{"$f":"((AF228/$Z228)*100)-100","v":-23.03868909233755}]
[{"$nulls":20},"12III"]
[{"$nulls":20},"MB.R.2181.4 mx sin"]
[{"$nulls":20},"1I",null,null,9,15,132.8481,null,null,{"$f":"Z231*(Y231/1000)","v":1.9927214999999998},{"$f":"(Y231/1000)/($AI$1/$AI$2)","v":0.004490312500000001},{"$f":"AC231/((Y231/1000)-AD231)","v":189.608063988582},{"$f":"AC231/((Y231/1000)+AD231)","v":102.24163927592231},{"$f":"AE231-$Z231","v":56.759963988582},{"$f":"AF231-$Z231","v":-30.606460724077678},{"$f":"((AE231/$Z231)*100)-100","v":42.72546162766497},{"$f":"((AF231/$Z231)*100)-100","v":-23.03868909233755}]
[{"$nulls":20},"1II"]
[{"$nulls":20},"1III"]
[{"$nulls":20},"2I"]
[{"$nulls":20},"2II",null,null,16,15,150.1808,null,null,{"$f":"Z235*(Y235/1000)","v":2.252712},{"$f":"(Y235/1000)/($AI$1/$AI$2)","v":0.004490312500000001},{"$f":"AC235/((Y235/1000)-AD235)","v":214.34624007612027},{"$f":"AC235/((Y235/1000)+AD235)","v":115.58111241161473},{"$f":"AE235-$Z235","v":64.16544007612026},{"$f":"AF235-$Z235","v":-34.59968758838528},{"$f":"((AE235/$Z235)*100)-100","v":42.72546162766494},{"$f":"((AF235/$Z235)*100)-100","v":-23.03868909233755},{"$f":"Z235-Z236","v":-18.872800000000012},{"$f":"AE235-AE236","v":-26.93629092206598},{"$f":"AF235-AF236","v":-14.524754284981327},{"$f":"AF235-AE236","v":-125.70141858657152},{"$f":"AE235-AF236","v":84.24037337952421},{"$f":"((AL235/$AK235)*100)-100","v":42.725461627665},{"$f":"((AM235/$AK235)*100)-100","v":-23.038689092337563}]
[{"$nulls":20},"2III",null,null,24,15,169.05360000000002,null,null,{"$f":"Z236*(Y236/1000)","v":2.535804},{"$f":"(Y236/1000)/($AI$1/$AI$2)","v":0.004490312500000001},{"$f":"AC236/((Y236/1000)-AD236)","v":241.28253099818625},{"$f":"AC236/((Y236/1000)+AD236)","v":130.10586669659605},{"$f":"AE236-$Z236","v":72.22893099818623},{"$f":"AF236-$Z236","v":-38.947733303403965},{"$f":"((AE236/$Z236)*100)-100","v":42.72546162766497},{"$f":"((AF236/$Z236)*100)-100","v":-23.03868909233755}]
[{"$nulls":20},"3I"]
[{"$nulls":20},"3II",null,null,40,15,203.80399999999997,null,null,{"$f":"Z238*(Y238/1000)","v":3.0570599999999994},{"$f":"(Y238/1000)/($AI$1/$AI$2)","v":0.004490312500000001},{"$f":"AC238/((Y238/1000)-AD238)","v":290.8801998156463},{"$f":"AC238/((Y238/1000)+AD238)","v":156.85023008225235},{"$f":"AE238-$Z238","v":87.0761998156463},{"$f":"AF238-$Z238","v":-46.95376991774762},{"$f":"((AE238/$Z238)*100)-100","v":42.72546162766497},{"$f":"((AF238/$Z238)*100)-100","v":-23.03868909233755},{"$f":"Z238-Z239","v":83.80439999999997},{"$f":"AE238-AE239","v":119.61021676429482},{"$f":"AF238-AF239","v":64.49696483830105},{"$f":"AF238-AE239","v":-14.419752969099108},{"$f":"AE238-AF239","v":198.526934571695},{"$f":"((AL238/$AK238)*100)-100","v":42.72546162766497},{"$f":"((AM238/$AK238)*100)-100","v":-23.03868909233755}]
[{"$nulls":20},"3III",null,null,4,15,119.9996,null,null,{"$f":"Z239*(Y239/1000)","v":1.7999939999999999},{"$f":"(Y239/1000)/($AI$1/$AI$2)","v":0.004490312500000001},{"$f":"AC239/((Y239/1000)-AD239)","v":171.26998305135146},{"$f":"AC239/((Y239/1000)+AD239)","v":92.3532652439513},{"$f":"AE239-$Z239","v":51.27038305135146},{"$f":"AF239-$Z239","v":-27.646334756048702},{"$f":"((AE239/$Z239)*100)-100","v":42.72546162766497},{"$f":"((AF239/$Z239)*100)-100","v":-23.038689092337563}]
[{"$nulls":20},"4I"]
[{"$nulls":20},"4II",null,null,42,15,207.867,null,null,{"$f":"Z241*(Y241/1000)","v":3.1180049999999997},{"$f":"(Y241/1000)/($AI$1/$AI$2)","v":0.004490312500000001},{"$f":"AC241/((Y241/1000)-AD241)","v":296.6791353215783},{"$f":"AC241/((Y241/1000)+AD241)","v":159.9771681444307},{"$f":"AE241-$Z241","v":88.81213532157832},{"$f":"AF241-$Z241","v":-47.8898318555693},{"$f":"((AE241/$Z241)*100)-100","v":42.72546162766497},{"$f":"((AF241/$Z241)*100)-100","v":-23.03868909233755},{"$f":"Z241-Z242","v":77.5574},{"$f":"AE241-AE242","v":110.69415717641462},{"$f":"AF241-AF242","v":59.68919174589939},{"$f":"AF241-AE242","v":-26.007810000733002},{"$f":"AE241-AF242","v":196.39115892304702},{"$f":"((AL241/$AK241)*100)-100","v":42.72546162766494},{"$f":"((AM241/$AK241)*100)-100","v":-23.038689092337563}]
[{"$nulls":20},"4III",null,null,8,15,130.3096,null,null,{"$f":"Z242*(Y242/1000)","v":1.9546439999999998},{"$f":"(Y242/1000)/($AI$1/$AI$2)","v":0.004490312500000001},{"$f":"AC242/((Y242/1000)-AD242)","v":185.9849781451637},{"$f":"AC242/((Y242/1000)+AD242)","v":100.2879763985313},{"$f":"AE242-$Z242","v":55.675378145163705},{"$f":"AF242-$Z242","v":-30.02162360146869},{"$f":"((AE242/$Z242)*100)-100","v":42.72546162766497},{"$f":"((AF242/$Z242)*100)-100","v":-23.03868909233755}]
[{"$nulls":20},"5I"]
[{"$nulls":20},"5II",null,null,16,15,150.1808,null,null,{"$f":"Z244*(Y244/1000)","v":2.252712},{"$f":"(Y244/1000)/($AI$1/$AI$2)","v":0.004490312500000001},{"$f":"AC244/((Y244/1000)-AD244)","v":214.34624007612027},{"$f":"AC244/((Y244/1000)+AD244)","v":115.58111241161473},{"$f":"AE244-$Z244","v":64.16544007612026},{"$f":"AF244-$Z244","v":-34.59968758838528},{"$f":"((AE244/$Z244)*100)-100","v":42.72546162766494},{"$f":"((AF244/$Z244)*100)-100","v":-23.03868909233755}]
[{"$nulls":20},"5III"]
[{"$nulls":20},"6I",{"$nulls":24},"Average for tooth mesial teeth"]
[{"$nulls":20},"6II",null,null,36,15,195.49079999999998,null,null,{"$f":"Z247*(Y247/1000)","v":2.9323619999999995},{"$f":"(Y247/1000)/($AI$1/$AI$2)","v":0.004490312500000001},{"$f":"AC247/((Y247/1000)-AD247)","v":279.01514673961526},{"$f":"AC247/((Y247/1000)+AD247)","v":150.45228238387656},{"$f":"AE247-$Z247","v":83.52434673961528},{"$f":"AF247-$Z247","v":-45.038517616123414},{"$f":"((AE247/$Z247)*100)-100","v":42.72546162766497},{"$f":"((AF247/$Z247)*100)-100","v":-23.03868909233755},{"$nulls":8},"I",{"$f":"Z231","v":132.8481},{"$f":"AVERAGE(AE231)","v":189.608063988582},{"$f":"AVERAGE(AF231)","v":102.24163927592231}]
[{"$nulls":20},"6III",{"$nulls":23},"II",{"$f":"AVERAGE(Z235,Z238,Z241,Z244)","v":178.00814999999997},{"$f":"AVERAGE(AE235,AE238,AE241,AE244)","v":254.06295382236627},{"$f":"AVERAGE(AF235,AF238,AF241,AF244)","v":136.99740576247814},{"$f":"AVERAGE(AK238,AK241)","v":80.68089999999998},{"$f":"AVERAGE(AL238,AL241)","v":115.15218697035472},{"$f":"AVERAGE(AM238,AM241)","v":62.09307829210022},{"$f":"AVERAGE(AN238,AN241)","v":-20.213781484916055},{"$f":"AVERAGE(AO238,AO241)","v":197.45904674737102}]
[{"$nulls":20},"7I",{"$nulls":23},"III",{"$f":"AVERAGE(Z236,Z239,Z242,Z245)","v":139.7876},{"$f":"AVERAGE(AE236,AE239,AE242,AE245)","v":199.5124973982338},{"$f":"AVERAGE(AF236,AF239,AF242,AF245)","v":107.58236944635955}]
[{"$nulls":20},"7II",null,null,16,15,150.1808,null,null,{"$f":"Z250*(Y250/1000)","v":2.252712},{"$f":"(Y250/1000)/($AI$1/$AI$2)","v":0.004490312500000001},{"$f":"AC250/((Y250/1000)-AD250)","v":214.34624007612027},{"$f":"AC250/((Y250/1000)+AD250)","v":115.58111241161473},{"$f":"AE250-$Z250","v":64.16544007612026},{"$f":"AF250-$Z250","v":-34.59968758838528},{"$f":"((AE250/$Z250)*100)-100","v":42.72546162766494},{"$f":"((AF250/$Z250)*100)-100","v":-23.03868909233755}]
[{"$nulls":20},"7III"]
[{"$nulls":20},"8I"]
[{"$nulls":20},"8II",null,null,12,15,140.37,null,null,{"$f":"Z253*(Y253/1000)","v":2.10555},{"$f":"(Y253/1000)/($AI$1/$AI$2)","v":0.004490312500000001},{"$f":"AC253/((Y253/1000)-AD253)","v":200.34373048675334},{"$f":"AC253/((Y253/1000)+AD253)","v":108.03059212108579},{"$f":"AE253-$Z253","v":59.97373048675334},{"$f":"AF253-$Z253","v":-32.339407878914216},{"$f":"((AE253/$Z253)*100)-100","v":42.72546162766497},{"$f":"((AF253/$Z253)*100)-100","v":-23.03868909233755}]
[{"$nulls":20},"8III"]
[{"$nulls":20},"9I"]
[{"$nulls":20},"9II",null,null,4,15,119.9996,null,null,{"$f":"Z256*(Y256/1000)","v":1.7999939999999999},{"$f":"(Y256/1000)/($AI$1/$AI$2)","v":0.004490312500000001},{"$f":"AC256/((Y256/1000)-AD256)","v":171.26998305135146},{"$f":"AC256/((Y256/1000)+AD256)","v":92.3532652439513},{"$f":"AE256-$Z256","v":51.27038305135146},{"$f":"AF256-$Z256","v":-27.646334756048702},{"$f":"((AE256/$Z256)*100)-100","v":42.72546162766497},{"$f":"((AF256/$Z256)*100)-100","v":-23.038689092337563}]
[{"$nulls":20},"9III"]
[{"$nulls":20},"10I"]
[{"$nulls":20},"10II",null,null,25.66,15,172.84462832,null,null,{"$f":"Z259*(Y259/1000)","v":2.5926694248},{"$f":"(Y259/1000)/($AI$1/$AI$2)","v":0.004490312500000001},{"$f":"AC259/((Y259/1000)-AD259)","v":246.69329366834174},{"$f":"AC259/((Y259/1000)+AD259)","v":133.02349178854877},{"$f":"AE259-$Z259","v":73.84866534834174},{"$f":"AF259-$Z259","v":-39.82113653145123},{"$f":"((AE259/$Z259)*100)-100","v":42.72546162766497},{"$f":"((AF259/$Z259)*100)-100","v":-23.038689092337563},{"$f":"Z259-Z260","v":42.53502832000001},{"$f":"AE259-AE260","v":60.708315523178044},{"$f":"AF259-AF260","v":32.73551539001747},{"$f":"AF259-AE260","v":-52.96148635661493},{"$f":"AE259-AF260","v":146.40531726981044},{"$f":"((AL259/$AK259)*100)-100","v":42.72546162766497},{"$f":"((AM259/$AK259)*100)-100","v":-23.038689092337577}]
[{"$nulls":20},"10III",null,null,8,15,130.3096,null,null,{"$f":"Z260*(Y260/1000)","v":1.9546439999999998},{"$f":"(Y260/1000)/($AI$1/$AI$2)","v":0.004490312500000001},{"$f":"AC260/((Y260/1000)-AD260)","v":185.9849781451637},{"$f":"AC260/((Y260/1000)+AD260)","v":100.2879763985313},{"$f":"AE260-$Z260","v":55.675378145163705},{"$f":"AF260-$Z260","v":-30.02162360146869},{"$f":"((AE260/$Z260)*100)-100","v":42.72546162766497},{"$f":"((AF260/$Z260)*100)-100","v":-23.03868909233755}]
[{"$nulls":20},"11I"]
[{"$nulls":20},"11II"]
[{"$nulls":20},"11III"]
[{"$nulls":20},"12I"]
[{"$nulls":20},"12II"]
[{"$nulls":20},"12III"]
[{"$nulls":20},"13I"]
[{"$nulls":20},"13II"]
[{"$nulls":20},"13III"]
[{"$nulls":20},"MB.R.2181.3 mx dext"]
[{"$nulls":20},"1I",null,null,"?(10)",15]
[{"$nulls":20},"1II",null,null,53.75,15,230.47693750000002,null,null,{"$f":"Z272*(Y272/1000)","v":3.4571540625000003},{"$f":"(Y272/1000)/($AI$1/$AI$2)","v":0.004490312500000001},{"$f":"AC272/((Y272/1000)-AD272)","v":328.94927299217994},{"$f":"AC272/((Y272/1000)+AD272)","v":177.3780724398339},{"$f":"AE272-$Z272","v":98.47233549217992},{"$f":"AF272-$Z272","v":-53.09886506016613},{"$f":"((AE272/$Z272)*100)-100","v":42.725461627665},{"$f":"((AF272/$Z272)*100)-100","v":-23.03868909233755},{"$f":"Z272-Z273","v":93.54957382000003},{"$f":"AE272-AE273","v":133.51906108530832},{"$f":"AF272-AF273","v":71.99697836040343},{"$f":"AF272-AE273","v":-18.052139467037733},{"$f":"AE272-AF273","v":223.5681789127495},{"$f":"((AL272/$AK272)*100)-100","v":42.72546162766503},{"$f":"((AM272/$AK272)*100)-100","v":-23.038689092337535}]
[{"$nulls":20},"1III",null,null,10.62,15,136.92736367999998,null,null,{"$f":"Z273*(Y273/1000)","v":2.0539104551999996},{"$f":"(Y273/1000)/($AI$1/$AI$2)","v":0.004490312500000001},{"$f":"AC273/((Y273/1000)-AD273)","v":195.43021190687162},{"$f":"AC273/((Y273/1000)+AD273)","v":105.38109407943045},{"$f":"AE273-$Z273","v":58.502848226871635},{"$f":"AF273-$Z273","v":-31.54626960056953},{"$f":"((AE273/$Z273)*100)-100","v":42.72546162766494},{"$f":"((AF273/$Z273)*100)-100","v":-23.03868909233755}]
[{"$nulls":20},"2I",null,null,"?(25,62)",15]
[{"$nulls":20},"2II",null,null,51.25,15,225.8466875,null,null,{"$f":"Z275*(Y275/1000)","v":3.3877003125},{"$f":"(Y275/1000)/($AI$1/$AI$2)","v":0.004490312500000001},{"$f":"AC275/((Y275/1000)-AD275)","v":322.34072730516493},{"$f":"AC275/((Y275/1000)+AD275)","v":173.81457134153183},{"$f":"AE275-$Z275","v":96.49403980516493},{"$f":"AF275-$Z275","v":-52.03211615846817},{"$f":"((AE275/$Z275)*100)-100","v":42.72546162766497},{"$f":"((AF275/$Z275)*100)-100","v":-23.03868909233755},{"$f":"Z275-Z276","v":66.10468750000001},{"$f":"AE275-AE276","v":94.34822039190036},{"$f":"AF275-AF276","v":50.87503407141368},{"$f":"AF275-AE276","v":-54.177935571732746},{"$f":"AE275-AF276","v":199.4011900350468},{"$f":"((AL275/$AK275)*100)-100","v":42.72546162766497},{"$f":"((AM275/$AK275)*100)-100","v":-23.038689092337563}]
[{"$nulls":20},"2III",null,null,20,15,159.742,null,null,{"$f":"Z276*(Y276/1000)","v":2.39613},{"$f":"(Y276/1000)/($AI$1/$AI$2)","v":0.004490312500000001},{"$f":"AC276/((Y276/1000)-AD276)","v":227.99250691326458},{"$f":"AC276/((Y276/1000)+AD276)","v":122.93953727011815},{"$f":"AE276-$Z276","v":68.25050691326459},{"$f":"AF276-$Z276","v":-36.80246272988184},{"$f":"((AE276/$Z276)*100)-100","v":42.72546162766497},{"$f":"((AF276/$Z276)*100)-100","v":-23.03868909233755}]
[{"$nulls":20},"3I",null,null,"?(45)",15]
[{"$nulls":20},"3II",null,null,45.63,15,215.08193718,null,null,{"$f":"Z278*(Y278/1000)","v":3.2262290577},{"$f":"(Y278/1000)/($AI$1/$AI$2)","v":0.004490312500000001},{"$f":"AC278/((Y278/1000)-AD278)","v":306.9766877178794},{"$f":"AC278/((Y278/1000)+AD278)","v":165.52987837932304},{"$f":"AE278-$Z278","v":91.89475053787936},-49.552058800676974,{"$f":"((AE278/$Z278)*100)-100","v":42.72546162766494},-23.03868909233755,{"$f":"Z278-Z279","v":86.04743718},{"$f":"AE278-AE279","v":122.81160193393},{"$f":"AF278-AF279","v":66.22323565617533},{"$f":"AF278-AE279","v":-18.63520740462633},{"$f":"AE278-AF279","v":207.67004499473165},{"$f":"((AL278/$AK278)*100)-100","v":42.72546162766494},{"$f":"((AM278/$AK278)*100)-100","v":-23.03868909233755}]
[{"$nulls":20},"3III",null,null,7.5,15,129.0345,null,null,{"$f":"Z279*(Y279/1000)","v":1.9355175},{"$f":"(Y279/1000)/($AI$1/$AI$2)","v":0.004490312500000001},{"$f":"AC279/((Y279/1000)-AD279)","v":184.16508578394937},{"$f":"AC279/((Y279/1000)+AD279)","v":99.3066427231477},55.13058578394936,-29.727857276852305,42.72546162766497,-23.038689092337563]
[{"$nulls":20},"4I",null,null,43.75,15,211.3709375,null,null,{"$f":"Z280*(Y280/1000)","v":3.1705640625},{"$f":"(Y280/1000)/($AI$1/$AI$2)","v":0.004490312500000001},{"$f":"AC280/((Y280/1000)-AD280)","v":301.6801462935982},{"$f":"AC280/((Y280/1000)+AD280)","v":162.67384437781587},90.30920879359823,-48.69709312218413,42.72546162766497,-23.03868909233755,{"$f":"Z280-Z281","v":-20.239213679999978},{"$f":"AE280-AE281","v":-28.88651115458947},{"$f":"AF280-AF281","v":-15.576364165530947},{"$f":"AF280-AE281","v":-167.89281307037183},{"$f":"AE280-AF281","v":123.42993775025141},{"$f":"((AL280/$AK280)*100)-100","v":42.725461627664885},{"$f":"((AM280/$AK280)*100)-100","v":-23.038689092337478}]
[{"$nulls":20},"4II",null,null,54.37,15,231.61015117999997,null,null,{"$f":"Z281*(Y281/1000)","v":3.4741522676999996},{"$f":"(Y281/1000)/($AI$1/$AI$2)","v":0.004490312500000001},{"$f":"AC281/((Y281/1000)-AD281)","v":330.5666574481877},{"$f":"AC281/((Y281/1000)+AD281)","v":178.25020854334682},98.95650626818772,-53.35994263665316,42.72546162766497,-23.03868909233755,{"$f":"Z281-Z282","v":58.833653999999996},{"$f":"AE281-AE282","v":83.97060426392318},{"$f":"AF281-AF282","v":45.27915137327838},{"$f":"AF281-AE282","v":-68.3458446409177},{"$f":"AE281-AF282","v":197.59560027811926},{"$f":"((AL281/$AK281)*100)-100","v":42.72546162766497},{"$f":"((AM281/$AK281)*100)-100","v":-23.03868909233755}]
[{"$nulls":20},"4III",null,null,25.63,15,172.77649717999998,null,null,{"$f":"Z282*(Y282/1000)","v":2.5916474576999997},{"$f":"(Y282/1000)/($AI$1/$AI$2)","v":0.004490312500000001},{"$f":"AC282/((Y282/1000)-AD282)","v":246.59605318426452},{"$f":"AC282/((Y282/1000)+AD282)","v":132.97105717006843},73.81955600426454,-39.805440009931544,42.72546162766497,-23.03868909233755]
[{"$nulls":20},"5I",null,null,"?(21,87)",15]
[{"$nulls":20},"5II",null,null,46.87,15,217.49944118000002,null,null,{"$f":"Z284*(Y284/1000)","v":3.2624916177000003},{"$f":"(Y284/1000)/($AI$1/$AI$2)","v":0.004490312500000001},{"$f":"AC284/((Y284/1000)-AD284)","v":310.4270814617467},{"$f":"AC284/((Y284/1000)+AD284)","v":167.39042114896824},{"$f":"AE284-$Z284","v":92.92764028174668},{"$f":"AF284-$Z284","v":-50.109020031031775},{"$f":"((AE284/$Z284)*100)-100","v":42.72546162766497},{"$f":"((AF284/$Z284)*100)-100","v":-23.038689092337535},{"$f":"Z284-Z285","v":85.28450368000003},{"$f":"AE284-AE285","v":121.722701574143},{"$f":"AF284-AF285","v":65.63607203322167},{"$f":"AF284-AE285","v":-21.31395873863545},{"$f":"AE284-AF285","v":208.67273234600012},{"$f":"((AL284/$AK284)*100)-100","v":42.72546162766503},{"$f":"((AM284/$AK284)*100)-100","v":-23.038689092337535}]
[{"$nulls":20},"5III",null,null,8.75,15,132.2149375,null,null,{"$f":"Z285*(Y285/1000)","v":1.9832240624999997},{"$f":"(Y285/1000)/($AI$1/$AI$2)","v":0.004490312500000001},{"$f":"AC285/((Y285/1000)-AD285)","v":188.7043798876037},{"$f":"AC285/((Y285/1000)+AD285)","v":101.75434911574658},{"$f":"AE285-$Z285","v":56.4894423876037},{"$f":"AF285-$Z285","v":-30.460588384253413},{"$f":"((AE285/$Z285)*100)-100","v":42.72546162766494},{"$f":"((AF285/$Z285)*100)-100","v":-23.03868909233755}]
[{"$nulls":20},"6I",{"$nulls":24},"Average for tooth mesial teeth"]
[{"$nulls":20},"6II",null,null,31.25,15,185.2946875,null,null,{"$f":"Z287*(Y287/1000)","v":2.7794203125},{"$f":"(Y287/1000)/($AI$1/$AI$2)","v":0.004490312500000001},{"$f":"AC287/((Y287/1000)-AD287)","v":264.4626981059142},{"$f":"AC287/((Y287/1000)+AD287)","v":142.60522054225655},{"$f":"AE287-$Z287","v":79.16801060591422},{"$f":"AF287-$Z287","v":-42.68946695774346},{"$f":"((AE287/$Z287)*100)-100","v":42.72546162766497},{"$f":"((AF287/$Z287)*100)-100","v":-23.038689092337563},{"$nulls":8},"I",{"$f":"AVERAGE(Z280)","v":211.3709375}]
[{"$nulls":20},"6III",{"$nulls":23},"II",{"$f":"AVERAGE(Z272,Z275,Z278,Z281,Z284)","v":224.10303090800002},{"$f":"AVERAGE(AE272,AE275,AE278,AE281,AE284)","v":319.8520853850317},{"$f":"AVERAGE(AF272,AF275,AF278,AF281,AF284)","v":172.47263037060077},{"$f":"AVERAGE(AK275,AK278,AK281,AK284)","v":74.06757059},{"$f":"AVERAGE(AL275,AL278,AL281,AL284)","v":105.71328204097414},{"$f":"AVERAGE(AM275,AM278,AM281,AM284)","v":57.003373283522265},{"$f":"AVERAGE(AN275,AN278,AN281,AN284)","v":-40.61823658897806},{"$f":"AVERAGE(AO275,AO278,AO281,AO284)","v":203.33489191347445}]
[{"$nulls":20},"7I",{"$nulls":23},"III",{"$f":"AVERAGE(Z273,Z276,Z279,Z282,Z285)","v":146.13905967199997},{"$f":"AVERAGE(AE273,AE276,AE279,AE282,AE285)","v":208.57764753519078},{"$f":"AVERAGE(AF273,AF276,AF279,AF282,AF285)","v":112.47053607170226}]
[{"$nulls":20},"7II",null,null,50.63,15,224.68329718,null,null,{"$f":"Z290*(Y290/1000)","v":3.3702494577},{"$f":"(Y290/1000)/($AI$1/$AI$2)","v":0.004490312500000001},{"$f":"AC290/((Y290/1000)-AD290)","v":320.6802731004134},{"$f":"AC290/((Y290/1000)+AD290)","v":172.91921090028697},{"$f":"AE290-$Z290","v":95.99697592041338},{"$f":"AF290-$Z290","v":-51.76408627971304},{"$f":"((AE290/$Z290)*100)-100","v":42.72546162766497},{"$f":"((AF290/$Z290)*100)-100","v":-23.038689092337563},{"$f":"Z290-Z291","v":83.07329718},{"$f":"AE290-AE291","v":118.566746889477},{"$f":"AF290-AF291","v":63.93429852394617},{"$f":"AF290-AE291","v":-29.194315310649415},{"$f":"AE290-AF291","v":211.6953607240726},{"$f":"((AL290/$AK290)*100)-100","v":42.725461627665},{"$f":"((AM290/$AK290)*100)-100","v":-23.038689092337563}]
[{"$nulls":20},"7III",null,null,12.5,15,141.61,null,null,{"$f":"Z291*(Y291/1000)","v":2.12415},{"$f":"(Y291/1000)/($AI$1/$AI$2)","v":0.004490312500000001},{"$f":"AC291/((Y291/1000)-AD291)","v":202.11352621093639},{"$f":"AC291/((Y291/1000)+AD291)","v":108.9849123763408},{"$f":"AE291-$Z291","v":60.50352621093637},{"$f":"AF291-$Z291","v":-32.62508762365921},{"$f":"((AE291/$Z291)*100)-100","v":42.72546162766497},{"$f":"((AF291/$Z291)*100)-100","v":-23.03868909233755}]
[{"$nulls":20},"8I"]
[{"$nulls":20},"8II",null,null,33.13,15,189.37228718,null,null,{"$f":"Z293*(Y293/1000)","v":2.8405843077},{"$f":"(Y293/1000)/($AI$1/$AI$2)","v":0.004490312500000001},{"$f":"AC293/((Y293/1000)-AD293)","v":270.2824710725224},{"$f":"AC293/((Y293/1000)+AD293)","v":145.7433947095512},{"$f":"AE293-$Z293","v":80.91018389252241},{"$f":"AF293-$Z293","v":-43.62889247044879},{"$f":"((AE293/$Z293)*100)-100","v":42.72546162766497},{"$f":"((AF293/$Z293)*100)-100","v":-23.038689092337535},{"$f":"Z293-Z294","v":71.64816},{"$f":"AE293-AE294","v":102.260167107728},{"$f":"AF293-AF294","v":55.14136317721946},{"$f":"AF293-AE294","v":-22.278909255243207},{"$f":"AE293-AF294","v":179.68043954019066},{"$f":"((AL293/$AK293)*100)-100","v":42.72546162766494},{"$f":"((AM293/$AK293)*100)-100","v":-23.038689092337535}]
[{"$nulls":20},"8III",null,null,3.13,15,117.72412718,null,null,{"$f":"Z294*(Y294/1000)","v":1.7658619077},{"$f":"(Y294/1000)/($AI$1/$AI$2)","v":0.004490312500000001},{"$f":"AC294/((Y294/1000)-AD294)","v":168.02230396479442},{"$f":"AC294/((Y294/1000)+AD294)","v":90.60203153233175},{"$f":"AE294-$Z294","v":50.29817678479442},{"$f":"AF294-$Z294","v":-27.122095647668246},{"$f":"((AE294/$Z294)*100)-100","v":42.72546162766497},{"$f":"((AF294/$Z294)*100)-100","v":-23.03868909233755}]
[{"$nulls":20},"9I",{"$nulls":3},15]
[{"$nulls":20},"9II",null,null,32.5,15,188.012,null,null,{"$f":"Z296*(Y296/1000)","v":2.8201799999999997},{"$f":"(Y296/1000)/($AI$1/$AI$2)","v":0.004490312500000001},{"$f":"AC296/((Y296/1000)-AD296)","v":268.3409949154054},{"$f":"AC296/((Y296/1000)+AD296)","v":144.6964998637143},{"$f":"AE296-$Z296","v":80.32899491540542},{"$f":"AF296-$Z296","v":-43.31550013628569},{"$f":"((AE296/$Z296)*100)-100","v":42.72546162766494},{"$f":"((AF296/$Z296)*100)-100","v":-23.038689092337563}]
[{"$nulls":20},"9III"]
[{"$nulls":20},"10I"]
[{"$nulls":20},"10II",null,null,65,15,250.10649999999998,null,null,{"$f":"Z299*(Y299/1000)","v":3.7515974999999995},{"$f":"(Y299/1000)/($AI$1/$AI$2)","v":0.004490312500000001},{"$f":"AC299/((Y299/1000)-AD299)","v":356.96565668579586},{"$f":"AC299/((Y299/1000)+AD299)","v":192.48524106527276},{"$f":"AE299-$Z299","v":106.85915668579588},{"$f":"AF299-$Z299","v":-57.62125893472722},{"$f":"((AE299/$Z299)*100)-100","v":42.72546162766497},{"$f":"((AF299/$Z299)*100)-100","v":-23.03868909233755},{"$f":"Z299-Z300","v":100.84699631999999},{"$f":"AE299-AE300","v":143.9343410353543},{"$f":"AF299-AF300","v":77.6131703788741},{"$f":"AF299-AE300","v":-20.54607458516881},{"$f":"AE299-AF300","v":242.0935859993972},{"$f":"((AL299/$AK299)*100)-100","v":42.72546162766497},{"$f":"((AM299/$AK299)*100)-100","v":-23.03868909233755}]
[{"$nulls":20},"10III",null,null,15.62,15,149.25950368,null,null,{"$f":"Z300*(Y300/1000)","v":2.2388925551999996},{"$f":"(Y300/1000)/($AI$1/$AI$2)","v":0.004490312500000001},{"$f":"AC300/((Y300/1000)-AD300)","v":213.03131565044157},{"$f":"AC300/((Y300/1000)+AD300)","v":114.87207068639866},{"$f":"AE300-$Z300","v":63.771811970441576},{"$f":"AF300-$Z300","v":-34.38743299360134},{"$f":"((AE300/$Z300)*100)-100","v":42.72546162766497},{"$f":"((AF300/$Z300)*100)-100","v":-23.038689092337563}]
[{"$nulls":20},"11I"]
[{"$nulls":20},"11II",null,null,41.25,15,206.3506875,null,null,{"$f":"Z302*(Y302/1000)","v":3.0952603124999998},{"$f":"(Y302/1000)/($AI$1/$AI$2)","v":0.004490312500000001},{"$f":"AC302/((Y302/1000)-AD302)","v":294.51497130623534},{"$f":"AC302/((Y302/1000)+AD302)","v":158.81019416697396},{"$f":"AE302-$Z302","v":88.16428380623535},{"$f":"AF302-$Z302","v":-47.540493333026035},{"$f":"((AE302/$Z302)*100)-100","v":42.72546162766497},{"$f":"((AF302/$Z302)*100)-100","v":-23.03868909233755},{"$f":"Z302-Z303","v":93.57869683119999},{"$f":"AE302-AE303","v":133.56062703748327},{"$f":"AF302-AF303","v":72.0193918115987},{"$f":"AF302-AE303","v":-2.1441501017781093},{"$f":"AE302-AF303","v":207.72416895086008},{"$f":"((AL302/$AK302)*100)-100","v":42.72546162766497},{"$f":"((AM302/$AK302)*100)-100","v":-23.03868909233755}]
[{"$nulls":20},"11III",null,null,1.252,15,112.7719906688,null,null,{"$f":"Z303*(Y303/1000)","v":1.691579860032},{"$f":"(Y303/1000)/($AI$1/$AI$2)","v":0.004490312500000001},{"$f":"AC303/((Y303/1000)-AD303)","v":160.95434426875207},{"$f":"AC303/((Y303/1000)+AD303)","v":86.79080235537526},{"$f":"AE303-$Z303","v":48.182353599952066},{"$f":"AF303-$Z303","v":-25.981188313424738},{"$f":"((AE303/$Z303)*100)-100","v":42.72546162766497},{"$f":"((AF303/$Z303)*100)-100","v":-23.038689092337535}]
[{"$nulls":20},"12I"]
[{"$nulls":20},"12II",null,null,4.998,15,122.5953137688,null,null,{"$f":"Z305*(Y305/1000)","v":1.8389297065319998},{"$f":"(Y305/1000)/($AI$1/$AI$2)","v":0.004490312500000001},{"$f":"AC305/((Y305/1000)-AD305)","v":174.9747275104041},{"$f":"AC305/((Y305/1000)+AD305)","v":94.35096058783047},{"$f":"AE305-$Z305","v":52.37941374160411},{"$f":"AF305-$Z305","v":-28.244353180969526},{"$f":"((AE305/$Z305)*100)-100","v":42.72546162766497},{"$f":"((AF305/$Z305)*100)-100","v":-23.03868909233755}]
[{"$nulls":20},"12III"]
[{"$nulls":20},"MB.R.2180.14 - dent sin"]
[{"$nulls":20},"1I"]
[{"$nulls":20},"1II",null,null,39,15,201.7491,null,null,{"$f":"Z309*(Y309/1000)","v":3.0262365},{"$f":"(Y309/1000)/($AI$1/$AI$2)","v":0.004490312500000001},{"$f":"AC309/((Y309/1000)-AD309)","v":287.9473343046594},{"$f":"AC309/((Y309/1000)+AD309)","v":155.26875210441082},{"$f":"AE309-$Z309","v":86.19823430465942},{"$f":"AF309-$Z309","v":-46.480347895589176},{"$f":"((AE309/$Z309)*100)-100","v":42.72546162766497},{"$f":"((AF309/$Z309)*100)-100","v":-23.03868909233755}]
[{"$nulls":20},"1III"]
[{"$nulls":20},"2I"]
[{"$nulls":20},"2II",null,null,60,15,241.62599999999998,null,null,{"$f":"Z312*(Y312/1000)","v":3.6243899999999996},{"$f":"(Y312/1000)/($AI$1/$AI$2)","v":0.004490312500000001},{"$f":"AC312/((Y312/1000)-AD312)","v":344.8618239124617},{"$f":"AC312/((Y312/1000)+AD312)","v":185.95853709374845},{"$f":"AE312-$Z312","v":103.23582391246174},{"$f":"AF312-$Z312","v":-55.66746290625153},{"$f":"((AE312/$Z312)*100)-100","v":42.72546162766497},{"$f":"((AF312/$Z312)*100)-100","v":-23.03868909233755},{"$f":"Z312-Z313","v":108.77789999999999},{"$f":"AE312-AE313","v":155.25375992387973},{"$f":"AF312-AF313","v":83.71689781782614},{"$f":"AF312-AE313","v":-3.649526894833542},{"$f":"AE312-AF313","v":242.62018463653942},{"$f":"((AL312/$AK312)*100)-100","v":42.72546162766494},{"$f":"((AM312/$AK312)*100)-100","v":-23.038689092337563}]
[{"$nulls":20},"2III",null,null,9,15,132.8481,null,null,{"$f":"Z313*(Y313/1000)","v":1.9927214999999998},{"$f":"(Y313/1000)/($AI$1/$AI$2)","v":0.004490312500000001},{"$f":"AC313/((Y313/1000)-AD313)","v":189.608063988582},{"$f":"AC313/((Y313/1000)+AD313)","v":102.24163927592231},{"$f":"AE313-$Z313","v":56.759963988582},{"$f":"AF313-$Z313","v":-30.606460724077678},{"$f":"((AE313/$Z313)*100)-100","v":42.72546162766497},{"$f":"((AF313/$Z313)*100)-100","v":-23.03868909233755}]
[{"$nulls":20},"3I"]
[{"$nulls":20},"3II",null,null,39,15,201.7491,null,null,{"$f":"Z315*(Y315/1000)","v":3.0262365},{"$f":"(Y315/1000)/($AI$1/$AI$2)","v":0.004490312500000001},{"$f":"AC315/((Y315/1000)-AD315)","v":287.9473343046594},{"$f":"AC315/((Y315/1000)+AD315)","v":155.26875210441082},{"$f":"AE315-$Z315","v":86.19823430465942},{"$f":"AF315-$Z315","v":-46.480347895589176},{"$f":"((AE315/$Z315)*100)-100","v":42.72546162766497},{"$f":"((AF315/$Z315)*100)-100","v":-23.03868909233755}]
[{"$nulls":20},"3III"]
[{"$nulls":20},"4I"]
[{"$nulls":20},"4II",null,null,81,15,274.62330000000003,null,null,{"$f":"Z318*(Y318/1000)","v":4.1193495},{"$f":"(Y318/1000)/($AI$1/$AI$2)","v":0.004490312500000001},{"$f":"AC318/((Y318/1000)-AD318)","v":391.9573726621273},{"$f":"AC318/((Y318/1000)+AD318)","v":211.3536917378826},{"$f":"AE318-$Z318","v":117.33407266212726},{"$f":"AF318-$Z318","v":-63.26960826211743},{"$f":"((AE318/$Z318)*100)-100","v":42.72546162766497},{"$f":"((AF318/$Z318)*100)-100","v":-23.03868909233755},{"$f":"Z318-Z319","v":119.63070000000005},{"$f":"AE318-AE319","v":170.74346882340703},{"$f":"AF318-AF319","v":92.06935496801297},{"$f":"AF318-AE319","v":-9.860212100837657},{"$f":"AE318-AF319","v":272.67303589225764},{"$f":"((AL318/$AK318)*100)-100","v":42.72546162766494},{"$f":"((AM318/$AK318)*100)-100","v":-23.03868909233755}]
[{"$nulls":20},"4III",null,null,18,15,154.99259999999998,null,null,{"$f":"Z319*(Y319/1000)","v":2.3248889999999998},{"$f":"(Y319/1000)/($AI$1/$AI$2)","v":0.004490312500000001},{"$f":"AC319/((Y319/1000)-AD319)","v":221.21390383872026},{"$f":"AC319/((Y319/1000)+AD319)","v":119.28433676986963},{"$f":"AE319-$Z319","v":66.22130383872027},{"$f":"AF319-$Z319","v":-35.708263230130356},{"$f":"((AE319/$Z319)*100)-100","v":42.725461627665},{"$f":"((AF319/$Z319)*100)-100","v":-23.038689092337535}]
[{"$nulls":20},"5I"]
[{"$nulls":20},"5II",null,null,48,15,219.6816,null,null,{"$f":"Z321*(Y321/1000)","v":3.2952239999999997},{"$f":"(Y321/1000)/($AI$1/$AI$2)","v":0.004490312500000001},{"$f":"AC321/((Y321/1000)-AD321)","v":313.5415777110404},{"$f":"AC321/((Y321/1000)+AD321)","v":169.06983918292738},{"$f":"AE321-$Z321","v":93.85997771104041},{"$f":"AF321-$Z321","v":-50.61176081707262},{"$f":"((AE321/$Z321)*100)-100","v":42.72546162766494},{"$f":"((AF321/$Z321)*100)-100","v":-23.038689092337563}]
[{"$nulls":20},"5III"]
[{"$nulls":20},"6I",{"$nulls":24},"Average for tooth mesial teeth"]
[{"$nulls":20},"6II",null,null,27,15,175.87349999999998,null,null,{"$f":"Z324*(Y324/1000)","v":2.6381024999999996},{"$f":"(Y324/1000)/($AI$1/$AI$2)","v":0.004490312500000001},{"$f":"AC324/((Y324/1000)-AD324)","v":251.01626475573133},{"$f":"AC324/((Y324/1000)+AD324)","v":135.3545511391877},{"$f":"AE324-$Z324","v":75.14276475573135},{"$f":"AF324-$Z324","v":-40.51894886081229},{"$f":"((AE324/$Z324)*100)-100","v":42.72546162766497},{"$f":"((AF324/$Z324)*100)-100","v":-23.038689092337563},{"$nulls":8},"I"]
[{"$nulls":20},"6III",{"$nulls":23},"II",{"$f":"AVERAGE(Z309,Z312,Z315,Z318,Z321)","v":227.88581999999997},{"$f":"AVERAGE(AE309,AE312,AE315,AE318,AE321)","v":325.25108857898965},{"$f":"AVERAGE(AF309,AF312,AF315,AF318,AF321)","v":175.383914444676},{"$f":"AVERAGE(AK312,AK315,AK318,AK321)","v":114.20430000000002},{"$f":"AVERAGE(AL312,AL315,AL318,AL321)","v":162.99861437364336},{"$f":"AVERAGE(AM312,AM315,AM318,AM321)","v":87.89312639291956},{"$f":"AVERAGE(AN312,AN315,AN318,AN321)","v":-6.7548694978356},{"$f":"AVERAGE(AO312,AO315,AO318,AO321)","v":257.64661026439853}]
[{"$nulls":20},"7I",{"$nulls":23},"III",{"$f":"AVERAGE(Z310,Z313,Z316,Z319,Z322)","v":143.92034999999998},{"$f":"AVERAGE(AE310,AE313,AE316,AE319,AE322)","v":205.41098391365114},{"$f":"AVERAGE(AF310,AF313,AF316,AF319,AF322)","v":110.76298802289597}]
[{"$nulls":20},"7II",null,null,69,15,256.6101,null,null,{"$f":"Z327*(Y327/1000)","v":3.8491514999999996},{"$f":"(Y327/1000)/($AI$1/$AI$2)","v":0.004490312500000001},{"$f":"AC327/((Y327/1000)-AD327)","v":366.2479498082127},{"$f":"AC327/((Y327/1000)+AD327)","v":197.4904968814635},{"$f":"AE327-$Z327","v":109.6378498082127},{"$f":"AF327-$Z327","v":-59.119603118536475},{"$f":"((AE327/$Z327)*100)-100","v":42.72546162766497},{"$f":"((AF327/$Z327)*100)-100","v":-23.03868909233755},{"$f":"Z327-Z328","v":108.8586},{"$f":"AE327-AE328","v":155.36893937141332},{"$f":"AF327-AF328","v":83.77900559572865},{"$f":"AF327-AE328","v":-13.388513555335862},{"$f":"AE327-AF328","v":252.53645852247783},{"$f":"((AL327/$AK327)*100)-100","v":42.725461627665},{"$f":"((AM327/$AK327)*100)-100","v":-23.038689092337535}]
[{"$nulls":20},"7III",null,null,15,15,147.7515,null,null,{"$f":"Z328*(Y328/1000)","v":2.2162724999999996},{"$f":"(Y328/1000)/($AI$1/$AI$2)","v":0.004490312500000001},{"$f":"AC328/((Y328/1000)-AD328)","v":210.87901043679938},{"$f":"AC328/((Y328/1000)+AD328)","v":113.71149128573487},{"$f":"AE328-$Z328","v":63.12751043679938},{"$f":"AF328-$Z328","v":-34.04000871426513},{"$f":"((AE328/$Z328)*100)-100","v":42.72546162766494},{"$f":"((AF328/$Z328)*100)-100","v":-23.038689092337563}]
[{"$nulls":20},"8I"]
[{"$nulls":20},"8II",null,null,42,15,207.867,null,null,{"$f":"Z330*(Y330/1000)","v":3.1180049999999997},{"$f":"(Y330/1000)/($AI$1/$AI$2)","v":0.004490312500000001},{"$f":"AC330/((Y330/1000)-AD330)","v":296.6791353215783},{"$f":"AC330/((Y330/1000)+AD330)","v":159.9771681444307},{"$f":"AE330-$Z330","v":88.81213532157832},{"$f":"AF330-$Z330","v":-47.8898318555693},{"$f":"((AE330/$Z330)*100)-100","v":42.72546162766497},{"$f":"((AF330/$Z330)*100)-100","v":-23.03868909233755}]
[{"$nulls":20},"8III"]
[{"$nulls":20},"9I"]
[{"$nulls":20},"9II",null,null,30,15,182.553,null,null,{"$f":"Z333*(Y333/1000)","v":2.738295},{"$f":"(Y333/1000)/($AI$1/$AI$2)","v":0.004490312500000001},{"$f":"AC333/((Y333/1000)-AD333)","v":260.54961196515126},{"$f":"AC333/((Y333/1000)+AD333)","v":140.49518190126503},{"$f":"AE333-$Z333","v":77.99661196515126},{"$f":"AF333-$Z333","v":-42.05781809873497},{"$f":"((AE333/$Z333)*100)-100","v":42.725461627665},{"$f":"((AF333/$Z333)*100)-100","v":-23.03868909233755}]
[{"$nulls":20},"9III"]
[{"$nulls":20},"10I"]
[{"$nulls":20},"10II",null,null,69,15,256.6101,null,null,{"$f":"Z336*(Y336/1000)","v":3.8491514999999996},{"$f":"(Y336/1000)/($AI$1/$AI$2)","v":0.004490312500000001},{"$f":"AC336/((Y336/1000)-AD336)","v":366.2479498082127},{"$f":"AC336/((Y336/1000)+AD336)","v":197.4904968814635},{"$f":"AE336-$Z336","v":109.6378498082127},{"$f":"AF336-$Z336","v":-59.119603118536475},{"$f":"((AE336/$Z336)*100)-100","v":42.72546162766497},{"$f":"((AF336/$Z336)*100)-100","v":-23.03868909233755},{"$f":"Z336-Z337","v":131.4243},{"$f":"AE336-AE337","v":187.5759388659273},{"$f":"AF336-AF337","v":101.14586413121901},{"$f":"AF336-AE337","v":18.818485939178117},{"$f":"AE336-AF337","v":269.9033170579682},{"$f":"((AL336/$AK336)*100)-100","v":42.725461627665},{"$f":"((AM336/$AK336)*100)-100","v":-23.03868909233755}]
[{"$nulls":20},"10III",null,null,6,15,125.1858,null,null,{"$f":"Z337*(Y337/1000)","v":1.8777869999999999},{"$f":"(Y337/1000)/($AI$1/$AI$2)","v":0.004490312500000001},{"$f":"AC337/((Y337/1000)-AD337)","v":178.6720109422854},{"$f":"AC337/((Y337/1000)+AD337)","v":96.3446327502445},{"$f":"AE337-$Z337","v":53.486210942285396},{"$f":"AF337-$Z337","v":-28.8411672497555},{"$f":"((AE337/$Z337)*100)-100","v":42.72546162766494},{"$f":"((AF337/$Z337)*100)-100","v":-23.03868909233755}]
[{"$nulls":20},"11I"]
[{"$nulls":20},"11II",null,null,42,15,207.867,null,null,{"$f":"Z339*(Y339/1000)","v":3.1180049999999997},{"$f":"(Y339/1000)/($AI$1/$AI$2)","v":0.004490312500000001},{"$f":"AC339/((Y339/1000)-AD339)","v":296.6791353215783},{"$f":"AC339/((Y339/1000)+AD339)","v":159.9771681444307},{"$f":"AE339-$Z339","v":88.81213532157832},{"$f":"AF339-$Z339","v":-47.8898318555693},{"$f":"((AE339/$Z339)*100)-100","v":42.72546162766497},{"$f":"((AF339/$Z339)*100)-100","v":-23.03868909233755}]
[{"$nulls":20},"11III"]
[{"$nulls":20},"12I"]
[{"$nulls":20},"12II",null,null,21,15,162.0933,null,null,{"$f":"Z342*(Y342/1000)","v":2.4313995},{"$f":"(Y342/1000)/($AI$1/$AI$2)","v":0.004490312500000001},{"$f":"AC342/((Y342/1000)-AD342)","v":231.34841069251587},{"$f":"AC342/((Y342/1000)+AD342)","v":124.74912857349001},{"$f":"AE342-$Z342","v":69.25511069251587},{"$f":"AF342-$Z342","v":-37.34417142650999},{"$f":"((AE342/$Z342)*100)-100","v":42.72546162766497},{"$f":"((AF342/$Z342)*100)-100","v":-23.03868909233755}]
[{"$nulls":20},"12III"]
[{"$nulls":20},"13I"]
[{"$nulls":20},"13II"]
[{"$nulls":20},"13III",null,null,12,15,140.37,null,null,{"$f":"Z346*(Y346/1000)","v":2.10555},{"$f":"(Y346/1000)/($AI$1/$AI$2)","v":0.004490312500000001},{"$f":"AC346/((Y346/1000)-AD346)","v":200.34373048675334},{"$f":"AC346/((Y346/1000)+AD346)","v":108.03059212108579},{"$f":"AE346-$Z346","v":59.97373048675334},{"$f":"AF346-$Z346","v":-32.339407878914216},{"$f":"((AE346/$Z346)*100)-100","v":42.72546162766497},{"$f":"((AF346/$Z346)*100)-100","v":-23.03868909233755}]
[{"$nulls":20},"14I"]
[{"$nulls":20},"14II",null,null,33,15,189.0921,null,null,{"$f":"Z348*(Y348/1000)","v":2.8363815},{"$f":"(Y348/1000)/($AI$1/$AI$2)","v":0.004490312500000001},{"$f":"AC348/((Y348/1000)-AD348)","v":269.8825726264459},{"$f":"AC348/((Y348/1000)+AD348)","v":145.52775898282798},{"$f":"AE348-$Z348","v":80.7904726264459},{"$f":"AF348-$Z348","v":-43.56434101717201},{"$f":"((AE348/$Z348)*100)-100","v":42.725461627665},{"$f":"((AF348/$Z348)*100)-100","v":-23.03868909233755}]
[{"$nulls":20},"14III"]
[{"$nulls":20},"MB.R.2180.13 - dent dext"]
[{"$nulls":20},"1I"]
[{"$nulls":20},"1II",null,null,66,15,251.7558,null,null,{"$f":"Z352*(Y352/1000)","v":3.776337},{"$f":"(Y352/1000)/($AI$1/$AI$2)","v":0.004490312500000001},{"$f":"AC352/((Y352/1000)-AD352)","v":359.31962772442097},{"$f":"AC352/((Y352/1000)+AD352)","v":193.75456396607285},{"$f":"AE352-$Z352","v":107.56382772442097},{"$f":"AF352-$Z352","v":-58.00123603392714},{"$f":"((AE352/$Z352)*100)-100","v":42.72546162766497},{"$f":"((AF352/$Z352)*100)-100","v":-23.03868909233755},{"$f":"Z352-Z353","v":89.6625},{"$f":"AE352-AE353","v":127.9712170319051},{"$f":"AF352-AF353","v":69.00543539258284},{"$f":"AF352-AE353","v":-37.59384672644302},{"$f":"AE352-AF353","v":234.57049915093097},{"$f":"((AL352/$AK352)*100)-100","v":42.72546162766497},{"$f":"((AM352/$AK352)*100)-100","v":-23.03868909233755}]
[{"$nulls":20},"1III",null,null,21,15,162.0933,null,null,{"$f":"Z353*(Y353/1000)","v":2.4313995},{"$f":"(Y353/1000)/($AI$1/$AI$2)","v":0.004490312500000001},{"$f":"AC353/((Y353/1000)-AD353)","v":231.34841069251587},{"$f":"AC353/((Y353/1000)+AD353)","v":124.74912857349001},{"$f":"AE353-$Z353","v":69.25511069251587},{"$f":"AF353-$Z353","v":-37.34417142650999},{"$f":"((AE353/$Z353)*100)-100","v":42.72546162766497},{"$f":"((AF353/$Z353)*100)-100","v":-23.03868909233755}]
[{"$nulls":20},"2I"]
[{"$nulls":20},"2II",null,null,48,15,219.6816,null,null,{"$f":"Z355*(Y355/1000)","v":3.2952239999999997},{"$f":"(Y355/1000)/($AI$1/$AI$2)","v":0.004490312500000001},{"$f":"AC355/((Y355/1000)-AD355)","v":313.5415777110404},{"$f":"AC355/((Y355/1000)+AD355)","v":169.06983918292738},{"$f":"AE355-$Z355","v":93.85997771104041},{"$f":"AF355-$Z355","v":-50.61176081707262},{"$f":"((AE355/$Z355)*100)-100","v":42.72546162766494},{"$f":"((AF355/$Z355)*100)-100","v":-23.038689092337563}]
[{"$nulls":20},"2III"]
[{"$nulls":20},"3I"]
[{"$nulls":20},"3II",null,null,81,15,274.62330000000003,null,null,{"$f":"Z358*(Y358/1000)","v":4.1193495},{"$f":"(Y358/1000)/($AI$1/$AI$2)","v":0.004490312500000001},{"$f":"AC358/((Y358/1000)-AD358)","v":391.9573726621273},{"$f":"AC358/((Y358/1000)+AD358)","v":211.3536917378826},{"$f":"AE358-$Z358","v":117.33407266212726},{"$f":"AF358-$Z358","v":-63.26960826211743},{"$f":"((AE358/$Z358)*100)-100","v":42.72546162766497},{"$f":"((AF358/$Z358)*100)-100","v":-23.03868909233755},{"$f":"Z358-Z359","v":112.29572800000003},{"$f":"AE358-AE359","v":160.27459617614704},{"$f":"AF358-AF359","v":86.42426436210299},{"$f":"AF358-AE359","v":-20.329084748097642},{"$f":"AE358-AF359","v":267.0279452863477},{"$f":"((AL358/$AK358)*100)-100","v":42.72546162766494},{"$f":"((AM358/$AK358)*100)-100","v":-23.038689092337535}]
[{"$nulls":20},"3III",null,null,21.1,15,162.327572,null,null,{"$f":"Z359*(Y359/1000)","v":2.43491358},{"$f":"(Y359/1000)/($AI$1/$AI$2)","v":0.004490312500000001},{"$f":"AC359/((Y359/1000)-AD359)","v":231.68277648598024},{"$f":"AC359/((Y359/1000)+AD359)","v":124.92942737577961},{"$f":"AE359-$Z359","v":69.35520448598024},{"$f":"AF359-$Z359","v":-37.39814462422039},{"$f":"((AE359/$Z359)*100)-100","v":42.72546162766497},{"$f":"((AF359/$Z359)*100)-100","v":-23.038689092337563}]
[{"$nulls":20},"4I"]
[{"$nulls":20},"4II",null,null,57,15,236.3505,null,null,{"$f":"Z361*(Y361/1000)","v":3.5452575},{"$f":"(Y361/1000)/($AI$1/$AI$2)","v":0.004490312500000001},{"$f":"AC361/((Y361/1000)-AD361)","v":337.3323421842943},{"$f":"AC361/((Y361/1000)+AD361)","v":181.89844313681473},{"$f":"AE361-$Z361","v":100.9818421842943},{"$f":"AF361-$Z361","v":-54.45205686318528},{"$f":"((AE361/$Z361)*100)-100","v":42.72546162766497},{"$f":"((AF361/$Z361)*100)-100","v":-23.038689092337563},{"$f":"Z361-Z362","v":95.9805},{"$f":"AE361-AE362","v":136.98861169754096},{"$f":"AF361-AF362","v":73.86785101572895},{"$f":"AF361-AE362","v":-18.44528734993861},{"$f":"AE361-AF362","v":229.30175006320852},{"$f":"((AL361/$AK361)*100)-100","v":42.72546162766494},{"$f":"((AM361/$AK361)*100)-100","v":-23.038689092337577}]
[{"$nulls":20},"4III",null,null,12,15,140.37,null,null,{"$f":"Z362*(Y362/1000)","v":2.10555},{"$f":"(Y362/1000)/($AI$1/$AI$2)","v":0.004490312500000001},{"$f":"AC362/((Y362/1000)-AD362)","v":200.34373048675334},{"$f":"AC362/((Y362/1000)+AD362)","v":108.03059212108579},{"$f":"AE362-$Z362","v":59.97373048675334},{"$f":"AF362-$Z362","v":-32.339407878914216},{"$f":"((AE362/$Z362)*100)-100","v":42.72546162766497},{"$f":"((AF362/$Z362)*100)-100","v":-23.03868909233755}]
[{"$nulls":20},"5I"]
[{"$nulls":20},"5II",null,null,39,15,201.7491,null,null,{"$f":"Z364*(Y364/1000)","v":3.0262365},{"$f":"(Y364/1000)/($AI$1/$AI$2)","v":0.004490312500000001},{"$f":"AC364/((Y364/1000)-AD364)","v":287.9473343046594},{"$f":"AC364/((Y364/1000)+AD364)","v":155.26875210441082},{"$f":"AE364-$Z364","v":86.19823430465942},{"$f":"AF364-$Z364","v":-46.480347895589176},{"$f":"((AE364/$Z364)*100)-100","v":42.72546162766497},{"$f":"((AF364/$Z364)*100)-100","v":-23.03868909233755}]
[{"$nulls":20},"5III"]
[{"$nulls":20},"6I",{"$nulls":24},"Average for tooth mesial teeth"]
[{"$nulls":20},"6II",null,null,72,15,261.32399999999996,null,null,{"$f":"Z367*(Y367/1000)","v":3.919859999999999},{"$f":"(Y367/1000)/($AI$1/$AI$2)","v":0.004490312500000001},{"$f":"AC367/((Y367/1000)-AD367)","v":372.97588534387916},{"$f":"AC367/((Y367/1000)+AD367)","v":201.11837611633976},{"$f":"AE367-$Z367","v":111.6518853438792},{"$f":"AF367-$Z367","v":-60.205623883660195},{"$f":"((AE367/$Z367)*100)-100","v":42.72546162766497},{"$f":"((AF367/$Z367)*100)-100","v":-23.038689092337563},{"$f":"Z367-Z368","v":106.33139999999997},{"$f":"AE367-AE368","v":151.7619815051589},{"$f":"AF367-AF368","v":81.83403934647014},{"$f":"AF367-AE368","v":-20.095527722380496},{"$f":"AE367-AF368","v":253.69154857400952},{"$f":"((AL367/$AK367)*100)-100","v":42.72546162766494},{"$f":"((AM367/$AK367)*100)-100","v":-23.038689092337577},null,"I"]
[{"$nulls":20},"6III",null,null,18,15,154.99259999999998,null,null,{"$f":"Z368*(Y368/1000)","v":2.3248889999999998},{"$f":"(Y368/1000)/($AI$1/$AI$2)","v":0.004490312500000001},{"$f":"AC368/((Y368/1000)-AD368)","v":221.21390383872026},{"$f":"AC368/((Y368/1000)+AD368)","v":119.28433676986963},{"$f":"AE368-$Z368","v":66.22130383872027},{"$f":"AF368-$Z368","v":-35.708263230130356},{"$f":"((AE368/$Z368)*100)-100","v":42.725461627665},{"$f":"((AF368/$Z368)*100)-100","v":-23.038689092337535},{"$nulls":8},"II",{"$f":"AVERAGE(Z352,Z355,Z358,Z361,Z364)","v":236.83206},{"$f":"AVERAGE(AE352,AE355,AE358,AE361,AE364)","v":338.01965091730847},{"$f":"AVERAGE(AF352,AF355,AF358,AF361,AF364)","v":182.2690580256217},{"$f":"AVERAGE(AK355,AK358,AK361,AK364)","v":104.13811400000002},{"$f":"AVERAGE(AL355,AL358,AL361,AL364)","v":148.631603936844},{"$f":"AVERAGE(AM355,AM358,AM361,AM364)","v":80.14605768891596},{"$f":"AVERAGE(AN355,AN358,AN361,AN364)","v":-19.387186049018126},{"$f":"AVERAGE(AO355,AO358,AO361,AO364)","v":248.16484767477812}]
[{"$nulls":20},"7I",{"$nulls":23},"III",{"$f":"AVERAGE(Z353,Z356,Z359,Z362,Z365)","v":154.93029066666668},{"$f":"AVERAGE(AE353,AE356,AE359,AE362,AE365)","v":221.12497255508313},{"$f":"AVERAGE(AF353,AF356,AF359,AF362,AF365)","v":119.23638269011848}]
[{"$nulls":20},"7II",null,null,45,15,213.84449999999998,null,null,{"$f":"Z370*(Y370/1000)","v":3.2076674999999994},{"$f":"(Y370/1000)/($AI$1/$AI$2)","v":0.004490312500000001},{"$f":"AC370/((Y370/1000)-AD370)","v":305.210549790372},{"$f":"AC370/((Y370/1000)+AD370)","v":164.5775305039362},{"$f":"AE370-$Z370","v":91.36604979037202},{"$f":"AF370-$Z370","v":-49.26696949606378},{"$f":"((AE370/$Z370)*100)-100","v":42.72546162766497},{"$f":"((AF370/$Z370)*100)-100","v":-23.038689092337563},{"$f":"Z370-Z371","v":88.65869999999998},{"$f":"AE370-AE371","v":126.5385388480866},{"$f":"AF370-AF371","v":68.2328977536917},{"$f":"AF370-AE371","v":-14.094480438349194},{"$f":"AE370-AF371","v":208.8659170401275},{"$f":"((AL370/$AK370)*100)-100","v":42.725461627665},{"$f":"((AM370/$AK370)*100)-100","v":-23.038689092337563}]
[{"$nulls":20},"7III",null,null,6,15,125.1858,null,null,{"$f":"Z371*(Y371/1000)","v":1.8777869999999999},{"$f":"(Y371/1000)/($AI$1/$AI$2)","v":0.004490312500000001},{"$f":"AC371/((Y371/1000)-AD371)","v":178.6720109422854},{"$f":"AC371/((Y371/1000)+AD371)","v":96.3446327502445},{"$f":"AE371-$Z371","v":53.486210942285396},{"$f":"AF371-$Z371","v":-28.8411672497555},{"$f":"((AE371/$Z371)*100)-100","v":42.72546162766494},{"$f":"((AF371/$Z371)*100)-100","v":-23.03868909233755}]
[{"$nulls":20},"8I"]
[{"$nulls":20},"8II",null,null,24,15,169.05360000000002,null,null,{"$f":"Z373*(Y373/1000)","v":2.535804},{"$f":"(Y373/1000)/($AI$1/$AI$2)","v":0.004490312500000001},{"$f":"AC373/((Y373/1000)-AD373)","v":241.28253099818625},{"$f":"AC373/((Y373/1000)+AD373)","v":130.10586669659605},{"$f":"AE373-$Z373","v":72.22893099818623},{"$f":"AF373-$Z373","v":-38.947733303403965},{"$f":"((AE373/$Z373)*100)-100","v":42.72546162766497},{"$f":"((AF373/$Z373)*100)-100","v":-23.03868909233755}]
[{"$nulls":20},"8III"]
[{"$nulls":20},"9I"]
[{"$nulls":20},"9II",null,null,21,15,162.0933,null,null,{"$f":"Z376*(Y376/1000)","v":2.4313995},{"$f":"(Y376/1000)/($AI$1/$AI$2)","v":0.004490312500000001},{"$f":"AC376/((Y376/1000)-AD376)","v":231.34841069251587},{"$f":"AC376/((Y376/1000)+AD376)","v":124.74912857349001},{"$f":"AE376-$Z376","v":69.25511069251587},{"$f":"AF376-$Z376","v":-37.34417142650999},{"$f":"((AE376/$Z376)*100)-100","v":42.72546162766497},{"$f":"((AF376/$Z376)*100)-100","v":-23.03868909233755}]
[{"$nulls":20},"9III"]
[{"$nulls":20},"10I"]
[{"$nulls":20},"10II",null,null,39,15,201.7491,null,null,{"$f":"Z379*(Y379/1000)","v":3.0262365},{"$f":"(Y379/1000)/($AI$1/$AI$2)","v":0.004490312500000001},{"$f":"AC379/((Y379/1000)-AD379)","v":287.9473343046594},{"$f":"AC379/((Y379/1000)+AD379)","v":155.26875210441082},{"$f":"AE379-$Z379","v":86.19823430465942},{"$f":"AF379-$Z379","v":-46.480347895589176},{"$f":"((AE379/$Z379)*100)-100","v":42.72546162766497},{"$f":"((AF379/$Z379)*100)-100","v":-23.03868909233755},{"$f":"Z379-Z380","v":84.366},{"$f":"AE379-AE380","v":120.41176295679583},{"$f":"AF379-AF380","v":64.9291795603585},{"$f":"AF379-AE380","v":-12.266819243452773},{"$f":"AE379-AF380","v":197.6077617606071},{"$f":"((AL379/$AK379)*100)-100","v":42.72546162766497},{"$f":"((AM379/$AK379)*100)-100","v":-23.03868909233755}]
[{"$nulls":20},"10III",null,null,3,15,117.3831,null,null,{"$f":"Z380*(Y380/1000)","v":1.7607465},{"$f":"(Y380/1000)/($AI$1/$AI$2)","v":0.004490312500000001},{"$f":"AC380/((Y380/1000)-AD380)","v":167.5355713478636},{"$f":"AC380/((Y380/1000)+AD380)","v":90.33957254405232},{"$f":"AE380-$Z380","v":50.152471347863596},{"$f":"AF380-$Z380","v":-27.043527455947682},{"$f":"((AE380/$Z380)*100)-100","v":42.72546162766497},{"$f":"((AF380/$Z380)*100)-100","v":-23.03868909233755}]
[{"$nulls":20},"11I"]
[{"$nulls":20},"11II",null,null,15,15,147.7515,null,null,{"$f":"Z382*(Y382/1000)","v":2.2162724999999996},{"$f":"(Y382/1000)/($AI$1/$AI$2)","v":0.004490312500000001},{"$f":"AC382/((Y382/1000)-AD382)","v":210.87901043679938},{"$f":"AC382/((Y382/1000)+AD382)","v":113.71149128573487},{"$f":"AE382-$Z382","v":63.12751043679938},{"$f":"AF382-$Z382","v":-34.04000871426513},{"$f":"((AE382/$Z382)*100)-100","v":42.72546162766494},{"$f":"((AF382/$Z382)*100)-100","v":-23.038689092337563}]
[{"$nulls":20},"11III"]
[{"$nulls":20},"12I"]
[{"$nulls":20},"12II",null,null,6,15,125.1858,null,null,{"$f":"Z385*(Y385/1000)","v":1.8777869999999999},{"$f":"(Y385/1000)/($AI$1/$AI$2)","v":0.004490312500000001},{"$f":"AC385/((Y385/1000)-AD385)","v":178.6720109422854},{"$f":"AC385/((Y385/1000)+AD385)","v":96.3446327502445},{"$f":"AE385-$Z385","v":53.486210942285396},{"$f":"AF385-$Z385","v":-28.8411672497555},{"$f":"((AE385/$Z385)*100)-100","v":42.72546162766494},{"$f":"((AF385/$Z385)*100)-100","v":-23.03868909233755}]
[{"$nulls":20},"12III"]
[{"$nulls":20},"13I"]
[{"$nulls":20},"13II",null,null,45,15,213.84449999999998,null,null,{"$f":"Z388*(Y388/1000)","v":3.2076674999999994},{"$f":"(Y388/1000)/($AI$1/$AI$2)","v":0.004490312500000001},{"$f":"AC388/((Y388/1000)-AD388)","v":305.210549790372},{"$f":"AC388/((Y388/1000)+AD388)","v":164.5775305039362},{"$f":"AE388-$Z388","v":91.36604979037202},{"$f":"AF388-$Z388","v":-49.26696949606378},{"$f":"((AE388/$Z388)*100)-100","v":42.72546162766497},{"$f":"((AF388/$Z388)*100)-100","v":-23.038689092337563}]
[{"$nulls":20},"13III"]
[{"$nulls":20},"14I"]
[{"$nulls":20},"14II",null,null,12,15,140.37,null,null,{"$f":"Z391*(Y391/1000)","v":2.10555},{"$f":"(Y391/1000)/($AI$1/$AI$2)","v":0.004490312500000001},{"$f":"AC391/((Y391/1000)-AD391)","v":200.34373048675334},{"$f":"AC391/((Y391/1000)+AD391)","v":108.03059212108579},{"$f":"AE391-$Z391","v":59.97373048675334},{"$f":"AF391-$Z391","v":-32.339407878914216},{"$f":"((AE391/$Z391)*100)-100","v":42.72546162766497},{"$f":"((AF391/$Z391)*100)-100","v":-23.03868909233755}]
[{"$nulls":20},"14III"]
[{"$nulls":19},"Kosch 2010, Schwarz et al. 2015"]
[{"$nulls":20},"MB.R.2337 - pmx dext"]
[{"$nulls":20},"1I"]
[{"$nulls":20},"1II",null,null,72.3,15,191,null,null,{"$f":"Z396*(Y396/1000)","v":2.8649999999999998},{"$f":"(Y396/1000)/($AI$1/$AI$2)","v":0.004490312500000001},{"$f":"AC396/((Y396/1000)-AD396)","v":272.60563170884006},{"$f":"AC396/((Y396/1000)+AD396)","v":146.99610383363526},{"$f":"AE396-$Z396","v":81.60563170884006},-44.00389616636474,{"$f":"((AE396/$Z396)*100)-100","v":42.72546162766494},-23.038689092337563,{"$f":"Z396-Z397","v":10},{"$f":"AE396-AE397","v":14.272546162766446},7.696131090766244,{"$f":"AF396-AE397","v":-111.33698171243836},{"$f":"AE396-AF397","v":133.30565896597105},{"$f":"((AL396/$AK396)*100)-100","v":42.72546162766446},-23.038689092337563]
[{"$nulls":20},"1III",null,null,52.2,15,181,null,null,{"$f":"Z397*(Y397/1000)","v":2.715},{"$f":"(Y397/1000)/($AI$1/$AI$2)","v":0.004490312500000001},{"$f":"AC397/((Y397/1000)-AD397)","v":258.3330855460736},{"$f":"AC397/((Y397/1000)+AD397)","v":139.29997274286902},77.33308554607362,-41.700027257130984,42.72546162766497,-23.038689092337563,{"$f":"Z397-Z398","v":32},45.67214772085282,24.627619490451977,{"$f":"AF397-AE398","v":-73.36096508235178},{"$f":"AE397-AF398","v":143.66073229365657},42.725461627665055,-23.038689092337577]
[{"$nulls":20},"1IV",null,null,35.9,15,149,null,null,{"$f":"Z398*(Y398/1000)","v":2.235},{"$f":"(Y398/1000)/($AI$1/$AI$2)","v":0.004490312500000001},{"$f":"AC398/((Y398/1000)-AD398)","v":212.6609378252208},{"$f":"AC398/((Y398/1000)+AD398)","v":114.67235325241704},63.6609378252208,-34.32764674758296,42.72546162766497,-23.038689092337563,{"$f":"Z398-Z399","v":44},62.79920311617258,33.86297679937147,{"$f":"AF398-AE399","v":-35.18938145663118},{"$f":"AE398-AF399","v":131.85156137217524},42.72546162766494,-23.038689092337577]
[{"$nulls":20},"1V",null,null,21.9,15,105,null,null,{"$f":"Z399*(Y399/1000)","v":1.575},{"$f":"(Y399/1000)/($AI$1/$AI$2)","v":0.004490312500000001},{"$f":"AC399/((Y399/1000)-AD399)","v":149.86173470904822},{"$f":"AC399/((Y399/1000)+AD399)","v":80.80937645304557},44.86173470904822,-24.190623546954427,42.72546162766497,-23.03868909233755,{"$f":"Z399-Z400","v":76},108.47135083702537,58.49059628982346,{"$f":"AF399-AE400","v":39.41899258102273},{"$f":"AE399-AF400","v":127.5429545458261},42.72546162766494,-23.038689092337563]
[{"$nulls":20},"1VI",null,null,4.5,15,29,null,null,{"$f":"Z400*(Y400/1000)","v":0.435},{"$f":"(Y400/1000)/($AI$1/$AI$2)","v":0.004490312500000001},{"$f":"AC400/((Y400/1000)-AD400)","v":41.390383872022845},{"$f":"AC400/((Y400/1000)+AD400)","v":22.31878016322211},12.390383872022845,-6.681219836777888,42.72546162766497,-23.03868909233755]
[{"$nulls":20},"2I"]
[{"$nulls":20},"2II",null,null,70.8,15,191,null,null,{"$f":"Z402*(Y402/1000)","v":2.8649999999999998},{"$f":"(Y402/1000)/($AI$1/$AI$2)","v":0.004490312500000001},{"$f":"AC402/((Y402/1000)-AD402)","v":272.60563170884006},{"$f":"AC402/((Y402/1000)+AD402)","v":146.99610383363526},{"$f":"AE402-$Z402","v":81.60563170884006},-44.00389616636474,{"$f":"((AE402/$Z402)*100)-100","v":42.72546162766494},-23.038689092337563,{"$f":"Z402-Z403","v":26},{"$f":"AE402-AE403","v":37.108620023192856},20.00994083599221,{"$f":"AF402-AE403","v":-88.50090785201195},{"$f":"AE402-AF403","v":145.61946871119702},{"$f":"((AL402/$AK402)*100)-100","v":42.72546162766483},-23.03868909233765]
[{"$nulls":20},"2III",null,null,42.9,15,165,null,null,{"$f":"Z403*(Y403/1000)","v":2.475},{"$f":"(Y403/1000)/($AI$1/$AI$2)","v":0.004490312500000001},{"$f":"AC403/((Y403/1000)-AD403)","v":235.4970116856472},{"$f":"AC403/((Y403/1000)+AD403)","v":126.98616299764305},70.49701168564721,-38.01383700235695,42.72546162766497,-23.03868909233755,{"$f":"Z403-Z404","v":32},45.67214772085279,24.62761949045199,{"$f":"AF403-AE404","v":-62.83870096715137},{"$f":"AE403-AF404","v":133.13846817845615},42.72546162766497,-23.038689092337535]
[{"$nulls":20},"2IV",null,null,30.3,15,133,null,null,{"$f":"Z404*(Y404/1000)","v":1.9949999999999999},{"$f":"(Y404/1000)/($AI$1/$AI$2)","v":0.004490312500000001},{"$f":"AC404/((Y404/1000)-AD404)","v":189.82486396479442},{"$f":"AC404/((Y404/1000)+AD404)","v":102.35854350719106},56.82486396479442,-30.641456492808942,42.72546162766497,-23.03868909233755,{"$f":"Z404-Z405","v":75},107.04409622074873,57.720983180746835,{"$f":"AF404-AE405","v":19.577775763145368},{"$f":"AE404-AF405","v":145.1873036383502},42.72546162766497,-23.03868909233755]
[{"$nulls":20},"2V",null,null,10.5,15,58,null,null,{"$f":"Z405*(Y405/1000)","v":0.87},{"$f":"(Y405/1000)/($AI$1/$AI$2)","v":0.004490312500000001},{"$f":"AC405/((Y405/1000)-AD405)","v":82.78076774404569},{"$f":"AC405/((Y405/1000)+AD405)","v":44.63756032644422},24.78076774404569,-13.362439673555777,42.72546162766497,-23.03868909233755]
[{"$nulls":20},"2VI"]
[{"$nulls":20},"3I"]
[{"$nulls":20},"3II",null,null,82.8,15,184,null,null,{"$f":"Z408*(Y408/1000)","v":2.76},{"$f":"(Y408/1000)/($AI$1/$AI$2)","v":0.004490312500000001},{"$f":"AC408/((Y408/1000)-AD408)","v":262.61484939490356},{"$f":"AC408/((Y408/1000)+AD408)","v":141.6088120700989},{"$f":"AE408-$Z408","v":78.61484939490356},-42.39118792990109,{"$f":"((AE408/$Z408)*100)-100","v":42.72546162766497},-23.03868909233755,{"$f":"Z408-Z409","v":-3},{"$f":"AE408-AE409","v":-4.281763848829939},-2.3088393272298617,{"$f":"AF408-AE409","v":-125.28780117363459},{"$f":"AE408-AF409","v":118.69719799757479},{"$f":"((AL408/$AK408)*100)-100","v":42.72546162766463},-23.038689092337933]
[{"$nulls":20},"3III",null,null,57.8,15,187,null,null,{"$f":"Z409*(Y409/1000)","v":2.8049999999999997},{"$f":"(Y409/1000)/($AI$1/$AI$2)","v":0.004490312500000001},{"$f":"AC409/((Y409/1000)-AD409)","v":266.8966132437335},{"$f":"AC409/((Y409/1000)+AD409)","v":143.91765139732877},79.8966132437335,-43.08234860267123,42.72546162766497,-23.038689092337563,{"$f":"Z409-Z410","v":28},39.963129255746196,21.549167054145485,{"$f":"AF409-AE410","v":-83.01583259065853},{"$f":"AE409-AF410","v":144.5281289005502},42.725461627665,-23.03868909233755]
[{"$nulls":20},"3IV",null,null,39.9,15,159,null,null,{"$f":"Z410*(Y410/1000)","v":2.385},{"$f":"(Y410/1000)/($AI$1/$AI$2)","v":0.004490312500000001},{"$f":"AC410/((Y410/1000)-AD410)","v":226.9334839879873},{"$f":"AC410/((Y410/1000)+AD410)","v":122.36848434318328},67.9334839879873,-36.63151565681672,42.72546162766497,-23.038689092337563,{"$f":"Z410-Z411","v":84},119.88938776723857,64.64750116243644,{"$f":"AF410-AE411","v":15.324388122434556},{"$f":"AE410-AF411","v":169.21250080724047},42.72546162766497,-23.038689092337577]
[{"$nulls":20},"3V",null,null,14.4,15,75,null,null,{"$f":"Z411*(Y411/1000)","v":1.125},{"$f":"(Y411/1000)/($AI$1/$AI$2)","v":0.004490312500000001},{"$f":"AC411/((Y411/1000)-AD411)","v":107.04409622074873},{"$f":"AC411/((Y411/1000)+AD411)","v":57.720983180746835},32.04409622074873,-17.279016819253165,42.72546162766497,-23.03868909233755,{"$f":"Z411-Z412","v":47},67.08096696500255,36.17181612660135,{"$f":"AF411-AE412","v":17.757853925000646},{"$f":"AE411-AF412","v":85.49492916660324},42.725461627665,-23.03868909233755]
[{"$nulls":20},"3VI",null,null,4.2,15,28,null,null,{"$f":"Z412*(Y412/1000)","v":0.42},{"$f":"(Y412/1000)/($AI$1/$AI$2)","v":0.004490312500000001},{"$f":"AC412/((Y412/1000)-AD412)","v":39.96312925574619},{"$f":"AC412/((Y412/1000)+AD412)","v":21.549167054145485},11.963129255746189,-6.450832945854515,42.72546162766494,-23.03868909233755]
[{"$nulls":20},"4I"]
[{"$nulls":20},"4II",null,null,60,15,188,null,null,{"$f":"Z414*(Y414/1000)","v":2.82},{"$f":"(Y414/1000)/($AI$1/$AI$2)","v":0.004490312500000001},{"$f":"AC414/((Y414/1000)-AD414)","v":268.3238678600101},{"$f":"AC414/((Y414/1000)+AD414)","v":144.6872645064054},{"$f":"AE414-$Z414","v":80.32386786001013},-43.3127354935946,{"$f":"((AE414/$Z414)*100)-100","v":42.72546162766494},-23.03868909233755,{"$f":"Z414-Z415","v":25},{"$f":"AE414-AE415","v":35.68136540691623},19.24032772691561,{"$f":"AF414-AE415","v":-87.9552379466885},{"$f":"AE414-AF415","v":142.87693108052034},{"$f":"((AL414/$AK414)*100)-100","v":42.72546162766491},-23.038689092337563]
[{"$nulls":20},"4III",null,null,42,15,163,null,null,{"$f":"Z415*(Y415/1000)","v":2.445},{"$f":"(Y415/1000)/($AI$1/$AI$2)","v":0.004490312500000001},{"$f":"AC415/((Y415/1000)-AD415)","v":232.6425024530939},{"$f":"AC415/((Y415/1000)+AD415)","v":125.44693677948979},69.6425024530939,-37.55306322051021,42.72546162766497,-23.03868909233755,{"$f":"Z415-Z416","v":40},57.09018465106598,30.784524363064975,{"$f":"AF415-AE416","v":-50.105381022538126},{"$f":"AE415-AF416","v":137.98009003666908},42.72546162766494,-23.038689092337563]
[{"$nulls":20},"4IV",null,null,27,15,123,null,null,{"$f":"Z416*(Y416/1000)","v":1.845},{"$f":"(Y416/1000)/($AI$1/$AI$2)","v":0.004490312500000001},{"$f":"AC416/((Y416/1000)-AD416)","v":175.55231780202791},{"$f":"AC416/((Y416/1000)+AD416)","v":94.66241241642481},52.552317802027915,-28.337587583575186,42.72546162766497,-23.03868909233755,{"$f":"Z416-Z417","v":62},88.48978620915229,47.71601276275072,{"$f":"AF416-AE417","v":7.599880823549185},{"$f":"AE416-AF417","v":128.60591814835382},42.72546162766497,-23.03868909233755]
[{"$nulls":20},"4V",null,null,11.1,15,61,null,null,{"$f":"Z417*(Y417/1000)","v":0.9149999999999999},{"$f":"(Y417/1000)/($AI$1/$AI$2)","v":0.004490312500000001},{"$f":"AC417/((Y417/1000)-AD417)","v":87.06253159287563},{"$f":"AC417/((Y417/1000)+AD417)","v":46.94639965367409},26.06253159287563,-14.053600346325908,42.72546162766497,-23.03868909233755]
[{"$nulls":20},"4VI",{"$nulls":24},"Average for tooth mesial teeth"]
[{"$nulls":20},"MB.R.2338 - pmx sin",{"$nulls":23},"I"]
[{"$nulls":20},"1I",{"$nulls":23},"II",{"$f":"AVERAGE(Z396,Z402,Z408,Z414)","v":188.5},{"$f":"AVERAGE(AE396,AE402,AE408,AE414)","v":269.03749516814844},145.0720710609437,{"$f":"AVERAGE(AK396,AK402,AK414)","v":20.333333333333332},29.020843864291844,15.648799884558022,-95.93104250371293,140.6006862525628]
[{"$nulls":20},"1II",null,null,75.5,15,190,null,null,{"$f":"Z421*(Y421/1000)","v":2.85},{"$f":"(Y421/1000)/($AI$1/$AI$2)","v":0.004490312500000001},{"$f":"AC421/((Y421/1000)-AD421)","v":271.17837709256344},{"$f":"AC421/((Y421/1000)+AD421)","v":146.22649072455866},{"$f":"AE421-$Z421","v":81.17837709256344},-43.77350927544134,{"$f":"((AE421/$Z421)*100)-100","v":42.72546162766497},-23.03868909233755,{"$f":"Z421-Z422","v":5},{"$f":"AE421-AE422","v":7.136273081383251},3.848065545383122,{"$f":"AF421-AE422","v":-117.81561328662153},{"$f":"AE421-AF422","v":128.7999519133879},{"$f":"((AL421/$AK421)*100)-100","v":42.72546162766503},-23.038689092337563,null,"III",{"$f":"AVERAGE(Z397,Z403,Z409,Z415)","v":174},248.34230323213708,133.91268097933266,34.666666666666664,49.47816003092387,26.679921114656313,-62.101682357347094,138.25976350292726]
[{"$nulls":20},"1III",null,null,56.5,15,185,null,null,{"$f":"Z422*(Y422/1000)","v":2.775},{"$f":"(Y422/1000)/($AI$1/$AI$2)","v":0.004490312500000001},{"$f":"AC422/((Y422/1000)-AD422)","v":264.0421040111802},{"$f":"AC422/((Y422/1000)+AD422)","v":142.37842517917554},79.04210401118019,-42.62157482082446,42.72546162766497,-23.03868909233755,{"$f":"Z422-Z423","v":53},75.64449466266242,40.78949478106111,{"$f":"AF422-AE423","v":-46.019184169342225},{"$f":"AE422-AF423","v":162.45317361306576},42.72546162766494,-23.038689092337535,null,"IV",{"$f":"AVERAGE(Z398,Z404,Z410,Z416)","v":141},201.2429008950076,108.51544837980404,60.333333333333336,86.11102851535786,46.433324247623005,-2.670574956645543,135.21492771962642]
[{"$nulls":20},"1IV",null,null,30,15,132,null,null,{"$f":"Z423*(Y423/1000)","v":1.98},{"$f":"(Y423/1000)/($AI$1/$AI$2)","v":0.004490312500000001},{"$f":"AC423/((Y423/1000)-AD423)","v":188.39760934851776},{"$f":"AC423/((Y423/1000)+AD423)","v":101.58893039811443},56.39760934851776,-30.411069601885572,42.72546162766497,-23.03868909233755,{"$f":"Z423-Z424","v":58},82.78076774404569,44.63756032644422,{"$f":"AF423-AE424","v":-4.027911206357643},{"$f":"AE423-AF424","v":131.44623927684756},42.72546162766497,-23.03868909233755,null,"V",{"$f":"AVERAGE(Z399,Z405,Z411,Z417)","v":74.75},106.68728256667957,57.52857990347768,76,108.47135083702537,58.49059628982346,39.41899258102273,127.5429545458261]
[{"$nulls":20},"1V",null,null,14,15,74,null,null,{"$f":"Z424*(Y424/1000)","v":1.1099999999999999},{"$f":"(Y424/1000)/($AI$1/$AI$2)","v":0.004490312500000001},{"$f":"AC424/((Y424/1000)-AD424)","v":105.61684160447207},{"$f":"AC424/((Y424/1000)+AD424)","v":56.951370071670205},31.61684160447207,-17.048629928329795,42.72546162766494,-23.038689092337563,{"$nulls":8},"VI",{"$f":"AVERAGE(Z400,Z406,Z412,Z418)","v":28.5},40.67675656388452,21.9339736086838]
[{"$nulls":20},"1VI"]
[{"$nulls":20},"2I"]
[{"$nulls":20},"2II",null,null,90.5,15,173,null,null,{"$f":"Z427*(Y427/1000)","v":2.5949999999999998},{"$f":"(Y427/1000)/($AI$1/$AI$2)","v":0.004490312500000001},{"$f":"AC427/((Y427/1000)-AD427)","v":246.9150486158604},{"$f":"AC427/((Y427/1000)+AD427)","v":133.14306787025603},{"$f":"AE427-$Z427","v":73.9150486158604},-39.85693212974397,{"$f":"((AE427/$Z427)*100)-100","v":42.72546162766497},-23.03868909233755,{"$f":"Z427-Z428","v":-14},{"$f":"AE427-AE428","v":-19.981564627873098},-10.774583527072735,{"$f":"AF427-AE428","v":-133.75354537347746},{"$f":"AE427-AF428","v":102.99739721853163},{"$f":"((AL427/$AK427)*100)-100","v":42.725461627665},-23.038689092337606]
[{"$nulls":20},"2III",null,null,58,15,187,null,null,{"$f":"Z428*(Y428/1000)","v":2.8049999999999997},{"$f":"(Y428/1000)/($AI$1/$AI$2)","v":0.004490312500000001},{"$f":"AC428/((Y428/1000)-AD428)","v":266.8966132437335},{"$f":"AC428/((Y428/1000)+AD428)","v":143.91765139732877},79.8966132437335,-43.08234860267123,42.72546162766497,-23.038689092337563,{"$f":"Z428-Z429","v":29},41.390383872022824,22.318780163222087,{"$f":"AF428-AE429","v":-81.5885779743819},{"$f":"AE428-AF429","v":145.2977420096268},42.72546162766491,-23.038689092337634]
[{"$nulls":20},"2IV",null,null,39.5,15,158,null,null,{"$f":"Z429*(Y429/1000)","v":2.37},{"$f":"(Y429/1000)/($AI$1/$AI$2)","v":0.004490312500000001},{"$f":"AC429/((Y429/1000)-AD429)","v":225.50622937171067},{"$f":"AC429/((Y429/1000)+AD429)","v":121.59887123410668},67.50622937171067,-36.40112876589332,42.72546162766497,-23.038689092337535,{"$f":"Z429-Z430","v":49},69.93547619755586,37.7110423447546,{"$f":"AF429-AE430","v":-33.971881940048135},{"$f":"AE429-AF430","v":141.6184004823586},42.72546162766503,-23.03868909233755]
[{"$nulls":20},"2V",null,null,23,15,109,null,null,{"$f":"Z430*(Y430/1000)","v":1.635},{"$f":"(Y430/1000)/($AI$1/$AI$2)","v":0.004490312500000001},{"$f":"AC430/((Y430/1000)-AD430)","v":155.57075317415482},{"$f":"AC430/((Y430/1000)+AD430)","v":83.88782888935208},46.57075317415482,-25.11217111064792,42.72546162766497,-23.038689092337535,{"$f":"Z430-Z431","v":77},109.89860545330203,59.260209398900095,{"$f":"AF430-AE431","v":38.21568116849929},{"$f":"AE430-AF431","v":130.94313368370283},42.72546162766497,-23.038689092337535]
[{"$nulls":20},"2VI",null,null,5,15,32,null,null,{"$f":"Z431*(Y431/1000)","v":0.48},{"$f":"(Y431/1000)/($AI$1/$AI$2)","v":0.004490312500000001},{"$f":"AC431/((Y431/1000)-AD431)","v":45.67214772085279},{"$f":"AC431/((Y431/1000)+AD431)","v":24.627619490451984},13.672147720852792,-7.372380509548016,42.72546162766497,-23.03868909233755]
[{"$nulls":20},"3I"]
[{"$nulls":20},"3II",null,null,67.5,15,191,null,null,{"$f":"Z433*(Y433/1000)","v":2.8649999999999998},{"$f":"(Y433/1000)/($AI$1/$AI$2)","v":0.004490312500000001},{"$f":"AC433/((Y433/1000)-AD433)","v":272.60563170884006},{"$f":"AC433/((Y433/1000)+AD433)","v":146.99610383363526},{"$f":"AE433-$Z433","v":81.60563170884006},-44.00389616636474,{"$f":"((AE433/$Z433)*100)-100","v":42.72546162766494},-23.038689092337563,{"$f":"Z433-Z434","v":16},{"$f":"AE433-AE434","v":22.836073860426353},12.313809745225967,{"$f":"AF433-AE434","v":-102.77345401477845},{"$f":"AE433-AF434","v":137.92333762043077},{"$f":"((AL433/$AK433)*100)-100","v":42.725461627664714},-23.038689092337705]
[{"$nulls":20},"3III",null,null,48.5,15,175,null,null,{"$f":"Z434*(Y434/1000)","v":2.625},{"$f":"(Y434/1000)/($AI$1/$AI$2)","v":0.004490312500000001},{"$f":"AC434/((Y434/1000)-AD434)","v":249.7695578484137},{"$f":"AC434/((Y434/1000)+AD434)","v":134.6822940884093},74.76955784841371,-40.31770591159071,42.72546162766497,-23.03868909233755,{"$f":"Z434-Z435","v":46},65.65371234872592,35.40220301752474,{"$f":"AF434-AE435","v":-49.4335514112785},{"$f":"AE434-AF435","v":150.48946677752917},42.72546162766503,-23.03868909233752]
[{"$nulls":20},"3IV",null,null,29,15,129,null,null,{"$f":"Z435*(Y435/1000)","v":1.9349999999999998},{"$f":"(Y435/1000)/($AI$1/$AI$2)","v":0.004490312500000001},{"$f":"AC435/((Y435/1000)-AD435)","v":184.1158454996878},{"$f":"AC435/((Y435/1000)+AD435)","v":99.28009107088455},55.115845499687794,-29.719908929115448,42.72546162766494,-23.038689092337563,{"$f":"Z435-Z436","v":80},114.18036930213195,61.56904872612995,{"$f":"AF435-AE436","v":29.34461487332871},{"$f":"AE435-AF436","v":146.40480315493318},42.72546162766494,-23.038689092337563]
[{"$nulls":20},"3V",null,null,8.5,15,49,null,null,{"$f":"Z436*(Y436/1000)","v":0.735},{"$f":"(Y436/1000)/($AI$1/$AI$2)","v":0.004490312500000001},{"$f":"AC436/((Y436/1000)-AD436)","v":69.93547619755584},{"$f":"AC436/((Y436/1000)+AD436)","v":37.7110423447546},20.935476197555843,-11.288957655245397,42.725461627665,-23.03868909233755]
[{"$nulls":20},"3VI"]
[{"$nulls":20},"4I"]
[{"$nulls":20},"4II",null,null,58.5,15,187,null,null,{"$f":"Z439*(Y439/1000)","v":2.8049999999999997},{"$f":"(Y439/1000)/($AI$1/$AI$2)","v":0.004490312500000001},{"$f":"AC439/((Y439/1000)-AD439)","v":266.8966132437335},{"$f":"AC439/((Y439/1000)+AD439)","v":143.91765139732877},{"$f":"AE439-$Z439","v":79.8966132437335},-43.08234860267123,{"$f":"((AE439/$Z439)*100)-100","v":42.72546162766497},-23.038689092337563,{"$f":"Z439-Z440","v":33},{"$f":"AE439-AE440","v":47.09940233712942},25.397232599528593,{"$f":"AF439-AE440","v":-75.87955950927531},{"$f":"AE439-AF440","v":148.37619444593332},{"$f":"((AL439/$AK439)*100)-100","v":42.72546162766491},-23.03868909233759]
[{"$nulls":20},"4III",null,null,38,15,154,null,null,{"$f":"Z440*(Y440/1000)","v":2.31},{"$f":"(Y440/1000)/($AI$1/$AI$2)","v":0.004490312500000001},{"$f":"AC440/((Y440/1000)-AD440)","v":219.79721090660408},{"$f":"AC440/((Y440/1000)+AD440)","v":118.52041879780018},65.79721090660408,-35.479581202199824,42.725461627665,-23.03868909233755,{"$f":"Z440-Z441","v":80},114.18036930213201,61.56904872612997,{"$f":"AF440-AE441","v":12.903577193328104},{"$f":"AE440-AF441","v":162.84584083493388},42.72546162766503,-23.038689092337535]
[{"$nulls":20},"4IV",null,null,14,15,74,null,null,{"$f":"Z441*(Y441/1000)","v":1.1099999999999999},{"$f":"(Y441/1000)/($AI$1/$AI$2)","v":0.004490312500000001},{"$f":"AC441/((Y441/1000)-AD441)","v":105.61684160447207},{"$f":"AC441/((Y441/1000)+AD441)","v":56.951370071670205},31.61684160447207,-17.048629928329795,42.72546162766494,-23.038689092337563,{"$f":"Z441-Z442","v":45},64.22645773244923,34.6325899084481,{"$f":"AF441-AE442","v":15.56098619964736},{"$f":"AE441-AF442","v":83.29806144124996},42.72546162766497,-23.038689092337563]
[{"$nulls":20},"4V",null,null,4.5,15,29,null,null,{"$f":"Z442*(Y442/1000)","v":0.435},{"$f":"(Y442/1000)/($AI$1/$AI$2)","v":0.004490312500000001},{"$f":"AC442/((Y442/1000)-AD442)","v":41.390383872022845},{"$f":"AC442/((Y442/1000)+AD442)","v":22.31878016322211},12.390383872022845,-6.681219836777888,42.72546162766497,-23.03868909233755]
[{"$nulls":20},"4VI",{"$nulls":24},"Average for tooth mesial teeth"]
[{"$nulls":20},"MB.R.2339 - pmx sin",{"$nulls":23},"I"]
[{"$nulls":20},"1I",{"$nulls":23},"II",{"$f":"AVERAGE(Z421,Z427,Z433,Z439)","v":185.25},{"$f":"AVERAGE(AE421,AE427,AE433,AE439)","v":264.39891766524937},142.57082845644467,{"$f":"AVERAGE(AK421,AK439)","v":19},{"$f":"AVERAGE(AL421,AL439)","v":27.117837709256335},{"$f":"AVERAGE(AM421,AM439)","v":14.622649072455857},{"$f":"AVERAGE(AN421,AN439)","v":-96.84758639794842},{"$f":"AVERAGE(AO421,AO439)","v":138.58807317966063}]
[{"$nulls":20},"1II",null,null,75.6,15,189,null,null,{"$f":"Z446*(Y446/1000)","v":2.835},{"$f":"(Y446/1000)/($AI$1/$AI$2)","v":0.004490312500000001},{"$f":"AC446/((Y446/1000)-AD446)","v":269.7511224762868},{"$f":"AC446/((Y446/1000)+AD446)","v":145.45687761548203},{"$f":"AE446-$Z446","v":80.75112247628681},-43.54312238451797,{"$f":"((AE446/$Z446)*100)-100","v":42.72546162766497},-23.03868909233755,{"$f":"Z446-Z447","v":17},{"$f":"AE446-AE447","v":24.263328476703037},13.083422854302597,{"$f":"AF446-AE447","v":-100.03091638410174},{"$f":"AE446-AF447","v":137.37766771510738},{"$f":"((AL446/$AK446)*100)-100","v":42.72546162766494},-23.038689092337663,null,"III",{"$f":"AVERAGE(Z422,Z428,Z434,Z440)","v":175.25},250.12637150248284,134.87469736567846,{"$f":"AVERAGE(AK422,AK428,AK440)","v":54},77.07174927893908,41.55910789013772,-38.23472831679867,156.86558548587547]
[{"$nulls":20},"1III",null,null,46.8,15,172,null,null,{"$f":"Z447*(Y447/1000)","v":2.58},{"$f":"(Y447/1000)/($AI$1/$AI$2)","v":0.004490312500000001},{"$f":"AC447/((Y447/1000)-AD447)","v":245.48779399958377},{"$f":"AC447/((Y447/1000)+AD447)","v":132.37345476117943},73.48779399958377,-39.62654523882057,42.72546162766497,-23.038689092337535,{"$f":"Z447-Z448","v":51},72.78998543010917,39.25026856290786,{"$f":"AF447-AE448","v":-40.32435380829517},{"$f":"AE447-AF448","v":152.36460780131222},42.72546162766503,-23.038689092337535,null,"IV",{"$f":"AVERAGE(Z423,Z429,Z435,Z441)","v":123.25},175.90913145609707,94.85481569369398,50.666666666666664,72.31423389135026,38.993730859882305,-7.479602315586139,118.78756706681871]
[{"$nulls":20},"1IV",null,null,26.4,15,121,null,null,{"$f":"Z448*(Y448/1000)","v":1.815},{"$f":"(Y448/1000)/($AI$1/$AI$2)","v":0.004490312500000001},{"$f":"AC448/((Y448/1000)-AD448)","v":172.6978085694746},{"$f":"AC448/((Y448/1000)+AD448)","v":93.12318619827157},51.6978085694746,-27.87681380172843,42.72546162766494,-23.03868909233755,{"$f":"Z448-Z449","v":51},72.78998543010911,39.25026856290785,{"$f":"AF448-AE449","v":-6.784636941093922},{"$f":"AE448-AF449","v":118.82489093411088},42.72546162766494,-23.03868909233755,null,"V",{"$f":"AVERAGE(Z424,Z430,Z436,Z442)","v":65.25},93.12836371205138,50.21725536724974,77,109.89860545330203,59.260209398900095,38.21568116849929,130.94313368370283]
[{"$nulls":20},"1V",null,null,13.2,15,70,null,null,{"$f":"Z449*(Y449/1000)","v":1.05},{"$f":"(Y449/1000)/($AI$1/$AI$2)","v":0.004490312500000001},{"$f":"AC449/((Y449/1000)-AD449)","v":99.90782313936549},{"$f":"AC449/((Y449/1000)+AD449)","v":53.87291763536372},29.90782313936549,-16.12708236463628,42.725461627665,-23.038689092337535,{"$nulls":8},"VI",{"$f":"AVERAGE(Z425,Z431,Z437,Z443)","v":32},45.67214772085279,24.627619490451984]
[{"$nulls":20},"1VI"]
[{"$nulls":20},"2I"]
[{"$nulls":20},"2II",null,null,78.3,15,188,null,null,{"$f":"Z452*(Y452/1000)","v":2.82},{"$f":"(Y452/1000)/($AI$1/$AI$2)","v":0.004490312500000001},{"$f":"AC452/((Y452/1000)-AD452)","v":268.3238678600101},{"$f":"AC452/((Y452/1000)+AD452)","v":144.6872645064054},{"$f":"AE452-$Z452","v":80.32386786001013},-43.3127354935946,{"$f":"((AE452/$Z452)*100)-100","v":42.72546162766494},-23.03868909233755,{"$f":"Z452-Z453","v":-1},{"$f":"AE452-AE453","v":-1.4272546162766844},-0.76961310907663,{"$f":"AF452-AE453","v":-125.06385796988141},{"$f":"AE452-AF453","v":122.8669902445281},{"$f":"((AL452/$AK452)*100)-100","v":42.72546162766844},-23.038689092336995]
[{"$nulls":20},"2III",null,null,60.6,15,189,null,null,{"$f":"Z453*(Y453/1000)","v":2.835},{"$f":"(Y453/1000)/($AI$1/$AI$2)","v":0.004490312500000001},{"$f":"AC453/((Y453/1000)-AD453)","v":269.7511224762868},{"$f":"AC453/((Y453/1000)+AD453)","v":145.45687761548203},80.75112247628681,-43.54312238451797,42.72546162766497,-23.03868909233755,{"$f":"Z453-Z454","v":30},42.81763848829951,23.088393272298745,{"$f":"AF453-AE454","v":-81.47660637250527},{"$f":"AE453-AF454","v":147.3826381331035},42.72546162766503,-23.03868909233752]
[{"$nulls":20},"2IV",null,null,39.9,15,159,null,null,{"$f":"Z454*(Y454/1000)","v":2.385},{"$f":"(Y454/1000)/($AI$1/$AI$2)","v":0.004490312500000001},{"$f":"AC454/((Y454/1000)-AD454)","v":226.9334839879873},{"$f":"AC454/((Y454/1000)+AD454)","v":122.36848434318328},67.9334839879873,-36.63151565681672,42.72546162766497,-23.038689092337563,{"$f":"Z454-Z455","v":65},92.77155005798224,50.024852089980584,{"$f":"AF454-AE455","v":-11.79344958682178},{"$f":"AE454-AF455","v":154.5898517347846},42.72546162766497,-23.038689092337563]
[{"$nulls":20},"2V",null,null,18.9,15,94,null,null,{"$f":"Z455*(Y455/1000)","v":1.41},{"$f":"(Y455/1000)/($AI$1/$AI$2)","v":0.004490312500000001},{"$f":"AC455/((Y455/1000)-AD455)","v":134.16193393000506},{"$f":"AC455/((Y455/1000)+AD455)","v":72.3436322532027},40.16193393000506,-21.6563677467973,42.72546162766494,-23.03868909233755,{"$f":"Z455-Z456","v":73},104.18958698819542,56.18175696259358,{"$f":"AF455-AE456","v":42.37128531139305},{"$f":"AE455-AF456","v":118.00005863939595},42.72546162766494,-23.038689092337563]
[{"$nulls":20},"2VI",null,null,3,15,21,null,null,{"$f":"Z456*(Y456/1000)","v":0.315},{"$f":"(Y456/1000)/($AI$1/$AI$2)","v":0.004490312500000001},{"$f":"AC456/((Y456/1000)-AD456)","v":29.972346941809644},{"$f":"AC456/((Y456/1000)+AD456)","v":16.161875290609114},8.972346941809644,-4.838124709390886,42.72546162766497,-23.03868909233755]
[{"$nulls":20},"3I"]
[{"$nulls":20},"3II",null,null,75.9,15,189,null,null,{"$f":"Z458*(Y458/1000)","v":2.835},{"$f":"(Y458/1000)/($AI$1/$AI$2)","v":0.004490312500000001},{"$f":"AC458/((Y458/1000)-AD458)","v":269.7511224762868},{"$f":"AC458/((Y458/1000)+AD458)","v":145.45687761548203},{"$f":"AE458-$Z458","v":80.75112247628681},-43.54312238451797,{"$f":"((AE458/$Z458)*100)-100","v":42.72546162766497},-23.03868909233755,{"$f":"Z458-Z459","v":12},{"$f":"AE458-AE459","v":17.127055395319815},9.235357308919504,{"$f":"AF458-AE459","v":-107.16718946548497},{"$f":"AE458-AF459","v":133.52960216972428},{"$f":"((AL458/$AK458)*100)-100","v":42.72546162766514},-23.038689092337478]
[{"$nulls":20},"3III",null,null,49.5,15,177,null,null,{"$f":"Z459*(Y459/1000)","v":2.655},{"$f":"(Y459/1000)/($AI$1/$AI$2)","v":0.004490312500000001},{"$f":"AC459/((Y459/1000)-AD459)","v":252.624067080967},{"$f":"AC459/((Y459/1000)+AD459)","v":136.22152030656252},75.624067080967,-40.778479693437475,42.72546162766497,-23.038689092337563,{"$f":"Z459-Z460","v":54},77.07174927893908,41.55910789013771,{"$f":"AF459-AE460","v":-39.33079749546539},{"$f":"AE459-AF460","v":157.96165466454218},42.72546162766497,-23.038689092337577]
[{"$nulls":20},"3IV",null,null,27,15,123,null,null,{"$f":"Z460*(Y460/1000)","v":1.845},{"$f":"(Y460/1000)/($AI$1/$AI$2)","v":0.004490312500000001},{"$f":"AC460/((Y460/1000)-AD460)","v":175.55231780202791},{"$f":"AC460/((Y460/1000)+AD460)","v":94.66241241642481},52.552317802027915,-28.337587583575186,42.72546162766497,-23.03868909233755,{"$f":"Z460-Z461","v":58},82.78076774404568,44.63756032644422,{"$f":"AF460-AE461","v":1.8908623584425754},{"$f":"AE460-AF461","v":125.52746571204733},42.72546162766494,-23.03868909233755]
[{"$nulls":20},"3V",null,null,12,15,65,null,null,{"$f":"Z461*(Y461/1000)","v":0.975},{"$f":"(Y461/1000)/($AI$1/$AI$2)","v":0.004490312500000001},{"$f":"AC461/((Y461/1000)-AD461)","v":92.77155005798224},{"$f":"AC461/((Y461/1000)+AD461)","v":50.02485208998059},27.77155005798224,-14.975147910019409,42.72546162766497,-23.03868909233755,{"$f":"Z461-Z462","v":40},57.090184651066,30.78452436306498,{"$f":"AF461-AE462","v":14.343486683064349},{"$f":"AE461-AF462","v":73.53122233106663},42.725461627665,-23.03868909233755]
[{"$nulls":20},"3VI",null,null,3.6,15,25,null,null,{"$f":"Z462*(Y462/1000)","v":0.375},{"$f":"(Y462/1000)/($AI$1/$AI$2)","v":0.004490312500000001},{"$f":"AC462/((Y462/1000)-AD462)","v":35.68136540691624},{"$f":"AC462/((Y462/1000)+AD462)","v":19.240327726915613},10.681365406916242,-5.759672273084387,42.72546162766497,-23.03868909233755]
[{"$nulls":20},"4I"]
[{"$nulls":20},"4II",null,null,65.1,15,190,null,null,{"$f":"Z464*(Y464/1000)","v":2.85},{"$f":"(Y464/1000)/($AI$1/$AI$2)","v":0.004490312500000001},{"$f":"AC464/((Y464/1000)-AD464)","v":271.17837709256344},{"$f":"AC464/((Y464/1000)+AD464)","v":146.22649072455866},{"$f":"AE464-$Z464","v":81.17837709256344},-43.77350927544134,{"$f":"((AE464/$Z464)*100)-100","v":42.72546162766497},-23.03868909233755,{"$f":"Z464-Z465","v":1},{"$f":"AE464-AE465","v":1.4272546162766275},0.76961310907663,{"$f":"AF464-AE465","v":-123.52463175172815},{"$f":"AE464-AF465","v":125.72149947708141},{"$f":"((AL464/$AK464)*100)-100","v":42.72546162766275},-23.038689092336995]
[{"$nulls":20},"4III",null,null,60.9,15,189,null,null,{"$f":"Z465*(Y465/1000)","v":2.835},{"$f":"(Y465/1000)/($AI$1/$AI$2)","v":0.004490312500000001},{"$f":"AC465/((Y465/1000)-AD465)","v":269.7511224762868},{"$f":"AC465/((Y465/1000)+AD465)","v":145.45687761548203},80.75112247628681,-43.54312238451797,42.72546162766497,-23.03868909233755,{"$f":"Z465-Z466","v":38},54.23567541851267,29.245298144911715,{"$f":"AF465-AE466","v":-70.05856944229211},{"$f":"AE465-AF466","v":153.5395430057165},42.72546162766494,-23.03868909233759]
[{"$nulls":20},"4IV",null,null,36.9,15,151,null,null,{"$f":"Z466*(Y466/1000)","v":2.265},{"$f":"(Y466/1000)/($AI$1/$AI$2)","v":0.004490312500000001},{"$f":"AC466/((Y466/1000)-AD466)","v":215.51544705777414},{"$f":"AC466/((Y466/1000)+AD466)","v":116.21157947057031},64.51544705777414,-34.788420529429686,42.725461627665,-23.038689092337535,{"$f":"Z466-Z467","v":59},84.20802236032236,45.40717343552086,{"$f":"AF466-AE467","v":-15.095845226881465},{"$f":"AE466-AF467","v":144.7110410227247},42.72546162766503,-23.038689092337535]
[{"$nulls":20},"4V",null,null,18.6,15,92,null,null,{"$f":"Z467*(Y467/1000)","v":1.38},{"$f":"(Y467/1000)/($AI$1/$AI$2)","v":0.004490312500000001},{"$f":"AC467/((Y467/1000)-AD467)","v":131.30742469745178},{"$f":"AC467/((Y467/1000)+AD467)","v":70.80440603504945},39.30742469745178,-21.195593964950547,42.72546162766497,-23.03868909233755]
[{"$nulls":20},"4VI",{"$nulls":24},"Average for tooth mesial teeth"]
[{"$nulls":20},"MB.R.2336 - max dext",{"$nulls":23},"I"]
[{"$nulls":20},"1I",{"$nulls":23},"II",{"$f":"AVERAGE(Z446,Z452,Z458,Z464)","v":189},{"$f":"AVERAGE(AE446,AE452,AE458,AE464)","v":269.7511224762868},145.45687761548203,{"$f":"AVERAGE(AK446,AK458,AK464)","v":10},{"$f":"AVERAGE(AL446,AL464)","v":12.845291546489833},{"$f":"AVERAGE(AM446,AM464)","v":6.926517981689614},{"$f":"AVERAGE(AN446,AN464)","v":-111.77777406791495},{"$f":"AVERAGE(AO446,AO464)","v":131.5495835960944}]
[{"$nulls":20},"1II",{"$nulls":23},"III",{"$f":"AVERAGE(Z447,Z453,Z459,Z465)","v":181.75},259.4035265082811,139.8771825746765,{"$f":"AVERAGE(AK447,AK453,AK459,AK465)","v":43.25},61.72876215396511,33.28576696756401,-57.797581779639486,152.8121109011686]
[{"$nulls":20},"1III",null,null,53,15,182,null,null,{"$f":"Z472*(Y472/1000)","v":2.73},{"$f":"(Y472/1000)/($AI$1/$AI$2)","v":0.004490312500000001},{"$f":"AC472/((Y472/1000)-AD472)","v":259.76034016235025},{"$f":"AC472/((Y472/1000)+AD472)","v":140.06958585194565},{"$f":"AE472-$Z472","v":77.76034016235025},-41.93041414805435,{"$f":"((AE472/$Z472)*100)-100","v":42.72546162766497},-23.038689092337563,{"$f":"Z472-Z473","v":25},{"$f":"AE472-AE473","v":35.68136540691623},{"$f":"AF472-AF473","v":19.240327726915595},{"$f":"AF472-AE473","v":-84.00938890348837},{"$f":"AE472-AF473","v":138.9310820373202},{"$f":"((AL472/$AK472)*100)-100","v":42.72546162766491},{"$f":"((AM472/$AK472)*100)-100","v":-23.03868909233762},null,"IV",{"$f":"AVERAGE(Z448,Z454,Z460,Z466)","v":138.5},197.674764354316,106.5914156071125,58.25,83.13758139811485,44.82996360371338,-7.945767349088648,135.91331235091687]
[{"$nulls":20},"1IV",null,null,39,15,157,null,null,{"$f":"Z473*(Y473/1000)","v":2.355},{"$f":"(Y473/1000)/($AI$1/$AI$2)","v":0.004490312500000001},{"$f":"AC473/((Y473/1000)-AD473)","v":224.07897475543402},{"$f":"AC473/((Y473/1000)+AD473)","v":120.82925812503005},67.07897475543402,-36.17074187496995,42.72546162766497,-23.03868909233755,{"$f":"Z473-Z474","v":79},{"$f":"AE473-AE474","v":112.75311468585534},{"$f":"AF473-AF474","v":60.79943561705334},{"$f":"AF473-AE474","v":9.50339805545137},{"$f":"AE473-AF474","v":164.0491522474573},{"$f":"((AL473/$AK473)*100)-100","v":42.72546162766497},{"$f":"((AM473/$AK473)*100)-100","v":-23.038689092337535},null,"V",{"$f":"AVERAGE(Z449,Z455,Z461,Z467)","v":80.25},114.53718295620115,61.761452003399114,56.5,80.6398858196307,43.48314066282928,28.3573859972287,95.76564048523129]
[{"$nulls":20},"1V",null,null,15,15,78,null,null,{"$f":"Z474*(Y474/1000)","v":1.17},{"$f":"(Y474/1000)/($AI$1/$AI$2)","v":0.004490312500000001},{"$f":"AC474/((Y474/1000)-AD474)","v":111.32586006957868},{"$f":"AC474/((Y474/1000)+AD474)","v":60.02982250797671},33.32586006957868,-17.97017749202329,42.72546162766497,-23.03868909233755,{"$nulls":8},"VI",{"$f":"AVERAGE(Z450,Z456,Z462,Z468)","v":23},32.826856174362945,17.701101508762363]
[{"$nulls":20},"2I"]
[{"$nulls":20},"2II",null,null,58,15,187,null,null,{"$f":"Z476*(Y476/1000)","v":2.8049999999999997},{"$f":"(Y476/1000)/($AI$1/$AI$2)","v":0.004490312500000001},{"$f":"AC476/((Y476/1000)-AD476)","v":266.8966132437335},{"$f":"AC476/((Y476/1000)+AD476)","v":143.91765139732877},{"$f":"AE476-$Z476","v":79.8966132437335},-43.08234860267123,{"$f":"((AE476/$Z476)*100)-100","v":42.72546162766497},-23.038689092337563,{"$f":"Z476-Z477","v":19},{"$f":"AE476-AE477","v":27.11783770925635},14.622649072455857,{"$f":"AF476-AE477","v":-95.86112413714838},{"$f":"AE476-AF477","v":137.6016109188606},{"$f":"((AL476/$AK476)*100)-100","v":42.725461627665},-23.03868909233759]
[{"$nulls":20},"2III",null,null,44.5,15,168,null,null,{"$f":"Z477*(Y477/1000)","v":2.52},{"$f":"(Y477/1000)/($AI$1/$AI$2)","v":0.004490312500000001},{"$f":"AC477/((Y477/1000)-AD477)","v":239.77877553447715},{"$f":"AC477/((Y477/1000)+AD477)","v":129.2950023248729},71.77877553447715,-38.70499767512709,42.72546162766497,-23.03868909233755,{"$f":"Z477-Z478","v":74},105.61684160447209,56.95137007167021,{"$f":"AF477-AE478","v":-4.866931605132152},{"$f":"AE477-AF478","v":167.43514328127446},42.72546162766497,-23.03868909233755]
[{"$nulls":20},"2IV",null,null,19,15,94,null,null,{"$f":"Z478*(Y478/1000)","v":1.41},{"$f":"(Y478/1000)/($AI$1/$AI$2)","v":0.004490312500000001},{"$f":"AC478/((Y478/1000)-AD478)","v":134.16193393000506},{"$f":"AC478/((Y478/1000)+AD478)","v":72.3436322532027},40.16193393000506,-21.6563677467973,42.72546162766494,-23.03868909233755,{"$f":"Z478-Z479","v":45},64.22645773244922,34.6325899084481,{"$f":"AF478-AE479","v":2.408156055646856},{"$f":"AE478-AF479","v":96.45089158525046},42.72546162766494,-23.038689092337563]
[{"$nulls":20},"2V",null,null,8.5,15,49,null,null,{"$f":"Z479*(Y479/1000)","v":0.735},{"$f":"(Y479/1000)/($AI$1/$AI$2)","v":0.004490312500000001},{"$f":"AC479/((Y479/1000)-AD479)","v":69.93547619755584},{"$f":"AC479/((Y479/1000)+AD479)","v":37.7110423447546},20.935476197555843,-11.288957655245397,42.725461627665,-23.03868909233755]
[{"$nulls":20},"3I"]
[{"$nulls":20},"3II",null,null,50,15,178,null,null,{"$f":"Z481*(Y481/1000)","v":2.67},{"$f":"(Y481/1000)/($AI$1/$AI$2)","v":0.004490312500000001},{"$f":"AC481/((Y481/1000)-AD481)","v":254.05132169724365},{"$f":"AC481/((Y481/1000)+AD481)","v":136.99113341563915},{"$f":"AE481-$Z481","v":76.05132169724365},-41.008866584360845,{"$f":"((AE481/$Z481)*100)-100","v":42.72546162766497},-23.03868909233755,{"$f":"Z481-Z482","v":17},{"$f":"AE481-AE482","v":24.263328476703037},13.083422854302611,{"$f":"AF481-AE482","v":-92.79685980490146},{"$f":"AE481-AF482","v":130.14361113590712},{"$f":"((AL481/$AK481)*100)-100","v":42.72546162766494},-23.038689092337577]
[{"$nulls":20},"3III",null,null,41,15,161,null,null,{"$f":"Z482*(Y482/1000)","v":2.415},{"$f":"(Y482/1000)/($AI$1/$AI$2)","v":0.004490312500000001},{"$f":"AC482/((Y482/1000)-AD482)","v":229.7879932205406},{"$f":"AC482/((Y482/1000)+AD482)","v":123.90771056133654},68.78799322054061,-37.09228943866346,42.72546162766497,-23.03868909233755,{"$f":"Z482-Z483","v":81},115.60762391840863,62.33866183520659,{"$f":"AF482-AE483","v":9.727341259204564},{"$f":"AE482-AF483","v":168.21894449441066},42.72546162766497,-23.03868909233755]
[{"$nulls":20},"3IV",null,null,15.5,15,80,null,null,{"$f":"Z483*(Y483/1000)","v":1.2},{"$f":"(Y483/1000)/($AI$1/$AI$2)","v":0.004490312500000001},{"$f":"AC483/((Y483/1000)-AD483)","v":114.18036930213198},{"$f":"AC483/((Y483/1000)+AD483)","v":61.56904872612996},34.18036930213198,-18.430951273870043,42.72546162766497,-23.03868909233755,{"$f":"Z483-Z484","v":59},84.20802236032233,45.407173435520846,{"$f":"AF483-AE484","v":31.596701784320313},{"$f":"AE483-AF484","v":98.01849401152286},42.72546162766497,-23.03868909233755]
[{"$nulls":20},"3V",null,null,3,15,21,null,null,{"$f":"Z484*(Y484/1000)","v":0.315},{"$f":"(Y484/1000)/($AI$1/$AI$2)","v":0.004490312500000001},{"$f":"AC484/((Y484/1000)-AD484)","v":29.972346941809644},{"$f":"AC484/((Y484/1000)+AD484)","v":16.161875290609114},8.972346941809644,-4.838124709390886,42.72546162766497,-23.03868909233755]
[{"$nulls":20},"4I"]
[{"$nulls":20},"4II",null,null,55,15,184,null,null,{"$f":"Z486*(Y486/1000)","v":2.76},{"$f":"(Y486/1000)/($AI$1/$AI$2)","v":0.004490312500000001},{"$f":"AC486/((Y486/1000)-AD486)","v":262.61484939490356},{"$f":"AC486/((Y486/1000)+AD486)","v":141.6088120700989},{"$f":"AE486-$Z486","v":78.61484939490356},{"$f":"AF486-$Z486","v":-42.39118792990109},{"$f":"((AE486/$Z486)*100)-100","v":42.72546162766497},{"$f":"((AF486/$Z486)*100)-100","v":-23.03868909233755},{"$f":"Z486-Z487","v":70},{"$f":"AE486-AE487","v":99.90782313936549},{"$f":"AF486-AF487","v":53.87291763536372},{"$f":"AF486-AE487","v":-21.09821418543916},{"$f":"AE486-AF487","v":174.87895496016836},{"$f":"((AL486/$AK486)*100)-100","v":42.725461627665},{"$f":"((AM486/$AK486)*100)-100","v":-23.038689092337535}]
[{"$nulls":20},"4III",null,null,24.5,15,114,null,null,{"$f":"Z487*(Y487/1000)","v":1.71},{"$f":"(Y487/1000)/($AI$1/$AI$2)","v":0.004490312500000001},{"$f":"AC487/((Y487/1000)-AD487)","v":162.70702625553807},{"$f":"AC487/((Y487/1000)+AD487)","v":87.73589443473519},{"$f":"AE487-$Z487","v":48.70702625553807},{"$f":"AF487-$Z487","v":-26.264105565264813},{"$f":"((AE487/$Z487)*100)-100","v":42.72546162766497},{"$f":"((AF487/$Z487)*100)-100","v":-23.038689092337563}]
[{"$nulls":20},"4IV"]
[{"$nulls":20},"4V",null,null,5.5,15,34,null,null,{"$f":"Z489*(Y489/1000)","v":0.51},{"$f":"(Y489/1000)/($AI$1/$AI$2)","v":0.004490312500000001},{"$f":"AC489/((Y489/1000)-AD489)","v":48.526656953406096},{"$f":"AC489/((Y489/1000)+AD489)","v":26.166845708605234},{"$f":"AE489-$Z489","v":14.526656953406096},{"$f":"AF489-$Z489","v":-7.8331542913947665},{"$f":"((AE489/$Z489)*100)-100","v":42.725461627665},{"$f":"((AF489/$Z489)*100)-100","v":-23.03868909233755}]
[{"$nulls":20},"5I"]
[{"$nulls":20},"5II",null,null,38.5,15,155,null,null,{"$f":"Z491*(Y491/1000)","v":2.3249999999999997},{"$f":"(Y491/1000)/($AI$1/$AI$2)","v":0.004490312500000001},{"$f":"AC491/((Y491/1000)-AD491)","v":221.22446552288068},{"$f":"AC491/((Y491/1000)+AD491)","v":119.29003190687679},{"$f":"AE491-$Z491","v":66.22446552288068},-35.70996809312321,{"$f":"((AE491/$Z491)*100)-100","v":42.72546162766494},-23.03868909233755,{"$f":"Z491-Z492","v":35},{"$f":"AE491-AE492","v":49.95391156968273},26.936458817681853,{"$f":"AF491-AE492","v":-51.980522046321155},{"$f":"AE491-AF492","v":128.87089243368575},{"$f":"((AL491/$AK491)*100)-100","v":42.72546162766494},-23.038689092337563]
[{"$nulls":20},"5III",null,null,26,15,120,null,null,{"$f":"Z492*(Y492/1000)","v":1.7999999999999998},{"$f":"(Y492/1000)/($AI$1/$AI$2)","v":0.004490312500000001},{"$f":"AC492/((Y492/1000)-AD492)","v":171.27055395319795},{"$f":"AC492/((Y492/1000)+AD492)","v":92.35357308919494},51.27055395319795,-27.64642691080506,42.72546162766494,-23.03868909233755,{"$f":"Z492-Z493","v":71},101.3350777556421,54.642530744440336,{"$f":"AF492-AE493","v":22.418096891639095},{"$f":"AE492-AF493","v":133.55951160844336},42.72546162766494,-23.03868909233755]
[{"$nulls":20},"5IV",null,null,8.5,15,49,null,null,{"$f":"Z493*(Y493/1000)","v":0.735},{"$f":"(Y493/1000)/($AI$1/$AI$2)","v":0.004490312500000001},{"$f":"AC493/((Y493/1000)-AD493)","v":69.93547619755584},{"$f":"AC493/((Y493/1000)+AD493)","v":37.7110423447546},20.935476197555843,-11.288957655245397,42.725461627665,-23.03868909233755,{"$f":"Z493-Z494","v":38},54.2356754185127,29.245298144911736,{"$f":"AF493-AE494","v":22.011241565711458},{"$f":"AE493-AF494","v":61.46973199771298},42.725461627665,-23.038689092337535]
[{"$nulls":20},"5V",null,null,1,15,11,null,null,{"$f":"Z494*(Y494/1000)","v":0.16499999999999998},{"$f":"(Y494/1000)/($AI$1/$AI$2)","v":0.004490312500000001},{"$f":"AC494/((Y494/1000)-AD494)","v":15.699800779043146},{"$f":"AC494/((Y494/1000)+AD494)","v":8.465744199842868},4.699800779043146,-2.5342558001571316,42.72546162766497,-23.038689092337563]
[{"$nulls":20},"6I",{"$nulls":24},"Average for tooth mesial teeth"]
[{"$nulls":20},"6II",{"$nulls":23},"I"]
[{"$nulls":20},"6III",null,null,20.5,15,100,null,null,{"$f":"Z497*(Y497/1000)","v":1.5},{"$f":"(Y497/1000)/($AI$1/$AI$2)","v":0.004490312500000001},{"$f":"AC497/((Y497/1000)-AD497)","v":142.72546162766497},{"$f":"AC497/((Y497/1000)+AD497)","v":76.96131090766245},{"$f":"AE497-$Z497","v":42.72546162766497},{"$f":"AF497-$Z497","v":-23.03868909233755},{"$f":"((AE497/$Z497)*100)-100","v":42.72546162766497},{"$f":"((AF497/$Z497)*100)-100","v":-23.03868909233755},{"$f":"Z497-Z498","v":20},{"$f":"AE497-AE498","v":28.54509232553299},{"$f":"AF497-AF498","v":15.392262181532494},{"$f":"AF497-AE498","v":-37.21905839446953},{"$f":"AE497-AF498","v":81.15641290153502},{"$f":"((AL497/$AK497)*100)-100","v":42.72546162766494},{"$f":"((AM497/$AK497)*100)-100","v":-23.038689092337535},null,"II",{"$f":"AVERAGE(Z471,Z476,Z481,Z486,Z491)","v":176},{"$f":"AVERAGE(AE471,AE476,AE481,AE486,AE491)","v":251.19681246469034},135.45190719748592,{"$f":"AVERAGE(AK476,AK481,AK486,AK491)","v":35.25},{"$f":"AVERAGE(AL476,AL481,AL486,AL491)","v":50.3107252237519},{"$f":"AVERAGE(AM476,AM481,AM486,AM491)","v":27.12886209495101},{"$f":"AVERAGE(AN476,AN481,AN486,AN491)","v":-65.43418004345254},{"$f":"AVERAGE(AO476,AO481,AO486,AO491)","v":142.87376736215546}]
[{"$nulls":20},"6IV",null,null,15.5,15,80,null,null,{"$f":"Z498*(Y498/1000)","v":1.2},{"$f":"(Y498/1000)/($AI$1/$AI$2)","v":0.004490312500000001},{"$f":"AC498/((Y498/1000)-AD498)","v":114.18036930213198},{"$f":"AC498/((Y498/1000)+AD498)","v":61.56904872612996},{"$f":"AE498-$Z498","v":34.18036930213198},{"$f":"AF498-$Z498","v":-18.430951273870043},{"$f":"((AE498/$Z498)*100)-100","v":42.72546162766497},{"$f":"((AF498/$Z498)*100)-100","v":-23.03868909233755},{"$nulls":8},"III",{"$f":"AVERAGE(Z472,Z477,Z482,Z487,Z492)","v":149},212.6609378252208,114.67235325241704,{"$f":"AVERAGE(AK472,AK477,AK482,AK487,AK492)","v":62.75},89.56022717135976,48.29322259455818,-14.182720589444216,152.03617035536217]
[{"$nulls":20},"6V",{"$nulls":23},"IV",{"$f":"AVERAGE(Z473,Z478,Z483,Z488,Z493)","v":95},135.58918854628172,73.11324536227933,55.25,78.8558175492849,42.52112427648351,16.3798743652825,104.99706746048591]
[{"$nulls":20},"7I",{"$nulls":23},"V",{"$f":"AVERAGE(Z474,Z479,Z484,Z489,Z494)","v":38.6},55.092028188278675,29.707066010357703]
[{"$nulls":20},"7II",null,null,23,15,109,null,null,{"$f":"Z501*(Y501/1000)","v":1.635},{"$f":"(Y501/1000)/($AI$1/$AI$2)","v":0.004490312500000001},{"$f":"AC501/((Y501/1000)-AD501)","v":155.57075317415482},{"$f":"AC501/((Y501/1000)+AD501)","v":83.88782888935208},{"$f":"AE501-$Z501","v":46.57075317415482},{"$f":"AF501-$Z501","v":-25.11217111064792},{"$f":"((AE501/$Z501)*100)-100","v":42.72546162766497},{"$f":"((AF501/$Z501)*100)-100","v":-23.038689092337535},{"$nulls":8},"VI"]
[{"$nulls":20},"7III"]
[{"$nulls":20},"7IV"]
[{"$nulls":20},"7V"]
[{"$nulls":20},"8I",null,null,32.61,15,140,null,null,{"$f":"Z505*(Y505/1000)","v":2.1},{"$f":"(Y505/1000)/($AI$1/$AI$2)","v":0.004490312500000001},{"$f":"AC505/((Y505/1000)-AD505)","v":199.81564627873098},{"$f":"AC505/((Y505/1000)+AD505)","v":107.74583527072744},{"$f":"AE505-$Z505","v":59.81564627873098},-32.25416472927256,{"$f":"((AE505/$Z505)*100)-100","v":42.725461627665},-23.038689092337535]
[{"$nulls":20},"9I",null,null,67.32,15,191,null,null,{"$f":"Z506*(Y506/1000)","v":2.8649999999999998},{"$f":"(Y506/1000)/($AI$1/$AI$2)","v":0.004490312500000001},{"$f":"AC506/((Y506/1000)-AD506)","v":272.60563170884006},{"$f":"AC506/((Y506/1000)+AD506)","v":146.99610383363526},81.60563170884006,-44.00389616636474,42.72546162766494,-23.038689092337563,{"$f":"Z506-Z507","v":127},{"$f":"AE506-AE507","v":181.26133626713448},{"$f":"AF506-AF507","v":97.74086485273129},{"$f":"AF506-AE507","v":55.65180839192968},{"$f":"AE506-AF507","v":223.35039272793608},{"$f":"((AL506/$AK506)*100)-100","v":42.72546162766494},{"$f":"((AM506/$AK506)*100)-100","v":-23.038689092337563}]
[{"$nulls":20},"10I",null,null,11.94,15,64,null,null,{"$f":"Z507*(Y507/1000)","v":0.96},{"$f":"(Y507/1000)/($AI$1/$AI$2)","v":0.004490312500000001},{"$f":"AC507/((Y507/1000)-AD507)","v":91.34429544170558},{"$f":"AC507/((Y507/1000)+AD507)","v":49.25523898090397},27.344295441705583,-14.744761019096032,42.72546162766497,-23.03868909233755]
[{"$nulls":20},"11II",null,null,18.01,15,90,null,null,{"$f":"Z508*(Y508/1000)","v":1.3499999999999999},{"$f":"(Y508/1000)/($AI$1/$AI$2)","v":0.004490312500000001},{"$f":"AC508/((Y508/1000)-AD508)","v":128.45291546489847},{"$f":"AC508/((Y508/1000)+AD508)","v":69.2651798168962},38.45291546489847,-20.734820183103807,42.72546162766497,-23.038689092337563,{"$f":"Z508-Z509","v":37},{"$f":"AE508-AE509","v":52.80842080223604},{"$f":"AF508-AF509","v":28.4756850358351},{"$f":"AF508-AE509","v":-6.379314845766231},{"$f":"AE508-AF509","v":87.66342068383737},{"$f":"((AL508/$AK508)*100)-100","v":42.72546162766497},{"$f":"((AM508/$AK508)*100)-100","v":-23.038689092337577}]
[{"$nulls":20},"12I",null,null,9.35,15,53,null,null,{"$f":"Z509*(Y509/1000)","v":0.7949999999999999},{"$f":"(Y509/1000)/($AI$1/$AI$2)","v":0.004490312500000001},{"$f":"AC509/((Y509/1000)-AD509)","v":75.64449466266242},{"$f":"AC509/((Y509/1000)+AD509)","v":40.789494781061094},22.644494662662424,-12.210505218938906,42.72546162766494,-23.038689092337563]
[{"$nulls":20},"MB.R.2371  dent sin"]
[{"$nulls":20},"1I"]
[{"$nulls":20},"1II",null,null,38.26,15,155,null,null,{"$f":"Z512*(Y512/1000)","v":2.3249999999999997},{"$f":"(Y512/1000)/($AI$1/$AI$2)","v":0.004490312500000001},{"$f":"AC512/((Y512/1000)-AD512)","v":221.22446552288068},{"$f":"AC512/((Y512/1000)+AD512)","v":119.29003190687679},{"$f":"AE512-$Z512","v":66.22446552288068},-35.70996809312321,{"$f":"((AE512/$Z512)*100)-100","v":42.72546162766494},-23.03868909233755,{"$f":"Z512-Z513","v":49},{"$f":"AE512-AE513","v":69.93547619755583},{"$f":"AF512-AF513","v":37.7110423447546},{"$f":"AF512-AE513","v":-31.998957418448057},{"$f":"AE512-AF513","v":139.6454759607585},{"$f":"((AL512/$AK512)*100)-100","v":42.72546162766494},{"$f":"((AM512/$AK512)*100)-100","v":-23.03868909233755}]
[{"$nulls":20},"1III",null,null,22.11,15,106,null,null,{"$f":"Z513*(Y513/1000)","v":1.5899999999999999},{"$f":"(Y513/1000)/($AI$1/$AI$2)","v":0.004490312500000001},{"$f":"AC513/((Y513/1000)-AD513)","v":151.28898932532485},{"$f":"AC513/((Y513/1000)+AD513)","v":81.57898956212219},45.28898932532485,-24.42101043787781,42.72546162766494,-23.038689092337563,{"$f":"Z513-Z514","v":45},{"$f":"AE513-AE514","v":64.22645773244922},{"$f":"AF513-AF514","v":34.6325899084481},{"$f":"AF513-AE514","v":-5.483542030753441},{"$f":"AE513-AF514","v":104.34258967165076},{"$f":"((AL513/$AK513)*100)-100","v":42.72546162766494},{"$f":"((AM513/$AK513)*100)-100","v":-23.038689092337563}]
[{"$nulls":20},"1IV",null,null,11.24,15,61,null,null,{"$f":"Z514*(Y514/1000)","v":0.9149999999999999},{"$f":"(Y514/1000)/($AI$1/$AI$2)","v":0.004490312500000001},{"$f":"AC514/((Y514/1000)-AD514)","v":87.06253159287563},{"$f":"AC514/((Y514/1000)+AD514)","v":46.94639965367409},26.06253159287563,-14.053600346325908,42.72546162766497,-23.03868909233755]
[{"$nulls":20},"1V"]
[{"$nulls":20},"2I"]
[{"$nulls":20},"2II",null,null,46.68,15,172,null,null,{"$f":"Z517*(Y517/1000)","v":2.58},{"$f":"(Y517/1000)/($AI$1/$AI$2)","v":0.004490312500000001},{"$f":"AC517/((Y517/1000)-AD517)","v":245.48779399958377},{"$f":"AC517/((Y517/1000)+AD517)","v":132.37345476117943},{"$f":"AE517-$Z517","v":73.48779399958377},-39.62654523882057,{"$f":"((AE517/$Z517)*100)-100","v":42.72546162766497},-23.038689092337535,{"$f":"Z517-Z518","v":54},{"$f":"AE517-AE518","v":77.07174927893911},{"$f":"AF517-AF518","v":41.55910789013774},{"$f":"AF517-AE518","v":-36.04258995946523},{"$f":"AE517-AF518","v":154.67344712854208},{"$f":"((AL517/$AK517)*100)-100","v":42.72546162766503},{"$f":"((AM517/$AK517)*100)-100","v":-23.03868909233752}]
[{"$nulls":20},"2III",null,null,25.62,15,118,null,null,{"$f":"Z518*(Y518/1000)","v":1.77},{"$f":"(Y518/1000)/($AI$1/$AI$2)","v":0.004490312500000001},{"$f":"AC518/((Y518/1000)-AD518)","v":168.41604472064466},{"$f":"AC518/((Y518/1000)+AD518)","v":90.81434687104169},50.41604472064466,-27.185653128958307,42.72546162766497,-23.03868909233755,{"$f":"Z518-Z519","v":83},{"$f":"AE518-AE519","v":118.46213315096192},{"$f":"AF518-AF519","v":63.87788805335983},{"$f":"AF518-AE519","v":40.86043530135895},{"$f":"AE518-AF519","v":141.4795859029628},{"$f":"((AL518/$AK518)*100)-100","v":42.72546162766494},{"$f":"((AM518/$AK518)*100)-100","v":-23.03868909233755}]
[{"$nulls":20},"2IV",null,null,5.62,15,35,null,null,{"$f":"Z519*(Y519/1000)","v":0.525},{"$f":"(Y519/1000)/($AI$1/$AI$2)","v":0.004490312500000001},{"$f":"AC519/((Y519/1000)-AD519)","v":49.953911569682745},{"$f":"AC519/((Y519/1000)+AD519)","v":26.93645881768186},14.953911569682745,-8.06354118231814,42.725461627665,-23.038689092337535]
[{"$nulls":20},"2V"]
[{"$nulls":20},"3I"]
[{"$nulls":20},"3II",null,null,32.83,15,141,null,null,{"$f":"Z522*(Y522/1000)","v":2.1149999999999998},{"$f":"(Y522/1000)/($AI$1/$AI$2)","v":0.004490312500000001},{"$f":"AC522/((Y522/1000)-AD522)","v":201.2429008950076},{"$f":"AC522/((Y522/1000)+AD522)","v":108.51544837980404},{"$f":"AE522-$Z522","v":60.24290089500761},-32.48455162019596,{"$f":"((AE522/$Z522)*100)-100","v":42.72546162766497},-23.038689092337563,{"$f":"Z522-Z523","v":43},{"$f":"AE522-AE523","v":61.37194849989592},{"$f":"AF522-AF523","v":33.09336369029484},{"$f":"AF522-AE523","v":-31.355504015307645},{"$f":"AE522-AF523","v":125.8208162054984},{"$f":"((AL522/$AK522)*100)-100","v":42.72546162766494},{"$f":"((AM522/$AK522)*100)-100","v":-23.03868909233759}]
[{"$nulls":20},"3III",null,null,20.01,15,98,null,null,{"$f":"Z523*(Y523/1000)","v":1.47},{"$f":"(Y523/1000)/($AI$1/$AI$2)","v":0.004490312500000001},{"$f":"AC523/((Y523/1000)-AD523)","v":139.8709523951117},{"$f":"AC523/((Y523/1000)+AD523)","v":75.4220846895092},41.870952395111686,-22.577915310490795,42.725461627665,-23.03868909233755,{"$f":"Z523-Z524","v":65},{"$f":"AE523-AE524","v":92.77155005798224},{"$f":"AF523-AF524","v":50.0248520899806},{"$f":"AF523-AE524","v":28.322682352379765},{"$f":"AE523-AF524","v":114.47371979558308},{"$f":"((AL523/$AK523)*100)-100","v":42.72546162766497},{"$f":"((AM523/$AK523)*100)-100","v":-23.038689092337535}]
[{"$nulls":20},"3IV",null,null,5.27,15,33,null,null,{"$f":"Z524*(Y524/1000)","v":0.495},{"$f":"(Y524/1000)/($AI$1/$AI$2)","v":0.004490312500000001},{"$f":"AC524/((Y524/1000)-AD524)","v":47.09940233712944},{"$f":"AC524/((Y524/1000)+AD524)","v":25.397232599528607},14.09940233712944,-7.602767400471393,42.72546162766497,-23.03868909233755]
[{"$nulls":20},"3V"]
[{"$nulls":20},"4I"]
[{"$nulls":20},"4II",null,null,44.93,15,169,null,null,{"$f":"Z527*(Y527/1000)","v":2.5349999999999997},{"$f":"(Y527/1000)/($AI$1/$AI$2)","v":0.004490312500000001},{"$f":"AC527/((Y527/1000)-AD527)","v":241.20603015075378},{"$f":"AC527/((Y527/1000)+AD527)","v":130.0646154339495},{"$f":"AE527-$Z527","v":72.20603015075378},-38.93538456605049,{"$f":"((AE527/$Z527)*100)-100","v":42.72546162766494},-23.038689092337577,{"$f":"Z527-Z528","v":49},{"$f":"AE527-AE528","v":69.93547619755583},{"$f":"AF527-AF528","v":37.711042344754574},{"$f":"AF527-AE528","v":-41.205938519248434},{"$f":"AE527-AF528","v":148.85245706155882},{"$f":"((AL527/$AK527)*100)-100","v":42.72546162766494},{"$f":"((AM527/$AK527)*100)-100","v":-23.038689092337606}]
[{"$nulls":20},"4III",null,null,25.98,15,120,null,null,{"$f":"Z528*(Y528/1000)","v":1.7999999999999998},{"$f":"(Y528/1000)/($AI$1/$AI$2)","v":0.004490312500000001},{"$f":"AC528/((Y528/1000)-AD528)","v":171.27055395319795},{"$f":"AC528/((Y528/1000)+AD528)","v":92.35357308919494},51.27055395319795,-27.64642691080506,42.72546162766494,-23.03868909233755,{"$f":"Z528-Z529","v":75},{"$f":"AE528-AE529","v":107.04409622074871},{"$f":"AF528-AF529","v":57.72098318074684},{"$f":"AF528-AE529","v":28.127115356745705},{"$f":"AE528-AF529","v":136.63796404474985},{"$f":"((AL528/$AK528)*100)-100","v":42.72546162766494},{"$f":"((AM528/$AK528)*100)-100","v":-23.038689092337535}]
[{"$nulls":20},"4IV",null,null,7.72,15,45,null,null,{"$f":"Z529*(Y529/1000)","v":0.6749999999999999},{"$f":"(Y529/1000)/($AI$1/$AI$2)","v":0.004490312500000001},{"$f":"AC529/((Y529/1000)-AD529)","v":64.22645773244923},{"$f":"AC529/((Y529/1000)+AD529)","v":34.6325899084481},19.226457732449234,-10.367410091551903,42.72546162766497,-23.038689092337563]
[{"$nulls":20},"4V"]
[{"$nulls":20},"5I"]
[{"$nulls":20},"5II",null,null,29.14,15,130,null,null,{"$f":"Z532*(Y532/1000)","v":1.95},{"$f":"(Y532/1000)/($AI$1/$AI$2)","v":0.004490312500000001},{"$f":"AC532/((Y532/1000)-AD532)","v":185.54310011596448},{"$f":"AC532/((Y532/1000)+AD532)","v":100.04970417996118},{"$f":"AE532-$Z532","v":55.54310011596448},-29.950295820038818,{"$f":"((AE532/$Z532)*100)-100","v":42.72546162766497},-23.03868909233755,{"$f":"Z532-Z533","v":53},{"$f":"AE532-AE533","v":75.64449466266244},{"$f":"AF532-AF533","v":40.789494781061094},{"$f":"AF532-AE533","v":-9.848901273340857},{"$f":"AE532-AF533","v":126.28289071706439},{"$f":"((AL532/$AK532)*100)-100","v":42.72546162766497},{"$f":"((AM532/$AK532)*100)-100","v":-23.038689092337563}]
[{"$nulls":20},"5III",null,null,14.74,15,77,null,null,{"$f":"Z533*(Y533/1000)","v":1.155},{"$f":"(Y533/1000)/($AI$1/$AI$2)","v":0.004490312500000001},{"$f":"AC533/((Y533/1000)-AD533)","v":109.89860545330204},{"$f":"AC533/((Y533/1000)+AD533)","v":59.26020939890009},32.89860545330204,-17.739790601099912,42.725461627665,-23.03868909233755,{"$f":"Z533-Z534","v":40},{"$f":"AE533-AE534","v":57.090184651066004},{"$f":"AF533-AF534","v":30.784524363064985},{"$f":"AF533-AE534","v":6.451788596664052},{"$f":"AE533-AF534","v":81.42292041746694},{"$f":"((AL533/$AK533)*100)-100","v":42.72546162766503},{"$f":"((AM533/$AK533)*100)-100","v":-23.038689092337535}]
[{"$nulls":20},"5IV",null,null,5.97,15,37,null,null,{"$f":"Z534*(Y534/1000)","v":0.5549999999999999},{"$f":"(Y534/1000)/($AI$1/$AI$2)","v":0.004490312500000001},{"$f":"AC534/((Y534/1000)-AD534)","v":52.808420802236036},{"$f":"AC534/((Y534/1000)+AD534)","v":28.475685035835102},15.808420802236036,-8.524314964164898,42.72546162766494,-23.038689092337563]
[{"$nulls":20},"5V"]
[{"$nulls":20},"6I",{"$nulls":24},"Average for tooth mesial teeth"]
[{"$nulls":20},"6II",null,null,16.81,15,85,null,null,{"$f":"Z537*(Y537/1000)","v":1.275},{"$f":"(Y537/1000)/($AI$1/$AI$2)","v":0.004490312500000001},{"$f":"AC537/((Y537/1000)-AD537)","v":121.31664238351522},{"$f":"AC537/((Y537/1000)+AD537)","v":65.41711427151309},{"$f":"AE537-$Z537","v":36.316642383515216},-19.582885728486914,{"$f":"((AE537/$Z537)*100)-100","v":42.72546162766494},-23.03868909233755,{"$f":"Z537-Z538","v":7},{"$f":"AE537-AE538","v":9.990782313936535},{"$f":"AF537-AF538","v":5.387291763536375},{"$f":"AF537-AE538","v":-45.908745798065596},{"$f":"AE537-AF538","v":61.286819875538505},{"$f":"((AL537/$AK537)*100)-100","v":42.72546162766477},{"$f":"((AM537/$AK537)*100)-100","v":-23.038689092337506},null,"I"]
[{"$nulls":20},"6III",null,null,15.1,15,78,null,null,{"$f":"Z538*(Y538/1000)","v":1.17},{"$f":"(Y538/1000)/($AI$1/$AI$2)","v":0.004490312500000001},{"$f":"AC538/((Y538/1000)-AD538)","v":111.32586006957868},{"$f":"AC538/((Y538/1000)+AD538)","v":60.02982250797671},33.32586006957868,-17.97017749202329,42.72546162766497,-23.03868909233755,{"$f":"Z538-Z539","v":31},{"$f":"AE538-AE539","v":44.24489310457615},{"$f":"AF538-AF539","v":23.85800638137536},{"$f":"AF538-AE539","v":-7.051144457025821},{"$f":"AE538-AF539","v":75.15404394297732},{"$f":"((AL538/$AK538)*100)-100","v":42.725461627665},{"$f":"((AM538/$AK538)*100)-100","v":-23.03868909233755},null,"II",{"$f":"AVERAGE(Z512,Z517,Z522,Z527,Z532)","v":153.4},{"$f":"AVERAGE(AE512,AE517,AE522,AE527,AE532)","v":218.9408581368381},118.05865093235418,{"$f":"AVERAGE(AK512,AK517,AK522,AK527,AK532)","v":49.6},70.79182896732183,38.172810210200566,-30.090378237162042,139.05501741468447]
[{"$nulls":20},"6IV",null,null,8.07,15,47,null,null,{"$f":"Z539*(Y539/1000)","v":0.705},{"$f":"(Y539/1000)/($AI$1/$AI$2)","v":0.004490312500000001},{"$f":"AC539/((Y539/1000)-AD539)","v":67.08096696500253},{"$f":"AC539/((Y539/1000)+AD539)","v":36.17181612660135},20.08096696500253,-10.82818387339865,42.72546162766494,-23.03868909233755,{"$nulls":8},"III",{"$f":"AVERAGE(Z513,Z518,Z523,Z528,Z533)","v":103.8},148.14902916951624,79.88584072215363,61.6,87.91888436264162,47.40816751912007,19.655695915279004,115.67135596648268]
[{"$nulls":20},"6V",{"$nulls":23},"IV",{"$f":"AVERAGE(Z514,Z519,Z524,Z529,Z534)","v":42.2},60.23014480687461,32.477673203033554]
[{"$nulls":20},"7I",{"$nulls":23},"V"]
[{"$nulls":20},"7II",null,null,16.14,15,82,null,null,{"$f":"Z542*(Y542/1000)","v":1.23},{"$f":"(Y542/1000)/($AI$1/$AI$2)","v":0.004490312500000001},{"$f":"AC542/((Y542/1000)-AD542)","v":117.03487853468528},{"$f":"AC542/((Y542/1000)+AD542)","v":63.10827494428321},{"$f":"AE542-$Z542","v":35.03487853468528},{"$f":"AF542-$Z542","v":-18.89172505571679},{"$f":"((AE542/$Z542)*100)-100","v":42.72546162766497},{"$f":"((AF542/$Z542)*100)-100","v":-23.03868909233755},{"$f":"Z542-Z543","v":29},{"$f":"AE542-AE543","v":41.39038387202285},{"$f":"AF542-AF543","v":22.318780163222115},{"$f":"AF542-AE543","v":-12.536219718379215},{"$f":"AE542-AF543","v":76.24538375362418},{"$f":"((AL542/$AK542)*100)-100","v":42.72546162766503},{"$f":"((AM542/$AK542)*100)-100","v":-23.038689092337535},null,"VI"]
[{"$nulls":20},"7III",null,null,9.48,15,53,null,null,{"$f":"Z543*(Y543/1000)","v":0.7949999999999999},{"$f":"(Y543/1000)/($AI$1/$AI$2)","v":0.004490312500000001},{"$f":"AC543/((Y543/1000)-AD543)","v":75.64449466266242},{"$f":"AC543/((Y543/1000)+AD543)","v":40.789494781061094},{"$f":"AE543-$Z543","v":22.644494662662424},{"$f":"AF543-$Z543","v":-12.210505218938906},{"$f":"((AE543/$Z543)*100)-100","v":42.72546162766494},{"$f":"((AF543/$Z543)*100)-100","v":-23.038689092337563}]
[{"$nulls":20},"7IV"]
[{"$nulls":20},"7V"]
[{"$nulls":20},"8I",null,null,10.53,15,58,null,null,{"$f":"Z546*(Y546/1000)","v":0.87},{"$f":"(Y546/1000)/($AI$1/$AI$2)","v":0.004490312500000001},{"$f":"AC546/((Y546/1000)-AD546)","v":82.78076774404569},{"$f":"AC546/((Y546/1000)+AD546)","v":44.63756032644422},{"$f":"AE546-$Z546","v":24.78076774404569},{"$f":"AF546-$Z546","v":-13.362439673555777},{"$f":"((AE546/$Z546)*100)-100","v":42.72546162766497},{"$f":"((AF546/$Z546)*100)-100","v":-23.03868909233755},{"$f":"Z546-Z547","v":20},{"$f":"AE546-AE547","v":28.545092325533005},{"$f":"AF546-AF547","v":15.392262181532494},{"$f":"AF546-AE547","v":-9.598115092068461},{"$f":"AE546-AF547","v":53.53546959913396},{"$f":"((AL546/$AK546)*100)-100","v":42.72546162766503},{"$f":"((AM546/$AK546)*100)-100","v":-23.038689092337535}]
[{"$nulls":20},"8II",null,null,6.31,15,38,null,null,{"$f":"Z547*(Y547/1000)","v":0.57},{"$f":"(Y547/1000)/($AI$1/$AI$2)","v":0.004490312500000001},{"$f":"AC547/((Y547/1000)-AD547)","v":54.235675418512685},{"$f":"AC547/((Y547/1000)+AD547)","v":29.24529814491173},{"$f":"AE547-$Z547","v":16.235675418512685},{"$f":"AF547-$Z547","v":-8.754701855088271},{"$f":"((AE547/$Z547)*100)-100","v":42.72546162766494},{"$f":"((AF547/$Z547)*100)-100","v":-23.038689092337563}]
[{"$nulls":20},"9I"]
[{"$nulls":20},"9II",null,null,18.25,15,91,null,null,{"$f":"Z549*(Y549/1000)","v":1.365},{"$f":"(Y549/1000)/($AI$1/$AI$2)","v":0.004490312500000001},{"$f":"AC549/((Y549/1000)-AD549)","v":129.88017008117512},{"$f":"AC549/((Y549/1000)+AD549)","v":70.03479292597282},{"$f":"AE549-$Z549","v":38.88017008117512},{"$f":"AF549-$Z549","v":-20.965207074027177},{"$f":"((AE549/$Z549)*100)-100","v":42.72546162766497},{"$f":"((AF549/$Z549)*100)-100","v":-23.038689092337563}]
[{"$nulls":20},"10I",null,null,22.81,15,108,null,null,1.6199999999999999,0.004490312500000001,154.14349855787816,83.11821578027543,46.14349855787816,-24.881784219724565,42.72546162766497,-23.038689092337563,{"$f":"Z550-Z551","v":78},{"$f":"AE550-AE551","v":111.32586006957868},{"$f":"AF550-AF551","v":60.029822507976704},{"$f":"AF550-AE551","v":40.30057729197595},{"$f":"AE550-AF551","v":131.05510528557943},{"$f":"((AL550/$AK550)*100)-100","v":42.72546162766497},{"$f":"((AM550/$AK550)*100)-100","v":-23.038689092337563}]
[{"$nulls":20},"10II",null,null,4.56,15,30,null,null,0.44999999999999996,0.004490312500000001,42.81763848829949,23.088393272298735,12.817638488299487,-6.911606727701265,42.72546162766494,-23.03868909233755]
[{"$nulls":20},"11II",null,null,8.77,15,50,null,null,0.75,0.004490312500000001,71.36273081383248,38.480655453831226,21.362730813832485,-11.519344546168774,42.72546162766497,-23.03868909233755,{"$f":"Z552-Z553","v":22},{"$f":"AE552-AE553","v":31.399601558086296},{"$f":"AF552-AF553","v":16.93148839968574},{"$f":"AF552-AE553","v":-1.4824738019149635},{"$f":"AE552-AF553","v":49.813563759687},{"$f":"((AL552/$AK552)*100)-100","v":42.72546162766497},{"$f":"((AM552/$AK552)*100)-100","v":-23.038689092337535}]
[{"$nulls":20},"11II",null,null,4.21,15,28,null,null,0.42,0.004490312500000001,39.96312925574619,21.549167054145485,11.963129255746189,-6.450832945854515,42.72546162766494,-23.03868909233755]
[{"$nulls":20},"12I",null,null,5.26,15,33,null,null,0.495,0.004490312500000001,47.09940233712944,25.397232599528607,14.09940233712944,-7.602767400471393,42.72546162766497,-23.03868909233755,{"$f":"Z554-Z555","v":5},{"$f":"AE554-AE555","v":7.136273081383251},{"$f":"AF554-AF555","v":3.848065545383122},{"$f":"AF554-AE555","v":-14.565896656217582},{"$f":"AE554-AF555","v":25.550235282983955},{"$f":"((AL554/$AK554)*100)-100","v":42.72546162766503},{"$f":"((AM554/$AK554)*100)-100","v":-23.038689092337563}]
[{"$nulls":20},"12II",null,null,4.21,15,28,null,null,0.42,0.004490312500000001,39.96312925574619,21.549167054145485,11.963129255746189,-6.450832945854515,42.72546162766494,-23.03868909233755]
[{"$nulls":20},"13I",null,null,17.55,15,89,null,null,1.335,0.004490312500000001,127.02566084862183,68.49556670781958,38.025660848621825,-20.504433292180423,42.72546162766497,-23.03868909233755]
[{"$nulls":20},"14I",null,null,15.09,15,78,null,null,1.17,0.004490312500000001,111.32586006957868,60.02982250797671,33.32586006957868,-17.97017749202329,42.72546162766497,-23.03868909233755]
[{"$nulls":20},"15I",null,null,3.51,15,24,null,null,0.36,0.004490312500000001,34.254110790639594,18.470714617838986,10.254110790639594,-5.529285382161014,42.72546162766497,-23.038689092337563]
[{"$nulls":20},"16I",null,null,9.82,15,55,null,null,0.825,0.004490312500000001,78.49900389521574,42.32872099921435,23.499003895215736,-12.671279000785653,42.72546162766497,-23.03868909233755]
[{"$nulls":19},"D'Emic et al. 2019a"]
[{"$nulls":20},"USNM 5730"]
[]
[{"$nulls":20},"Mx",null,null,"tooth length","No VEIW directly reported, assume 0.015 mm as the text says)","tooth formation time","replacement rate",null,"Crown height (back calculated from mean VEIW and TFT)","SD based on Alligator","TFT + SD","TFT - SD","SD +","SD -","SD + [%]","SD - [%]","TRR (count)","TRR max-max","TRR min-min","TRRmin-max","TRRmax-min"," [%]+ TRR max-max","[%]- TRR min-min"]
[{"$nulls":20},"1.i",null,null,85,15,{"$f":"(-0.0078*X564*X564)+(2.6711*X564)+109.44","v":{"v":280.12850000000003,"d":"280"}},null,null,{"$f":"Z564*(Y564/1000)","v":4.2019275},{"$f":"(Y564/1000)/($AI$1/$AI$2)","v":0.004490312500000001},{"$f":"AC564/((Y564/1000)-AD564)","v":399.8146947756535},{"$f":"AC564/((Y564/1000)+AD564)","v":215.5905658259712},{"$f":"AE564-Z564","v":{"v":119.68619477565346,"d":"120"}},{"$f":"AF564-Z564","v":{"v":-64.53793417402883,"d":"-65"}},{"$f":"((AE564/Z564)*100)-100","v":42.72546162766497},{"$f":"((AF564/Z564)*100)-100","v":-23.038689092337563},{"$f":"Z564-Z565","v":{"v":52.88250000000005,"d":"53"}},{"$f":"AE564-AE565","v":75.47679224525001},{"$f":"AF564-AF565","v":40.6990652407446},{"$f":"AF564-AE565","v":-108.74733670443229},{"$f":"AE564-AF565","v":224.9231941904269},{"$f":"((AL564/AK564)*100)-100","v":42.725461627665},{"$f":"((AM564/AK564)*100)-100","v":-23.038689092337606}]
[{"$nulls":20},"1.ii",null,null,52,15,{"v":227.24599999999998,"d":"227"},{"$f":"Z564-Z565","v":{"v":52.88250000000005,"d":"53"}},null,3.4086899999999996,0.004490312500000001,324.3379025304035,174.8915005852266,{"v":97.0919025304035,"d":"97"},{"v":-52.354499414773386,"d":"-52"},42.72546162766494,-23.03868909233755]
[{"$nulls":20},"2.ii",null,null,65,15,{"v":250.10649999999998,"d":"250"},null,null,3.7515974999999995,0.004490312500000001,356.96565668579586,192.48524106527276,{"v":106.85915668579588,"d":"107"},{"v":-57.62125893472722,"d":"-58"},42.72546162766497,-23.03868909233755,{"$f":"Z566-Z567","v":{"v":88.01319999999998,"d":"88"}},{"$f":"AE566-AE567","v":125.61724599328},{"$f":"AF566-AF567","v":67.73611249178275},{"$f":"AF566-AE567","v":-38.86316962724311},{"$f":"AE566-AF567","v":232.21652811230587},{"$f":"((AL566/AK566)*100)-100","v":42.72546162766494},{"$f":"((AM566/AK566)*100)-100","v":-23.038689092337563}]
[{"$nulls":20},"2.iii",null,null,21,15,{"v":162.0933,"d":"162"},{"$f":"Z566-Z567","v":{"v":88.01319999999998,"d":"88"}},null,2.4313995,0.004490312500000001,231.34841069251587,124.74912857349001,{"v":69.25511069251587,"d":"69"},{"v":-37.34417142650999,"d":"-37"},42.72546162766497,-23.03868909233755]
[{"$nulls":20},"4.ii",null,null,71,15,{"v":259.7683,"d":"260"},null,null,3.8965245,0.004490312500000001,370.75550533733764,199.9210890025493,{"v":110.98720533733763,"d":"111"},{"v":-59.8472109974507,"d":"-60"},42.72546162766497,-23.038689092337563,{"$f":"Z568-Z569","v":{"v":107.1738,"d":"107"}},{"$f":"AE568-AE569","v":152.96430079391038},{"$f":"AF568-AF569","v":82.48236142955632},{"$f":"AF568-AE569","v":-17.870115540877947},{"$f":"AE568-AF569","v":253.31677776434464},{"$f":"((AL568/AK568)*100)-100","v":42.72546162766494},{"$f":"((AM568/AK568)*100)-100","v":-23.038689092337577}]
[{"$nulls":20},"4.iii",null,null,17,15,{"v":152.5945,"d":"153"},{"$f":"Z568-Z569","v":{"v":107.1738,"d":"107"}},null,2.2889175,0.004490312500000001,217.79120454342726,117.43872757299299,{"v":65.19670454342724,"d":"65"},{"v":-35.15577242700702,"d":"-35"},42.72546162766497,-23.03868909233755]
[{"$nulls":25},"maxilla mean:",{"$f":"AVERAGE(AA565:AA569)","v":{"v":82.68983333333334,"d":"83"}}]
[]
[{"$nulls":20},"Dent"]
[{"$nulls":20},"3.i",null,null,60,15,{"$f":"(-0.0078*X573*X573)+(2.6711*X573)+109.44","v":{"v":241.62599999999998,"d":"242"}},null,null,{"$f":"Z573*(Y573/1000)","v":3.6243899999999996},{"$f":"(Y573/1000)/($AI$1/$AI$2)","v":0.004490312500000001},{"$f":"AC573/((Y573/1000)-AD573)","v":344.8618239124617},{"$f":"AC573/((Y573/1000)+AD573)","v":185.95853709374845},{"$f":"AE573-Z573","v":{"v":103.23582391246174,"d":"103"}},{"$f":"AF573-Z573","v":{"v":-55.66746290625153,"d":"-56"}},{"$f":"((AE573/Z573)*100)-100","v":42.72546162766497},{"$f":"((AF573/Z573)*100)-100","v":-23.03868909233755},{"$f":"Z573-Z574","v":{"v":91.44519999999997,"d":"91"}},{"$f":"AE573-AE574","v":130.51558383634145},{"$f":"AF573-AF574","v":70.37742468213372},{"$f":"AF573-AE574","v":-28.38770298237182},{"$f":"AE573-AF574","v":229.280711500847},{"$f":"((AL573/AK573)*100)-100","v":42.72546162766497},{"$f":"((AM573/AK573)*100)-100","v":-23.03868909233755}]
[{"$nulls":20},"3.ii",null,null,16,15,{"v":150.1808,"d":"150"},{"$f":"Z573-Z574","v":{"v":91.44519999999997,"d":"91"}},null,2.252712,0.004490312500000001,214.34624007612027,115.58111241161473,{"v":64.16544007612026,"d":"64"},{"v":-34.59968758838528,"d":"-35"},42.72546162766494,-23.03868909233755]
[{"$nulls":20},"5.i",null,null,65,15,{"v":250.10649999999998,"d":"250"},null,null,3.7515974999999995,0.004490312500000001,356.96565668579586,192.48524106527276,{"v":106.85915668579588,"d":"107"},{"v":-57.62125893472722,"d":"-58"},42.72546162766497,-23.03868909233755,{"$f":"Z575-Z576","v":{"v":65.35819999999998,"d":"65"}},{"$f":"AE575-AE576","v":93.28279266153254},{"$f":"AF575-AF576","v":50.300527505651814},{"$f":"AF575-AE576","v":-71.19762295899056},{"$f":"AE575-AF576","v":214.78094312617492},{"$f":"((AL575/AK575)*100)-100","v":42.72546162766503},{"$f":"((AM575/AK575)*100)-100","v":-23.038689092337577}]
[{"$nulls":20},"5.ii",null,null,31,15,{"v":184.7483,"d":"185"},{"$f":"Z575-Z576","v":{"v":65.35819999999998,"d":"65"}},null,2.7712244999999998,0.004490312500000001,263.6828640242633,142.18471355962095,{"v":78.93456402426332,"d":"79"},{"v":-42.563586440379055,"d":"-43"},42.72546162766494,-23.03868909233755]
[{"$nulls":20},"7.i",null,null,70,15,{"v":258.197,"d":"258"},null,null,3.8729549999999997,0.004490312500000001,368.51286015878213,198.71179592425722,{"v":110.31586015878213,"d":"110"},{"v":-59.485204075742786,"d":"-59"},42.72546162766497,-23.03868909233755,{"$f":"Z577-Z578","v":{"v":75.644,"d":"76"}},{"$f":"AE577-AE578","v":107.96324819363087},{"$f":"AF577-AF578","v":58.21661402299219},{"$f":"AF577-AE578","v":-61.83781604089404},{"$f":"AE577-AF578","v":228.0176782575171},{"$f":"((AL577/AK577)*100)-100","v":42.72546162766494},{"$f":"((AM577/AK577)*100)-100","v":-23.03868909233755}]
[{"$nulls":20},"7.ii",null,null,30,15,{"v":182.553,"d":"183"},{"$f":"Z577-Z578","v":{"v":75.644,"d":"76"}},null,2.738295,0.004490312500000001,260.54961196515126,140.49518190126503,{"v":77.99661196515126,"d":"78"},{"v":-42.05781809873497,"d":"-42"},42.725461627665,-23.03868909233755]
[{"$nulls":20},"10.i",null,null,68,15,{"v":255.00760000000002,"d":"255"},null,null,3.825114,0.004490312500000001,363.9607742856294,196.25719187416823,{"v":108.95317428562936,"d":"109"},{"v":-58.7504081258318,"d":"-59"},42.72546162766494,-23.038689092337563,{"$f":"Z579-Z580","v":{"v":102.41310000000001,"d":"102"}},{"$f":"AE579-AE580","v":146.16956974220213},{"$f":"AF579-AF580","v":78.81846430117524},{"$f":"AF579-AE580","v":-21.534012669259027},{"$f":"AE579-AF580","v":246.52204671263638},{"$f":"((AL579/AK579)*100)-100","v":42.72546162766494},{"$f":"((AM579/AK579)*100)-100","v":-23.038689092337577}]
[{"$nulls":20},"10.ii",null,null,17,15,{"v":152.5945,"d":"153"},{"$f":"Z579-Z580","v":{"v":102.41310000000001,"d":"102"}},null,2.2889175,0.004490312500000001,217.79120454342726,117.43872757299299,{"v":65.19670454342724,"d":"65"},{"v":-35.15577242700702,"d":"-35"},42.72546162766497,-23.03868909233755]
[{"$nulls":25},"dentary mean",{"$f":"AVERAGE(AA573:AA580)","v":{"v":83.715125,"d":"84"}}]

{"sheet":"TH, CAH, TFT relations","index":12,"n_rows":50,"n_cols":13,"rows_kept":50}
[]
[{"$nulls":4},"tooth height","central axis height","TFT","tooth height / TFT","TFT/average tooth height","tooth height/CAH",null,"r squared","p value (actual degrees of freedom)"]
[null,"Medium Alligator","Pmx","1. alveolus",5.7075000000000005,{"v":2.4475,"d":"2.448"},{"v":105.41666666666666,"d":"105.417"},{"v":0.054142292490118586,"d":"0.054142"},18.4698496130822,2.3319713993871303,"central axis height - tooth height",0.8914731482713465,2.645932329589454e-24]
[{"$nulls":3},"3. alveolus",9.0275,{"v":2.9475,"d":"2.948"},{"v":158.63874345549738,"d":"158.639"},{"v":0.05690602310231023,"d":"0.056906"},17.57283228529464,3.0627650551314676,"small central axis height - tooth height",0.726145582228297,1.0885033133156489E-4]
[{"$nulls":5},{"v":1.0375,"d":"1.038"},{"$nulls":4},"medium central axis height - tooth height",0.7778287113162524,1.301653060616446E-6]
[null,null,"Mx","6. alveolus",9.637500000000001,{"v":3.3175,"d":"3.318"},{"v":295.6521739130435,"d":"295.652"},{"v":0.032597426470588234,"d":"0.032597"},30.677268369706198,2.905048982667672,"large central axis height - tooth height",0.7958134646580617,1.4966103202043672E-6]
[{"$nulls":5},{"v":1.3575,"d":"1.358"}]
[{"$nulls":3},"7. alveolus",8.2475,{"v":2.3175,"d":"2.318"},{"v":240,"d":"240.000"},{"v":0.03436458333333334,"d":"0.034365"},29.099727190057592,3.5587918015102487]
[{"$nulls":3},"12. alveolus",8.6975,{"v":3.0175,"d":"3.018"},{"v":287.037037037037,"d":"287.037"},{"v":0.030300967741935487,"d":"0.030301"},33.00224628192435,2.8823529411764706]
[{"$nulls":3},"13. alveolus",7.4375,{"v":2.8175,"d":"2.818"},{"v":215.1098901098901,"d":"215.110"},{"v":0.03457535121328225,"d":"0.034575"},28.922338166035644,2.639751552795031]
[{"$nulls":3},"13 alveolus replacement",2.0675,{"v":1.1075,"d":"1.108"},{"v":78.14102564102564,"d":"78.141"},{"v":0.026458572600492208,"d":"0.026459"},37.794933804607325,1.8668171557562077,null,"r squared","p value (actual degrees of freedom)"]
[null,null,"Dent","2. alveolus",8.127500000000001,{"v":2.3875,"d":"2.388"},{"v":308.75,"d":"308.750"},{"v":0.02632388663967612,"d":"0.026324"},37.9883112888342,3.404188481675393,"central axis height - TFT",0.8174956480117305,5.562905201083988e-19]
[{"$nulls":5},{"v":0.4275,"d":"0.428"},{"$nulls":4},"small central axis height - TFT",0.9172929300794218,7.4912486101148908E-8]
[{"$nulls":3},"4. alveolus",11.127500000000001,{"v":2.6575,"d":"2.658"},{"v":195.71428571428572,"d":"195.714"},{"v":0.0568558394160584,"d":"0.056856"},17.588342908495683,4.187206020696143,"medium central axis height - TFT",0.36798627812554713,0.00760374912648629]
[{"$nulls":3},"11. alveolus",5.567500000000001,{"v":1.6675,"d":"1.668"},{"v":155.20833333333334,"d":"155.208"},{"v":0.03587114093959732,"d":"0.035871"},27.87756323903607,3.3388305847076465,"large central axis height - TFT",0.7939333007666971,1.6047461480275029E-6]
[{"$nulls":5},{"v":0.32749999999999996,"d":"0.328"}]
[null,"average tooth height / central axis height (just functional teeth)",3.013865216919674,"12. alveolus",8.557500000000001,{"v":2.7975,"d":"2.798"},{"v":205.04201680672267,"d":"205.042"},{"v":0.04173534836065575,"d":"0.041735"},23.96050444717764,3.0589812332439683,"TFT - tooth height",0.6345287700261594,7.663666359048843e-12]
[null,"average tooth height / central axis height",{"v":2.841915924799863,"d":"2.841916"},"18. alveolus",6.117500000000001,{"v":2.4875,"d":"2.488"},{"v":187.03657106782103,"d":"187.037"},{"v":0.03270750722745951,"d":"0.032708"},30.574020607735353,2.4592964824120607,"small TFT - tooth height",0.6012250217714457,1.1203617449700464E-3]
[null,"average tooth height / age by central axis height",{"v":0.0372204223389124,"d":"0.037220"},"19. alveolus",6.0475,{"v":2.5875,"d":"2.588"},{"v":287.61255411255416,"d":"287.613"},{"v":0.021026550870353784,"d":"0.021027"},47.55891758785517,2.3371980676328503,"medium TFT - tooth height",0.32061871077770754,0.01429625741241073]
[null,"average age by central axis height/average tooth height",{"v":29.314373522295543,"d":"29.314374"},"19. alveolus  replacement",0.9075,{"v":0.5175,"d":"0.518"},{"$nulls":3},1.7536231884057971,"large TFT - tooth height",0.5302620984526276,9.1804250880823317E-4]
[null,"Large Alligator","Pmx","1. alveolus",27.255,5.655,{"v":408.79518072289153,"d":"408.795"},{"v":0.06667152961980549,"d":"0.066672"},14.998905915351001,4.819628647214854]
[{"$nulls":3},"3. alveolus",39.015,11.455,1041.3636363636363,{"v":0.03746529899607159,"d":"0.037465"},26.69136579171181,3.4059362723701443]
[null,null,"Mx","6. alveolus",31.685,8.825,756.4285714285713,{"v":0.041887629839471203,"d":"0.041888"},23.87339660497306,3.5903682719546746]
[{"$nulls":3},"6. alveolus replacement",7.465,2.055,205.5,{"v":0.03632603406326034,"d":"0.036326"},27.5284661754856,3.6326034063260337]
[{"$nulls":3},"7. alveolus",28.485,6.2250000000000005,346.90402476780184,{"v":0.08211204819277108,"d":"0.082112"},12.178480771205964,4.575903614457831]
[{"$nulls":3},"7. alveolus replacement",3.0050000000000003,1.785,89.25,{"v":0.03366946778711485,"d":"0.033669"},29.70049916805324,1.6834733893557425]
[{"$nulls":3},"12. alveolus",31.695,7.765000000000001,228.38235294117646,{"v":0.13878042498390214,"d":"0.138780"},7.205627163312083,4.081777205408886]
[{"$nulls":3},"13. alveolus",26.395,6.415,342.1333333333333,{"v":0.07714828526890101,"d":"0.077148"},12.9620508934773,4.114575214341388]
[null,null,"Dent","2. alveolus",32.575,4.625,210.22727272727272,{"v":0.15495135135135138,"d":"0.154951"},6.453638456708295,7.043243243243244]
[{"$nulls":3},"2. alveolus replacement",1.9349999999999998,1.175,90.38461538461539,{"v":0.02140851063829787,"d":"0.021409"},46.710395547604854,1.6468085106382977]
[{"$nulls":3},"4. alveolus",43.715,12.864999999999998,796.9469026548671,{"v":0.05485308977846873,"d":"0.054853"},18.230513614431363,3.397979012825496]
[{"$nulls":3},"4. alveolus replacement",28.654999999999998,4.565,243.46666666666664,{"v":0.11769578313253012,"d":"0.117696"},8.496481126039667,6.277108433734939]
[{"$nulls":3},"11. alveolus",25.985,5.025,296.650410677618,{"v":0.08759468743240321,"d":"0.087595"},11.416217459211778,5.171144278606965]
[null,"average tooth height / central axis height (just functional teeth)",{"v":4.420261467899701,"d":"4.420261"},"12. alveolus",36.585,9.475,551.9417529314733,{"v":0.06628416822189974,"d":"0.066284"},15.08655877904806,3.861213720316623]
[null,"average tooth height / central axis height",{"v":4.049071205384827,"d":"4.049071"},"15. alveolus",28.035,6.9750000000000005,422.72727272727275,{"v":0.06631935483870967,"d":"0.066319"},15.078554404397101,4.019354838709677]
[null,"average tooth height / age by central axis heigt",{"v":0.074476649067033,"d":"0.074477"},"15 alveolus replacement",8.864999999999998,3.475,133.65384615384616,{"v":0.06632805755395682,"d":"0.066328"},15.076575990281578,2.551079136690647]
[null,"average age by central axis heigt/average tooth height",{"v":17.66255996300087,"d":"17.662560"},"16. alveolus",26.125,5.265000000000001,224.0425531914894,{"v":0.11660731244064576,"d":"0.116607"},8.575791509722082,4.962013295346628]
[null,"Small Alligator","Pmx","3. alveolus",4.9228000000000005,1.7928000000000002,{"v":109.2,"d":"109.200"},{"v":0.045080586080586085,"d":"0.045081"},22.182497765499306,2.745872378402499]
[null,null,"Mx","6. alveolus",4.042800000000001,2.1928,{"v":175.26315789473685,"d":"175.263"},{"v":0.02306702702702703,"d":"0.023067"},43.35192388808173,1.8436701933600879]
[{"$nulls":3},"7. alveolus",4.0528,2.0627999999999997,{"v":136.30434782608697,"d":"136.304"},{"v":0.029733460925039874,"d":"0.029733"},33.63214267323504,1.9647081636610437]
[{"$nulls":3},"12. alveolus",4.5628,1.5628000000000002,{"v":132.5,"d":"132.500"},{"v":0.03443622641509434,"d":"0.034436"},29.03918646445165,2.9196314307652926]
[{"$nulls":3},"12. alveolus replacement",0.3628,0.2028,{"v":20,"d":"20.000"},{"v":0.01814,"d":"0.018140"},55.12679162072767,1.7889546351084813]
[{"$nulls":3},"13. alveolus",3.8828,2.0528,{"v":178.2857142857143,"d":"178.286"},{"v":0.02177852564102564,"d":"0.021779"},45.91679053407703,1.891465315666407]
[null,null,"Dent","2. alveolus",2.1728,1.6228,{"v":123.74999999999999,"d":"123.750"},{"v":0.0175579797979798,"d":"0.017558"},56.95416053019145,1.3389203845205817]
[{"$nulls":3},"4. alveolus",3.7527999999999997,1.2328000000000001,{"v":72,"d":"72.000"},{"v":0.052122222222222216,"d":"0.052122"},19.18567469622682,3.0441271901362748]
[{"$nulls":3},"4. alveolus replacement",0.3628,0.1928,{"v":18.333333333333332,"d":"18.333"},{"v":0.019789090909090912,"d":"0.019789"},50.53289231900036,1.8817427385892116]
[null,"average tooth height / central axis height (just functional teeth)",{"v":2.1354890084601506,"d":"2.135489"},"12. alveolus",3.5627999999999997,2.1328,{"v":150,"d":"150.000"},0.023752,42.101717750084205,1.6704801200300075]
[null,"average tooth height / central axis height",{"v":2.0594855211995684,"d":"2.059486"},"12. alveolus replacement",1.6128,0.9228,{"v":73.07692307692308,"d":"73.077"},{"v":0.022069894736842104,"d":"0.022070"},45.310592185592185,1.7477243172951886]
[null,"average tooth height / age by central axis heigt",{"v":0.027657582649465808,"d":"0.027658"},"18. alveolus",3.3828,1.8628,{"v":130.3448275862069,"d":"130.345"},{"v":0.025952698412698413,"d":"0.025953"},38.531638756712454,1.815975950182521]
[null,"average age by central axis heigt/average tooth height",{"v":40.017380727832105,"d":"40.017381"},"19. alveolus",3.4827999999999997,1.6428,{"v":133.6,"d":"133.600"},{"v":0.0260688622754491,"d":"0.026069"},38.35994027793729,2.1200389578767953]

{"sheet":"Collected fig and table illus","index":13,"n_rows":419,"n_cols":339,"rows_kept":419}
[]
[{"$nulls":19},"Column1"]
[]
[{"$nulls":19},"Mean",63.88835837365249]
[{"$nulls":19},"Standard Error",6.181887130312432]
[{"$nulls":19},"Median",59.22619047619048]
[{"$nulls":19},"Mode",{"$error":"#N/A"}]
[{"$nulls":15},"t-Test: Paired Two Sample for Means",{"$nulls":3},"Standard Deviation",10.707342596357297]
[{"$nulls":19},"Sample Variance",114.6471854757674]
[{"$nulls":16},"Variable 1","Variable 2",null,"Kurtosis",{"$error":"#DIV/0!"}]
[{"$nulls":15},"Mean",195.3823953823954,259.2707537560479,null,"Skewness",1.5879039129955645]
[{"$nulls":15},"Variance",4468.245574170898,5013.021106899236,null,"Range",19.83384262796028]
[{"$nulls":15},"Observations",3,3,null,"Minimum",56.302521008403346]
[{"$nulls":15},"Pearson Correlation",0.9895428357265871,null,null,"Maximum",76.13636363636363]
[{"$nulls":15},"Hypothesized Mean Difference",0,null,null,"Sum",191.66507512095745]
[{"$nulls":15},"df",2,null,null,"Count",3]
[{"$nulls":4},"oblique",{"$nulls":4},"perpendicular",{"$nulls":5},"t Stat",-10.334766233498602,null,null,"Confidence Level(95.0%)",26.598513536241853]
[null,"Tooth","mean VEIW [µm]","SD","min","max","TFT [days]","mean VEIW [µm]","SD","min","max","TFT [days]","TFT difference",null,null,"P(T<=t) one-tail",0.004616588873157082]
[null,"Medium [NCSM 100804] Dent 18",21,5,12,34,{"$f":"2.4875/0.021","v":{"v":118.45238095238093,"d":"118.4524"}},14,4,8,21,{"$f":"2.4875/0.014","v":{"v":177.67857142857142,"d":"177.6786"}},{"$f":"L19-G19","v":{"v":59.22619047619048,"d":"59.2262"}},null,null,"t Critical one-tail",2.919985580353727]
[null,"Large [NCSM 100805] Dent 11",21,6,12,29,{"$f":"5.025/0.021","v":239.28571428571428},17.5,3,13,23.5,{"$f":"5.025/0.017","v":295.5882352941176},{"$f":"L20-G20","v":{"v":56.302521008403346,"d":"56.3025"}},null,null,"P(T<=t) two-tail",0.00923317774631416,null,null,{"$f":"U4/U5","v":10.334766233498602}]
[null,"Large [NCSM 100805] Dent 11",22,6,12,36,{"$f":"5.025/0.022","v":228.40909090909093},16.5,3,12.5,21.5,{"$f":"5.025/0.0165","v":304.54545454545456},{"$f":"L21-G21","v":{"v":76.13636363636363,"d":"76.1364"}},null,null,"t Critical two-tail",4.302652729749464]
[]
[]
[]
[{"$nulls":15},"Tooth","Transect","mean VEIW near CA [µm]","based on # VEL","TFT based on near CA VEIW","mean VEIW    far CA [µm]","based on # VEL","TFT based on       far CA VEIW","Difference in TFT estimates [%]"]
[{"$nulls":15},"Medium [NCSM 100804] Dent 18","mid crown",17.5,10,{"$f":"2.4875/0.0175","v":{"v":142.1428571428571,"d":"142.1429"}},13.5,15,{"$f":"2.4875/0.0135","v":{"v":184.25925925925924,"d":"184.2593"}},{"$f":"(T26/W26)*100","v":{"v":77.14285714285714,"d":"77.14"}}]
[{"$nulls":16},"mid crown",18.4,10,{"$f":"2.4875/0.0184","v":{"v":135.19021739130434,"d":"135.1902"}},{"v":13.9473684210526,"d":"13.9"},19,{"$f":"2.4875/0.0139473684210526","v":{"v":178.34905660377396,"d":"178.3491"}},{"$f":"(T27/W27)*100","v":{"v":75.80091533180762,"d":"75.80"}}]
[{"$nulls":15},"Large [NCSM 100805] Dent 4","root base",{"v":19.308,"d":"19.3"},26,{"$f":"12.865/0.019308","v":{"v":666.3041226434639,"d":"666.3041"}},{"v":12.1111111111111,"d":"12.1"},9,{"$f":"12.865/0.0121111111111111","v":1062.2477064220193},{"$f":"(T28/W28)*100","v":{"v":62.725870681122345,"d":"62.73"}}]
[]
[]
[{"$nulls":25},"Transect position along CA of tooth","mean VEIW [µm]","SD","min","max","CH [mm]","TFT [days]"]
[{"$nulls":25},"apical",16,4,10,30,null,{"$f":"5.025/0.016","v":314.0625}]
[{"$nulls":26},16,3,9,30,null,{"$f":"5.025/0.016","v":314.0625}]
[{"$nulls":26},17,3,10,24,null,{"$f":"5.025/0.017","v":295.5882352941176}]
[{"$nulls":25},"mid crown",17,3,9,23,5.025,{"$f":"5.025/0.017","v":295.5882352941176}]
[{"$nulls":26},18,4,11,30,null,{"$f":"5.025/0.018","v":279.1666666666667}]
[{"$nulls":26},18,4,11,30,null,{"$f":"5.025/0.018","v":279.1666666666667}]
[{"$nulls":26},17,4,7,29,null,{"$f":"5.025/0.017","v":295.5882352941176}]
[{"$nulls":25},"basal",17,3,10,27,null,{"$f":"5.025/0.017","v":295.5882352941176}]
{"$rows_empty":15}
[{"$nulls":37},1,2,3,4,5,6,7,8,9,10,11,12,13,14,15,16,17,18,19,20,"r squared","p value (20 degrees of freedom)","p value (actual degrees of freedom)",{"$nulls":4},1,2,3,4,5,6,7,8,9,10,11,12,13,14,15,16,17,18,19,20,"r squared","p value (20 degrees of freedom)","p value (actual degrees of freedom)"]
[{"$nulls":35},"Small Alligator","functional teeth upper dentition",null,null,{"$f":"(0.017+0.02)/2","v":{"v":0.018500000000000003,"d":"0.019"}},{"$nulls":7},{"v":0.012666666666666666,"d":"0.0127"},{"v":0.015333333333333332,"d":"0.0153"},{"$nulls":4},{"v":0.012,"d":"0.0120"},{"v":0.011666666666666665,"d":"0.0117"},null,null,{"$f":"RSQ(AL56:BE56,AL55:BE55)","v":{"v":0.8413697029613989,"d":"0.8414"}},{"$f":"FDIST(18*BF56/(1-BF56),1,18)","v":1.2742235707248365E-8},{"$f":"FDIST(5*BF56/(1-BF56),1,5)","v":{"v":3.6156728860290595E-3,"d":"0.0036"}},null,null,"Small Alligator","functional teeth lower dentition",null,{"v":0.013333333333333334,"d":"0.0133"},null,0.0175,{"$nulls":7},0.0144,{"$nulls":5},0.0145,{"v":0.012499999999999999,"d":"0.0125"},null,{"$f":"RSQ(BM56:CF56,BM55:CF55)","v":{"v":0.2019822043630929,"d":"0.2020"}},{"$f":"FDIST(18*CG56/(1-CG56),1,18)","v":{"v":0.04681149638408185,"d":"0.0468"}},{"$f":"FDIST(5*CG56/(1-CG56),1,5)","v":{"v":0.3116921836221595,"d":"0.3117"}}]
[{"$nulls":36},"replacement teeth upper dentition",{"$nulls":16},0.0115,{"$nulls":3},{"$f":"1","v":{"v":1,"d":"1.0000"}},{"$nulls":5},"replacement teeth lower dentition",{"$nulls":3},{"v":0.012,"d":"0.0120"},{"$nulls":7},{"v":0.013,"d":"0.0130"},{"$nulls":8},{"$f":"RSQ(BM57:CF57,BM55:CF55)","v":{"v":0.9999999999999996,"d":"1.0000"}},{"$f":"FDIST(18*CG57/(1-CG57),1,18)","v":1.2459683851238668E-139},{"$f":"FDIST(2*CG57/(1-CG57),1,2)","v":2.2204460492503136E-16}]
[{"$nulls":35},"Medium Alligator","functional teeth upper dentition",null,null,{"v":0.01555,"d":"0.0156"},{"$nulls":7},0.0115,{"$nulls":5},{"$f":"(0.009)/1","v":{"v":0.009,"d":"0.0090"}},0.0135,null,null,{"$f":"RSQ(AL58:BE58,AL55:BE55)","v":{"v":0.42674283589457246,"d":"0.4267"}},{"$f":"FDIST(18*BF58/(1-BF58),1,18)","v":{"v":1.7891759961135383E-3,"d":"0.0018"}},{"$f":"FDIST(4*BF58/(1-BF58),1,4)","v":{"v":0.1595027160358557,"d":"0.1595"}},null,null,"Medium Alligator","functional teeth lower dentition",{"$nulls":10},0.0115,{"v":0.014333333333333332,"d":"0.0143"},{"$nulls":5},{"$f":"(0.01+0.011+0.016+0.014+0.011+0.011+0.014+0.015)/8","v":{"v":0.01275,"d":"0.0128"}},{"v":0.009428571428571429,"d":"0.0094"},null,{"$f":"RSQ(BM58:CF58,BM55:CF55)","v":{"v":0.26408860769948705,"d":"0.2641"}},{"$f":"FDIST(18*CG58/(1-CG58),1,18)","v":{"v":0.020457939021014643,"d":"0.0205"}},{"$f":"FDIST(4*CG58/(1-CG58),1,4)","v":{"v":0.29701369323060833,"d":"0.2970"}}]
[{"$nulls":36},"replacement teeth upper dentition",null,null,{"v":0.024550000000000002,"d":"0.0246"},{"$nulls":7},{"v":0.042,"d":"0.0420"},{"$nulls":6},{"v":0.015333333333333332,"d":"0.0153"},null,null,{"$f":"RSQ(AL59:BE59,AL55:BE55)","v":{"v":0.09232053571194157,"d":"0.0923"}},{"$f":"FDIST(18*BF59/(1-BF59),1,18)","v":{"v":0.19278562859824314,"d":"0.1928"}},{"$f":"FDIST(3*BF59/(1-BF59),1,3)","v":{"v":0.6191730198739344,"d":"0.6192"}},{"$nulls":3},"replacement teeth lower dentition",{"$nulls":10},{"v":0.02299391592041187,"d":"0.0230"},{"$nulls":7},{"v":0.024,"d":"0.0240"},null,{"$f":"RSQ(BM59:CF59,BM55:CF55)","v":{"v":1,"d":"1.0000"}}]
[{"$nulls":35},"Large Alligator","functional teeth upper dentition",{"$f":"(0.013+0.014+0.014+0.016)/4","v":{"v":0.01425,"d":"0.0143"}},{"$nulls":9},{"v":0.017,"d":"0.0170"},{"$f":"(0.015+0.0145+0.016+0.018+0.022)/5","v":{"v":0.017099999999999997,"d":"0.0171"}},{"$nulls":5},{"v":0.01875,"d":"0.0188"},null,null,{"$f":"RSQ(AL60:BE60,AL55:BE55)","v":{"v":0.998660291390643,"d":"0.9987"}},{"$f":"FDIST(18*BF60/(1-BF60),1,18)","v":{"v":2.5800620458852603E-27,"d":"0.0000"}},{"$f":"FDIST(4*BF60/(1-BF60),1,4)","v":{"v":6.7335797778468043E-7,"d":"0.0000"}},null,null,"Large Alligator","functional teeth lower dentition",{"$nulls":3},{"$f":"0.023","v":{"v":0.023,"d":"0.0230"}},{"$nulls":6},{"$f":"(0.016+0.016+0.014+0.017+0.017+0.018+0.018+0.017+0.017)/9","v":{"v":0.01666666666666667,"d":"0.0167"}},{"$nulls":4},{"v":0.027,"d":"0.0270"},{"$nulls":4},{"$f":"RSQ(BM60:CF60,BM55:CF55)","v":{"v":0.08622351277269495,"d":"0.0862"}},{"$f":"FDIST(18*CG60/(1-CG60),1,18)","v":{"v":0.20891294304380098,"d":"0.2089"}},{"$f":"FDIST(3*CG60/(1-CG60),1,3)","v":{"v":0.6315724540554926,"d":"0.6316"}}]
[{"$nulls":36},"replacement teeth upper dentition",{"$nulls":10},{"v":0.01,"d":"0.0100"},{"v":0.02,"d":"0.0200"},{"$nulls":8},{"$f":"RSQ(AL61:BE61,AL55:BE55)","v":{"v":1,"d":"1.0000"}},{"$nulls":5},"replacement teeth lower dentition",null,{"v":0.013,"d":"0.0130"},null,{"$f":"(0.017+0.019+0.019)/3","v":{"v":0.018333333333333337,"d":"0.0183"}},{"$nulls":10},{"v":0.026,"d":"0.0260"},{"$nulls":5},{"$f":"RSQ(BM61:CF61,BM55:CF55)","v":{"v":0.9252172681735311,"d":"0.9252"}},{"$f":"FDIST(18*CG61/(1-CG61),1,18)","v":1.4048356106476665E-11},{"$f":"FDIST(3*CG61/(1-CG61),1,3)","v":{"v":0.00888234479512699,"d":"0.0089"}}]
{"$rows_empty":15}
[{"$nulls":89},"New Design"]
[]
[{"$nulls":90},"Tooth position",1,2,3,4,11,12,15,16,17,18,19]
[{"$nulls":89},"Small Alligator","functional teeth upper dentition",null,null,{"$f":"(0.017+0.02)/2","v":{"v":0.018500000000000003,"d":"0.019"}},null,{"v":0.012666666666666666,"d":"0.0127"},{"v":0.015333333333333332,"d":"0.0153"},null,null,{"v":0.012,"d":"0.0120"},{"v":0.011666666666666665,"d":"0.0117"}]
[{"$nulls":89},"NCSM 100803","replacement teeth upper dentition",{"$nulls":8},0.0115]
[{"$nulls":90},"functional teeth lower dentition",null,{"v":0.013333333333333334,"d":"0.0133"},null,0.0175,null,0.0144,{"$nulls":3},0.0145,{"v":0.012499999999999999,"d":"0.0125"}]
[{"$nulls":90},"replacement teeth lower dentition",{"$nulls":3},{"v":0.012,"d":"0.0120"},null,{"v":0.013,"d":"0.0130"}]
[{"$nulls":89},"Medium Alligator","functional teeth upper dentition",null,null,"0.0156*",null,"0.0115*",{"$nulls":3},"0.009'","0.0135'","0.0094*"]
[{"$nulls":89},"NCSM 100804","replacement teeth upper dentition",null,null,{"v":0.024550000000000002,"d":"0.0246"},null,{"v":0.037,"d":"0.0370"},{"$nulls":4},{"v":0.015333333333333332,"d":"0.0153"},{"v":0.024,"d":"0.0240"}]
[{"$nulls":90},"functional teeth lower dentition",{"$nulls":4},"0.0115*","0.0143*",{"$nulls":3},"0.0128*"]
[{"$nulls":90},"replacement teeth lower dentition",{"$nulls":4},{"v":0.02299391592041187,"d":"0.0230"}]
[{"$nulls":89},"Large Alligator","functional teeth upper dentition",{"$f":"(0.013+0.014+0.014+0.016)/4","v":{"v":0.01425,"d":"0.0143"}},null,null,{"$f":"0.023","v":{"v":0.023,"d":"0.0230"}},{"v":0.017,"d":"0.0170"},{"$f":"(0.015+0.0145+0.016+0.018+0.022)/5","v":{"v":0.017099999999999997,"d":"0.0171"}},{"$nulls":3},{"v":0.01875,"d":"0.0188"}]
[{"$nulls":89},"NCSM 100805","replacement teeth upper dentition",null,{"v":0.013,"d":"0.0130"},null,{"$f":"(0.017+0.019+0.019)/3","v":{"v":0.018333333333333337,"d":"0.0183"}},{"v":0.01,"d":"0.0100"},{"v":0.02,"d":"0.0200"}]
[{"$nulls":90},"functional teeth lower dentition",{"$nulls":4},{"$f":"(0.016+0.016+0.014+0.017+0.017+0.018+0.018+0.017+0.017)/9","v":{"v":0.01666666666666667,"d":"0.0167"}},null,null,{"v":0.027,"d":"0.0270"}]
[{"$nulls":90},"replacement teeth upper dentition",{"$nulls":6},{"v":0.026,"d":"0.0260"}]
{"$rows_empty":11}
[{"$nulls":190},"ANOVA"]
[{"$nulls":191},"SS","df","MS","F","F crit","p"]
[{"$nulls":190},"Between Groups",{"v":1.4484695651094935E-4,"d":"0.0001448"},2,7.2423478255474673E-5,2.295375687465298,3.27,0.1156911809369808]
[{"$nulls":190},"Within Groups",{"v":1.1043167150300906E-3,"d":"0.0011043"},35,3.1551906143716875E-5,null,"From F table for"]
[{"$nulls":120},"crown height [mm]",0.1928,0.2028,0.9228,{"v":1.175,"d":"1.1750"},{"v":1.2328000000000001,"d":"1.2328"},{"v":1.5628000000000002,"d":"1.5628"},1.6228,1.6428,{"v":1.785,"d":"1.7850"},{"v":1.7928000000000002,"d":"1.7928"},1.8628,2.0528,{"v":2.055,"d":"2.0550"},{"v":2.0627999999999997,"d":"2.0628"},2.1328,2.1928,{"v":3.475,"d":"3.4750"},{"v":4.565,"d":"4.5650"},{"v":5.025,"d":"5.0250"},{"v":5.265000000000001,"d":"5.2650"},{"v":5.655,"d":"5.6550"},{"v":6.2250000000000005,"d":"6.2250"},{"v":6.415,"d":"6.4150"},{"v":8.825,"d":"8.8250"},{"v":12.864999999999998,"d":"12.8650"},"Mean","Variance","t -statistic","p-value",null,"crown height [mm]",0.1928,0.2028,0.9228,{"v":1.175,"d":"1.1750"},{"v":1.2328000000000001,"d":"1.2328"},{"v":1.5628000000000002,"d":"1.5628"},1.6228,1.6428,{"v":1.785,"d":"1.7850"},{"v":1.7928000000000002,"d":"1.7928"},1.8628,2.0528,{"v":2.055,"d":"2.0550"},{"v":2.0627999999999997,"d":"2.0628"},2.1328,2.1928,{"v":3.475,"d":"3.4750"},{"v":4.565,"d":"4.5650"},{"v":5.025,"d":"5.0250"},{"v":5.265000000000001,"d":"5.2650"},{"v":5.655,"d":"5.6550"},{"v":6.2250000000000005,"d":"6.2250"},{"v":6.415,"d":"6.4150"},{"v":8.825,"d":"8.8250"},{"v":12.864999999999998,"d":"12.8650"},"Mean","Variance","t -statistic","p-value",{"$nulls":9},"total",1.24916367154104E-3,{"$f":"GK105+GK106","v":37},null,null," alpha = 0.05"]
[{"$nulls":120},"TFT by sampled CA sections [days]",{"v":16.066666666666666,"d":"16.0667"},{"v":17.63478260869565,"d":"17.6348"},{"v":70.98461538461538,"d":"70.9846"},{"v":90.38461538461539,"d":"90.3846"},{"v":70.44571428571429,"d":"70.4457"},{"v":130.23333333333335,"d":"130.2333"},{"v":121.71,"d":"121.7100"},{"v":131.424,"d":"131.4240"},{"v":89.25,"d":"89.2500"},{"v":96.90810810810811,"d":"96.9081"},{"v":128.46896551724137,"d":"128.4690"},{"v":175.95428571428573,"d":"175.9543"},{"v":205.5,"d":"205.5000"},{"v":134.5304347826087,"d":"134.5304"},{"v":148.11111111111111,"d":"148.1111"},{"v":173.11578947368423,"d":"173.1158"},{"v":133.65384615384616,"d":"133.6538"},{"v":248.99999999999997,"d":"249.0000"},{"v":301.49999999999994,"d":"301.5000"},{"v":195.00000000000003,"d":"195.0000"},{"v":396.8421052631579,"d":"396.8421"},{"v":364.03508771929836,"d":"364.0351"},{"v":342.1333333333333,"d":"342.1333"},{"v":519.1176470588234,"d":"519.1176"},{"v":559.3478260869565,"d":"559.3478"},{"v":194.45409071944377,"d":"194.4541"},{"v":20739.047155545162,"d":"20739.047"},{"$nulls":3},"TFT by sampled CA sections [days]",{"v":16.066666666666666,"d":"16.0667"},{"v":17.63478260869565,"d":"17.6348"},{"v":70.98461538461538,"d":"70.9846"},{"v":90.38461538461539,"d":"90.3846"},{"v":70.44571428571429,"d":"70.4457"},{"v":130.23333333333335,"d":"130.2333"},{"v":121.71,"d":"121.7100"},{"v":131.424,"d":"131.4240"},{"v":89.25,"d":"89.2500"},{"v":96.90810810810811,"d":"96.9081"},{"v":128.46896551724137,"d":"128.4690"},{"v":175.95428571428573,"d":"175.9543"},{"v":205.5,"d":"205.5000"},{"v":134.5304347826087,"d":"134.5304"},{"v":148.11111111111111,"d":"148.1111"},{"v":173.11578947368423,"d":"173.1158"},{"v":133.65384615384616,"d":"133.6538"},{"v":248.99999999999997,"d":"249.0000"},{"v":301.49999999999994,"d":"301.5000"},{"v":195.00000000000003,"d":"195.0000"},{"v":396.8421052631579,"d":"396.8421"},{"v":364.03508771929836,"d":"364.0351"},{"v":342.1333333333333,"d":"342.1333"},{"v":519.1176470588234,"d":"519.1176"},{"v":559.3478260869565,"d":"559.3478"},{"v":194.45409071944377,"d":"194.4541"},{"v":20739.047155545162,"d":"20739.047"}]
[{"$nulls":120},"VEIW of the tooth [mm]",{"v":0.012,"d":"0.0120"},0.0115,{"v":0.013,"d":"0.0130"},{"v":0.013,"d":"0.0130"},0.0175,{"v":0.012,"d":"0.0120"},{"v":0.013333333333333334,"d":"0.0133"},{"v":0.012499999999999999,"d":"0.0125"},{"v":0.02,"d":"0.0200"},{"v":0.018500000000000003,"d":"0.0185"},0.0145,{"v":0.011666666666666665,"d":"0.0117"},{"v":0.01,"d":"0.0100"},{"v":0.015333333333333332,"d":"0.0153"},0.0144,{"v":0.012666666666666666,"d":"0.0127"},{"v":0.026,"d":"0.0260"},{"v":0.018333333333333337,"d":"0.0183"},{"v":0.01666666666666667,"d":"0.0167"},{"v":0.027,"d":"0.0270"},{"v":0.01425,"d":"0.0143"},{"v":0.017099999999999997,"d":"0.0171"},{"v":0.01875,"d":"0.0188"},{"v":0.017,"d":"0.0170"},{"v":0.023,"d":"0.0230"},{"$nulls":5},"VEIW of the tooth [mm]",{"v":0.012,"d":"0.0120"},0.0115,{"v":0.013,"d":"0.0130"},{"v":0.013,"d":"0.0130"},0.0175,{"v":0.012,"d":"0.0120"},{"v":0.013333333333333334,"d":"0.0133"},{"v":0.012499999999999999,"d":"0.0125"},{"v":0.02,"d":"0.0200"},{"v":0.018500000000000003,"d":"0.0185"},0.0145,{"v":0.011666666666666665,"d":"0.0117"},{"v":0.01,"d":"0.0100"},{"v":0.015333333333333332,"d":"0.0153"},0.0144,{"v":0.012666666666666666,"d":"0.0127"},{"v":0.026,"d":"0.0260"},{"v":0.018333333333333337,"d":"0.0183"},{"v":0.01666666666666667,"d":"0.0167"},{"v":0.027,"d":"0.0270"},{"v":0.01425,"d":"0.0143"},{"v":0.017099999999999997,"d":"0.0171"},{"v":0.01875,"d":"0.0188"},{"v":0.017,"d":"0.0170"},{"v":0.023,"d":"0.0230"},{"$nulls":14},"overall","small","medium","large"]
[{"$nulls":120},"TFT + SD  [days]",{"v":26.739401784475987,"d":"26.7394"},{"v":30.222045601311418,"d":"30.2220"},{"v":112.39494945394017,"d":"112.3949"},{"v":143.1123381105112,"d":"143.1123"},{"v":96.99194880805643,"d":"96.9919"},{"v":216.74448707872966,"d":"216.7445"},{"v":189.94186727010262,"d":"189.9419"},{"v":213.06471834334883,"d":"213.0647"},{"v":117.3544301023427,"d":"117.3544"},{"v":130.7626850793805,"d":"130.7627"},{"v":191.83687480690674,"d":"191.8369"},{"v":298.5022538897776,"d":"298.5023"},{"v":394.40854711790683,"d":"394.4085"},{"v":195.64351427397176,"d":"195.6435"},{"v":221.92778606361213,"d":"221.9278"},{"v":278.3800939443951,"d":"278.3801"},{"v":163.83523754144994,"d":"163.8352"},{"v":337.0579114469247,"d":"337.0579"},{"v":423.086638039909,"d":"423.0866"},{"v":237.051822725158,"d":"237.0518"},{"v":597.7590641626441,"d":"597.7591"},{"v":505.67274105764824,"d":"505.6727"},{"v":459.51624841813714,"d":"459.5162"},{"v":722.7484917146678,"d":"722.7485"},{"v":706.4670242170196,"d":"706.4670"},{"v":280.44892484209316,"d":"280.4489"},{"v":37706.37528958455,"d":"37706.375"},{"v":1.778554248790766,"d":"1.7786"},{"v":0.041111391694378094,"d":"0.0411"},null,"Tooth specific SD  [mm]",0.003,0.0025,{"v":0.003,"d":"0.0030"},0.0037,0.0048,{"v":0.003,"d":"0.0030"},{"$f":"0.003","v":{"v":0.003,"d":"0.0030"}},{"v":2.8E-3,"d":"0.0028"},0.0054,{"$f":"(0.004+0.004)/2","v":0.004},{"v":0.003,"d":"0.0030"},{"v":0.003,"d":"0.0030"},{"v":2E-3,"d":"0.0020"},{"v":0.003,"d":"0.0030"},0.0037,{"v":0.003,"d":"0.0030"},{"v":0.008,"d":"0.0080"},{"v":0.00433,"d":"0.0043"},0.0035,0.0065,{"v":0.008,"d":"0.0080"},{"v":0.011,"d":"0.0110"},{"v":5.3E-3,"d":"0.0053"},{"v":0.003,"d":"0.0030"},{"v":0.005,"d":"0.0050"},{"$nulls":13},"Mean",{"v":0.01635366194778027,"d":"0.0163537"},{"v":0.013761538461538464,"d":"0.0137615"},{"v":0.017033781078126923,"d":"0.0170338"},{"v":0.018425,"d":"0.0184250"}]
[{"$nulls":120},"TFT - SD  [days]",{"v":11.483253588516746,"d":"11.4833"},{"v":12.449610182324173,"d":"12.4496"},{"v":51.87281005827352,"d":"51.8728"},{"v":66.04957934381382,"d":"66.0496"},{"v":55.30813979571999,"d":"55.3081"},{"v":93.08106176418035,"d":"93.0811"},{"v":89.54367378469348,"d":"89.5437"},{"v":95.01629104089147,"d":"95.0163"},{"v":72.00580887197621,"d":"72.0058"},{"v":76.97834518885342,"d":"76.9783"},{"v":96.56983877378215,"d":"96.5698"},{"v":124.74224715914845,"d":"124.7422"},{"v":138.94836484933174,"d":"138.9484"},{"v":102.50956616806637,"d":"102.5096"},{"v":111.14314995917941,"d":"111.1431"},{"v":125.61629971929959,"d":"125.6163"},{"v":112.86254046270935,"d":"112.8625"},{"v":197.42247978203517,"d":"197.4225"},{"v":234.19658531280584,"d":"234.1966"},{"v":165.61985550860345,"d":"165.6199"},{"v":297.0115023022111,"d":"297.0115"},{"v":284.38075804413046,"d":"284.3808"},{"v":272.5187272547048,"d":"272.5187"},{"v":405.0084902629686,"d":"405.0085"},{"v":462.9418608835418,"d":"462.9419"},{"v":150.2112336024705,"d":"150.2112"},{"v":13402.556554125616,"d":"13402.557"},{"v":-1.197212412514691,"d":"-1.1972"},{"v":0.11867856416703564,"d":"0.1187"},null,"TFT (tooth specific SD) + [days]",{"v":21.42222222222222,"d":"21.4222"},{"v":22.533333333333335,"d":"22.5333"},{"v":92.28000000000002,"d":"92.2800"},{"v":126.34408602150539,"d":"126.3441"},{"v":97.07086614173227,"d":"97.0709"},{"v":173.64444444444445,"d":"173.6444"},{"v":157.0451612903226,"d":"157.0452"},{"v":169.36082474226808,"d":"169.3608"},{"v":122.26027397260273,"d":"122.2603"},{"v":123.64137931034482,"d":"123.6414"},{"v":161.98260869565217,"d":"161.9826"},{"v":236.86153846153846,"d":"236.8615"},{"v":256.875,"d":"256.8750"},{"v":167.25405405405405,"d":"167.2541"},{"v":199.32710280373834,"d":"199.3271"},{"v":226.84137931034482,"d":"226.8414"},{"v":193.05555555555557,"d":"193.0556"},{"v":325.99381099738156,"d":"325.9938"},{"v":381.64556962025307,"d":"381.6456"},{"v":256.82926829268297,"d":"256.8293"},{"v":904.8,"d":"904.8000"},{"v":1020.491803278689,"d":"1020.4918"},{"v":476.9516728624535,"d":"476.9517"},{"v":630.3571428571427,"d":"630.3571"},{"v":714.7222222222222,"d":"714.7222"},{"v":290.3836528196194,"d":"290.3837"},{"v":69121.15989747919,"d":"69121.160"},{"v":1.600069175615907,"d":"1.6001"},{"v":0.059044268777180886,"d":"0.0590"},{"$nulls":9},"SD",5.810437187675278E-3,2.2195197242349095E-3,0.00798981180663844,0.005037643649103571]
[{"$nulls":120},"SD +   [days]",{"v":10.67273511780932,"d":"10.6727"},{"v":12.587262992615766,"d":"12.5873"},{"v":41.41033406932479,"d":"41.4103"},{"v":52.7277227258958,"d":"52.7277"},{"v":26.546234522342147,"d":"26.5462"},{"v":86.51115374539631,"d":"86.5112"},{"v":68.23186727010263,"d":"68.2319"},{"v":81.64071834334882,"d":"81.6407"},{"v":28.104430102342704,"d":"28.1044"},{"v":33.854576971272394,"d":"33.8546"},{"v":63.36790928966536,"d":"63.3679"},{"v":122.54796817549186,"d":"122.5480"},{"v":188.90854711790683,"d":"188.9085"},{"v":61.11307949136307,"d":"61.1131"},{"v":73.81667495250102,"d":"73.8167"},{"v":105.2643044707109,"d":"105.2643"},{"v":30.18139138760378,"d":"30.1814"},{"v":88.05791144692475,"d":"88.0579"},{"v":121.58663803990908,"d":"121.5866"},{"v":42.05182272515796,"d":"42.0518"},{"v":200.9169588994862,"d":"200.9170"},{"v":141.63765333834988,"d":"141.6377"},{"v":117.38291508480381,"d":"117.3829"},{"v":203.63084465584438,"d":"203.6308"},{"v":147.11919813006307,"d":"147.1192"},{"$nulls":5},"TFT (tooth specific SD) -  [days]",{"v":12.853333333333333,"d":"12.8533"},{"v":14.485714285714286,"d":"14.4857"},{"v":57.675,"d":"57.6750"},{"v":70.35928143712576,"d":"70.3593"},{"v":55.28251121076234,"d":"55.2825"},{"v":104.18666666666668,"d":"104.1867"},{"v":99.35510204081632,"d":"99.3551"},{"v":107.37254901960785,"d":"107.3725"},{"v":70.2755905511811,"d":"70.2756"},{"v":79.67999999999999,"d":"79.6800"},{"v":106.44571428571427,"d":"106.4457"},{"v":139.96363636363637,"d":"139.9636"},{"v":171.25,"d":"171.2500"},{"v":112.51636363636362,"d":"112.5164"},{"v":117.83425414364642,"d":"117.8343"},{"v":139.96595744680852,"d":"139.9660"},{"v":102.20588235294117,"d":"102.2059"},{"v":201.4266803941756,"d":"201.4267"},{"v":249.17355371900825,"d":"249.1736"},{"v":157.16417910447763,"d":"157.1642"},{"v":254.15730337078654,"d":"254.1573"},{"v":221.53024911032034,"d":"221.5302"},{"v":266.73596673596677,"d":"266.7360"},{"v":441.24999999999994,"d":"441.2500"},{"v":459.46428571428567,"d":"459.4643"},{"v":152.50439099693355,"d":"152.5044"},{"v":12859.535577826406,"d":"12859.536"},{"v":-1.144296004959397,"d":"-1.1443"},{"v":0.12927561760441506,"d":"0.1293"}]
[{"$nulls":120},"SD -   [days]",{"v":-4.5834130781499205,"d":"-4.5834"},{"v":-5.185172426371478,"d":"-5.1852"},{"v":-19.11180532634186,"d":"-19.1118"},{"v":-24.33503604080157,"d":"-24.3350"},{"v":-15.1375744899943,"d":"-15.1376"},{"v":-37.152271569153,"d":"-37.1523"},{"v":-32.16632621530651,"d":"-32.1663"},{"v":-36.40770895910853,"d":"-36.4077"},{"v":-17.244191128023786,"d":"-17.2442"},{"v":-19.929762919254685,"d":"-19.9298"},{"v":-31.89912674345922,"d":"-31.8991"},{"v":-51.21203855513728,"d":"-51.2120"},{"v":-66.55163515066826,"d":"-66.5516"},{"v":-32.02086861454232,"d":"-32.0209"},{"v":-36.9679611519317,"d":"-36.9680"},{"v":-47.49948975438464,"d":"-47.4995"},{"v":-20.791305691136813,"d":"-20.7913"},{"v":-51.5775202179648,"d":"-51.5775"},{"v":-67.3034146871941,"d":"-67.3034"},{"v":-29.380144491396578,"d":"-29.3801"},{"v":-99.8306029609468,"d":"-99.8306"},{"v":-79.6543296751679,"d":"-79.6543"},{"v":-69.61460607862853,"d":"-69.6146"},{"v":-114.1091567958548,"d":"-114.1092"},{"v":-96.40596520341472,"d":"-96.4060"},{"$nulls":5},"SD +   [days]",{"v":5.355555555555554,"d":"5.3556"},{"v":4.898550724637683,"d":"4.8986"},{"v":21.295384615384634,"d":"21.2954"},{"v":35.95947063689,"d":"35.9595"},{"v":26.62515185601798,"d":"26.6252"},{"v":43.4111111111111,"d":"43.4111"},{"v":35.3351612903226,"d":"35.3352"},{"v":37.93682474226807,"d":"37.9368"},{"v":33.01027397260273,"d":"33.0103"},{"v":26.733271202236708,"d":"26.7333"},{"v":33.5136431784108,"d":"33.5136"},{"v":60.90725274725273,"d":"60.9073"},{"v":51.375,"d":"51.3750"},{"v":32.72361927144536,"d":"32.7236"},{"v":51.21599169262723,"d":"51.2160"},{"v":53.72558983666059,"d":"53.7256"},{"v":59.40170940170941,"d":"59.4017"},{"v":76.99381099738159,"d":"76.9938"},{"v":80.14556962025313,"d":"80.1456"},{"v":61.82926829268294,"d":"61.8293"},{"v":507.95789473684204,"d":"507.9579"},{"v":656.4567155593907,"d":"656.4567"},{"v":134.81833952912018,"d":"134.8183"},{"v":111.23949579831924,"d":"111.2395"},{"v":155.37439613526567,"d":"155.3744"}]
[{"$nulls":120},"SD + [%]",{"v":66.42781193657254,"d":"66.4278"},{"v":71.37747752222944,"d":"71.3775"},{"v":58.33705493077832,"d":"58.3371"},{"v":58.33705493077835,"d":"58.3371"},{"v":37.68324984920406,"d":"37.6832"},{"v":66.42781193657254,"d":"66.4278"},{"v":56.06101985876478,"d":"56.0610"},{"v":62.12009856902,"d":"62.1201"},{"v":31.489557537638888,"d":"31.4896"},{"v":34.93472077022196,"d":"34.9347"},{"v":49.32546084926713,"d":"49.3255"},{"v":69.64761766274057,"d":"69.6476"},{"v":91.92630030068457,"d":"91.9263"},{"v":45.426954569884,"d":"45.4270"},{"v":49.838715271756115,"d":"49.8387"},{"v":60.80572129829463,"d":"60.8057"},{"v":22.581760462667575,"d":"22.5818"},{"v":35.364623071054126,"d":"35.3646"},{"v":40.32724313098146,"d":"40.3272"},{"v":21.565037294952802,"d":"21.5650"},{"v":50.62894189774852,"d":"50.6289"},{"v":38.907692724269594,"d":"38.9077"},{"v":34.30911391800581,"d":"34.3091"},{"v":39.226338347301464,"d":"39.2263"},{"v":26.301916494298098,"d":"26.3019"},{"$nulls":5},"SD -   [days]",{"v":-3.213333333333333,"d":"-3.2133"},{"v":-3.149068322981366,"d":"-3.1491"},{"v":-13.309615384615384,"d":"-13.3096"},{"v":-20.025333947489628,"d":"-20.0253"},{"v":-15.163203074951952,"d":"-15.1632"},{"v":-26.046666666666667,"d":"-26.0467"},{"v":-22.354897959183674,"d":"-22.3549"},{"v":-24.05145098039216,"d":"-24.0515"},{"v":-18.974409448818903,"d":"-18.9744"},{"v":-17.228108108108117,"d":"-17.2281"},{"v":-22.023251231527098,"d":"-22.0233"},{"v":-35.99064935064936,"d":"-35.9906"},{"v":-34.25,"d":"-34.2500"},{"v":-22.014071146245072,"d":"-22.0141"},{"v":-30.276856967464695,"d":"-30.2769"},{"v":-33.149832026875714,"d":"-33.1498"},{"v":-31.447963800904986,"d":"-31.4480"},{"v":-47.573319605824366,"d":"-47.5733"},{"v":-52.32644628099169,"d":"-52.3264"},{"v":-37.8358208955224,"d":"-37.8358"},{"v":-142.68480189237138,"d":"-142.6848"},{"v":-142.50483860897802,"d":"-142.5048"},{"v":-75.39736659736656,"d":"-75.3974"},{"v":-77.86764705882348,"d":"-77.8676"},{"v":-99.88354037267084,"d":"-99.8835"}]
[{"$nulls":120},"SD - [%]",{"v":-28.527467291389556,"d":"-28.5275"},{"v":-29.403098078536487,"d":"-29.4031"},{"v":-26.92386966216344,"d":"-26.9239"},{"v":-26.92386966216344,"d":"-26.9239"},{"v":-21.488283060910135,"d":"-21.4883"},{"v":-28.527467291389556,"d":"-28.5275"},{"v":-26.42866339274218,"d":"-26.4287"},{"v":-27.702481250843476,"d":"-27.7025"},{"v":-19.321222552407605,"d":"-19.3212"},{"v":-20.565629964648124,"d":"-20.5656"},{"v":-24.830219979609126,"d":"-24.8302"},{"v":-29.105308999574646,"d":"-29.1053"},{"v":-32.38522391760013,"d":"-32.3852"},{"v":-23.80195133263763,"d":"-23.8020"},{"v":-24.959613680974144,"d":"-24.9596"},{"v":-27.437988122744372,"d":"-27.4380"},{"v":-15.556084833656328,"d":"-15.5561"},{"v":-20.71386354135133,"d":"-20.7139"},{"v":-22.322857276017942,"d":"-22.3229"},{"v":-15.066740764818746,"d":"-15.0667"},{"v":-25.156252735517086,"d":"-25.1563"},{"v":-21.880948392696723,"d":"-21.8809"},{"v":-20.347215338648255,"d":"-20.3472"},{"v":-21.981367314782233,"d":"-21.9814"},{"v":-17.23542323885377,"d":"-17.2354"},{"$nulls":5},"SD + [%]",{"v":33.333333333333314,"d":"33.3333"},{"v":27.777777777777786,"d":"27.7778"},{"v":30.00000000000003,"d":"30.0000"},{"v":39.784946236559136,"d":"39.7849"},{"v":37.79527559055117,"d":"37.7953"},{"v":33.333333333333314,"d":"33.3333"},{"v":29.032258064516157,"d":"29.0323"},{"v":28.86597938144334,"d":"28.8660"},{"v":36.986301369863014,"d":"36.9863"},{"v":27.586206896551715,"d":"27.5862"},{"v":26.08695652173914,"d":"26.0870"},{"v":34.61538461538461,"d":"34.6154"},{"v":25,"d":"25.0000"},{"v":24.324324324324323,"d":"24.3243"},{"v":34.57943925233647,"d":"34.5794"},{"v":31.03448275862067,"d":"31.0345"},{"v":44.44444444444443,"d":"44.4444"},{"v":30.921209235896242,"d":"30.9212"},{"v":26.58227848101265,"d":"26.5823"},{"v":31.707317073170742,"d":"31.7073"},{"v":127.99999999999997,"d":"128.0000"},{"v":180.32786885245906,"d":"180.3279"},{"v":39.40520446096653,"d":"39.4052"},{"v":21.428571428571416,"d":"21.4286"},{"v":27.77777777777777,"d":"27.7778"}]
[{"$nulls":151},"SD - [%]",{"v":-20,"d":"-20.0000"},{"v":-17.857142857142847,"d":"-17.8571"},{"v":-18.75,"d":"-18.7500"},{"v":-22.155688622754482,"d":"-22.1557"},{"v":-21.524663677130036,"d":"-21.5247"},{"v":-20,"d":"-20.0000"},{"v":-18.367346938775512,"d":"-18.3673"},{"v":-18.300653594771248,"d":"-18.3007"},{"v":-21.25984251968505,"d":"-21.2598"},{"v":-17.777777777777786,"d":"-17.7778"},{"v":-17.142857142857153,"d":"-17.1429"},{"v":-20.454545454545453,"d":"-20.4545"},{"v":-16.666666666666657,"d":"-16.6667"},{"v":-16.363636363636374,"d":"-16.3636"},{"v":-20.44198895027624,"d":"-20.4420"},{"v":-19.148936170212778,"d":"-19.1489"},{"v":-23.529411764705884,"d":"-23.5294"},{"v":-19.105750845712606,"d":"-19.1058"},{"v":-17.355371900826427,"d":"-17.3554"},{"v":-19.40298507462687,"d":"-19.4030"},{"v":-35.95505617977528,"d":"-35.9551"},{"v":-39.14590747330961,"d":"-39.1459"},{"v":-22.037422037422033,"d":"-22.0374"},{"v":-14.999999999999986,"d":"-15.0000"},{"v":-17.85714285714286,"d":"-17.8571"}]
{"$rows_empty":57}
[{"$nulls":308},"Central axis height (back calculated from mean VEIW and TFT)"]
[]
[{"$nulls":306},"Taxon","Mean increment width, µm","Central axis height (from mean VEIW and TFT), mm","Mean tooth formation time, days","VEIW SD based on Alligator, µm","TFT + SD","TFT - SD","SD +","SD -","Source"]
[{"$nulls":306},"Crocodilian",13,3.198,246,{"v":3.89160416666667,"d":"3.8916"},{"v":351.1046356040559,"d":"351.1046"},{"v":189.32482483284963,"d":"189.3248"},{"v":105.10463560405589,"d":"105.1046"},{"v":-56.67517516715037,"d":"-56.6752"},"Erickson 1996b"]
[{"$nulls":306},"Leidyosuchus",19,5.377,283,{"v":5.68772916666667,"d":"5.6877"},{"v":403.9130564062919,"d":"403.9131"},{"v":217.80050986868474,"d":"217.8005"},{"v":120.9130564062919,"d":"120.9131"},{"v":-65.19949013131526,"d":"-65.1995"}]
[{"$nulls":306},"Adult Edmontonia",13.5,3.7664999999999997,279,{"v":4.04128125,"d":"4.0413"},{"v":398.2040379411852,"d":"398.2040"},{"v":214.72205743237828,"d":"214.7221"},{"v":119.20403794118522,"d":"119.2040"},{"v":-64.27794256762172,"d":"-64.2779"}]
[{"$nulls":306},"Adult Triceratops",15.8,6.019800000000001,381,{"v":4.72979583333333,"d":"4.7298"},{"v":543.7840088014035,"d":"543.7840"},{"v":293.222594558194,"d":"293.2226"},{"v":162.7840088014035,"d":"162.7840"},{"v":-87.77740544180602,"d":"-87.7774"}]
[{"$nulls":306},"Infant Lambeosaurinae",11,1.617,147,{"v":3.29289583333333,"d":"3.2929"},{"v":209.8064285926675,"d":"209.8064"},{"v":113.13312703426382,"d":"113.1331"},{"v":62.80642859266749,"d":"62.8064"},{"v":-33.86687296573618,"d":"-33.8669"}]
[{"$nulls":306},"Adult Prosaurolophus",16,5.168,323,{"v":4.78966666666667,"d":"4.7897"},{"v":461.00324105735785,"d":"461.0032"},{"v":248.58503423174975,"d":"248.5850"},{"v":138.00324105735785,"d":"138.0032"},{"v":-74.41496576825025,"d":"-74.4150"}]
[{"$nulls":306},"Infant Maiasaura",12,1.584,132,{"v":3.59225,"d":"3.5923"},{"v":188.3976093485178,"d":"188.3976"},{"v":101.58893039811444,"d":"101.5889"},{"v":56.39760934851779,"d":"56.3976"},{"v":-30.411069601885558,"d":"-30.4111"}]
[{"$nulls":306},"Adult Maiasaura",13,3.653,281,{"v":3.89160416666667,"d":"3.8916"},{"v":401.0585471737386,"d":"401.0585"},{"v":216.2612836505315,"d":"216.2613"},{"v":120.05854717373859,"d":"120.0585"},{"v":-64.73871634946849,"d":"-64.7387"}]
[{"$nulls":306},"Juvenile Edmontosaurus",14,3.15,225,{"v":4.19095833333333,"d":"4.1910"},{"v":321.1322886622462,"d":"321.1323"},{"v":173.16294954224054,"d":"173.1629"},{"v":96.1322886622462,"d":"96.1323"},{"v":-51.83705045775946,"d":"-51.8371"}]
[{"$nulls":306},"Adult Edmontosaurus",19.8,6.7122,339,{"v":5.9272125,"d":"5.9272"},{"v":483.8393149177842,"d":"483.8393"},{"v":260.89884397697574,"d":"260.8988"},{"v":144.83931491778418,"d":"144.8393"},{"v":-78.10115602302426,"d":"-78.1012"}]
[{"$nulls":306},"Adult Deinonychus",10.1,4.1713,413,{"v":3.02347708333333,"d":"3.0235"},{"v":589.4561565222563,"d":"589.4562"},{"v":317.8502140486459,"d":"317.8502"},{"v":176.45615652225626,"d":"176.4562"},{"v":-95.14978595135409,"d":"-95.1498"}]
[{"$nulls":306},"Adult Troodon",11,3.993,363,{"v":3.29289583333333,"d":"3.2929"},{"v":518.0934257084239,"d":"518.0934"},{"v":279.36955859481475,"d":"279.3696"},{"v":155.09342570842387,"d":"155.0934"},{"v":-83.63044140518525,"d":"-83.6304"}]
[{"$nulls":306},"Juvenile Albertosaur",14.5,4.915500000000001,339,{"v":4.34063541666667,"d":"4.3406"},{"v":483.83931491778424,"d":"483.8393"},{"v":260.89884397697574,"d":"260.8988"},{"v":144.83931491778424,"d":"144.8393"},{"v":-78.10115602302426,"d":"-78.1012"}]
[{"$nulls":306},"Adult Albertosaur",14,7.266,519,{"v":4.19095833333333,"d":"4.1910"},{"v":740.7451458475812,"d":"740.7451"},{"v":399.4292036107682,"d":"399.4292"},{"v":221.74514584758117,"d":"221.7451"},{"v":-119.57079638923182,"d":"-119.5708"}]
[{"$nulls":306},"Juvenile Tyrannosaurus",14,3.696,264,{"v":4.19095833333333,"d":"4.1910"},{"v":376.7952186970355,"d":"376.7952"},{"v":203.1778607962289,"d":"203.1779"},{"v":112.79521869703552,"d":"112.7952"},{"v":-60.82213920377109,"d":"-60.8221"}]
[{"$nulls":306},"Sub. Ad. Tyrannosaurus",14,4.396,314,{"v":4.19095833333333,"d":"4.1910"},{"v":448.157949510868,"d":"448.1579"},{"v":241.65851625006013,"d":"241.6585"},{"v":134.15794951086798,"d":"134.1579"},{"v":-72.34148374993987,"d":"-72.3415"}]
[{"$nulls":306},"Adult Tyrannosaurus",17,15.861,933,{"v":5.08902083333334,"d":"5.0890"},{"v":1331.6285569861143,"d":"1331.6286"},{"v":718.0490307684906,"d":"718.0490"},{"v":398.6285569861143,"d":"398.6286"},{"v":-214.95096923150936,"d":"-214.9510"}]
[{"$nulls":306},"Titaosauria indet.",18.2,1.1648,64,{"v":5.44824583333333,"d":"5.4482"},{"v":91.34429544170557,"d":"91.3443"},{"v":49.255238980903975,"d":"49.2552"},{"v":27.34429544170557,"d":"27.3443"},{"v":-14.744761019096025,"d":"-14.7448"},"Garcia"]
[{"$nulls":306},"MPCA-Ph 4, 5, 9, 13, 19",20.8,1.1232,54,{"v":6.22656666666667,"d":"6.2266"},{"v":77.07174927893908,"d":"77.0717"},{"v":41.559107890137724,"d":"41.5591"},{"v":23.07174927893908,"d":"23.0717"},{"v":-12.440892109862276,"d":"-12.4409"}," & Zurriaguz 2016"]
[{"$nulls":306},"Majungasaurus",{"$nulls":8},"D'Emic et al."]
[{"$nulls":306},"FMNH PR 2100 Pmx dext 3",{"v":17.551,"d":"17.5510"},{"v":5.124891999999999,"d":"5.12489"},292,{"v":5.25396497916667,"d":"5.2540"},{"v":416.7583479527817,"d":"416.7583"},{"v":224.72702785037436,"d":"224.7270"},{"v":124.75834795278172,"d":"124.7583"},{"v":-67.27297214962564,"d":"-67.2730"},"2019b"]
[{"$nulls":306},"UA 9944 Mx sin 1",{"v":17.551,"d":"17.5510"},{"v":4.633463999999999,"d":"4.63346"},264,{"v":5.25396497916667,"d":"5.2540"},{"v":376.7952186970355,"d":"376.7952"},{"v":203.17786079622888,"d":"203.1779"},{"v":112.79521869703552,"d":"112.7952"},{"v":-60.822139203771115,"d":"-60.8221"}]
[{"$nulls":306},"FMNH PR 2100 Dent dext 2",{"v":17.551,"d":"17.5510"},4.38775,250,{"v":5.25396497916667,"d":"5.2540"},{"v":356.81365406916245,"d":"356.8137"},{"v":192.40327726915615,"d":"192.4033"},{"v":106.81365406916245,"d":"106.8137"},{"v":-57.59672273084385,"d":"-57.5967"}]
[{"$nulls":306},"Ceratosaurus"]
[{"$nulls":306},"BYU 12893 Mx dext 6",{"v":14.464506172839505,"d":"14.4645"},{"v":4.831145061728395,"d":"4.83115"},334,{"v":4.33001019161523,"d":"4.3300"},{"v":476.703041836401,"d":"476.7030"},{"v":257.0507784315926,"d":"257.0508"},{"v":142.70304183640098,"d":"142.7030"},{"v":-76.94922156840738,"d":"-76.9492"}]
[{"$nulls":306},"Allosaurus"]
[{"$nulls":306},"BYU 8901 Pmx dext 2",23,8.05,350,{"v":6.88514583333334,"d":"6.8851"},{"v":499.5391156968274,"d":"499.5391"},{"v":269.36458817681864,"d":"269.3646"},{"v":149.53911569682742,"d":"149.5391"},{"v":-80.63541182318136,"d":"-80.6354"}]
[{"$nulls":306},"BYU 8901 Mx dext 6",23,7.359999999999999,320,{"v":6.88514583333334,"d":"6.8851"},{"v":456.72147720852786,"d":"456.7215"},{"v":246.27619490451985,"d":"246.2762"},{"v":136.72147720852786,"d":"136.7215"},{"v":-73.72380509548015,"d":"-73.7238"}]
[{"$nulls":306},"BYU 2028 Dent sin 5",23,8.165,355,{"v":6.88514583333334,"d":"6.8851"},{"v":506.6753887782106,"d":"506.6754"},{"v":273.2126537222017,"d":"273.2127"},{"v":151.67538877821062,"d":"151.6754"},{"v":-81.78734627779829,"d":"-81.7873"}]
{"$rows_empty":21}
[{"$nulls":318},"Taxon","tooth position","Mean tooth formation time, days","TFT + SD","TFT - SD","TRR (count)","TRR max-max","TRR min-min","TRR min-max","TRR max-min","Source"]
[{"$nulls":318},"Diplodocus YPM 4677","I","187 - 183",264.0421040111802,142.3784251791755,{"$nulls":5},"D'Emic et al. 2013"]
[{"$nulls":318},"pmx","II","178 - 145",230.50162052867893,124.29251711587486,36,51.3811661859594,27.706071926758476,-67.32312586364517,146.41036397636304]
[{"$nulls":318}," Average for tooth postion","III","144 - 113",189.34911242603553,102.10200580416551,33,47.09940233712945,25.397232599528614,-47.9297954532742,120.42643038993226]
[{"$nulls":319},"IV",110,156.99800779043147,84.6574419984287]
[{"$nulls":318},"Camarasaurus UMNH 5527","I","130 - 113",173.41143587761294,93.50799275280987]
[{"$nulls":318},"pmx","II","315 - 208",373.22708215634395,201.25382802353732,62,88.48978620915227,47.716012762750694,-118.66728855885569,254.87308753075865]
[{"$nulls":318}," Average for tooth postion","III",253,361.0954179179924,194.712116596386,63,89.91704082542896,48.48562587182735,-76.46626049617743,214.86892719343373]
[{"$nulls":319},"IV",190,271.17837709256344,146.22649072455866,60,85.63527697659896,46.176786544597476,-39.31660939140582,171.12867291260227]
[{"$nulls":318},"Tornieria aficana MB.R.2345","I",{"$nulls":8},"Sattler 2014"]
[{"$nulls":318},"mx sin","II",135.23333333333332,193.01239927447895,104.07734611746218]
[{"$nulls":318}," Average for tooth postion","III",148.925,212.55389372900004,114.6146322692363]
[{"$nulls":318},"MB.R.2346","I",156.325,223.11557788944725,120.30976927640332]
[{"$nulls":318},"pmx sin","II",118.60000000000001,169.27239749041067,91.27611473648767,37.725,53.84318039903659,29.033654539915656,-48.96262821400734,131.83946315295958]
[{"$nulls":319},"III",102.66666666666667,146.53147393773602,79.01361253186678,17.949999999999996,25.619220362165876,13.81455530792541,-56.585968037837276,96.01974370792857]
[{"$nulls":318},"MB.R.2343","II",125.775,179.51294936219563,96.79808879411245,36.875,52.63001397520145,28.379483397200524,-54.335377170882666,135.34487454328465]
[{"$nulls":318},"pmx dext","III",96.4,137.58734500906903,74.1907037149866]
[{"$nulls":318},"Giraffatitan brancai","I",216.34185,308.7749041063305,166.49952380188873,{"$nulls":5},"Kosch 2014"]
[{"$nulls":318},"MB.R.2180.1","II",229.58587500000002,327.6774999256638,176.69229905882727,73.45515,104.83920192679378,56.53204636918983,-47.640045357137524,209.01129365312113]
[{"$nulls":318},"pmx sin","III",158.40255000000002,226.0807707174928,121.90867899116546]
[{"$nulls":318},"MB.R.2181.1","I",286.5196573027876,408.93650353940734,220.50928426836737,91.4299438827876,130.4938094726237,70.36568337433349,-57.93340979841628,258.7929026453735]
[{"$nulls":318},"pmx sin","II",202.47359203000002,288.98136889893254,155.82633066812036,64.14131282,91.54598481638965,49.363995179656555,-41.60905341442257,182.51903341046875]
[{"$nulls":319},"III",138.33227921000002,197.4353840825429,106.46233548846381]
[{"$nulls":318},"MB.R.2181.2","I",279.6774320649919,399.1709059831587,215.24341803010483,58.54676638999187,83.56114259818655,45.05835890778449,-100.36634535486738,228.98584686083842]
[{"$nulls":318},"pmx dext","II",221.13066567500002,315.6097633849722,170.18505912232035,89.17264196477966,127.27206488981665,68.62843422709075,-27.342550611203148,223.24304972811055]
[{"$nulls":319},"III",145.93206752855366,208.282217042924,112.31123220463009]
[{"$nulls":318},"MB.R.2180.2","I"]
[{"$nulls":318},"mx sin","II",205.04286000000002,292.6483684695668,157.80367297856304,92.53020000000001,132.0641550950017,71.21245490548189,-16.153969807177788,219.4305798076614]
[{"$nulls":318},"first 5 alveoli","III",132.8481,189.608063988582,102.24163927592231]
[{"$nulls":318},"MB.R.2180.3","I",132.8481,189.608063988582,102.24163927592231]
[{"$nulls":318},"mx dext","II",178.00814999999997,254.06295382236627,136.99740576247814,80.68089999999998,115.15218697035472,62.09307829210022,-20.213781484916055,197.45904674737102]
[{"$nulls":318},"first 5 alveoli","III",139.7876,199.5124973982338,107.58236944635955]
[{"$nulls":318},"MB.R.2181.4","I",132.8481,189.608063988582,102.24163927592231]
[{"$nulls":318}," mx sin","II",178.00814999999997,254.06295382236627,136.99740576247814,80.68089999999998,115.15218697035472,62.09307829210022,-20.213781484916055,197.45904674737102]
[{"$nulls":318},"first 5 alveoli","III",139.7876,199.5124973982338,107.58236944635955]
[{"$nulls":318},"MB.R.2181.3","I",211.3709375]
[{"$nulls":318}," mx dext","II",224.10303090800002,319.8520853850317,172.47263037060077,74.06757059,105.71328204097414,57.003373283522265,-40.61823658897806,203.33489191347445]
[{"$nulls":318},"first 5 alveoli","III",146.13905967199997,208.57764753519078,112.47053607170226]
[{"$nulls":318},"MB.R.2180.14","I"]
[{"$nulls":318},"dent sin","II",227.88581999999997,325.25108857898965,175.383914444676,114.20430000000002,162.99861437364336,87.89312639291956,-6.7548694978356,257.64661026439853]
[{"$nulls":318},"first 5 alveoli","III",143.92034999999998,205.41098391365114,110.76298802289597]
[{"$nulls":318},"MB.R.2180.13","I"]
[{"$nulls":318},"dent dext","II",236.83206,338.01965091730847,182.2690580256217,104.13811400000002,148.631603936844,80.14605768891596,-19.387186049018126,248.16484767477812]
[{"$nulls":318},"first 5 alveoli","III",154.93029066666668,221.12497255508313,119.23638269011848]
[{"$nulls":318},"Brachiosaurus sp. USNM 5730","I",280,399.8146947756535,215.5905658259712,52.88250000000005,75.47679224525001,40.6990652407446,-108.74733670443229,224.9231941904269,"D'Emic et al. 2019a"]
[{"$nulls":318},"mx","II","260-227",350.686354851179,189.09927688434956,97.59349999999999,139.2907733935952,75.10923696066953,-28.36664258406053,242.76665293832525]
[{"$nulls":318}," Average for tooth postion","III","162-153",224.56980761797155,121.0939280732415]
[{"$nulls":318},"dent","I","258-242",358.5752787606673,193.35319148936168,83.715125,119.48279860842675,64.42825762798824,-45.73928866287886,229.65034489929383]
[{"$nulls":318}," Average for tooth postion","II","185-150",239.09248015224054,128.92493386137343]
[{"$nulls":318},"Dicraeosaurus hansemanni","I",{"$nulls":8},"Kosch 2010,"]
[{"$nulls":318},"MB.R.2337","II",188.5,269.03749516814844,145.0720710609437,20.333333333333332,29.020843864291844,15.648799884558022,-95.93104250371293,140.6006862525628,"Schwarz et al. 2015"]
[{"$nulls":318},"pmx dext","III",174,248.34230323213708,133.91268097933266,34.666666666666664,49.47816003092387,26.679921114656313,-62.101682357347094,138.25976350292726]
[{"$nulls":319},"IV",141,201.2429008950076,108.51544837980404,60.333333333333336,86.11102851535786,46.433324247623005,-2.670574956645543,135.21492771962642]
[{"$nulls":319},"V",74.75,106.68728256667957,57.52857990347768,76,108.47135083702537,58.49059628982346,39.41899258102273,127.5429545458261]
[{"$nulls":319},"VI",28.5,40.67675656388452,21.9339736086838]
[{"$nulls":318},"MB.R.2338","I"]
[{"$nulls":318},"pmx sin","II",185.25,264.39891766524937,142.57082845644467,19,27.117837709256335,14.622649072455857,-96.84758639794842,138.58807317966063]
[{"$nulls":319},"III",175.25,250.12637150248284,134.87469736567846,54,77.07174927893908,41.55910789013772,-38.23472831679867,156.86558548587547]
[{"$nulls":319},"IV",123.25,175.90913145609707,94.85481569369398,50.666666666666664,72.31423389135026,38.993730859882305,-7.479602315586139,118.78756706681871]
[{"$nulls":319},"V",65.25,93.12836371205138,50.21725536724974,77,109.89860545330203,59.260209398900095,38.21568116849929,130.94313368370283]
[{"$nulls":319},"VI",32,45.67214772085279,24.627619490451984]
[{"$nulls":318},"MB.R.2339","I"]
[{"$nulls":318},"pmx sin","II",189,269.7511224762868,145.45687761548203,10,12.845291546489833,6.926517981689614,-111.77777406791495,131.5495835960944]
[{"$nulls":319},"III",181.75,259.4035265082811,139.8771825746765,43.25,61.72876215396511,33.28576696756401,-57.797581779639486,152.8121109011686]
[{"$nulls":319},"IV",138.5,197.674764354316,106.5914156071125,58.25,83.13758139811485,44.82996360371338,-7.945767349088648,135.91331235091687]
[{"$nulls":319},"V",80.25,114.53718295620115,61.761452003399114,56.5,80.6398858196307,43.48314066282928,28.3573859972287,95.76564048523129]
[{"$nulls":319},"VI",23,32.826856174362945,17.701101508762363]
[{"$nulls":318},"MB.R.2336","I"]
[{"$nulls":318},"max dext","II",176,251.19681246469034,135.45190719748592,35.25,50.3107252237519,27.12886209495101,-65.43418004345254,142.87376736215546]
[{"$nulls":318},"first 5 alveoli","III",149,212.6609378252208,114.67235325241704,62.75,89.56022717135976,48.29322259455818,-14.182720589444216,152.03617035536217]
[{"$nulls":319},"IV",95,135.58918854628172,73.11324536227933,55.25,78.8558175492849,42.52112427648351,16.3798743652825,104.99706746048591]
[{"$nulls":319},"V",38.6,55.092028188278675,29.707066010357703]
[{"$nulls":318},"MB.R.2371","I"]
[{"$nulls":318},"dent sin","II",153.4,218.9408581368381,118.05865093235418,49.6,70.79182896732183,38.172810210200566,-30.090378237162042,139.05501741468447]
[{"$nulls":318},"first 5 alveoli","III",103.8,148.14902916951624,79.88584072215363,61.6,87.91888436264162,47.40816751912007,19.655695915279004,115.67135596648268]
[{"$nulls":319},"IV",42.2,60.23014480687461,32.477673203033554]
{"$rows_empty":92}
[{"$nulls":332},"ANOVA for all sampled alveoli in CA orientation"]
[{"$nulls":333},"SS","df","MS","F","F crit","p"]
[{"$nulls":332},"Between Groups",3.6730650752369351E-4,10,3.6730650752369352E-5,1.0416778711674548,2.38,0.44810127741500727]
[{"$nulls":332},"Within Groups",6.69959863420032E-4,19,3.5261045443159577E-5,null,"From F table for"]
[{"$nulls":332},"total",1.0372663709437256E-3,{"$nulls":3},"alpha = 0.05"]
[]
[]
[]
[{"$nulls":332},"ANOVA for alveoli with 3 or more samples (4, 11, 12, 18)"]
[{"$nulls":333},"SS","df","MS","F","F crit","p"]
[{"$nulls":332},"Between Groups",5.671241480514742E-5,3,1.8904138268382472E-5,0.48442913249697017,3.29,0.6981057648808959]
[{"$nulls":332},"Within Groups",5.8535305786447638E-4,15,3.9023537190965094E-5,null,"From F table for"]
[{"$nulls":332},"total",6.4206547266962375E-4,{"$nulls":3},"alpha = 0.05"]
[]
[]
[]
[{"$nulls":332},"ANOVA for the three specimens"]
[{"$nulls":333},"SS","df","MS","F","F crit","p"]
[{"$nulls":332},"Between Groups",{"v":1.4484695651094935E-4,"d":"0.0001448"},2,7.2423478255474673E-5,2.295375687465298,3.27,0.1156911809369808]
[{"$nulls":332},"Within Groups",{"v":1.1043167150300906E-3,"d":"0.0011043"},35,3.1551906143716875E-5,null,"From F table for"]
[{"$nulls":332},"total",1.24916367154104E-3,37,null,null,"alpha = 0.05"]
[]
[{"$nulls":333},"overall","small","medium","large"]
[{"$nulls":332},"Mean",{"v":0.01635366194778027,"d":"0.0163537"},{"v":0.013761538461538464,"d":"0.0137615"},{"v":0.017033781078126923,"d":"0.0170338"},{"v":0.018425,"d":"0.0184250"}]
[{"$nulls":332},"SD",5.810437187675278E-3,2.2195197242349095E-3,0.00798981180663844,0.005037643649103571]