{"text_format":"3","workbook":"xlsx","n_sheets":2,"sheets":["Growth rates","Recruit survival model"],"not_rendered":{"macros":1,"external_links":1},"read":"whole","date_system":"1900"}

{"sheet":"Growth rates","index":0,"n_rows":83,"n_cols":24,"rows_kept":83}
["Summary data by Month",{"$nulls":9},"Summary data by size class and month",{"$nulls":8},"Summary data by size class"]
["Month","sizeclass","mean","SD","N","growth (pos, 0, neg)",{"$nulls":3},"Month","sizeclass","mean","SD","N","growth",{"$nulls":4},"sizeclass","mean","SD","N","growth (pos, 0, neg)"]
[6,"1 pol",0.02,"NA",1,"positive",{"$nulls":3},6,"< 0.6",-0.025,0.00577350269189626,4,"negative",{"$f":"L3*N3","v":-0.1},{"$f":"M3*N3","v":0.02309401076758504},{"$f":"Q3*M3","v":1.3333333333333342E-4},null,{"$f":"K45","v":"1 pol"},0,0,0,{"$f":"N45","v":1}]
[6,"< 0.6",-0.025,0.00577350269189626,4,"negative",{"$nulls":3},11,"< 0.6",-0.0245454545,0.0218560278464121,2,"negative",{"$f":"L4*N4","v":-0.049090909},{"$f":"M4*N4","v":0.0437120556928242},{"$f":"Q4*M4","v":9.5537190644628229E-4},null,"1 pol",0.02,0,0,{"$f":"N46","v":1}]
[6,"< 0.6",0.114411764705882,0.116363880068818,34,"positive",{"$nulls":3},23,"< 0.6",-0.033333333,0,1,"negative",-0.033333333,0,0,null,{"$f":"K5","v":"< 0.6"},{"$f":"O5","v":"negative"},{"$f":"SUM(P3:P5)/SUM(N3:N5)","v":-0.026060605999999997},{"$f":"SQRT(SUM(R3:R5)/SUM(N3:N5))","v":{"v":0.012471139481559675,"d":"0.01247"}},{"$f":"N5+N4+N3","v":7}]
[6,"< 0.6",0,0,11,"no-growth",{"$nulls":3},6,"< 0.6",0,0,11,"no-growth",0,0,0,null,{"$f":"K8","v":"< 0.6"},{"$f":"O8","v":"no-growth"},{"$f":"SUM(P6:P8)/SUM(N6:N8)","v":0},{"$f":"SQRT(SUM(R6:R8)/SUM(N6:N8))","v":{"v":0,"d":"0.00000"}},{"$f":"SUM(O6:O8)","v":0}]
[6,"0.6-1.1",-0.051,0.0328125992061992,10,"negative",{"$nulls":3},11,"< 0.6",0,0,4,"no-growth",0,0,0,null,{"$f":"K14","v":"< 0.6"},{"$f":"O14","v":"positive"},{"$f":"SUM(P9:P14)/SUM(N9:N14)","v":0.12140857730508442},{"$f":"SQRT(SUM(R12:R14)/SUM(N12:N14))","v":{"v":0.08287699134341091,"d":"0.08288"}},{"$f":"SUM(N9:N14)","v":59}]
[6,"0.6-1.1",0.118235294117647,0.114468079290563,17,"positive",{"$nulls":3},15,"< 0.6",0,0,4,"no-growth",0,0,0,null,{"$f":"K30","v":"0.6-1.1"},{"$f":"O30","v":"negative"},{"$f":"SUM(P28:P30)/SUM(N28:N30)","v":-0.08370370377777778},{"$f":"SQRT(SUM(R28:R30)/SUM(N28:N30))","v":{"v":0.043349356012133175,"d":"0.04335"}},{"$f":"SUM(N28:N30)","v":9}]
[6,"0.6-1.1",0,0,8,"no-growth",{"$nulls":3},6,"< 0.6",0.114411764705882,0.116363880068818,34,"positive",3.889999999999988,3.956371922339812,0.4603787878787888,null,{"$f":"K37","v":"0.6-1.1"},{"$f":"O37","v":"no-growth"},{"$f":"SUM(P35:P37)/SUM(N35:N37)","v":0},{"$f":"SQRT(SUM(R35:R37)/SUM(N35:N37))","v":{"v":0,"d":"0.00000"}},{"$f":"SUM(N35:N37)","v":3}]
[6,"1.2-2",-0.0921428571428572,0.054937526956825,14,"negative",{"$nulls":3},11,"< 0.6",0.151151515133333,0.180765611284904,15,"positive",2.267272726999995,2.71148416927356,0.4901430933480752,null,{"$f":"K44","v":"0.6-1.1"},{"$f":"O44","v":"positive"},{"$f":"SUM(P38:P44)/SUM(N38:N44)","v":0.1276694214909089},{"$f":"SQRT(SUM(R38:R44)/SUM(N38:N44))","v":{"v":0.10723748943007387,"d":"0.10724"}},{"$f":"SUM(N42:N44)","v":6}]
[6,"1.2-2",0.184074074074074,0.12816033405493,27,"positive",{"$nulls":3},15,"< 0.6",0.1,0,1,"positive",0.1,0,0,null,{"$f":"K53","v":"1.2-2"},{"$f":"O53","v":"negative"},{"$f":"SUM(P47:P53)/SUM(N47:N53)","v":-0.0992479674878049},{"$f":"SQRT(SUM(R47:R53)/SUM(N47:N53))","v":{"v":0.0725357632573354,"d":"0.07254"}},{"$f":"SUM(N51:N53)","v":5}]
[6,"1.2-2",0,0,4,"no-growth",{"$nulls":3},20,"< 0.6",0.09,0.0503322295684717,4,"positive",0.36,{"$f":"M12*N12","v":0.2013289182738868},{"$f":"Q12*M12","v":0.010133333333333347},null,{"$f":"K57","v":"1.2-2"},{"$f":"O57","v":"no-growth"},{"$f":"SUM(P54:P57)/SUM(N54:N57)","v":0},{"$f":"SQRT(SUM(R51:R57)/SUM(N51:N57))","v":{"v":0.02502172968684897,"d":"0.02502"}},{"$f":"SUM(N55:N57)","v":14}]
[6,"2.1-5",-0.313333333333333,0.140237893119751,6,"negative",{"$nulls":3},23,"< 0.6",0.148611111333333,0.128041696221568,3,"positive",0.44583333399999897,0.38412508866470396,0.0491840279138889,null,{"$f":"K64","v":"1.2-2"},{"$f":"O64","v":"positive"},{"$f":"SUM(P58:P64)/SUM(N58:N64)","v":0.1738347763174603},{"$f":"SQRT(SUM(R58:R64)/SUM(N58:N64))","v":{"v":0.13952855421375307,"d":"0.13953"}},{"$f":"SUM(N62:N64)","v":12}]
[6,"2.1-5",0.223888888888889,0.199621373631326,18,"positive",{"$nulls":3},31,"< 0.6",0.05,0.0353553390593274,2,"positive",0.1,0.0707106781186548,0.002500000000000003,null,{"$f":"K71","v":"2.1-5"},{"$f":"O71","v":"negative"},{"$f":"SUM(P65:P71)/SUM(N65:N71)","v":-0.2816423853958331},{"$f":"SQRT(SUM(R65:R71)/SUM(N65:N71))","v":{"v":0.19710266055507134,"d":"0.19710"}},{"$f":"SUM(N69:N71)","v":13}]
[6,"2.1-5",0,0,2,"no-growth",{"$nulls":3},15,"> 5",-1.325,0,1,"negative",-1.325,0,0,null,{"$f":"K76","v":"2.1-5"},{"$f":"O76","v":"no-growth"},{"$f":"SUM(P72:P76)/SUM(N72:N76)","v":0},{"$f":"SQRT(SUM(R72:R76)/SUM(N72:N76))","v":{"v":0,"d":"0.00000"}},{"$f":"SUM(N74:N76)","v":10}]
[11,"1 pol",0,"NA",1,"no-growth",{"$nulls":3},20,"> 5",-0.606666666666667,0.351188458428425,3,"negative",-1.8200000000000012,1.053565375285275,0.3700000000000008,null,{"$f":"K83","v":"2.1-5"},{"$f":"O83","v":"positive"},{"$f":"SUM(P77:P83)/SUM(N77:N83)","v":0.22575246547692301},{"$f":"SQRT(SUM(R77:R83)/SUM(N77:N83))","v":{"v":0.16495446525049173,"d":"0.16495"}},{"$f":"SUM(N81:N83)","v":20}]
[11,"< 0.6",-0.0245454545,0.0218560278464121,2,"negative",{"$nulls":3},23,"> 5",-1.432352941,1.65130230690286,2,"negative",-2.864705882,3.30260461380572,5.453598617565415,null,{"$f":"K17","v":"> 5"},{"$f":"O17","v":"negative"},{"$f":"SUM(P15:P17)/SUM(N15:N17)","v":-1.0016176470000002},{"$f":"SQRT(SUM(R15:R17)/SUM(N15:N17))","v":{"v":0.9851902200053734,"d":"0.98519"}},{"$f":"SUM(N15:N17)","v":6}]
[11,"< 0.6",0.151151515133333,0.180765611284904,15,"positive",{"$nulls":3},15,"> 5",0,0,2,"no-growth",0,0,0,null,{"$f":"K19","v":"> 5"},{"$f":"O19","v":"no-growth"},{"$f":"SUM(P17:P19)/SUM(N17:N19)","v":-0.5729411764},{"$f":"SQRT(SUM(R17:R19)/SUM(N17:N19))","v":{"v":1.0443752790606846,"d":"1.04438"}},{"$f":"SUM(N17:N19)","v":5}]
[11,"< 0.6",0,0,4,"no-growth",{"$nulls":3},20,"> 5",0,0,1,"no-growth",0,0,0,null,{"$f":"K25","v":"> 5"},{"$f":"O25","v":"positive"},{"$f":"SUM(P23:P25)/SUM(N23:N25)","v":0.6858333332500001},{"$f":"SQRT(SUM(R23:R25)/SUM(N23:N25))","v":{"v":0.6800000000000003,"d":"0.68000"}},{"$f":"SUM(N23:N25)","v":4}]
[11,"0.6-1.1",-0.055909090875,0.0234205936557997,8,"negative",{"$nulls":3},11,"> 5",0.12,0,1,"positive",0.12,0,0]
[11,"0.6-1.1",0.110075757583333,0.111559653796794,24,"positive",{"$nulls":3},15,"> 5",0.375,0,1,"positive",{"$f":"L21*N21","v":0.375},{"$f":"M21*N21","v":0},{"$f":"Q21*M21","v":0}]
[11,"0.6-1.1",0,0,11,"no-growth",{"$nulls":3},20,"> 5",0.16,0,1,"positive",0.16,0,0]
[11,"1.2-2",-0.0887500000625,0.056806544251693,16,"negative",{"$nulls":3},23,"> 5",0.133333333,0,1,"positive",0.133333333,0,0]
[11,"1.2-2",0.126853146846154,0.117027353977624,13,"positive",{"$nulls":3},31,"> 5",0.45,0,1,"positive",0.45,0,0]
[11,"1.2-2",0,0,2,"no-growth",{"$nulls":3},36,"> 5",1.08,0.961665222413705,2,"positive",2.16,1.92333044482741,1.8496000000000015]
[11,"2.1-5",-0.245939393933333,0.12782157478765,15,"negative",{"$nulls":3},6,"0.6-1.1",-0.051,0.0328125992061992,10,"negative",-0.51,0.328125992061992,0.010766666666666645]
[11,"2.1-5",0.234,0.135506845816578,20,"positive",{"$nulls":3},11,"0.6-1.1",-0.055909090875,0.0234205936557997,8,"negative",-0.447272727,0.1873647492463976,4.3881936575206806E-3]
[11,"2.1-5",0,0,3,"no-growth",{"$nulls":3},15,"0.6-1.1",-0.08,0.0325960120260132,5,"negative",-0.4,0.162980060130066,0.005312499999999986]
[11,"> 5",0.12,"NA",1,"positive",{"$nulls":3},20,"0.6-1.1",-0.06,0.0282842712474619,2,"negative",-0.12,0.0565685424949238,0.0016]
[15,"< 0.6",0.1,"NA",1,"positive",{"$nulls":3},23,"0.6-1.1",-0.116666667,0.0707106781186548,2,"negative",-0.233333334,0.1414213562373096,0.010000000000000012]
[15,"< 0.6",0,0,4,"no-growth",{"$nulls":3},6,"0.6-1.1",0,0,8,"no-growth",0,0,0]
[15,"0.6-1.1",-0.08,0.0325960120260132,5,"negative",{"$nulls":3},11,"0.6-1.1",0,0,11,"no-growth",0,0,0]
[15,"0.6-1.1",0.28125,0.123110722522451,4,"positive",{"$nulls":3},15,"0.6-1.1",0,0,12,"no-growth",0,0,0]
[15,"0.6-1.1",0,0,12,"no-growth",{"$nulls":3},20,"0.6-1.1",0,0,2,"no-growth",0,0,0]
[15,"1.2-2",-0.05,0.0353553390593274,2,"negative",{"$nulls":3},23,"0.6-1.1",0,0,1,"no-growth",0,0,0]
[15,"1.2-2",0.154166666666667,0.0967169409496944,6,"positive",{"$nulls":3},31,"0.6-1.1",0,0,1,"no-growth",0,0,0]
[15,"1.2-2",0,0,10,"no-growth",{"$nulls":3},36,"0.6-1.1",0,0,1,"no-growth",0,0,0]
[15,"2.1-5",-0.395833333333333,0.227715099777478,6,"negative",{"$nulls":3},6,"0.6-1.1",0.118235294117647,0.114468079290563,17,"positive",2.009999999999999,1.945957347939571,0.22275000000000053]
[15,"2.1-5",0.3625,0.171391365010026,4,"positive",{"$nulls":3},11,"0.6-1.1",0.110075757583333,0.111559653796794,24,"positive",2.641818181999992,2.677431691123056,0.29869335252625284]
[15,"2.1-5",0,0,8,"no-growth",{"$nulls":3},15,"0.6-1.1",0.28125,0.123110722522451,4,"positive",1.125,0.492442890089804,0.0606249999999997]
[15,"> 5",-1.325,"NA",1,"negative",{"$nulls":3},20,"0.6-1.1",0.15,0.0886942313043338,4,"positive",0.6,0.3547769252173352,0.03146666666666667]
[15,"> 5",0.375,"NA",1,"positive",{"$nulls":3},23,"0.6-1.1",0.1,0.066666667,3,"positive",0.30000000000000004,0.20000000099999998,0.013333333466666666]
[15,"> 5",0,0,2,"no-growth",{"$nulls":3},31,"0.6-1.1",0.0625,0.0530330085889911,2,"positive",0.125,0.1060660171779822,0.005625000000000008]
[20,"< 0.6",0.09,0.0503322295684717,4,"positive",{"$nulls":3},36,"0.6-1.1",0.22,0,1,"positive",0.22,0,0]
[20,"0.6-1.1",-0.06,0.0282842712474619,2,"negative",{"$nulls":3},11,"1 pol",0,0,1,"no-growth",0,0,0]
[20,"0.6-1.1",0.15,0.0886942313043338,4,"positive",{"$nulls":3},6,"1 pol",0.02,0,1,"positive",0.02,0,0]
[20,"0.6-1.1",0,0,2,"no-growth",{"$nulls":3},6,"1.2-2",-0.0921428571428572,0.054937526956825,14,"negative",-1.290000000000001,0.76912537739555,0.04225384615384623]
[20,"1.2-2",-0.145,0.161967074843418,4,"negative",{"$nulls":3},11,"1.2-2",-0.0887500000625,0.056806544251693,16,"negative",-1.420000001,0.908904708027088,0.05163173551711288]
[20,"1.2-2",0.156,0.140996453856117,5,"positive",{"$nulls":3},15,"1.2-2",-0.05,0.0353553390593274,2,"negative",-0.1,0.0707106781186548,0.002500000000000003]
[20,"1.2-2",0,0,2,"no-growth",{"$nulls":3},20,"1.2-2",-0.145,0.161967074843418,4,"negative",-0.58,0.647868299373672,0.10493333333333346]
[20,"2.1-5",-0.285,0.232194499750286,8,"negative",{"$nulls":3},23,"1.2-2",-0.233333333,0,2,"negative",-0.466666666,0,0]
[20,"2.1-5",0.233333333333333,0.0986576572463249,3,"positive",{"$nulls":3},31,"1.2-2",-0.0125,0,1,"negative",-0.0125,0,0]
[20,"2.1-5",0,"NA",1,"no-growth",{"$nulls":3},36,"1.2-2",-0.1,0.0848528137423857,2,"negative",-0.2,0.1697056274847714,0.014399999999999996]
[20,"> 5",-0.606666666666667,0.351188458428425,3,"negative",{"$nulls":3},6,"1.2-2",0,0,4,"no-growth",0,0,0]
[20,"> 5",0.16,"NA",1,"positive",{"$nulls":3},11,"1.2-2",0,0,2,"no-growth",0,0,0]
[20,"> 5",0,"NA",1,"no-growth",{"$nulls":3},15,"1.2-2",0,0,10,"no-growth",0,0,0]
[23,"< 0.6",-0.033333333,"NA",1,"negative",{"$nulls":3},20,"1.2-2",0,0,2,"no-growth",0,0,0]
[23,"< 0.6",0.148611111333333,0.128041696221568,3,"positive",{"$nulls":3},6,"1.2-2",0.184074074074074,0.12816033405493,27,"positive",4.969999999999998,3.46032901948311,0.4434769230769237]
[23,"0.6-1.1",-0.116666667,0.0707106781186548,2,"negative",{"$nulls":3},11,"1.2-2",0.126853146846154,0.117027353977624,13,"positive",1.649090909000002,1.5213556017091119,0.17804022052705337]
[23,"0.6-1.1",0.1,0.066666667,3,"positive",{"$nulls":3},15,"1.2-2",0.154166666666667,0.0967169409496944,6,"positive",0.925000000000002,0.5803016456981663,0.05612500000000003]
[23,"0.6-1.1",0,"NA",1,"no-growth",{"$nulls":3},20,"1.2-2",0.156,0.140996453856117,5,"positive",0.78,0.704982269280585,0.09940000000000067]
[23,"1.2-2",-0.233333333,0,2,"negative",{"$nulls":3},23,"1.2-2",0.271428571285714,0.194772964968292,7,"positive",1.899999998999998,1.363410754778044,0.2655555551777765]
[23,"1.2-2",0.271428571285714,0.194772964968292,7,"positive",{"$nulls":3},31,"1.2-2",0.0625,0.05,3,"positive",0.1875,0.15000000000000002,7.5000000000000015E-3]
[23,"2.1-5",-0.44166666675,0.404030618309407,4,"negative",{"$nulls":3},36,"1.2-2",0.27,0.29698484809835,2,"positive",0.54,0.5939696961967,0.17640000000000006]
[23,"2.1-5",0.204166666625,0.140788595397666,8,"positive",{"$nulls":3},6,"2.1-5",-0.313333333333333,0.140237893119751,6,"negative",-1.8799999999999981,0.8414273587185059,0.11800000000000022]
[23,"2.1-5",0,"NA",1,"no-growth",{"$nulls":3},11,"2.1-5",-0.245939393933333,0.12782157478765,15,"negative",-3.689090908999995,1.91732362181475,0.245075324717922]
[23,"> 5",-1.432352941,1.65130230690286,2,"negative",{"$nulls":3},15,"2.1-5",-0.395833333333333,0.227715099777478,6,"negative",-2.374999999999998,1.3662905986648681,0.3111250000000006]
[23,"> 5",0.133333333,"NA",1,"positive",{"$nulls":3},20,"2.1-5",-0.285,0.232194499750286,8,"negative",-2.28,1.857555998002288,0.43131428571428454]
[31,"< 0.6",0.05,0.0353553390593274,2,"positive",{"$nulls":3},23,"2.1-5",-0.44166666675,0.404030618309407,4,"negative",-1.766666667,1.616122473237628,0.652962962125927]
[31,"0.6-1.1",0.0625,0.0530330085889911,2,"positive",{"$nulls":3},31,"2.1-5",-0.1875,0.129421791055448,6,"negative",-1.125,0.7765307463326879,0.10050000000000021]
[31,"0.6-1.1",0,"NA",1,"no-growth",{"$nulls":3},36,"2.1-5",-0.134358974333333,0.0439562272436014,3,"negative",-0.403076922999999,0.1318686817308042,0.005796449740473378]
[31,"1.2-2",-0.0125,"NA",1,"negative",{"$nulls":3},6,"2.1-5",0,0,2,"no-growth",0,0,0]
[31,"1.2-2",0.0625,0.05,3,"positive",{"$nulls":3},11,"2.1-5",0,0,3,"no-growth",0,0,0]
[31,"2.1-5",-0.1875,0.129421791055448,6,"negative",{"$nulls":3},15,"2.1-5",0,0,8,"no-growth",0,0,0]
[31,"2.1-5",0.189583333333333,0.231221845132908,6,"positive",{"$nulls":3},20,"2.1-5",0,0,1,"no-growth",0,0,0]
[31,"> 5",0.45,"NA",1,"positive",{"$nulls":3},23,"2.1-5",0,0,1,"no-growth",0,0,0]
[36,"0.6-1.1",0.22,"NA",1,"positive",{"$nulls":3},6,"2.1-5",0.223888888888889,0.199621373631326,18,"positive",4.030000000000002,3.593184725363868,0.7172764705882342]
[36,"0.6-1.1",0,"NA",1,"no-growth",{"$nulls":3},11,"2.1-5",0.234,0.135506845816578,20,"positive",4.680000000000001,2.71013691633156,0.3672421052631568]
[36,"1.2-2",-0.1,0.0848528137423857,2,"negative",{"$nulls":3},15,"2.1-5",0.3625,0.171391365010026,4,"positive",1.45,0.685565460040104,0.11749999999999985]
[36,"1.2-2",0.27,0.29698484809835,2,"positive",{"$nulls":3},20,"2.1-5",0.233333333333333,0.0986576572463249,3,"positive",0.6999999999999991,0.2959729717389747,0.029199999999999973]
[36,"2.1-5",-0.134358974333333,0.0439562272436014,3,"negative",{"$nulls":3},23,"2.1-5",0.204166666625,0.140788595397666,8,"positive",1.633333333,1.126308763181328,0.1585714287523816]
[36,"2.1-5",0.173846153833333,0.0983845853366166,6,"positive",{"$nulls":3},31,"2.1-5",0.189583333333333,0.231221845132908,6,"positive",1.137499999999998,1.387331070797448,0.32078124999999896]
[36,"> 5",1.08,0.961665222413705,2,"positive",{"$nulls":3},36,"2.1-5",0.173846153833333,0.0983845853366166,6,"positive",1.0430769229999979,0.5903075120196997,0.05807715979114798]

{"sheet":"Recruit survival model","index":1,"n_rows":109,"n_cols":71,"rows_kept":109}
[{"$nulls":15},"Survival (per 6 months)",null,"initial size class","final size class","# of 0.1 cm intervals","bottom of source interval","destination interval",null,"Mean Growth","Std Dev","N","change x survival","proportion changing","proportion in growth class","P[change class]"]
[{"$nulls":14},"< 0.6",{"$f":"[1]overall!$Z$18","v":0.586},{"$nulls":14},0,0.1,0.2,0.3,0.4,0.5,0.6,0.7,0.8,0.9,1,1.1,1.2,1.3,1.4,1.5,1.6,1.7,1.8,1.9,2,2.1,2.2,2.3,2.4,2.5,2.6,2.7,2.8,2.9,3,3.1,3.2,3.3,3.4,3.5,3.6,3.7,3.8,3.9,4]
[{"$nulls":7},1,2,3,4,5,null,null,"0.6 - 1",{"$f":"[1]overall!$Z$19","v":0.622}]
[{"$nulls":6},"",{"$f":"O2","v":"< 0.6"},{"$f":"O3","v":"0.6 - 1"},{"$f":"O4","v":"1.1 - 2"},{"$f":"O5","v":"2.1 - 5"},">5",null,{"$f":"EXP(X4)","v":1},"1.1 - 2",{"$f":"[1]overall!$Z$20","v":0.676},null,1,1,3,0.3,0.5,"< 0.6",null,null,{"$f":"GETPIVOTDATA(\"growth_rate\",'[1]Growth rates'!$B$63,\"Previous Size Class\",1,\"event2\",\"shrink\")","v":5},null,null,{"$f":"Z4/(Z4+Z5+Z6)","v":{"v":0.06578947368421052,"d":"0.066"}}]
[{"$nulls":6},{"$f":"O2","v":"< 0.6"},{"$f":"AA4+AA5","v":{"v":0.41651192847212537,"d":"0.417"}},{"$f":"AA10","v":{"v":0.07202395397950517,"d":"0.072"}},{"$f":"AA15","v":{"v":0.02406588113767645,"d":"0.024"}},{"$f":"AA20","v":{"v":0.03131411490260909,"d":"0.031"}},0,null,{"$f":"EXP(X5)","v":1},"2.1 - 5",{"$f":"[1]overall!$Z$21","v":0.79},null,1,1,3,0.3,0.5,"< 0.6",0,0,{"$f":"GETPIVOTDATA(\"growth_rate\",'[1]Growth rates'!$B$63,\"Previous Size Class\",1,\"event2\",\"no-growth\")","v":16},{"$f":"AB5*P$2","v":{"v":0.41651192847212537,"d":"0.417"}},{"$f":"AC4+AC5+AC6*(1-AD6-AD7-AD8-AD9)","v":{"v":0.710771208996801,"d":"0.711"}},{"$f":"Z5/(Z5+Z4+Z6)","v":{"v":0.21052631578947367,"d":"0.211"}},{"v":1,"d":"1.000"}]
[{"$nulls":6},{"$f":"O3","v":"0.6 - 1"},{"$f":"AA6","v":{"v":0.09498464966526543,"d":"0.095"}},{"$f":"AA11","v":{"v":0.3739346374550573,"d":"0.374"}},{"$f":"AA16","v":{"v":0.0988979782963998,"d":"0.099"}},{"$f":"AA21","v":{"v":0.023574903716112598,"d":"0.024"}},0,null,null,">5",1,null,1,2,3,0.3,0.6,"< 0.6",{"$f":"'[1]distribution-fitting'!$BA$71","v":-2.46678355204305},{"$f":"'[1]distribution-fitting'!$BA$72","v":0.8778735800814051},{"$f":"GETPIVOTDATA(\"growth_rate\",'[1]Growth rates'!$B$63,\"Previous Size Class\",1,\"event2\",\"growth\")","v":55},{"$f":"AB6*P$2","v":{"v":0.09498464966526543,"d":"0.095"}},{"$f":"AC6*AD6","v":{"v":0.16208984584516287,"d":"0.162"}},{"$f":"Z6/(Z6+Z4+Z5)","v":{"v":0.7236842105263158,"d":"0.724"}},{"$f":"SUM(AE6:AG6)/T6-AD7-AD8-AD9","v":{"v":0.2239786960769523,"d":"0.224"}},{"$f":"(1-_xlfn.NORM.DIST(LN($V6),LN($U6+AE$2+EXP($X6)),$Y6,TRUE))","v":0.30648716218983374},{"$f":"(1-_xlfn.NORM.DIST(LN($V6),LN($U6+AF$2+EXP($X6)),$Y6,TRUE))","v":0.40411228797469323},0.48838535617600665]
[{"$nulls":6},{"$f":"O4","v":"1.1 - 2"},{"$f":"AA7","v":{"v":0.053754168457457174,"d":"0.054"}},{"$f":"AA12","v":{"v":0.08406874871217934,"d":"0.084"}},{"$f":"AA17","v":{"v":0.355797074085173,"d":"0.356"}},{"$f":"AA22","v":{"v":0.05908556520833759,"d":"0.059"}},0,{"$nulls":5},1,3,3,0.3,1.1,null,{"$f":"X6","v":-2.46678355204305},{"$f":"Y6","v":0.8778735800814051},{"$f":"Z6","v":55},{"$f":"AB7*P$2","v":{"v":0.053754168457457174,"d":"0.054"}},{"$f":"AC7*AD7","v":{"v":0.0917306628966846,"d":"0.092"}},{"$f":"AC6","v":{"v":0.7236842105263158,"d":"0.724"}},{"$f":"SUM(AE7:AJ7)/T7-AD8-AD9","v":{"v":0.12675509782087327,"d":"0.127"}},{"$f":"(1-_xlfn.NORM.DIST(LN($V7),LN($U7+AE$2+EXP($X7)),$Y7,TRUE))","v":0.11579141559225059},0.17536450543623716,0.23589279708118904]
[{"$nulls":6},{"$f":"O5","v":"2.1 - 5"},{"$f":"AA8","v":{"v":0.018921337569961685,"d":"0.019"}},{"$f":"AA13","v":{"v":0.07613357864559543,"d":"0.076"}},{"$f":"AA18","v":{"v":0.14629233232703678,"d":"0.146"}},{"$f":"AA23","v":{"v":0.468552850667613,"d":"0.469"}},0,{"$nulls":3},"Growth rates",null,1,4,3,0.3,2.1,null,{"$f":"X6","v":-2.46678355204305},{"$f":"Y6","v":0.8778735800814051},{"$f":"Z7","v":55},{"$f":"AB8*P$2","v":{"v":0.018921337569961685,"d":"0.019"}},{"$f":"AC8*AD8","v":{"v":0.03228897196239196,"d":"0.032"}},{"$f":"AC6","v":{"v":0.7236842105263158,"d":"0.724"}},{"$f":"SUM(AE8:AJ8)/T8-AD9","v":{"v":0.0446174885298507,"d":"0.045"}},{"$f":"(1-_xlfn.NORM.DIST(LN($V8),LN($U8+AE$2+EXP($X8)),$Y8,TRUE))","v":0.026625802229778506},0.04748346357100375,0.0726741588462747]
[{"$nulls":6},{"$f":"O6","v":">5"},{"$f":"AA9","v":{"v":1.8279158351902694E-3,"d":"0.002"}},{"$f":"AA14","v":{"v":0.015839081207662822,"d":"0.016"}},{"$f":"AA19","v":{"v":0.05094673415371398,"d":"0.051"}},{"$f":"AA24","v":{"v":0.2074725655053278,"d":"0.207"}},1,{"$nulls":5},1,5,3,0.3,5,null,{"$f":"X6","v":-2.46678355204305},{"$f":"Y6","v":0.8778735800814051},55,{"$f":"AB9*P$2","v":{"v":1.8279158351902694E-3,"d":"0.002"}},{"$f":"AC9*AD9","v":{"v":3.1193102989595044E-3,"d":"0.003"}},{"$f":"AC6","v":{"v":0.7236842105263158,"d":"0.724"}},{"$f":"SUM(AE9:AG9)/T9","v":{"v":0.004310319685834951,"d":"0.004"}},{"$f":"(1-_xlfn.NORM.DIST(LN($V9),LN($U9+AE$2+EXP($X9)),$Y9,TRUE))","v":1.7442194406752654E-3},3.9309526573259035E-3,7.255786959503685E-3]
[{"$nulls":15},{"$f":"EXP(X9)","v":{"v":0.0848573598058863,"d":"0.08"}},null,2,1,6,0.6,0.5,"0.6-1.1",{"$f":"'[1]distribution-fitting'!$BF$96","v":-1.090277668597029},{"$f":"'[1]distribution-fitting'!$BF$97","v":0.5140552080127329},{"$f":"GETPIVOTDATA(\"growth_rate\",'[1]Growth rates'!$B$63,\"Previous Size Class\",2,\"event2\",\"shrink\")","v":27},{"$f":"AB10*P$3","v":{"v":0.07202395397950517,"d":"0.072"}},{"$f":"AC10*AD10","v":{"v":0.11579413823071572,"d":"0.116"}},{"$f":"Z10/(Z10+Z11+Z12)","v":{"v":0.22131147540983606,"d":"0.221"}},{"$f":"SUM(AE10:AJ10)/T10","v":{"v":0.5232179579313821,"d":"0.523"}},{"$f":"(1-_xlfn.NORM.DIST(LN($U10+AE$2-$V10),$X10,$Y10,TRUE))","v":0.9908211057135369},{"$f":"(1-_xlfn.NORM.DIST(LN($U10+AF$2-$V10),$X10,$Y10,TRUE))","v":0.8437358037313757},0.5875211366493555,0.36750842129760997,0.21989602113879614,0.12982525905761932]
[{"$nulls":7},{"$f":"SUM(H5:H9)","v":{"v":0.586,"d":"0.59"}},{"$f":"SUM(I5:I9)","v":{"v":0.6220000000000001,"d":"0.62"}},{"$f":"SUM(J5:J9)","v":{"v":0.676,"d":"0.68"}},{"$f":"SUM(K5:K9)","v":0.79},{"$f":"SUM(L5:L9)","v":{"v":1,"d":"1.00"}},{"$nulls":3},{"$f":"-EXP(X10)","v":{"v":-0.33612314990454883,"d":"-0.34"}},null,2,2,6,0.6,1.1,"0.6-1.1",null,null,{"$f":"GETPIVOTDATA(\"growth_rate\",'[1]Growth rates'!$B$63,\"Previous Size Class\",2,\"event2\",\"no-growth\")","v":35},{"$f":"AB11*P$3","v":{"v":0.3739346374550573,"d":"0.374"}},{"$f":"AC11+AC10*(1-AD10)+AC12*(1-AD12-AD13-AD14)","v":{"v":0.6011810891560406,"d":"0.601"}},{"$f":"Z11/(Z11+Z10+Z14)","v":{"v":0.28688524590163933,"d":"0.287"}},{"v":1,"d":"1.000"}]
[{"$nulls":15},{"v":0,"d":"0.00"},null,2,3,6,0.6,1.2,"0.6-1.1",{"$f":"'[1]distribution-fitting'!$AZ$96","v":-0.5909312185097244},{"$f":"'[1]distribution-fitting'!$AZ$97","v":0.7753118061181313},{"$f":"GETPIVOTDATA(\"growth_rate\",'[1]Growth rates'!$B$63,\"Previous Size Class\",2,\"event2\",\"growth\")","v":60},{"$f":"AB12*P$3","v":{"v":0.08406874871217934,"d":"0.084"}},{"$f":"AC12*AD12","v":{"v":0.1351587599874266,"d":"0.135"}},{"$f":"Z12/(Z12+Z10+Z11)","v":{"v":0.4918032786885246,"d":"0.492"}},{"$f":"SUM(AE12:AJ12)/T12-AD13-AD14","v":{"v":0.2748228119744341,"d":"0.275"}},{"$f":"(1-_xlfn.NORM.DIST(LN($V12),LN($U12+AE$2+EXP($X12)),$Y12,TRUE))","v":0.47981179122756124},0.5225597435302294,0.561807406513938,0.5977280656537453,0.6305352988285664,0.6604599201275325]
[{"$nulls":15},{"$f":"EXP(X12)","v":{"v":0.5538113251793463,"d":"0.55"}},null,2,4,6,0.6,2.1,"0.6-1.1",{"$f":"X12","v":-0.5909312185097244},{"$f":"Y12","v":0.7753118061181313},{"$f":"Z12","v":60},{"$f":"AB13*P$3","v":{"v":0.07613357864559543,"d":"0.076"}},{"$f":"AC13*AD13","v":{"v":0.12240125184179329,"d":"0.122"}},{"$f":"AC12","v":{"v":0.4918032786885246,"d":"0.492"}},{"$f":"SUM(AE13:AJ13)/T13-AD14","v":{"v":0.24888254541164637,"d":"0.249"}},0.21993272580949452,0.2529563581349885,0.2856148960416225,0.3176345595671686,0.3488144975269172,0.37901231695477766]
[{"$nulls":15},{"$f":"-EXP(X16)","v":{"v":-0.4635799068240348,"d":"-0.46"}},null,2,5,6,0.6,5,"0.6-1.1",{"$f":"X12","v":-0.5909312185097244},{"$f":"Y12","v":0.7753118061181313},{"$f":"Z12","v":60},{"$f":"AB14*P$3","v":{"v":0.015839081207662822,"d":"0.016"}},{"$f":"AC14*AD14","v":{"v":0.025464760784023828,"d":"0.025"}},{"$f":"AC12","v":{"v":0.4918032786885246,"d":"0.492"}},{"$f":"SUM(AE14:AJ14)/T14","v":{"v":0.051778346927515116,"d":"0.052"}},0.029290430594222427,0.0372020169388384,0.04598014042762899,0.05555440653142263,0.06585043447168215,0.07679265260129609]
[{"$nulls":15},{"v":0,"d":"0.00"},null,3,1,9,1.2,0.5,"1.2-2",{"$f":"'[1]distribution-fitting'!$BF$134","v":-0.7687765100778285},{"$f":"'[1]distribution-fitting'!$BF$135","v":0.6038156723807502},{"$f":"GETPIVOTDATA(\"growth_rate\",'[1]Growth rates'!$B$63,\"Previous Size Class\",3,\"event2\",\"shrink\")","v":40},{"$f":"AB15*P$4","v":{"v":0.02406588113767645,"d":"0.024"}},{"$f":"AC15*AD15","v":{"v":0.03560041588413676,"d":"0.036"}},{"$f":"Z15/(Z15+Z18+Z17)","v":{"v":0.35398230088495575,"d":"0.354"}},{"$f":"SUM(AE15:AM15)/T15","v":{"v":0.10057117487268634,"d":"0.101"}},{"$f":"(1-_xlfn.NORM.DIST(LN($U15+AE$2-$V15),$X15,$Y15,TRUE))","v":0.24746279814134953},0.1830927382569454,0.13594812896689956,0.10147401149553104,0.07620882755232594,0.05761133098457083,0.04384528075138272,0.03359203758231877,0.02590542012285324]
[{"$nulls":15},{"$f":"EXP(X18)","v":{"v":0.8667330816401887,"d":"0.87"}},null,3,2,9,1.2,1.1,"1.2-2",{"$f":"X15","v":-0.7687765100778285},{"$f":"Y15","v":0.6038156723807502},{"$f":"Z15","v":40},{"$f":"AB16*P$4","v":{"v":0.0988979782963998,"d":"0.099"}},{"$f":"AC16*AD16","v":{"v":0.14629878446212988,"d":"0.146"}},{"$f":"AC15","v":{"v":0.35398230088495575,"d":"0.354"}},{"$f":"SUM(AE16:AM16)/T16-AD15","v":{"v":0.41329406610551694,"d":"0.413"}},0.9944604406504041,0.9180764041610397,0.7644663656498851,0.5965020748256361,0.4501618886889669,0.33461632946270314,0.24746279814134975,0.1830927382569455,0.13594812896689956]
[null,null,{"$f":"T48","v":{"v":5.086078672911696,"d":"5.086"}},"proportion at size escape after 5 y",{"$nulls":6},{"$f":"H6*I7*J8*K9","v":2.4236519327882825E-4},{"$nulls":4},{"$f":"-EXP(X22)","v":{"v":-1.3219079914920473,"d":"-1.32"}},null,3,3,9,1.2,2,"1.2-2",null,null,{"$f":"GETPIVOTDATA(\"growth_rate\",'[1]Growth rates'!$B$63,\"Previous Size Class\",3,\"event2\",\"no-growth\")","v":17},{"$f":"AB17*P$4","v":{"v":0.355797074085173,"d":"0.356"}},{"$f":"AC17+AC16*(1-AD16-AD15)+AC18*(1-AD18-AD19)","v":{"v":0.5263270326703743,"d":"0.526"}},{"$f":"Z17/(Z17+Z18+Z16)","v":{"v":0.1504424778761062,"d":"0.150"}},{"v":1,"d":"1.000"}]
[null,null,{"$f":"AF61/AF60","v":{"v":2.9510260465065525,"d":"2.951"}},"=average age to grow to 5 cm",{"$nulls":6},{"$f":"B6*B9*B12*B12*B15*B15*B15","v":0},{"$nulls":4},{"v":0,"d":"0.00"},null,3,4,9,1.2,2.1,"1.2-2",{"$f":"'[1]distribution-fitting'!$AZ$134","v":-0.14302421391504958},{"$f":"'[1]distribution-fitting'!$AZ$135","v":0.6848619632992061},{"$f":"GETPIVOTDATA(\"growth_rate\",'[1]Growth rates'!$B$63,\"Previous Size Class\",3,\"event2\",\"growth\")","v":56},{"$f":"AB18*P$4","v":{"v":0.14629233232703678,"d":"0.146"}},{"$f":"AC18*AD18","v":{"v":0.2164087756317112,"d":"0.216"}},{"$f":"Z18/(Z18+Z16+Z17)","v":{"v":0.49557522123893805,"d":"0.496"}},{"$f":"SUM(AE18:AM18)/T18-AD19","v":{"v":0.43668199368541727,"d":"0.437"}},{"$f":"(1-_xlfn.NORM.DIST(LN($V18),LN($U18+AE$2+EXP($X18)),$Y18,TRUE))","v":0.4906991254508053},{"$f":"(1-_xlfn.NORM.DIST(LN($V18),LN($U18+AF$2+EXP($X18)),$Y18,TRUE))","v":0.5182165920331948},0.544413321841377,0.5693009111106803,0.5929039801626352,0.615256790145769,0.6364005276532221,0.6563811409919997,0.6752476288616776]
[{"$nulls":15},{"$f":"EXP(X24)","v":{"v":1.1377290299253915,"d":"1.14"}},null,3,5,9,1.2,5,"1.2-2",{"$f":"X18","v":-0.14302421391504958},{"$f":"Y18","v":0.6848619632992061},{"$f":"Z18","v":56},{"$f":"AB19*P$4","v":{"v":0.05094673415371398,"d":"0.051"}},{"$f":"AC19*AD19","v":{"v":0.0753649913516479,"d":"0.075"}},{"$f":"AC18","v":{"v":0.49557522123893805,"d":"0.496"}},{"$f":"SUM(AE19:AM19)/T19","v":{"v":0.15207578612028952,"d":"0.152"}},{"$f":"(1-_xlfn.NORM.DIST(LN($V19),LN($U19+AE$2+EXP($X19)),$Y19,TRUE))","v":0.0985261299040685},0.1110427571293513,0.1240204838816561,0.13739791022308556,0.15111619574840274,0.165119474135903,0.1793551224886205,0.19377391509857333,0.20833008647294438]
[{"$nulls":17},4,1,40,2.1,0.5,"2.1-5",{"$f":"'[1]distribution-fitting'!$BF$176","v":{"v":0.2790761410437883,"d":"0.28"}},{"$f":"'[1]distribution-fitting'!$BF$177","v":0.6411474796864237},{"$f":"GETPIVOTDATA(\"growth_rate\",'[1]Growth rates'!$B$63,\"Previous Size Class\",4,\"event2\",\"shrink\")","v":47},{"$f":"AB20*P$5","v":{"v":0.03131411490260909,"d":"0.031"}},{"$f":"AC20*AD20","v":{"v":0.03963812012988492,"d":"0.040"}},{"$f":"Z20/(Z20+Z24+Z23)","v":{"v":0.3790322580645161,"d":"0.379"}},{"$f":"SUM(AE20:BS20)/T20","v":{"v":0.10457716800224959,"d":"0.105"}},{"$f":"(1-_xlfn.NORM.DIST(LN($U20+AE$2-$V20),$X20,$Y20,TRUE))","v":0.3829316163902654},0.3474010242199881,0.31508169125164065,0.2857561244681861,0.25919535348869316,0.23516990685419803,0.21345694840620832,0.19384468962496526,0.1761348969965154,0.1601440887734653,0.14570384829344762,0.13266055809620503,0.1208747695102379,0.11022035757357684,0.10058356455132822,0.09186200199840278,{"$f":"(1-_xlfn.NORM.DIST(LN($U20+AU$2-$V20),$X20,$Y20,TRUE))","v":0.08396365764834846},0.07680593671453384,0.07031475551573751,0.0644236972649822,0.05907323435939715,0.054210017836345936,0.04978623228069934,0.04575901299419216,0.04208992139344914,0.03874447419054572,0.03569172178786417,0.03290387138757955,0.03035595050499862,0.02802550683508931,0.025892340719005036,0.023938266769259142,0.02214690152318388,0.020503474294654156,0.018994658677817466,0.017608422420473335,0.016333893627313745,0.015161241474240139,0.014081569814938022,0.013086822240868434,0.012169697317140127]
[{"$nulls":17},4,2,40,2.1,1.1,"2.1-5",{"$f":"X20","v":0.2790761410437883},{"$f":"Y20","v":0.6411474796864237},{"$f":"Z20","v":47},{"$f":"AB21*P$5","v":{"v":0.023574903716112598,"d":"0.024"}},{"$f":"AC21*AD21","v":{"v":0.029841650273560248,"d":"0.030"}},{"$f":"AC20","v":{"v":0.3790322580645161,"d":"0.379"}},{"$f":"SUM(AE21:BS21)/T21-AD20","v":{"v":0.07873116242386108,"d":"0.079"}},{"$f":"(1-_xlfn.NORM.DIST(LN($U21+AE$2-$V21),$X21,$Y21,TRUE))","v":0.6683189657349078},0.6127985121634899,0.5599760399551135,0.510397481840875,0.4643339746118491,0.42186316954318226,0.3829316163902654,0.3474010242199882,0.31508169125164065,0.2857561244681861,0.25919535348869316,0.23516990685419803,0.21345694840620832,0.19384468962496515,0.17613489699651552,0.1601440887734653,0.14570384829344762,0.13266055809620503,0.12087476951023779,0.11022035757357684,0.10058356455132833,0.09186200199840278,0.08396365764834846,0.07680593671453384,0.07031475551573763,0.0644236972649822,0.05907323435939715,0.054210017836345936,0.04978623228069934,0.04575901299419216,0.04208992139344914,0.03874447419054572,0.03569172178786417,0.03290387138757955,0.03035595050499862,0.02802550683508931,0.025892340719005036,0.023938266769259142,0.02214690152318388,0.020503474294654156,0.018994658677817466]
[{"$nulls":7},"Empiriical Matrix",{"$nulls":9},4,3,40,2.1,2,"2.1-5",{"$f":"X20","v":0.2790761410437883},{"$f":"Y20","v":0.6411474796864237},{"$f":"Z20","v":47},{"$f":"AB22*P$5","v":{"v":0.05908556520833759,"d":"0.059"}},{"$f":"AC22*AD22","v":{"v":0.07479185469409821,"d":"0.075"}},{"$f":"AC20","v":{"v":0.3790322580645161,"d":"0.379"}},{"$f":"SUM(AE22:BS22)/T22-AD21-AD20","v":{"v":0.19732319110783358,"d":"0.197"}},{"$f":"(1-_xlfn.NORM.DIST(LN($U22+AE$2-$V22),$X22,$Y22,TRUE))","v":0.9999717085607268},0.9983879492868049,0.9896418882373887,0.9688684833097977,0.9352883743183195,0.891027808774965,0.8392995619296659,0.7832785801506279,0.7256159822445043,0.6683189657349078,0.6127985121634899,0.5599760399551135,0.510397481840875,0.464333974611849,0.42186316954318226,0.3829316163902654,0.3474010242199881,0.31508169125164076,0.285756124468186,0.25919535348869316,0.23516990685419803,0.21345694840620832,0.19384468962496504,0.1761348969965154,0.1601440887734653,0.14570384829344762,0.13266055809620503,0.12087476951023768,0.11022035757357684,0.10058356455132822,0.09186200199840289,0.08396365764834846,0.07680593671453373,0.07031475551573751,0.0644236972649822,0.05907323435939715,0.054210017836345936,0.04978623228069934,0.04575901299419216,0.04208992139344914,0.03874447419054572]
[{"$nulls":7},{"v":0.19801980198019803,"d":"0.20"},{"v":0.05434782608695652,"d":"0.05"},{"v":0.011494252873563218,"d":"0.01"},0.019230769230769232,{"v":0,"d":"0.000"},{"$nulls":5},4,4,40,2.1,5,"2.1-5",null,null,{"$f":"GETPIVOTDATA(\"growth_rate\",'[1]Growth rates'!$B$63,\"Previous Size Class\",4,\"event2\",\"no-growth\")","v":15},{"$f":"AB23*P$5","v":{"v":0.468552850667613,"d":"0.469"}},{"$f":"AC23+AC22*(1-AD22-AD21-AD20)+AC24*(1-AD24)","v":{"v":0.5931048742628012,"d":"0.593"}},{"$f":"Z23/(Z23+Z24+Z22)","v":{"v":0.12096774193548387,"d":"0.121"}},{"v":1,"d":"1.000"}]
[{"$nulls":7},{"v":0.2079207920792079,"d":"0.21"},{"v":0.2391304347826087,"d":"0.24"},{"v":0.12643678160919541,"d":"0.13"},0.07692307692307693,{"v":0,"d":"0.000"},{"$nulls":5},4,5,40,2.1,5,"2.1-5",{"$f":"'[1]distribution-fitting'!$AZ$176","v":0.12903419656514165},{"$f":"'[1]distribution-fitting'!$AZ$177","v":0.6350261035196343},{"$f":"GETPIVOTDATA(\"growth_rate\",'[1]Growth rates'!$B$63,\"Previous Size Class\",4,\"event2\",\"growth\")","v":62},{"$f":"AB24*P$5","v":{"v":0.2074725655053278,"d":"0.207"}},{"$f":"AC24*AD24","v":{"v":0.26262350063965545,"d":"0.263"}},{"$f":"Z24/(Z24+Z20+Z23)","v":{"v":0.5,"d":"0.500"}},{"$f":"SUM(AE24:BS24)/T24","v":{"v":0.5252470012793109,"d":"0.525"}},{"$f":"(1-_xlfn.NORM.DIST(LN($V24),LN($U24+AE$2+EXP($X24)),$Y24,TRUE))","v":0.24688423292213701},{"$f":"(1-_xlfn.NORM.DIST(LN($V24),LN($U24+AF$2+EXP($X24)),$Y24,TRUE))","v":0.26224932511229126},0.2776156885111769,0.29295058319971423,0.3082242185898091,0.32340961988713,0.3384824837792634,0.3534210277434745,0.368205836478363,0.3828197082202087,0.3972475030874305,0.4114759950869704,0.4254937289983127,0.43929088300995445,0.4528591377071174,0.4661915517876698,0.47928244470650816,0.49212728630932,0.5047225934081494,0.5170658331680132,0.5291553331113612,0.540990197501542,0.5525702298344422,0.5638958611464031,0.5749680838341915,0.5857883906773694,0.5963587187533663,0.6066813979396801,0.616759103704907,0.6265948138999015,0.636191769271644,0.6455534374348084,0.6546834800491379,0.6635857229642386,0.6722641291069971,0.6807227739003353,0.6889658230152647,0.6969975122710724,0.7048221295108955,0.7124439982918266,0.7198674632400408]
[{"$nulls":7},{"v":0.04950495049504951,"d":"0.05"},{"v":0.10869565217391304,"d":"0.11"},{"v":0.16091954022988506,"d":"0.16"},0.038461538461538464,{"v":0,"d":"0.000"}]
[{"$nulls":7},{"v":0.039603960396039604,"d":"0.04"},{"v":0.09782608695652174,"d":"0.10"},{"v":0.22988505747126436,"d":"0.23"},0.4423076923076923,{"v":0,"d":"0.000"}]
[{"$nulls":7},{"v":0,"d":"0.00"},{"v":0,"d":"0.00"},{"v":0,"d":"0.00"},0.07692307692307693,{"v":1,"d":"1.000"}]
[]
[{"$nulls":6},"suvival",{"$f":"SUM(H23:H27)","v":{"v":0.49504950495049505,"d":"0.495"}},{"$f":"SUM(I23:I27)","v":{"v":0.5,"d":"0.500"}},{"$f":"SUM(J23:J27)","v":{"v":0.5287356321839081,"d":"0.529"}},{"$f":"SUM(K23:K27)","v":{"v":0.6538461538461537,"d":"0.654"}},{"$f":"SUM(L23:L27)","v":{"v":1,"d":"1.000"}}]
[]
[{"$nulls":20},{"$f":"G4","v":""},"< 0.6","0.6 - 1","1.1 - 2","2.1 - 5"]
[{"$nulls":20},"< 0.6",0.41651192847212537,0.07202395397950517,0.02406588113767645,0.03131411490260909]
[{"$nulls":20},"0.6 - 1",0.09498464966526543,0.3739346374550573,0.0988979782963998,0.023574903716112598]
[{"$nulls":20},"1.1 - 2",0.053754168457457174,0.08406874871217934,0.355797074085173,0.05908556520833759]
[{"$nulls":20},"2.1 - 5",0.018921337569961685,0.07613357864559543,0.14629233232703678,0.468552850667613]
[{"$nulls":20},">5",1.8279158351902694E-3,0.015839081207662822,0.05094673415371398,0.2074725655053278]
[]
[{"$nulls":20},"survival",{"$f":"H11","v":0.586},{"$f":"I11","v":0.6220000000000001},{"$f":"J11","v":0.676},{"$f":"K11","v":0.79}]
[]
[]
[{"$nulls":16},{"$f":"(T47*T$43+R47*$R$43+P47*$P$43+N47*$N$43+L47*$L$43)/(T47+R47+P47+N47+L47)","v":{"v":1.972184163037811,"d":"1.972"}},{"$f":"(T47+R47+P47+N47+L47)","v":7.802297647752907}]
[{"$nulls":9},"modal year survival without negative grwoth",null,1,null,2,null,3,null,4,null,5,null,6,null,7,null,8,null,9,null,10]
[{"$nulls":7},"0.3 -0.5",null,0,0.5,1,1.5,2,2.5,3,3.5,4,4.5,5,5.5,6,6.5,7,7.5,8,8.5,9,9.5,10]
[{"$nulls":8},"0.3 - 0.5",100,{"$f":"MMULT($H$5:$L$9,J44:J48)","v":41.651192847212535},{"$f":"MMULT($H$5:$L$9,K44:K48)","v":18.220950296334802},{"$f":"MMULT($H$5:$L$9,L44:L48)","v":8.393030114736586},{"$f":"MMULT($H$5:$L$9,M44:M48)","v":4.067413112266961},{"$f":"MMULT($H$5:$L$9,N44:N48)","v":2.065136378342081},{"$f":"MMULT($H$5:$L$9,O44:O48)","v":1.0912661545533962},{"$f":"MMULT($H$5:$L$9,P44:P48)","v":0.5955885788234132},{"$f":"MMULT($H$5:$L$9,Q44:Q48)","v":0.33326515154477715},{"$f":"MMULT($H$5:$L$9,R44:R48)","v":0.18997573563539766},{"$f":"MMULT($H$5:$L$9,S44:S48)","v":0.10976542082858153},{"$f":"MMULT($H$5:$L$9,T44:T48)","v":0.0640353670434847},{"$f":"MMULT($H$5:$L$9,U44:U48)","v":0.03761276481864491},{"$f":"MMULT($H$5:$L$9,V44:V48)","v":0.022198921986417056},{"$f":"MMULT($H$5:$L$9,W44:W48)","v":0.013145790671574157},{"$f":"MMULT($H$5:$L$9,X44:X48)","v":0.007803003161628154},{"$f":"MMULT($H$5:$L$9,Y44:Y48)","v":0.004639278945378783},{"$f":"MMULT($H$5:$L$9,Z44:Z48)","v":0.00276145865541225},{"$f":"MMULT($H$5:$L$9,AA44:AA48)","v":1.645039277844893E-3},{"$f":"MMULT($H$5:$L$9,AB44:AB48)","v":0.000980525870118841},{"$f":"MMULT($H$5:$L$9,AC44:AC48)","v":5.8467393903081791E-4}]
[{"$nulls":8},"0.6 - 1.1",0,9.498464966526543,8.084253744054411,5.329362421285937,3.2261098215847013,1.8898105656598772,1.0948682560148497,0.6335857423199343,0.36780398829530697,0.21450722279731435,0.1256970773755874,0.07396735229390668,0.043678718988832396,0.025864079019355706,0.01534765671938219,0.009121705854340799,0.005427742649962593,3.232470616381045E-3,1.9262810686320447E-3,1.1484153943347472E-3,6.8488495164948445E-4]
[{"$nulls":8},"1.2 - 2",0,5.375416845745717,5.061804679371827,3.6482004042971594,2.3858555809702775,1.4920162375530794,0.9122410391480903,0.551228265915401,0.3310230741670172,0.19814135534167557,0.11840490318962696,0.07069810452879284,0.04219693751429663,0.025181800795409055,0.015027022088932796,0.008967283079796558,0.005351296335173512,3.1935175937401338E-3,1.905860266583034E-3,1.1374241862910843E-3,6.7883085734385287E-4]
[{"$nulls":8},"2.1 - 5",0,1.8921337569961685,3.1841953428743235,3.192714936931875,2.594210220077207,1.8871331537384886,1.2854453379035438,0.8397574004783634,0.5336176750230878,0.33276227667437785,0.2048290718747453,0.1249416518799831,0.07572739178742513,0.045692474708994214,0.027482401840222524,0.01649250380754059,0.009881565796973905,5.9139042799930715E-3,3.536513893378192E-3,2.1136374243799993E-3,1.2627331122557007E-3]
[{"$nulls":8},5,0,0.18279158351902694,1.0757991942807972,2.155668303609347,3.1036869154667537,3.8219994195842526,4.323248889552564,4.655755683232887,4.869189687252936,5.003200117734234,5.086078672911696,5.136798997235929,5.167611425987673,5.186233162144006,5.197446268615776,5.204180812911362,5.208218151447887,5.210635386994816,5.212081306258401,5.212945650740762,5.213462102730841]
[{"$nulls":8},"recruits",{"$f":"SUM(J44:J47)","v":100},{"$f":"SUM(K44:K47)","v":58.41720841648096},{"$f":"SUM(L44:L47)","v":34.551204062635364},20.563307877251557,12.273588734899146,7.334096335293527,4.3838207876198805,2.6201599875371118,1.565709889030189,0.9353865904487654,0.5586964732685412,0.33364247574616734,0.19921581310919906,0.11893727651017602,0.07100287132011167,0.0423844959033061,0.025299883727488794,0.0151013511455265,0.009013694506438163,5.3800028751246716E-3,0.003211122860279856,null,"average age of recruits in the class"]
[{"$nulls":8},"all",{"$f":"SUM(J44:J48)","v":100},58.59999999999999,{"$f":"SUM(L44:L48)","v":35.62700325691616},22.718976180860903,15.377275650365899,11.156095754877779,8.707069677172445,7.275915670769999,6.434899576283125,5.938586708182999,5.644775146180237,5.470441472982096,5.366827239096872,5.305170438654183,5.268449139935888,5.246565308814668,5.233518035175376,5.225736738140342,5.22109500076484,5.218325653615887,5.216673225591121,null,"at","at","at"]
[{"$nulls":8},"delta 5 cm",null,{"$f":"K48-J48","v":0.18279158351902694},{"$f":"L48-K48","v":0.8930076107617703},1.0798691093285497,0.9480186118574068,0.7183125041174989,0.501249469968311,0.33250679368032365,0.21343400402004864,0.13401043048129768,0.08287855517746223,0.050720324324233346,0.030812428751743504,0.018621736156333668,0.011213106471769763,{"$f":"Y48-X48","v":0.006734544295586176},0.004037338536524437,0.002417235546928964,1.4459192635856155E-3,8.6434448236083483E-4,5.1645199007932518E-4,null,"settlement","plus 6 months","plus 1 yr"]
[{"$nulls":31},{"$f":"(R44*R$43+P44*P$43+N44*N$43+L44*L$43+J44*J$43)/(R44+P44+N44+L44+J44)","v":{"v":0.250278159460357,"d":"0.25"}},{"v":0.7849039285659178,"d":"0.78"},{"v":1.3227516371211427,"d":"1.32"},"0.3 - 0.5 cm"]
[{"$nulls":8},"Average sixe",null,{"$f":"(K44*0.4+K45*0.85+K46*1.6+K47*3.5)/K49","v":0.6839989199456398},{"$f":"(L44*0.4+L45*0.85+L46*1.6+L47*3.5)/L49","v":0.9667844549637207},1.2108359792477423,1.4067819662215795,1.5577359538269724,1.6710967851198903,1.7548162942378718,1.8159419263028842,1.8602100867236957,{"$f":"(T44*0.4+T45*0.85+T46*1.6+T47*3.5)/T49","v":1.8920797451635107},{"$f":"(U44*0.4+U45*0.85+U46*1.6+U47*3.5)/U49","v":1.9149214849349505},1.931237196195559,1.9428608548589292,1.9511248444953446,1.9569907752149882,1.9611492207134682,1.9640942277430011,1.966178203640377,1.9676519441232627,1.9686936078828687,null,{"v":1.5103922352916515,"d":"1.51"},{"v":1.1756206004610505,"d":"1.18"},{"v":1.544398172234654,"d":"1.54"},"0.6 - 1.1 cm"]
[{"$nulls":31},{"v":1.5987173122273846,"d":"1.60"},{"v":1.3059015173623476,"d":"1.31"},{"v":1.644433454138976,"d":"1.64"},"1.2 - 2 cm"]
[{"$nulls":6},"Number graduating",null,"Increase in >5 cm",null,{"$f":"K48-J48","v":0.18279158351902694},0.8930076107617703,1.0798691093285497,{"$f":"N48-M48","v":0.9480186118574068},{"$f":"O48-N48","v":0.7183125041174989},0.501249469968311,0.33250679368032365,0.21343400402004864,0.13401043048129768,0.08287855517746223,0.050720324324233346,0.030812428751743504,0.018621736156333668,{"$f":"X48-W48","v":0.011213106471769763},{"$f":"Y48-X48","v":0.006734544295586176},0.004037338536524437,0.002417235546928964,1.4459192635856155E-3,8.6434448236083483E-4,5.1645199007932518E-4,null,{"v":1.8905537223852888,"d":"1.89"},{"v":1.828172451018295,"d":"1.83"},{"v":1.972184163037811,"d":"1.97"},"2- 5 cm"]
[{"$nulls":8},"Weighted increase",null,{"$f":"K55*K43","v":0.09139579175951347},0.8930076107617703,1.6198036639928246,{"$f":"N55*N43","v":1.8960372237148135},{"$f":"O55*O43","v":1.7957812602937473},1.503748409904933,1.1637737778811328,0.8537360160801946,0.6030469371658396,0.41439277588731116,0.2789617837832834,0.18487457251046102,0.12104128501616884,0.07849174530238834,0.05050908221689632,0.0322987082921955,0.020546502148896195,0.01301327337227054,0.008211272582427931,0.005164519900793252]
[{"$nulls":8},"Weighted age of recruits",null,{"$f":"(K49*K43)","v":29.20860420824048},34.551204062635364,30.844961815877333,{"$f":"(N49*N43)","v":24.547177469798292},{"$f":"(O49*O43)","v":18.335240838233815},13.151462362859641,9.170559956379892,6.262839556120756,4.209239657019444,2.793482366342706,1.8350336166039205,1.1952948786551945,0.7730922973161442,0.49702009924078167,0.31788371927479575,0.20239906981991035,0.12836148473697526,0.08112325055794346,0.05111002731368438,0.03211122860279856,null,{"$f":"(L57+N57+P57+R57+T57)/(T49+R49+P49+N49+L49+100)","v":{"v":0.5302586869131005,"d":"0.53"}},{"$f":"(K57+M57+O57+Q57+S57+U57)/(U49+S49+Q49+O49+M49+K49)","v":{"v":1.0376906332790035,"d":"1.04"}},{"$f":"(L57+N57+P57+R57+T57)/(T49+R49+P49+N49+L49)","v":{"v":1.5244995670199144,"d":"1.52"}},"average age of recruits at 5 y"]
[{"$nulls":8},"Proportion of available that grew to >5cm in the time interval",null,{"$f":"K55/K49","v":0.003129070841862701},0.025845918687606422,0.052514367618994306,{"$f":"N55/N49","v":0.07724053920446086},{"$f":"O55/O49","v":0.09794151471133498},0.11434077583277662,0.12690324074175033,0.13631772112792304,0.14326742744623291,0.1483427212142542,0.1520199854973531,0.15466858915890297,0.1565677027650825,0.15792469041450768,0.15889169263567587,0.15957933166854021,0.16006750148611876,0.16041360870981888,0.16065873986002382,0.16083221120798702,{"$nulls":3},{"$f":"(L57+N57+P57+R57+T57+V57+X57+Z57+AB57+AD57)/(T49+R49+P49+N49+L49+V49+X49+Z49+AB49+AD49)","v":{"v":1.5531865910904086,"d":"1.55"}},"average age of recruits at 10 y"]
[]
[{"$nulls":8},"Steady State Recruitment",{"$nulls":22},{"$f":"SUM(N55:AD55)","v":3.0577937991214945}]
[{"$nulls":8},"0.3 - 0.5",100,{"$f":"MMULT($H$5:$L$9,J81:J85)","v":41.651192847212535},{"$f":"MMULT($H$5:$L$9,K81:K85)","v":18.220950296334802},{"$f":"MMULT($H$5:$L$9,L81:L85)","v":50.044222961949124},{"$f":"MMULT($H$5:$L$9,M81:M85)","v":22.288363408601764},{"$f":"MMULT($H$5:$L$9,N81:N85)","v":52.109359340291206},{"$f":"MMULT($H$5:$L$9,O81:O85)","v":23.379629563155163},{"$f":"MMULT($H$5:$L$9,P81:P85)","v":52.704947919114616},{"$f":"MMULT($H$5:$L$9,Q81:Q85)","v":23.712894714699935},{"$f":"MMULT($H$5:$L$9,R81:R85)","v":52.894923654750016},{"$f":"MMULT($H$5:$L$9,S81:S85)","v":23.822660135528523},{"$f":"MMULT($H$5:$L$9,T81:T85)","v":52.9589590217935},{"$f":"MMULT($H$5:$L$9,U81:U85)","v":23.860272900347162},{"$f":"MMULT($H$5:$L$9,V81:V85)","v":52.98115794377991},{"$f":"MMULT($H$5:$L$9,W81:W85)","v":23.873418691018735},{"$f":"MMULT($H$5:$L$9,X81:X85)","v":52.988960946941546},{"$f":"MMULT($H$5:$L$9,Y81:Y85)","v":23.878057969964114},{"$f":"MMULT($H$5:$L$9,Z81:Z85)","v":52.99172240559696},{"$f":"MMULT($H$5:$L$9,AA81:AA85)","v":23.87970300924196},{"$f":"MMULT($H$5:$L$9,AB81:AB85)","v":52.99270293146708},{"$f":"MMULT($H$5:$L$9,AC81:AC85)","v":23.880287683180992},null,{"$f":"SUM(N56:AD56)","v":9.023629146053755}]
[{"$nulls":8},"0.6 - 1.1",0,9.498464966526543,8.084253744054411,14.82782738781248,11.310363565639111,16.71763795347236,12.405231821653963,17.351223695792292,12.773035809949269,17.565730918589605,12.898732887324856,17.639698270883514,12.942411606313687,17.665562349902867,12.95775926303307,17.674684055757208,12.963187005683032,17.677916526373593,12.965113286751668,17.679064941767926,12.965798171703316]
[{"$nulls":8},"1.2 - 2",0,5.375416845745717,5.061804679371827,9.023617250042879,7.447660260342104,10.515633487595956,8.359901299490195,11.066861753511358,8.690924373657213,11.265003108853032,8.809329276846839,11.335701213381824,8.851526214361135,11.360883014177233,8.866553236450066,11.369850297257031,8.87190453278524,11.37304381485077,8.873810393051825,11.374181239037062,8.874489223909167]
[{"$nulls":8},"2.1 - 5",0,1.8921337569961685,3.1841953428743235,5.084848693928043,5.77840556295153,6.971981847666532,7.0638509008550745,7.811739248144896,7.597468575878162,8.144501524819272,7.802297647752907,8.269443176699255,7.878025039540332,8.31513565140825,7.905507441380554,8.33162815521579,7.915389007177528,8.337542059495783,7.918925521070907,8.339655696920165,7.920188254183163]
[{"$nulls":8},5,0,0.18279158351902694,1.0757991942807972,2.338459887128374,4.17948610974755,6.160459306712626,8.502734999300113,10.816214989945513,13.371924686553049,15.819415107679745,18.458003359464744,20.956214104915674,23.625614785452413,26.142447267059676,28.823061054068187,31.346628079971037,34.03127920551607,36.55726346696585,39.24336051177447,41.77020911770661,44.456822614505306]
[]
[{"$nulls":8},"Number alive",{"$f":"SUM(J61:J65)","v":100},{"$f":"SUM(K61:K64)","v":58.41720841648096},{"$f":"SUM(L61:L64)","v":34.551204062635364},78.98051629373252,46.82479279753451,86.31461262902606,51.208613585154396,88.93477261656315,52.77432347418458,89.87015920701194,53.333019947453124,90.2038016827581,53.53223576056232,90.32273895926826,53.60323863188243,90.36512345517158,53.62853851560991,90.38022480631712,53.63755221011637,90.38560480919223,53.64076333297663]
[{"$nulls":8},"Number graduating",null,{"$f":"K65-J65","v":0.18279158351902694},0.8930076107617703,1.262660692847577,1.8410262226191763,1.980973196965076,2.342275692587487,2.3134799906453996,2.5557096966075363,2.4474904211266963,2.6385882517849986,2.4982107454509297,2.6694006805367394,2.5168324816072634,2.680613787008511,2.5235670259028495,2.6846511255450345,2.5259842614497785,2.686097044808619,2.5268486059321376,2.6866134967986994]
[]
[{"$nulls":29},{"$f":"28.54/T67","v":0.5351281444050855}]
[{"$nulls":8},"SIZE CLASS DISTRIBUTION",{"$nulls":7},"5y"]
[{"$nulls":9},"5 yr","6 yr","7 yr","8 yr","9 yr","10 yr"]
[{"$nulls":8},"0.3 - 0.5",{"$f":"T61/SUM(T$61:T$64)","v":{"v":0.44667750221157604,"d":"45%"}},{"$f":"V61/SUM(V$61:V$64)","v":0.44571784759875915},{"$f":"X61/SUM(X$61:X$64)","v":0.4453726920302008},{"$f":"Z61/SUM(Z$61:Z$64)","v":0.44524908996007445},{"$f":"AB61/SUM(AB$61:AB$64)","v":0.4452049361927837},{"$f":"AD61/SUM(AD$61:AD$64)","v":{"v":0.44518918448164874,"d":"44.5%"}}]
[{"$nulls":8},"0.6 - 1.1",{"$f":"T62/SUM(T$61:T$64)","v":{"v":0.24185266276002104,"d":"24%"}},{"$f":"V62/SUM(V$61:V$64)","v":0.24176856098822755},{"$f":"X62/SUM(X$61:X$64)","v":0.24173463383471727},{"$f":"Z62/SUM(Z$61:Z$64)","v":0.24172180269111335},{"$f":"AB62/SUM(AB$61:AB$64)","v":0.24171709469445865},{"$f":"AD62/SUM(AD$61:AD$64)","v":{"v":0.2417153926616916,"d":"24.2%"}}]
[{"$nulls":8},"1.2 - 2.0",{"$f":"T63/SUM(T$61:T$64)","v":{"v":0.16517589451199868,"d":"17%"}},{"$f":"V63/SUM(V$61:V$64)","v":0.1653494588560064},{"$f":"X63/SUM(X$61:X$64)","v":0.16541077484777886},{"$f":"Z63/SUM(Z$61:Z$64)","v":0.16543252488976282},{"$f":"AB63/SUM(AB$61:AB$64)","v":0.1654402564511169},{"$f":"AD63/SUM(AD$61:AD$64)","v":{"v":0.1654430077517822,"d":"16.5%"}}]
[{"$nulls":8},"2.1 - 5.0",{"$f":"T64/SUM(T$61:T$64)","v":{"v":0.1462939405164042,"d":"15%"}},{"$f":"V64/SUM(V$61:V$64)","v":0.14716413255700678},{"$f":"X64/SUM(X$61:X$64)","v":0.14748189928730301},{"$f":"Z64/SUM(Z$61:Z$64)","v":0.14759658245904947},{"$f":"AB64/SUM(AB$61:AB$64)","v":0.1476377126616406},{"$f":"AD64/SUM(AD$61:AD$64)","v":{"v":0.1476524151048776,"d":"14.8%"}}]
[]
[]
[]
[{"$nulls":8},"Steady State Recruitment (100 new recruits added to preceding size class 1)"]
[{"$nulls":8},"0.3 - 0.5",{"$f":"J61","v":100},{"$f":"K61","v":41.651192847212535},{"$f":"L61+$J$81","v":118.2209502963348},{"$f":"M61","v":50.044222961949124},122.28836340860177,{"$f":"O61","v":52.109359340291206},123.37962956315516,{"$f":"Q61","v":52.704947919114616},123.71289471469993,{"$f":"S61","v":52.894923654750016},123.82266013552852,{"$f":"U61","v":52.9589590217935},123.86027290034716,{"$f":"W61","v":52.98115794377991},123.87341869101874,{"$f":"Y61","v":52.988960946941546},123.87805796996412,{"$f":"AA61","v":52.99172240559696},123.87970300924196,{"$f":"AC61","v":52.99270293146708},123.880287683181]
[{"$nulls":8},"0.6 - 1.1",0,{"$f":"K62","v":9.498464966526543},8.084253744054411,14.82782738781248,11.310363565639111,16.71763795347236,12.405231821653963,17.351223695792292,12.773035809949269,17.565730918589605,12.898732887324856,17.639698270883514,12.942411606313687,17.665562349902867,12.95775926303307,17.674684055757208,12.963187005683032,17.677916526373593,12.965113286751668,17.679064941767926,12.965798171703316]
[{"$nulls":8},"1.2 - 2",0,{"$f":"K63","v":5.375416845745717},5.061804679371827,9.023617250042879,7.447660260342104,10.515633487595956,8.359901299490195,11.066861753511358,8.690924373657213,11.265003108853032,8.809329276846839,11.335701213381824,8.851526214361135,11.360883014177233,8.866553236450066,11.369850297257031,8.87190453278524,11.37304381485077,8.873810393051825,11.374181239037062,8.874489223909167]
[{"$nulls":8},"2.1 - 5",0,{"$f":"K64","v":1.8921337569961685},3.1841953428743235,5.084848693928043,5.77840556295153,6.971981847666532,7.0638509008550745,7.811739248144896,7.597468575878162,8.144501524819272,7.802297647752907,8.269443176699255,7.878025039540332,8.31513565140825,7.905507441380554,8.33162815521579,7.915389007177528,8.337542059495783,7.918925521070907,8.339655696920165,7.920188254183163]
[{"$nulls":8},5,0,{"$f":"K65","v":0.18279158351902694},1.0757991942807972,2.338459887128374,4.17948610974755,6.160459306712626,8.502734999300113,10.816214989945513,13.371924686553049,15.819415107679745,18.458003359464744,20.956214104915674,23.625614785452413,26.142447267059676,28.823061054068187,31.346628079971037,34.03127920551607,36.55726346696585,39.24336051177447,41.77020911770661,44.456822614505306]
[]
[]
[]
[]
[]
[]
[{"$nulls":20},"Comparison of model predictions to abundances of recruits at Grootpan Bay"]
[]
[{"$nulls":20},"Grootpan 2016","model",null,"grootpan","model prediction"]
[{"$nulls":19},"< 0.6",{"$f":"X95/$X$100","v":0.6012861736334405},{"$f":"Y95/Y$100","v":0.44667750221157604},null,187,{"$f":"T61","v":23.822660135528523},null,{"$f":"X95+Y95","v":210.8226601355285}]
[{"$nulls":19},"0.6 - 1.1",{"$f":"X96/$X$100","v":0.1639871382636656},{"$f":"Y96/Y$100","v":0.24185266276002104},null,51,{"$f":"T62","v":12.898732887324856},null,{"$f":"X96+Y96","v":63.898732887324854}]
[{"$nulls":19},"1.2 - 2",{"$f":"X97/$X$100","v":0.09646302250803858},0.16517589451199868,null,30,8.809329276846839,null,38.80932927684684]
[{"$nulls":19},"2.1 - 5",{"$f":"X98/$X$100","v":0.1382636655948553},0.1462939405164042,null,43,7.802297647752907,null,50.80229764775291]
[]
[{"$nulls":23},{"$f":"SUM(X95:X98)","v":311},{"$f":"SUM(Y95:Y98)","v":53.333019947453124},null,{"$f":"X100+Y100","v":364.3330199474531}]
[]
[{"$nulls":20},"expected",null,null,{"$f":"$AA$100*X95/$AA95*X95/X$100","v":194.313989657308},18.38931612299967,null,"(o-e)/e^2",{"$f":"(X95-X102)^2/X102","v":0.2752989880015914},{"$f":"(Y95-Y102)^2/Y102","v":1.6053466567775563}]
[{"$nulls":23},47.68549010973665,17.787061637935363,null,null,{"$f":"(X96-X103)^2/X103","v":0.23038403898905108},1.343434821358104]
[{"$nulls":23},27.167177293563565,13.660037997803057,null,null,{"$f":"(X97-X104)^2/X104","v":0.2953889688054967},1.72249704571429]
[{"$nulls":23},42.637496928418585,8.18585469119439,null,null,{"$f":"(X98-X105)^2/X105","v":3.0819932306667486E-3},0.017971978629406398]
[{"$nulls":29},"chi-square "]
[{"$nulls":27},{"$f":"SUM(AB102:AB105)","v":0.8041539890268059},{"$f":"SUM(AC102:AC105)","v":4.689250502479356},{"$f":"AB107+AC107","v":5.493404491506162}]
[]
[{"$nulls":29},{"$f":"_xlfn.CHISQ.DIST.RT(AD107,3)","v":0.13903363443799646}]